Report for ChainMake-0.9.0

Back
From: metabase:user:e3434da8-b236-11df-85ca-0247c6d74bde
Subject: FAIL ChainMake-0.9.0 v5.8.9 GNU/Linux
Date: 2010-10-31T11:07:44Z

This distribution has been tested as part of the CPAN Testers
project, supporting the Perl programming language.  See
http://wiki.cpantesters.org/ for more information or email
questions to cpan-testers-discuss@perl.org


--
Dear Daniel Schroeer,

This is a computer-generated report for ChainMake-0.9.0
on perl 5.8.9, created by CPAN-Reporter-1.1803.

Thank you for uploading your work to CPAN.  However, there was a problem
testing your distribution.

If you think this report is invalid, please consult the CPAN Testers Wiki
for suggestions on how to avoid getting FAIL reports for missing library
or binary dependencies, unsupported operating systems, and so on:

http://wiki.cpantesters.org/wiki/CPANAuthorNotes

Sections of this report:

    * Tester comments
    * Program output
    * Prerequisites
    * Environment and other context

------------------------------
TESTER COMMENTS
------------------------------

Additional comments from tester:

this report is from an automated smoke testing program
and was not reviewed by a human for accuracy

------------------------------
PROGRAM OUTPUT
------------------------------

Output from './Build test':

t/chains..............String found where operator expected at t/chains.t line 89, near "note "Nomenclature:""
	(Do you need to predeclare note?)
String found where operator expected at t/chains.t line 90, near "note "[A] timestamps is missing""
	(Do you need to predeclare note?)
String found where operator expected at t/chains.t line 91, near "note "[a] timestamps is up-to-date""
	(Do you need to predeclare note?)
String found where operator expected at t/chains.t line 92, near "note "[a/A] timestamps is present but out of date""
	(Do you need to predeclare note?)
String found where operator expected at t/chains.t line 94, near "note "\nfirst we test the branch A->B->C""
	(Do you need to predeclare note?)
String found where operator expected at t/chains.t line 144, near "note "\nnow we test the branch A->B->D->E""
	(Do you need to predeclare note?)
String found where operator expected at t/chains.t line 145, near "note "where D is timestamps   => 'once'""
	(Do you need to predeclare note?)
String found where operator expected at t/chains.t line 159, near "note "\nnow we test combinations of the branches""
	(Do you need to predeclare note?)
String found where operator expected at t/chains.t line 160, near "note "A->B->D->E and A->B->C""
	(Do you need to predeclare note?)
String found where operator expected at t/chains.t line 172, near "note "\nnow we test C,E->F""
	(Do you need to predeclare note?)
String found where operator expected at t/chains.t line 187, near "note "\nnow we test the branch D->G""
	(Do you need to predeclare note?)
String found where operator expected at t/chains.t line 188, near "note "where D and G are both timestamps   => 'once'""
	(Do you need to predeclare note?)
syntax error at t/chains.t line 89, near "note "Nomenclature:""
syntax error at t/chains.t line 144, near "note "\nnow we test the branch A->B->D->E""
syntax error at t/chains.t line 159, near "note "\nnow we test combinations of the branches""
syntax error at t/chains.t line 172, near "note "\nnow we test C,E->F""
syntax error at t/chains.t line 187, near "note "\nnow we test the branch D->G""
Execution of t/chains.t aborted due to compilation errors.
# Looks like you planned 75 tests but only ran 2.
# Looks like your test died just after 2.
dubious
	Test returned status 255 (wstat 65280, 0xff00)
DIED. FAILED tests 3-75
	Failed 73/75 tests, 2.67% okay
t/failing_targets.....String found where operator expected at t/failing_targets.t line 31, near "note "A should always be executed""
	(Do you need to predeclare note?)
String found where operator expected at t/failing_targets.t line 45, near "note "B should always be executed""
	(Do you need to predeclare note?)
syntax error at t/failing_targets.t line 31, near "note "A should always be executed""
syntax error at t/failing_targets.t line 45, near "note "B should always be executed""
Execution of t/failing_targets.t aborted due to compilation errors.
# Looks like you planned 11 tests but only ran 2.
# Looks like your test died just after 2.
dubious
	Test returned status 255 (wstat 65280, 0xff00)
DIED. FAILED tests 3-11
	Failed 9/11 tests, 18.18% okay
t/incmpl_targets......String found where operator expected at t/incmpl_targets.t line 41, near "note "B should always be executed""
	(Do you need to predeclare note?)
String found where operator expected at t/incmpl_targets.t line 50, near "note "C: requirements should always be checked/made""
	(Do you need to predeclare note?)
syntax error at t/incmpl_targets.t line 41, near "note "B should always be executed""
syntax error at t/incmpl_targets.t line 50, near "note "C: requirements should always be checked/made""
Execution of t/incmpl_targets.t aborted due to compilation errors.
# Looks like you planned 22 tests but only ran 2.
# Looks like your test died just after 2.
dubious
	Test returned status 255 (wstat 65280, 0xff00)
DIED. FAILED tests 3-22
	Failed 20/22 tests, 9.09% okay
t/multiple_targets....ok
t/oo..................ok
t/parallel............String found where operator expected at t/parallel.t line 27, near "note "Have made $number.$step""
	(Do you need to predeclare note?)
syntax error at t/parallel.t line 27, near "note "Have made $number.$step""
Execution of t/parallel.t aborted due to compilation errors.
# Looks like your test died before it could output anything.
dubious
	Test returned status 255 (wstat 65280, 0xff00)
DIED. FAILED tests 1-36
	Failed 36/36 tests, 0.00% okay
Failed Test         Stat Wstat Total Fail  List of Failed
-------------------------------------------------------------------------------
t/chains.t           255 65280    75  146  3-75
t/failing_targets.t  255 65280    11   18  3-11
t/incmpl_targets.t   255 65280    22   40  3-22
t/parallel.t         255 65280    36   72  1-36
Failed 4/6 test scripts. 138/239 subtests failed.
Files=6, Tests=239,  9 wallclock secs ( 0.24 cusr +  0.04 csys =  0.28 CPU)
Failed 4/6 test programs. 138/239 subtests failed.

------------------------------
PREREQUISITES
------------------------------

Prerequisite modules loaded:

requires:

    Module      Need Have  
    ----------- ---- ------
    Clone       0    0.31  
    Fcntl       0    1.06  
    Tie::File   0    0.97  

build_requires:

    Module      Need Have  
    ----------- ---- ------
    Config      0    0     
    File::Touch 0    0.08  
    Test::More  0    0.80  
    Time::HiRes 0    1.9715


------------------------------
ENVIRONMENT AND OTHER CONTEXT
------------------------------

Environment variables:

    AUTOMATED_TESTING = 1
    LANG = en_US.utf8
    PATH = /usr/local/bin:/usr/bin:/bin:/usr/local/games:/usr/games
    PERL5LIB = /home/cpt3/.cpan/build/File-Touch-0.08-6u6J6Z/blib/arch:/home/cpt3/.cpan/build/File-Touch-0.08-6u6J6Z/blib/lib:/home/cpt3/.cpan/build/Clone-0.31-Nsf2xs/blib/arch:/home/cpt3/.cpan/build/Clone-0.31-Nsf2xs/blib/lib
    PERL5OPT = 
    PERL5_CPANPLUS_IS_RUNNING = 16430
    PERL5_CPAN_IS_RUNNING = 16430
    PERL5_CPAN_IS_RUNNING_IN_RECURSION = 3426,16430
    PERL_CR_SMOKER_CURRENT = ChainMake-0.9.0
    PERL_EXTUTILS_AUTOINSTALL = --defaultdeps
    PERL_MM_USE_DEFAULT = 1
    SHELL = /bin/bash
    TERM = screen

Perl special variables (and OS-specific diagnostics, for MSWin32):

    $^X = /home/cpt3/testing/perl-5.8.9/bin/perl
    $UID/$EUID = 1004 / 1004
    $GID = 1004 20 24 25 27 29 30 44 46 100 103 111 113 114 1004
    $EGID = 1004 20 24 25 27 29 30 44 46 100 103 111 113 114 1004

Perl module toolchain versions installed:

    Module              Have   
    ------------------- -------
    CPAN                1.9301 
    Cwd                 3.29   
    ExtUtils::CBuilder  0.2703 
    ExtUtils::Command   1.15   
    ExtUtils::Install   1.50_01
    ExtUtils::MakeMaker 6.48   
    ExtUtils::Manifest  1.55   
    ExtUtils::ParseXS   2.19   
    File::Spec          3.29   
    Module::Build       0.3607 
    Module::Signature   n/a    
    Test::Harness       2.64   
    Test::More          0.80   
    YAML                0.72   
    YAML::Syck          n/a    
    version             n/a    


--

Summary of my perl5 (revision 5 version 8 subversion 9) configuration:
  Platform:
    osname=linux, osvers=2.6.35-4.slh.9-aptosid-686, archname=i686-linux
    uname='linux firenze 2.6.35-4.slh.9-aptosid-686 #1 smp preempt mon sep 13 16:40:35 utc 2010 i686 gnulinux '
    config_args='-Dprefix=/home/cpt3/testing/perl-5.8.9'
    hint=recommended, useposix=true, d_sigaction=define
    usethreads=undef use5005threads=undef useithreads=undef usemultiplicity=undef
    useperlio=define d_sfio=undef uselargefiles=define usesocks=undef
    use64bitint=undef use64bitall=undef uselongdouble=undef
    usemymalloc=n, bincompat5005=undef
  Compiler:
    cc='cc', ccflags ='-fno-strict-aliasing -pipe -I/usr/local/include -D_LARGEFILE_SOURCE -D_FILE_OFFSET_BITS=64',
    optimize='-O2',
    cppflags='-fno-strict-aliasing -pipe -I/usr/local/include'
    ccversion='', gccversion='4.4.5', gccosandvers=''
    intsize=4, longsize=4, ptrsize=4, doublesize=8, byteorder=1234
    d_longlong=define, longlongsize=8, d_longdbl=define, longdblsize=12
    ivtype='long', ivsize=4, nvtype='double', nvsize=8, Off_t='off_t', lseeksize=8
    alignbytes=4, prototype=define
  Linker and Libraries:
    ld='cc', ldflags =' -L/usr/local/lib'
    libpth=/usr/local/lib /lib /usr/lib
    libs=-lnsl -lgdbm -ldb -ldl -lm -lcrypt -lutil -lc
    perllibs=-lnsl -ldl -lm -lcrypt -lutil -lc
    libc=/lib/libc-2.11.2.so, so=so, useshrplib=false, libperl=libperl.a
    gnulibc_version='2.11.2'
  Dynamic Linking:
    dlsrc=dl_dlopen.xs, dlext=so, d_dlsymun=undef, ccdlflags='-Wl,-E'
    cccdlflags='-fPIC', lddlflags='-shared -O2 -L/usr/local/lib'


Characteristics of this binary (from libperl): 
  Compile-time options: PERL_MALLOC_WRAP USE_FAST_STDIO USE_LARGE_FILES
                        USE_PERLIO
  Built under linux
  Compiled at Oct 11 2010 12:18:13
  %ENV:
    PERL5LIB="/home/cpt3/.cpan/build/File-Touch-0.08-6u6J6Z/blib/arch:/home/cpt3/.cpan/build/File-Touch-0.08-6u6J6Z/blib/lib:/home/cpt3/.cpan/build/Clone-0.31-Nsf2xs/blib/arch:/home/cpt3/.cpan/build/Clone-0.31-Nsf2xs/blib/lib"
    PERL5OPT=""
    PERL5_CPANPLUS_IS_RUNNING="16430"
    PERL5_CPAN_IS_RUNNING="16430"
    PERL5_CPAN_IS_RUNNING_IN_RECURSION="3426,16430"
    PERL_CR_SMOKER_CURRENT="ChainMake-0.9.0"
    PERL_EXTUTILS_AUTOINSTALL="--defaultdeps"
    PERL_MM_USE_DEFAULT="1"
  @INC:
    /home/cpt3/.cpan/build/File-Touch-0.08-6u6J6Z/blib/arch
    /home/cpt3/.cpan/build/File-Touch-0.08-6u6J6Z/blib/lib
    /home/cpt3/.cpan/build/Clone-0.31-Nsf2xs/blib/arch
    /home/cpt3/.cpan/build/Clone-0.31-Nsf2xs/blib/lib
    /home/cpt3/testing/perl-5.8.9/lib/5.8.9/i686-linux
    /home/cpt3/testing/perl-5.8.9/lib/5.8.9
    /home/cpt3/testing/perl-5.8.9/lib/site_perl/5.8.9/i686-linux
    /home/cpt3/testing/perl-5.8.9/lib/site_perl/5.8.9
    .