Business-CyberSource v0.010008 Perl 5 v5.37.7 x86_64-linux

Status
Pass
From
Andreas J. König (ANDK)
Dist
Business-CyberSource v0.010008
Platform
Perl 5 v5.37.7 x86_64-linux
Date
2023-01-08 01:59:28
ID
15d198d2-8ef8-11ed-a65a-c180410f1d1d
This distribution has been tested as part of the CPAN Testers
project, supporting the Perl programming language.  See
http://wiki.cpantesters.org/ for more information or email
questions to cpan-testers-discuss@perl.org


--
Dear Allie Gator,

This is a computer-generated report for Business-CyberSource-0.010008
on perl 5.37.7, created by CPAN-Reporter-1.2018.

Thank you for uploading your work to CPAN.  Congratulations!
All tests were successful.

Sections of this report:

    * Tester comments
    * Program output
    * Prerequisites
    * Environment and other context

------------------------------
TESTER COMMENTS
------------------------------

Additional comments from tester:

this report is from an automated smoke testing program
and was not reviewed by a human for accuracy

------------------------------
PROGRAM OUTPUT
------------------------------

Output from '/usr/bin/make test':

Skip blib/lib/auto/share/dist/Business-CyberSource/production/CyberSourceTransaction_1_71.xsd (unchanged)
Skip blib/lib/auto/share/dist/Business-CyberSource/test/CyberSourceTransaction_1_71.wsdl (unchanged)
Skip blib/lib/auto/share/dist/Business-CyberSource/test/CyberSourceTransaction_1_71.xsd (unchanged)
Skip blib/lib/auto/share/dist/Business-CyberSource/production/CyberSourceTransaction_1_71.wsdl (unchanged)
PERL_DL_NONLAZY=1 "/tmp/basesmoker-reloperl-Ixbt/bin/perl" "-MExtUtils::Command::MM" "-MTest::Harness" "-e" "undef *Test::Harness::Switches; test_harness(0, 'blib/lib', 'blib/arch')" t/*.t
t/00-compile.t ............................. ok
# 
# Versions for all modules listed in MYMETA.json (including optional ones):
# 
# === Configure Requires ===
# 
#     Module                  Want Have
#     ----------------------- ---- ----
#     ExtUtils::MakeMaker      any 7.66
#     File::ShareDir::Install 0.06 0.14
# 
# === Build Requires ===
# 
#     Module              Want Have
#     ------------------- ---- ----
#     ExtUtils::MakeMaker  any 7.66
# 
# === Test Requires ===
# 
#     Module               Want     Have
#     -------------------- ---- --------
#     Business::CreditCard 0.32     0.39
#     DateTime              any     1.59
#     ExtUtils::MakeMaker   any     7.66
#     File::Spec            any     3.88
#     FindBin               any     1.53
#     IO::Handle            any     1.51
#     IPC::Open3            any     1.22
#     Test::Deep            any    1.202
#     Test::Fatal           any    0.017
#     Test::Method          any 0.001002
#     Test::Moose           any   2.2201
#     Test::More            any 1.302191
#     Test::Requires        any     0.11
#     blib                 1.01     1.07
#     lib                   any     0.65
# 
# === Test Recommends ===
# 
#     Module           Want     Have
#     ------------ -------- --------
#     Bread::Board     0.25  missing
#     CPAN::Meta   2.120900 2.150010
# 
# === Runtime Requires ===
# 
#     Module                                           Want     Have
#     -------------------------------------------- -------- --------
#     Business::CreditCard                             0.32     0.39
#     DateTime::Format::W3CDTF                         0.06     0.08
#     File::ShareDir::ProjectDistDir                  1.000 1.000009
#     LWP::Protocol::https                              any     6.10
#     Module::Load                                      any     0.36
#     Module::Runtime                                   any    0.016
#     Moose                                             any   2.2201
#     Moose::Exception                                  any   2.2201
#     Moose::Exception::AttributeIsRequired             any   2.2201
#     Moose::Role                                       any   2.2201
#     Moose::Util                                       any   2.2201
#     Moose::Util::TypeConstraints                      any   2.2201
#     MooseX::AbstractFactory                           any 0.004003
#     MooseX::Aliases                                   any     0.11
#     MooseX::RemoteHelper                              any 0.001021
#     MooseX::RemoteHelper::CompositeSerialization      any 0.001021
#     MooseX::RemoteHelper::Types                       any 0.001021
#     MooseX::SetOnce                              0.200001    0.203
#     MooseX::Types                                     any     0.50
#     MooseX::Types::Common::Numeric               0.001003 0.001014
#     MooseX::Types::Common::String                0.001005 0.001014
#     MooseX::Types::CreditCard                       0.002 0.002003
#     MooseX::Types::DateTime                           any     0.13
#     MooseX::Types::DateTime::W3C                      any 1.103360
#     MooseX::Types::Email                              any    0.008
#     MooseX::Types::Locale::Country                    any     0.05
#     MooseX::Types::Locale::Currency                   any 0.001005
#     MooseX::Types::Moose                              any     0.50
#     MooseX::Types::NetAddr::IP                        any     0.07
#     MooseY::RemoteHelper::MessagePart                 any 0.001021
#     MooseY::RemoteHelper::Role::Client                any 0.001021
#     Type::Params                                      any 2.002000
#     Type::Utils                                     0.040 2.002000
#     Types::Standard                                   any 2.002000
#     XML::Compile::SOAP11                              any     3.28
#     XML::Compile::SOAP::WSS                          1.04     1.14
#     XML::Compile::Transport::SOAPHTTP                 any     3.28
#     XML::Compile::WSDL11                              any     3.08
#     namespace::autoclean                              any     0.29
#     strict                                            any     1.12
#     warnings                                          any     1.61
# 
t/00-report-prereqs.t ...................... ok
t/auth-reversal.t .......................... ok
t/authorization.t .......................... skipped: Test requires module 'Bread::Board' but it's not found
street deprecated check the perldoc for the actual attribute at /home/sand/src/perl/repoperls/installed-perls/host/k93focal/v5.37.7/b254/lib/site_perl/5.37.7/x86_64-linux/Class/MOP/Method/Wrapped.pm line 166.
zip deprecated check the perldoc for the actual attribute at /home/sand/src/perl/repoperls/installed-perls/host/k93focal/v5.37.7/b254/lib/site_perl/5.37.7/x86_64-linux/Class/MOP/Method/Wrapped.pm line 166.
street deprecated check the perldoc for the actual attribute at /home/sand/src/perl/repoperls/installed-perls/host/k93focal/v5.37.7/b254/lib/site_perl/5.37.7/x86_64-linux/Class/MOP/Method/Wrapped.pm line 166.
street deprecated check the perldoc for the actual attribute at /home/sand/src/perl/repoperls/installed-perls/host/k93focal/v5.37.7/b254/lib/site_perl/5.37.7/x86_64-linux/Class/MOP/Method/Wrapped.pm line 166.
t/billto-exceptions.t ...................... ok
t/billto.t ................................. ok
t/business-rules.t ......................... ok
t/capture.t ................................ ok
t/card.t ................................... ok
t/client.t ................................. ok
t/credit.t ................................. skipped: Test requires module 'Bread::Board' but it's not found
t/dcc-autorization.t ....................... ok
t/dcc.t .................................... ok
t/error-exception.t ........................ ok
t/exceptions.t ............................. skipped: Test requires module 'Bread::Board' but it's not found
t/factory-request.t ........................ ok
t/invoiceheader.t .......................... ok
t/item-serialization.t ..................... ok
t/items.t .................................. ok
t/othertax.t ............................... ok
t/purchase-totals.t ........................ ok
t/response-removed-methods-successfully.t .. ok
t/response-sale.t .......................... ok
t/response.t ............................... ok
t/rule-expired-card.t ...................... skipped: Test requires module 'Bread::Board' but it's not found
t/rule-request-id-is-zero.t ................ skipped: Test requires module 'Bread::Board' but it's not found
t/service.t ................................ ok
t/shipfrom.t ............................... ok
t/shipto-exceptions.t ...................... ok
t/shipto.t ................................. ok
All tests successful.
Files=30, Tests=274, 47 wallclock secs ( 0.10 usr  0.04 sys + 43.56 cusr  3.22 csys = 46.92 CPU)
Result: PASS

------------------------------
PREREQUISITES
------------------------------

Prerequisite modules loaded:

requires:

    Module                                       Need     Have    
    -------------------------------------------- -------- --------
    Business::CreditCard                         0.32     0.39    
    DateTime::Format::W3CDTF                     0.06     0.08    
    File::ShareDir::ProjectDistDir               1.000    1.000009
    LWP::Protocol::https                         0        6.10    
    Module::Load                                 0        0.36    
    Module::Runtime                              0        0.016   
    Moose                                        0        2.2201  
    Moose::Exception                             0        2.2201  
    Moose::Exception::AttributeIsRequired        0        2.2201  
    Moose::Role                                  0        2.2201  
    Moose::Util                                  0        2.2201  
    Moose::Util::TypeConstraints                 0        2.2201  
    MooseX::AbstractFactory                      0        0.004003
    MooseX::Aliases                              0        0.11    
    MooseX::RemoteHelper                         0        0.001021
    MooseX::RemoteHelper::CompositeSerialization 0        0.001021
    MooseX::RemoteHelper::Types                  0        0.001021
    MooseX::SetOnce                              0.200001 0.203   
    MooseX::Types                                0        0.50    
    MooseX::Types::Common::Numeric               0.001003 0.001014
    MooseX::Types::Common::String                0.001005 0.001014
    MooseX::Types::CreditCard                    0.002    0.002003
    MooseX::Types::DateTime                      0        0.13    
    MooseX::Types::DateTime::W3C                 0        1.103360
    MooseX::Types::Email                         0        0.008   
    MooseX::Types::Locale::Country               0        0.05    
    MooseX::Types::Locale::Currency              0        0.001005
    MooseX::Types::Moose                         0        0.50    
    MooseX::Types::NetAddr::IP                   0        0.07    
    MooseY::RemoteHelper::MessagePart            0        0.001021
    MooseY::RemoteHelper::Role::Client           0        0.001021
    namespace::autoclean                         0        0.29    
    perl                                         5.010    5.037007
    strict                                       0        1.12    
    Type::Params                                 0        2.002000
    Type::Utils                                  0.040    2.002000
    Types::Standard                              0        2.002000
    warnings                                     0        1.61    
    XML::Compile::SOAP11                         0        3.28    
    XML::Compile::SOAP::WSS                      1.04     1.14    
    XML::Compile::Transport::SOAPHTTP            0        3.28    
    XML::Compile::WSDL11                         0        3.08    

build_requires:

    Module                                       Need     Have    
    -------------------------------------------- -------- --------
    blib                                         1.01     1.07    
    Business::CreditCard                         0.32     0.39    
    DateTime                                     0        1.59    
    ExtUtils::MakeMaker                          0        7.66    
    File::Spec                                   0        3.88    
    FindBin                                      0        1.53    
    IO::Handle                                   0        1.51    
    IPC::Open3                                   0        1.22    
    lib                                          0        0.65    
    Test::Deep                                   0        1.202   
    Test::Fatal                                  0        0.017   
    Test::Method                                 0        0.001002
    Test::Moose                                  0        2.2201  
    Test::More                                   0        1.302191
    Test::Requires                               0        0.11    

configure_requires:

    Module                                       Need     Have    
    -------------------------------------------- -------- --------
    ExtUtils::MakeMaker                          0        7.66    
    File::ShareDir::Install                      0.06     0.14    


------------------------------
ENVIRONMENT AND OTHER CONTEXT
------------------------------

Environment variables:

    AUTOMATED_TESTING = 1
    LANG = en_US.UTF-8
    PATH = /home/sand/bin:/usr/local/bin:/usr/local/sbin:/usr/sbin:/usr/bin:/sbin:/bin:/usr/games:/usr/local/games:/snap/bin:/usr/local/perl/bin:/usr/X11/bin
    PERL = /tmp/basesmoker-reloperl-Ixbt/bin/perl
    PERL5LIB = /tmp/loop_over_bdir-2039-LpYI7c/shishi-0.0.1-0/blib/arch:/tmp/loop_over_bdir-2039-LpYI7c/shishi-0.0.1-0/blib/lib
    PERL5OPT = 
    PERL5_CPANPLUS_IS_RUNNING = 2047
    PERL5_CPAN_IS_RUNNING = 2047
    PERL_CANARY_STABILITY_NOPROMPT = 1
    PERL_MM_USE_DEFAULT = 1
    PERL_USE_UNSAFE_INC = 1
    SHELL = /usr/bin/zsh
    TERM = screen

Perl special variables (and OS-specific diagnostics, for MSWin32):

    $^X = /tmp/basesmoker-reloperl-Ixbt/bin/perl
    $UID/$EUID = 1005 / 1005
    $GID = 1005 1005
    $EGID = 1005 1005

Perl module toolchain versions installed:

    Module              Have    
    ------------------- --------
    CPAN                2.34    
    CPAN::Meta          2.150010
    Cwd                 3.88    
    ExtUtils::CBuilder  0.280238
    ExtUtils::Command   7.66    
    ExtUtils::Install   2.20    
    ExtUtils::MakeMaker 7.66    
    ExtUtils::Manifest  1.73    
    ExtUtils::ParseXS   3.49    
    File::Spec          3.88    
    JSON                4.10    
    JSON::PP            4.16    
    Module::Build       0.4232  
    Module::Signature   0.88    
    Parse::CPAN::Meta   2.150010
    Test::Harness       3.44    
    Test::More          1.302191
    YAML                1.30    
    YAML::Syck          1.34    
    version             0.9929  


--

Summary of my perl5 (revision 5 version 37 subversion 7) configuration:
  Commit id: b1163c2ae562670f2bf4c7700087f0c9d0ad8fe5
  Platform:
    osname=linux
    osvers=5.4.0-135-generic
    archname=x86_64-linux
    uname='linux k93focal 5.4.0-135-generic #152-ubuntu smp wed nov 23 20:19:22 utc 2022 x86_64 x86_64 x86_64 gnulinux '
    config_args='-Dprefix=/home/sand/src/perl/repoperls/installed-perls/host/k93focal/v5.37.7/b254 -Dmyhostname=k93focal -Dinstallusrbinperl=n -Uversiononly -Dusedevel -des -Ui_db -Dlibswanted=cl pthread socket inet nsl gdbm dbm malloc dl ld sun m crypt sec util c cposix posix ucb BSD gdbm_compat -Uuseithreads -Uuselongdouble -DEBUGGING=both'
    hint=recommended
    useposix=true
    d_sigaction=define
    useithreads=undef
    usemultiplicity=undef
    use64bitint=define
    use64bitall=define
    uselongdouble=undef
    usemymalloc=n
    default_inc_excludes_dot=define
  Compiler:
    cc='cc'
    ccflags ='-fwrapv -DDEBUGGING -fno-strict-aliasing -pipe -fstack-protector-strong -I/usr/local/include -D_LARGEFILE_SOURCE -D_FILE_OFFSET_BITS=64'
    optimize='-O2 -g'
    cppflags='-fwrapv -DDEBUGGING -fno-strict-aliasing -pipe -fstack-protector-strong -I/usr/local/include'
    ccversion=''
    gccversion='9.4.0'
    gccosandvers=''
    intsize=4
    longsize=8
    ptrsize=8
    doublesize=8
    byteorder=12345678
    doublekind=3
    d_longlong=define
    longlongsize=8
    d_longdbl=define
    longdblsize=16
    longdblkind=3
    ivtype='long'
    ivsize=8
    nvtype='double'
    nvsize=8
    Off_t='off_t'
    lseeksize=8
    alignbytes=8
    prototype=define
  Linker and Libraries:
    ld='cc'
    ldflags =' -fstack-protector-strong -L/usr/local/lib'
    libpth=/usr/local/lib /usr/lib/x86_64-linux-gnu /usr/lib /usr/lib64
    libs=-lpthread -lnsl -ldl -lm -lcrypt -lutil -lc
    perllibs=-lpthread -lnsl -ldl -lm -lcrypt -lutil -lc
    libc=libc-2.31.so
    so=so
    useshrplib=false
    libperl=libperl.a
    gnulibc_version='2.31'
  Dynamic Linking:
    dlsrc=dl_dlopen.xs
    dlext=so
    d_dlsymun=undef
    ccdlflags='-Wl,-E'
    cccdlflags='-fPIC'
    lddlflags='-shared -O2 -g -L/usr/local/lib -fstack-protector-strong'


Characteristics of this binary (from libperl): 
  Compile-time options:
    DEBUGGING
    HAS_TIMES
    PERLIO_LAYERS
    PERL_COPY_ON_WRITE
    PERL_DONT_CREATE_GVSV
    PERL_HASH_FUNC_SIPHASH13
    PERL_HASH_USE_SBOX32
    PERL_MALLOC_WRAP
    PERL_OP_PARENT
    PERL_PRESERVE_IVUV
    PERL_USE_DEVEL
    PERL_USE_SAFE_PUTENV
    USE_64_BIT_ALL
    USE_64_BIT_INT
    USE_LARGE_FILES
    USE_LOCALE
    USE_LOCALE_COLLATE
    USE_LOCALE_CTYPE
    USE_LOCALE_NUMERIC
    USE_LOCALE_TIME
    USE_PERLIO
    USE_PERL_ATOF
  Built under linux
  Compiled at Jan  5 2023 05:26:31
  %ENV:
    PERL="/tmp/basesmoker-reloperl-Ixbt/bin/perl"
    PERL5LIB="/tmp/loop_over_bdir-2039-LpYI7c/shishi-0.0.1-0/blib/arch:/tmp/loop_over_bdir-2039-LpYI7c/shishi-0.0.1-0/blib/lib"
    PERL5OPT=""
    PERL5_CPANPLUS_IS_RUNNING="2047"
    PERL5_CPAN_IS_RUNNING="2047"
    PERL_CANARY_STABILITY_NOPROMPT="1"
    PERL_MM_USE_DEFAULT="1"
    PERL_USE_UNSAFE_INC="1"
  @INC:
    /tmp/loop_over_bdir-2039-LpYI7c/shishi-0.0.1-0/blib/arch
    /tmp/loop_over_bdir-2039-LpYI7c/shishi-0.0.1-0/blib/lib
    /home/sand/src/perl/repoperls/installed-perls/host/k93focal/v5.37.7/b254/lib/site_perl/5.37.7/x86_64-linux
    /home/sand/src/perl/repoperls/installed-perls/host/k93focal/v5.37.7/b254/lib/site_perl/5.37.7
    /home/sand/src/perl/repoperls/installed-perls/host/k93focal/v5.37.7/b254/lib/5.37.7/x86_64-linux
    /home/sand/src/perl/repoperls/installed-perls/host/k93focal/v5.37.7/b254/lib/5.37.7
    .