Module-Faker v0.027 Perl 5 v5.41.7 amd64-freebsd
- Status
- Pass
- From
- Carlos Guevara
- Dist
-
Module-Faker v0.027
- Platform
- Perl 5 v5.41.7 amd64-freebsd
- Date
- 2024-12-04 21:24:03
- ID
- 15b22f20-b286-11ef-a326-b51b420b81c9
This distribution has been tested as part of the CPAN Testers
project, supporting the Perl programming language. See
http://wiki.cpantesters.org/ for more information or email
questions to cpan-testers-discuss@perl.org
--
Dear Ricardo SIGNES :-),
This is a computer-generated report for Module-Faker-0.027
on perl 5.41.7, created by CPAN-Reporter-1.2020.
Thank you for uploading your work to CPAN. Congratulations!
All tests were successful.
Sections of this report:
* Tester comments
* Program output
* Prerequisites
* Environment and other context
------------------------------
TESTER COMMENTS
------------------------------
Additional comments from tester:
this report is from an automated smoke testing program
and was not reviewed by a human for accuracy
------------------------------
PROGRAM OUTPUT
------------------------------
Output from '/usr/bin/make test':
PERL_DL_NONLAZY=1 "/home/cpan/bin/perl/bin/perl5.41.7" "-MExtUtils::Command::MM" "-MTest::Harness" "-e" "undef *Test::Harness::Switches; test_harness(0, 'blib/lib', 'blib/arch')" t/*.t
#
# Versions for all modules listed in MYMETA.json (including optional ones):
#
# === Configure Requires ===
#
# Module Want Have
# ------------------- ---- ----
# ExtUtils::MakeMaker 6.78 7.70
#
# === Build Requires ===
#
# Module Want Have
# ------------------- ---- ----
# ExtUtils::MakeMaker any 7.70
#
# === Test Requires ===
#
# Module Want Have
# ------------------- ---- --------
# Cwd any 3.92
# ExtUtils::MakeMaker any 7.70
# File::Spec any 3.93
# JSON::PP any 4.16
# Path::Class 0.06 0.37
# Test::More 0.96 1.302204
#
# === Test Recommends ===
#
# Module Want Have
# ---------- -------- --------
# CPAN::Meta 2.120900 2.150010
#
# === Runtime Requires ===
#
# Module Want Have
# ---------------------------- -------- ---------
# Archive::Any::Create any 0.03
# Archive::Any::Create::Zip any undef
# CPAN::DistnameInfo any 0.12
# CPAN::Meta 2.130880 2.150010
# CPAN::Meta::Converter any 2.150010
# CPAN::Meta::Merge any 2.150010
# CPAN::Meta::Requirements any 2.143
# Carp any 1.54
# Data::Fake any 0.006
# Data::Fake::Names any 0.006
# Data::OptList any 0.114
# Encode any 3.21
# File::Next any 1.18
# File::Path any 2.18
# File::Temp any 0.2311
# Getopt::Long::Descriptive any 0.115
# List::Util any 1.68_01
# Moose 0.33 2.2207
# Moose::Role any 2.2207
# Moose::Util::TypeConstraints any 2.2207
# Parse::CPAN::Meta 1.4401 2.150010
# Path::Class 0.06 0.37
# Storable any 3.35
# Sub::Exporter any 0.991
# Text::Template any 1.61
# experimental any 0.032
# parent any 0.242_001
# perl 5.020000 5.041007
# strict any 1.13
# warnings any 1.71
#
t/00-report-prereqs.t .. ok
t/append-utf8.t ........ ok
t/append.t ............. ok
t/basic.t .............. ok
t/makefile-pl.t ........ ok
t/meta-files.t ......... ok
t/omit-file.t .......... ok
t/provide-order.t ...... ok
t/requires.t ........... ok
All tests successful.
Files=9, Tests=34, 2 wallclock secs ( 0.02 usr 0.02 sys + 1.62 cusr 0.23 csys = 1.90 CPU)
Result: PASS
------------------------------
PREREQUISITES
------------------------------
Prerequisite modules loaded:
requires:
Module Need Have
---------------------------- -------- ---------
Archive::Any::Create 0 0.03
Archive::Any::Create::Zip 0 0
Carp 0 1.54
CPAN::DistnameInfo 0 0.12
CPAN::Meta 2.130880 2.150010
CPAN::Meta::Converter 0 2.150010
CPAN::Meta::Merge 0 2.150010
CPAN::Meta::Requirements 0 2.143
Data::Fake 0 0.006
Data::Fake::Names 0 0.006
Data::OptList 0 0.114
Encode 0 3.21
experimental 0 0.032
File::Next 0 1.18
File::Path 0 2.18
File::Temp 0 0.2311
Getopt::Long::Descriptive 0 0.115
List::Util 0 1.68_01
Moose 0.33 2.2207
Moose::Role 0 2.2207
Moose::Util::TypeConstraints 0 2.2207
parent 0 0.242_001
Parse::CPAN::Meta 1.4401 2.150010
Path::Class 0.06 0.37
perl 5.020000 5.041007
Storable 0 3.35
strict 0 1.13
Sub::Exporter 0 0.991
Text::Template 0 1.61
warnings 0 1.71
build_requires:
Module Need Have
---------------------------- -------- ---------
Cwd 0 3.92
ExtUtils::MakeMaker 0 7.70
File::Spec 0 3.93
JSON::PP 0 4.16
Path::Class 0.06 0.37
Test::More 0.96 1.302204
configure_requires:
Module Need Have
---------------------------- -------- ---------
ExtUtils::MakeMaker 6.78 7.70
------------------------------
ENVIRONMENT AND OTHER CONTEXT
------------------------------
Environment variables:
AUTOMATED_TESTING = 1
DATE_MANIP_TEST_DM5 = 1
LANG = C.UTF-8
LC_ALL = C
NONINTERACTIVE_TESTING = 1
NO_NETWORK_TESTING = 1
PATH = /home/cpan/bin/perl/bin:/home/cpan/bin:/sbin:/bin:/usr/sbin:/usr/bin:/usr/local/sbin:/usr/local/bin:/home/cpan/bin
PERL5LIB =
PERL5OPT =
PERL5_CPANPLUS_IS_RUNNING = 47475
PERL5_CPAN_IS_RUNNING = 47475
PERL_MM_USE_DEFAULT = 1
PERL_USE_UNSAFE_INC = 1
SHELL = /usr/local/bin/bash
TERM = screen
TMPDIR = /home/cpan/tmp
Perl special variables (and OS-specific diagnostics, for MSWin32):
$^X = /home/cpan/bin/perl/bin/perl5.41.7
$UID/$EUID = 1002 / 1002
$GID = 1002 1002
$EGID = 1002 1002
Perl module toolchain versions installed:
Module Have
------------------- --------
CPAN 2.38
CPAN::Meta 2.150010
Cwd 3.92
ExtUtils::CBuilder 0.280240
ExtUtils::Command 7.70
ExtUtils::Install 2.22
ExtUtils::MakeMaker 7.70
ExtUtils::Manifest 1.75
ExtUtils::ParseXS 3.56
File::Spec 3.93
JSON 4.10
JSON::PP 4.16
Module::Build 0.4234
Module::Signature 0.89
Parse::CPAN::Meta 2.150010
Test2 1.302204
Test::Harness 3.50
Test::More 1.302204
YAML 1.31
YAML::Syck 1.34
version 0.9933
--
Summary of my perl5 (revision 5 version 41 subversion 7) configuration:
Commit id: de4fe8bcbeded0b0939a4c439c3ab0a27fc53115
Platform:
osname=freebsd
osvers=14.1-release-p5
archname=amd64-freebsd
uname='freebsd cjg-freebsd14 14.1-release-p5 freebsd 14.1-release-p5 generic amd64 '
config_args='-des -Dprefix=/home/cpan/bin/perl -Dscriptdir=/home/cpan/bin/perl/bin -Dusedevel -Duse64bitall'
hint=recommended
useposix=true
d_sigaction=define
useithreads=undef
usemultiplicity=undef
use64bitint=define
use64bitall=define
uselongdouble=undef
usemymalloc=n
default_inc_excludes_dot=define
Compiler:
cc='cc'
ccflags ='-DHAS_FPSETMASK -DHAS_FLOATINGPOINT_H -DNO_POSIX_2008_LOCALE -fno-strict-aliasing -pipe -fstack-protector-strong -I/usr/local/include'
optimize='-O2'
cppflags='-DHAS_FPSETMASK -DHAS_FLOATINGPOINT_H -DNO_POSIX_2008_LOCALE -fno-strict-aliasing -pipe -fstack-protector-strong -I/usr/local/include'
ccversion=''
gccversion='FreeBSD Clang 18.1.5 (https://github.com/llvm/llvm-project.git llvmorg-18.1.5-0-g617a15a9eac9)'
gccosandvers=''
intsize=4
longsize=8
ptrsize=8
doublesize=8
byteorder=12345678
doublekind=3
d_longlong=define
longlongsize=8
d_longdbl=define
longdblsize=16
longdblkind=3
ivtype='long'
ivsize=8
nvtype='double'
nvsize=8
Off_t='off_t'
lseeksize=8
alignbytes=8
prototype=define
Linker and Libraries:
ld='cc'
ldflags ='-Wl,-E -fstack-protector-strong -L/usr/local/lib'
libpth=/usr/lib /usr/local/lib /usr/lib/clang/18/lib
libs=-lpthread -lgdbm -ldl -lm -lcrypt -lutil -lc
perllibs=-lpthread -ldl -lm -lcrypt -lutil -lc
libc=
so=so
useshrplib=false
libperl=libperl.a
gnulibc_version=''
Dynamic Linking:
dlsrc=dl_dlopen.xs
dlext=so
d_dlsymun=undef
ccdlflags=' '
cccdlflags='-DPIC -fPIC'
lddlflags='-shared -L/usr/local/lib -fstack-protector-strong'
Characteristics of this binary (from libperl):
Compile-time options:
HAS_LONG_DOUBLE
HAS_STRTOLD
HAS_TIMES
PERLIO_LAYERS
PERL_COPY_ON_WRITE
PERL_DONT_CREATE_GVSV
PERL_HASH_FUNC_SIPHASH13
PERL_HASH_USE_SBOX32
PERL_MALLOC_WRAP
PERL_OP_PARENT
PERL_PRESERVE_IVUV
PERL_USE_DEVEL
PERL_USE_SAFE_PUTENV
USE_64_BIT_ALL
USE_64_BIT_INT
USE_LARGE_FILES
USE_LOCALE
USE_LOCALE_COLLATE
USE_LOCALE_CTYPE
USE_LOCALE_NUMERIC
USE_LOCALE_TIME
USE_PERLIO
USE_PERL_ATOF
Built under freebsd
Compiled at Dec 4 2024 10:09:31
%ENV:
PERL5LIB=""
PERL5OPT=""
PERL5_CPANPLUS_IS_RUNNING="47475"
PERL5_CPAN_IS_RUNNING="47475"
PERL_MM_USE_DEFAULT="1"
PERL_USE_UNSAFE_INC="1"
@INC:
/home/cpan/bin/perl/lib/site_perl/5.41.7/amd64-freebsd
/home/cpan/bin/perl/lib/site_perl/5.41.7
/home/cpan/bin/perl/lib/5.41.7/amd64-freebsd
/home/cpan/bin/perl/lib/5.41.7
.