App-Validation-Automation v0.02 Perl 5 v5.12.5 x86_64-linux

Status
Pass
From
Slaven Rezić (SREZIC)
Dist
App-Validation-Automation v0.02
Platform
Perl 5 v5.12.5 x86_64-linux
Date
2018-10-28 07:07:08
ID
15a6dfe2-da80-11e8-a8db-db23f4353d34
This distribution has been tested as part of the CPAN Testers
project, supporting the Perl programming language.  See
http://wiki.cpantesters.org/ for more information or email
questions to cpan-testers-discuss@perl.org


--
Dear Varun Juyal,

This is a computer-generated report for App-Validation-Automation-0.02
on perl 5.12.5, created by CPAN-Reporter-1.2018.

Thank you for uploading your work to CPAN.  Congratulations!
All tests were successful.

Sections of this report:

    * Tester comments
    * Program output
    * Prerequisites
    * Environment and other context

------------------------------
TESTER COMMENTS
------------------------------

Additional comments from tester:

none provided

------------------------------
PROGRAM OUTPUT
------------------------------

Output from './Build test':

# Testing App::Validation::Automation 0.01, Perl 5.012005, /bbbike/perl-5.12.5/bin/perl
t/00-load.t ....... ok
t/Alarming.t ...... ok
t/Automation.t .... ok
t/Logging.t ....... ok
t/Purging.t ....... ok
t/Unix.t .......... ok
t/Web.t ........... ok
t/boilerplate.t ... ok
t/manifest.t ...... skipped: Author tests not required for installation
t/pod-coverage.t .. ok
t/pod.t ........... ok
All tests successful.

Test Summary Report
-------------------
t/boilerplate.t (Wstat: 0 Tests: 3 Failed: 0)
  TODO passed:   3
Files=11, Tests=49,  8 wallclock secs ( 0.03 usr  0.05 sys +  2.15 cusr  0.38 csys =  2.61 CPU)
Result: PASS

------------------------------
PREREQUISITES
------------------------------

Prerequisite modules loaded:

requires:

    Module                 Need     Have    
    ---------------------- -------- --------
    Carp                   0        1.38    
    Config::Simple         4.58     4.58    
    Crypt::Lite            v0.82.11 0.82.11 
    Data::Dumper           2.121_08 2.161   
    English                0        1.04    
    Error::TryCatch        0.07     0.07    
    File::Basename         0        2.78    
    File::Path             0        2.16    
    Getopt::Long           0        2.5     
    HTML::Form::ForceValue 0.007    0.009   
    Mail::Sendmail         0.79     0.80    
    Moose                  2.0205   2.2011  
    namespace::autoclean   0.13     0.28    
    Net::SSH::Perl         1.34     2.09    
    perl                   v5.8.8   5.012005
    Switch                 0        2.17    
    WWW::Mechanize         1.70     1.86    

build_requires:

    Module                 Need     Have    
    ---------------------- -------- --------
    Test::More             0        1.302136

configure_requires:

    Module                 Need     Have    
    ---------------------- -------- --------
    Module::Build          0.40     0.4224  


------------------------------
ENVIRONMENT AND OTHER CONTEXT
------------------------------

Environment variables:

    LANG = C
    PATH = /usr/local/bin:/usr/bin:/bin:/usr/local/sbin:/usr/sbin:/sbin:/home/cpansand/bin/linux-gnu:/home/cpansand/bin/sh:/home/cpansand/bin:/usr/games:/home/cpansand/devel:/home/eserte/src/srezic-misc/scripts
    PERL5LIB = /home/cpansand/.cpan/build/2018102806/HTML-Form-ForceValue-0.009-2/blib/arch:/home/cpansand/.cpan/build/2018102806/HTML-Form-ForceValue-0.009-2/blib/lib:/home/cpansand/.cpan/build/2018102806/Error-TryCatch-0.07-2/blib/arch:/home/cpansand/.cpan/build/2018102806/Error-TryCatch-0.07-2/blib/lib:/home/cpansand/.cpan/build/2018102806/Crypt-Lite-0.82.11-2/blib/arch:/home/cpansand/.cpan/build/2018102806/Crypt-Lite-0.82.11-2/blib/lib
    PERL5OPT = 
    PERL5_CPANPLUS_IS_RUNNING = 17450
    PERL5_CPAN_IS_RUNNING = 17450
    PERL5_CPAN_IS_RUNNING_IN_RECURSION = 16392,17450
    PERLDOC = -MPod::Perldoc::ToTextOverstrike
    PERL_BATCH = yes
    PERL_CANARY_STABILITY_NOPROMPT = 1
    PERL_CPAN_REPORTER_CONFIG = /var/tmp/cpansmoker-1023/2018102806/cpanreporter_001_config.ini
    PERL_EXTUTILS_AUTOINSTALL = --defaultdeps
    SHELL = /bin/zsh
    TERM = screen
    TMPDIR = /var/tmp/cpansmoker-1023/2018102806

Perl special variables (and OS-specific diagnostics, for MSWin32):

    $^X = /bbbike/perl-5.12.5/bin/perl
    $UID/$EUID = 1023 / 1023
    $GID = 1023 1023
    $EGID = 1023 1023

Perl module toolchain versions installed:

    Module              Have    
    ------------------- --------
    CPAN                2.16    
    CPAN::Meta          2.150010
    Cwd                 3.74    
    ExtUtils::CBuilder  0.280230
    ExtUtils::Command   7.34    
    ExtUtils::Install   2.14    
    ExtUtils::MakeMaker 7.34    
    ExtUtils::Manifest  1.71    
    ExtUtils::ParseXS   3.30    
    File::Spec          3.74    
    JSON                2.97001 
    JSON::PP            2.27400 
    Module::Build       0.4224  
    Module::Signature   0.81    
    Parse::CPAN::Meta   2.150010
    Test::Harness       3.42    
    Test::More          1.302136
    YAML                1.24    
    YAML::Syck          1.30    
    version             0.9918  


--

Summary of my perl5 (revision 5 version 12 subversion 5) configuration:
   
  Platform:
    osname=linux, osvers=3.16.0-4-amd64, archname=x86_64-linux
    uname='linux eserte 3.16.0-4-amd64 #1 smp debian 3.16.7-ckt25-2 (2016-04-08) x86_64 gnulinux '
    config_args='-ds -e -Dprefix=/opt/perl-5.12.5 -Dcf_email=srezic@cpan.org'
    hint=recommended, useposix=true, d_sigaction=define
    useithreads=undef, usemultiplicity=undef
    useperlio=define, d_sfio=undef, uselargefiles=define, usesocks=undef
    use64bitint=define, use64bitall=define, uselongdouble=undef
    usemymalloc=n, bincompat5005=undef
  Compiler:
    cc='cc', ccflags ='-fno-strict-aliasing -pipe -fstack-protector -I/usr/local/include -D_LARGEFILE_SOURCE -D_FILE_OFFSET_BITS=64',
    optimize='-O2',
    cppflags='-fno-strict-aliasing -pipe -fstack-protector -I/usr/local/include'
    ccversion='', gccversion='4.9.2', gccosandvers=''
    intsize=4, longsize=8, ptrsize=8, doublesize=8, byteorder=12345678
    d_longlong=define, longlongsize=8, d_longdbl=define, longdblsize=16
    ivtype='long', ivsize=8, nvtype='double', nvsize=8, Off_t='off_t', lseeksize=8
    alignbytes=8, prototype=define
  Linker and Libraries:
    ld='cc', ldflags =' -fstack-protector -L/usr/local/lib'
    libpth=/usr/local/lib /lib/x86_64-linux-gnu /lib/../lib /usr/lib/x86_64-linux-gnu /usr/lib/../lib /lib /usr/lib
    libs=-lnsl -lgdbm -ldb -ldl -lm -lcrypt -lutil -lc -lgdbm_compat
    perllibs=-lnsl -ldl -lm -lcrypt -lutil -lc
    libc=libc-2.19.so, so=so, useshrplib=false, libperl=libperl.a
    gnulibc_version='2.19'
  Dynamic Linking:
    dlsrc=dl_dlopen.xs, dlext=so, d_dlsymun=undef, ccdlflags='-Wl,-E'
    cccdlflags='-fPIC', lddlflags='-shared -O2 -L/usr/local/lib -fstack-protector'


Characteristics of this binary (from libperl): 
  Compile-time options: PERL_DONT_CREATE_GVSV PERL_MALLOC_WRAP USE_64_BIT_ALL
                        USE_64_BIT_INT USE_LARGE_FILES USE_PERLIO
                        USE_PERL_ATOF
  Locally applied patches:
	Devel::PatchPerl 1.42
  Built under linux
  Compiled at May  7 2016 10:05:30
  %ENV:
    PERL5LIB="/home/cpansand/.cpan/build/2018102806/HTML-Form-ForceValue-0.009-2/blib/arch:/home/cpansand/.cpan/build/2018102806/HTML-Form-ForceValue-0.009-2/blib/lib:/home/cpansand/.cpan/build/2018102806/Error-TryCatch-0.07-2/blib/arch:/home/cpansand/.cpan/build/2018102806/Error-TryCatch-0.07-2/blib/lib:/home/cpansand/.cpan/build/2018102806/Crypt-Lite-0.82.11-2/blib/arch:/home/cpansand/.cpan/build/2018102806/Crypt-Lite-0.82.11-2/blib/lib"
    PERL5OPT=""
    PERL5_CPANPLUS_IS_RUNNING="17450"
    PERL5_CPAN_IS_RUNNING="17450"
    PERL5_CPAN_IS_RUNNING_IN_RECURSION="16392,17450"
    PERLDOC="-MPod::Perldoc::ToTextOverstrike"
    PERL_BATCH="yes"
    PERL_CANARY_STABILITY_NOPROMPT="1"
    PERL_CPAN_REPORTER_CONFIG="/var/tmp/cpansmoker-1023/2018102806/cpanreporter_001_config.ini"
    PERL_EXTUTILS_AUTOINSTALL="--defaultdeps"
  @INC:
    /home/cpansand/.cpan/build/2018102806/HTML-Form-ForceValue-0.009-2/blib/arch
    /home/cpansand/.cpan/build/2018102806/HTML-Form-ForceValue-0.009-2/blib/lib
    /home/cpansand/.cpan/build/2018102806/Error-TryCatch-0.07-2/blib/arch
    /home/cpansand/.cpan/build/2018102806/Error-TryCatch-0.07-2/blib/lib
    /home/cpansand/.cpan/build/2018102806/Crypt-Lite-0.82.11-2/blib/arch
    /home/cpansand/.cpan/build/2018102806/Crypt-Lite-0.82.11-2/blib/lib
    /opt/perl-5.12.5/lib/site_perl/5.12.5/x86_64-linux
    /opt/perl-5.12.5/lib/site_perl/5.12.5
    /opt/perl-5.12.5/lib/5.12.5/x86_64-linux
    /opt/perl-5.12.5/lib/5.12.5
    .