Math-Primality v0.08 Perl 5 v5.20.3 x86_64-linux
- Status
- Pass
- From
- Slaven Rezić
- Dist
-
Math-Primality v0.08
- Platform
- Perl 5 v5.20.3 x86_64-linux
- Date
- 2021-09-16 01:40:34
- ID
- 1598df66-168f-11ec-8024-6d4e1f24ea8f
This distribution has been tested as part of the CPAN Testers
project, supporting the Perl programming language. See
http://wiki.cpantesters.org/ for more information or email
questions to cpan-testers-discuss@perl.org
--
Dear Jonathan Leto,
This is a computer-generated report for Math-Primality-0.08
on perl 5.20.3, created by CPAN-Reporter-1.2018.
Thank you for uploading your work to CPAN. Congratulations!
All tests were successful.
Sections of this report:
* Tester comments
* Program output
* Prerequisites
* Environment and other context
------------------------------
TESTER COMMENTS
------------------------------
Additional comments from tester:
none provided
------------------------------
PROGRAM OUTPUT
------------------------------
Output from '/usr/bin/make test':
PERL_DL_NONLAZY=1 "/opt/perl-5.20.3/bin/perl" "-MExtUtils::Command::MM" "-MTest::Harness" "-e" "undef *Test::Harness::Switches; test_harness(0, 'blib/lib', 'blib/arch')" t/*.t
# Testing Math::Primality 0.08, Perl 5.020003, /opt/perl-5.20.3/bin/perl
t/00-load.t ...................... ok
t/big_polynomial.t ............... ok
t/boilerplate.t .................. ok
t/is_aks_prime.t ................. ok
t/is_prime.t ..................... ok
t/is_prime_bigint.t .............. ok
t/is_pseudoprime.t ............... ok
t/is_strong_lucas_pseudoprime.t .. ok
t/is_strong_pseudoprime.t ........ ok
t/next_prime.t ................... ok
t/pod.t .......................... ok
t/prev_prime.t ................... ok
t/prime_count.t .................. ok
All tests successful.
Files=13, Tests=2517, 2 wallclock secs ( 0.15 usr 0.00 sys + 2.26 cusr 0.08 csys = 2.49 CPU)
Result: PASS
------------------------------
PREREQUISITES
------------------------------
Prerequisite modules loaded:
requires:
Module Need Have
------------------- ---- --------
base 0 2.22
Carp 0 1.3301
constant 0 1.33
Data::Dumper 0 2.183
Exporter 0 5.71
integer 0 1.01
Math::GMPz 0.34 0.51
strict 0 1.08
warnings 0 1.23
build_requires:
Module Need Have
------------------- ---- --------
bigint 0 0.36
POSIX 0 1.38_03
Test::Exception 0 0.43
Test::More 0 1.302186
configure_requires:
Module Need Have
------------------- ---- --------
ExtUtils::MakeMaker 6.30 7.62
Module::Build 0.38 0.4231
------------------------------
ENVIRONMENT AND OTHER CONTEXT
------------------------------
Environment variables:
LANG = en_US.UTF-8
PATH = /usr/local/bin:/usr/bin:/bin:/usr/local/sbin:/usr/sbin:/sbin:/home/cpansand/bin/linux-gnu:/home/cpansand/bin/sh:/home/cpansand/bin:/usr/games:/home/cpansand/devel:/home/eserte/src/srezic-misc/scripts
PERL5LIB = /home/cpansand/.local/share/.cpan/build/2021091603/Math-MatrixReal-2.13-4/blib/arch:/home/cpansand/.local/share/.cpan/build/2021091603/Math-MatrixReal-2.13-4/blib/lib:/home/cpansand/.local/share/.cpan/build/2021091603/Data-YAML-0.0.7-4/blib/arch:/home/cpansand/.local/share/.cpan/build/2021091603/Data-YAML-0.0.7-4/blib/lib:/home/cpansand/.local/share/.cpan/build/2021091603/Data-Structure-Util-0.16-4/blib/arch:/home/cpansand/.local/share/.cpan/build/2021091603/Data-Structure-Util-0.16-4/blib/lib:/home/cpansand/.local/share/.cpan/build/2021091603/Data-DPath-0.58-4/blib/arch:/home/cpansand/.local/share/.cpan/build/2021091603/Data-DPath-0.58-4/blib/lib:/home/cpansand/.local/share/.cpan/build/2021091603/Iterator-Util-0.02-4/blib/arch:/home/cpansand/.local/share/.cpan/build/2021091603/Iterator-Util-0.02-4/blib/lib:/home/cpansand/.local/share/.cpan/build/2021091603/Iterator-0.03-4/blib/arch:/home/cpansand/.local/share/.cpan/build/2021091603/Iterator-0.03-4/blib/lib
PERL5OPT =
PERL5_CPANPLUS_IS_RUNNING = 19317
PERL5_CPAN_IS_RUNNING = 19317
PERL5_CPAN_IS_RUNNING_IN_RECURSION = 29029,19317
PERLDOC = -MPod::Perldoc::ToTextOverstrike
PERL_BATCH = yes
PERL_CANARY_STABILITY_NOPROMPT = 1
PERL_CPAN_REPORTER_CONFIG = /var/tmp/cpansmoker-1023/2021091603/cpanreporter_000_config.ini
PERL_EXTUTILS_AUTOINSTALL = --defaultdeps
PERL_USE_UNSAFE_INC = 1
SHELL = /usr/bin/zsh
TERM = screen
TMPDIR = /var/tmp/cpansmoker-1023/2021091603
Perl special variables (and OS-specific diagnostics, for MSWin32):
$^X = /opt/perl-5.20.3/bin/perl
$UID/$EUID = 1023 / 1023
$GID = 1023 1023
$EGID = 1023 1023
Perl module toolchain versions installed:
Module Have
------------------- --------
CPAN 2.28
CPAN::Meta 2.150010
Cwd 3.48_01
ExtUtils::CBuilder 0.280236
ExtUtils::Command 7.62
ExtUtils::Install 2.06
ExtUtils::MakeMaker 7.62
ExtUtils::Manifest 1.70
ExtUtils::ParseXS 3.35
File::Spec 3.48_01
JSON 4.03
JSON::PP 4.06
Module::Build 0.4231
Module::Signature n/a
Parse::CPAN::Meta 2.150010
Test::Harness 3.42
Test::More 1.302186
YAML 1.30
YAML::Syck 1.34
version 0.9929
--
Summary of my perl5 (revision 5 version 20 subversion 3) configuration:
Platform:
osname=linux, osvers=4.15.0-154-generic, archname=x86_64-linux
uname='linux cloud6.bbbike.org 4.15.0-154-generic #161-ubuntu smp fri jul 30 13:04:17 utc 2021 x86_64 x86_64 x86_64 gnulinux '
config_args='-ds -e -Dprefix=/opt/perl-5.20.3 -Dcf_email=srezic@cpan.org'
hint=recommended, useposix=true, d_sigaction=define
useithreads=undef, usemultiplicity=undef
use64bitint=define, use64bitall=define, uselongdouble=undef
usemymalloc=n, bincompat5005=undef
Compiler:
cc='cc', ccflags ='-fwrapv -fno-strict-aliasing -pipe -fstack-protector -I/usr/local/include -D_LARGEFILE_SOURCE -D_FILE_OFFSET_BITS=64',
optimize='-O2',
cppflags='-fwrapv -fno-strict-aliasing -pipe -fstack-protector -I/usr/local/include'
ccversion='', gccversion='7.5.0', gccosandvers=''
intsize=4, longsize=8, ptrsize=8, doublesize=8, byteorder=12345678
d_longlong=define, longlongsize=8, d_longdbl=define, longdblsize=16
ivtype='long', ivsize=8, nvtype='double', nvsize=8, Off_t='off_t', lseeksize=8
alignbytes=8, prototype=define
Linker and Libraries:
ld='cc', ldflags =' -fstack-protector -L/usr/local/lib'
libpth=/usr/local/lib /usr/lib/gcc/x86_64-linux-gnu/7/include-fixed /usr/include/x86_64-linux-gnu /usr/lib /lib/x86_64-linux-gnu /lib/../lib /usr/lib/x86_64-linux-gnu /usr/lib/../lib /lib
libs=-lpthread -lnsl -lgdbm -ldb -ldl -lm -lcrypt -lutil -lc
perllibs=-lpthread -lnsl -ldl -lm -lcrypt -lutil -lc
libc=libc-2.27.so, so=so, useshrplib=false, libperl=libperl.a
gnulibc_version='2.27'
Dynamic Linking:
dlsrc=dl_dlopen.xs, dlext=so, d_dlsymun=undef, ccdlflags='-Wl,-E'
cccdlflags='-fPIC', lddlflags='-shared -O2 -L/usr/local/lib -fstack-protector'
Characteristics of this binary (from libperl):
Compile-time options: HAS_TIMES PERLIO_LAYERS PERL_DONT_CREATE_GVSV
PERL_HASH_FUNC_ONE_AT_A_TIME_HARD PERL_MALLOC_WRAP
PERL_NEW_COPY_ON_WRITE PERL_PRESERVE_IVUV
USE_64_BIT_ALL USE_64_BIT_INT USE_LARGE_FILES
USE_LOCALE USE_LOCALE_COLLATE USE_LOCALE_CTYPE
USE_LOCALE_NUMERIC USE_PERLIO USE_PERL_ATOF
Locally applied patches:
Devel::PatchPerl 2.08
Built under linux
Compiled at Sep 5 2021 13:00:03
%ENV:
PERL5LIB="/home/cpansand/.local/share/.cpan/build/2021091603/Math-MatrixReal-2.13-4/blib/arch:/home/cpansand/.local/share/.cpan/build/2021091603/Math-MatrixReal-2.13-4/blib/lib:/home/cpansand/.local/share/.cpan/build/2021091603/Data-YAML-0.0.7-4/blib/arch:/home/cpansand/.local/share/.cpan/build/2021091603/Data-YAML-0.0.7-4/blib/lib:/home/cpansand/.local/share/.cpan/build/2021091603/Data-Structure-Util-0.16-4/blib/arch:/home/cpansand/.local/share/.cpan/build/2021091603/Data-Structure-Util-0.16-4/blib/lib:/home/cpansand/.local/share/.cpan/build/2021091603/Data-DPath-0.58-4/blib/arch:/home/cpansand/.local/share/.cpan/build/2021091603/Data-DPath-0.58-4/blib/lib:/home/cpansand/.local/share/.cpan/build/2021091603/Iterator-Util-0.02-4/blib/arch:/home/cpansand/.local/share/.cpan/build/2021091603/Iterator-Util-0.02-4/blib/lib:/home/cpansand/.local/share/.cpan/build/2021091603/Iterator-0.03-4/blib/arch:/home/cpansand/.local/share/.cpan/build/2021091603/Iterator-0.03-4/blib/lib"
PERL5OPT=""
PERL5_CPANPLUS_IS_RUNNING="19317"
PERL5_CPAN_IS_RUNNING="19317"
PERL5_CPAN_IS_RUNNING_IN_RECURSION="29029,19317"
PERLDOC="-MPod::Perldoc::ToTextOverstrike"
PERL_BATCH="yes"
PERL_CANARY_STABILITY_NOPROMPT="1"
PERL_CPAN_REPORTER_CONFIG="/var/tmp/cpansmoker-1023/2021091603/cpanreporter_000_config.ini"
PERL_EXTUTILS_AUTOINSTALL="--defaultdeps"
PERL_USE_UNSAFE_INC="1"
@INC:
/home/cpansand/.local/share/.cpan/build/2021091603/Math-MatrixReal-2.13-4/blib/arch
/home/cpansand/.local/share/.cpan/build/2021091603/Math-MatrixReal-2.13-4/blib/lib
/home/cpansand/.local/share/.cpan/build/2021091603/Data-YAML-0.0.7-4/blib/arch
/home/cpansand/.local/share/.cpan/build/2021091603/Data-YAML-0.0.7-4/blib/lib
/home/cpansand/.local/share/.cpan/build/2021091603/Data-Structure-Util-0.16-4/blib/arch
/home/cpansand/.local/share/.cpan/build/2021091603/Data-Structure-Util-0.16-4/blib/lib
/home/cpansand/.local/share/.cpan/build/2021091603/Data-DPath-0.58-4/blib/arch
/home/cpansand/.local/share/.cpan/build/2021091603/Data-DPath-0.58-4/blib/lib
/home/cpansand/.local/share/.cpan/build/2021091603/Iterator-Util-0.02-4/blib/arch
/home/cpansand/.local/share/.cpan/build/2021091603/Iterator-Util-0.02-4/blib/lib
/home/cpansand/.local/share/.cpan/build/2021091603/Iterator-0.03-4/blib/arch
/home/cpansand/.local/share/.cpan/build/2021091603/Iterator-0.03-4/blib/lib
/opt/perl-5.20.3/lib/site_perl/5.20.3/x86_64-linux
/opt/perl-5.20.3/lib/site_perl/5.20.3
/opt/perl-5.20.3/lib/5.20.3/x86_64-linux
/opt/perl-5.20.3/lib/5.20.3
.