Template-Mustache v1.2.0 Perl 5 v5.27.10 x86_64-linux

Status
Pass
From
Slaven Rezić (SREZIC)
Dist
Template-Mustache v1.2.0
Platform
Perl 5 v5.27.10 x86_64-linux
Date
2018-03-21 09:27:32
ID
155fc13c-2cea-11e8-a429-dade9bd9bf9d
This distribution has been tested as part of the CPAN Testers
project, supporting the Perl programming language.  See
http://wiki.cpantesters.org/ for more information or email
questions to cpan-testers-discuss@perl.org


--
Dear Yanick Champoux,

This is a computer-generated report for Template-Mustache-1.2.0
on perl 5.27.10, created by CPAN-Reporter-1.2018.

Thank you for uploading your work to CPAN.  Congratulations!
All tests were successful.

Sections of this report:

    * Tester comments
    * Program output
    * Prerequisites
    * Environment and other context

------------------------------
TESTER COMMENTS
------------------------------

Additional comments from tester:

none provided

------------------------------
PROGRAM OUTPUT
------------------------------

Output from '/usr/bin/make test':

PERL_DL_NONLAZY=1 "/opt/perl-5.27.10/bin/perl5.27.10" "-MExtUtils::Command::MM" "-MTest::Harness" "-e" "undef *Test::Harness::Switches; test_harness(0, 'blib/lib', 'blib/arch')" t/*.t
t/00-compile.t ......................... ok
# 
# Versions for all modules listed in MYMETA.json (including optional ones):
# 
# === Configure Requires ===
# 
#     Module              Want Have
#     ------------------- ---- ----
#     ExtUtils::MakeMaker  any 7.34
# 
# === Build Requires ===
# 
#     Module              Want Have
#     ------------------- ---- ----
#     ExtUtils::MakeMaker  any 7.34
# 
# === Test Requires ===
# 
#     Module              Want     Have
#     ------------------- ---- --------
#     ExtUtils::MakeMaker  any     7.34
#     File::Spec           any     3.74
#     File::Temp           any   0.2304
#     IO::Handle           any     1.37
#     IPC::Open3           any     1.20
#     Test::Exception      any     0.43
#     Test::More          0.88 1.302133
#     Test::Most           any     0.35
#     Test::Requires       any     0.10
#     base                 any     2.27
# 
# === Test Recommends ===
# 
#     Module         Want     Have
#     ---------- -------- --------
#     CPAN::Meta 2.120900 2.150010
# 
# === Runtime Requires ===
# 
#     Module                Want     Have
#     ----------------- -------- --------
#     Carp                   any     1.49
#     Escape::Houdini        any    0.3.0
#     List::AllUtils         any     0.14
#     Moo                    any 2.003004
#     MooseX::MungeHas       any    0.008
#     Parse::RecDescent 1.967015 1.967015
#     Path::Tiny             any    0.104
#     Scalar::Util           any     1.50
#     Text::Balanced         any     2.03
#     YAML::XS               any     0.69
#     autodie                any     2.29
#     strict                 any     1.11
#     vars                   any     1.03
#     warnings               any     1.42
# 
t/00-report-prereqs.t .................. ok
t/001_spec_compatibility.t ............. skipped: Couldn't find specs; try running `git submodule update --init`
t/basic.t .............................. ok
t/lambdas_receive_render_helper.t ...... ok
t/moose-trait.t ........................ ok
t/parse_errors.t ....................... ok
t/partials.t ........................... ok
t/read_data_from_classes.t ............. ok
t/read_data_from_hashes.t .............. ok
t/read_data_from_instances.t ........... ok
t/read_data_from_subclass.t ............ ok
t/read_partials_from_file_system.t ..... ok
t/read_partials_from_hashes.t .......... ok
t/read_partials_from_partial_method.t .. ok
t/read_partials_from_subs.t ............ ok
t/read_templates_from_file_system.t .... ok
t/read_templates_from_subclass.t ....... ok
t/sections.t ........................... ok
t/variable-resolution.t ................ ok
All tests successful.
Files=20, Tests=50,  4 wallclock secs ( 0.07 usr  0.07 sys +  2.65 cusr  0.35 csys =  3.14 CPU)
Result: PASS

------------------------------
PREREQUISITES
------------------------------

Prerequisite modules loaded:

requires:

    Module              Need     Have    
    ------------------- -------- --------
    autodie             0        2.29    
    Carp                0        1.49    
    Escape::Houdini     0        0.3.0   
    List::AllUtils      0        0.14    
    Moo                 0        2.003004
    MooseX::MungeHas    0        0.008   
    Parse::RecDescent   1.967015 1.967015
    Path::Tiny          0        0.104   
    perl                5.012000 5.027010
    Scalar::Util        0        1.50    
    strict              0        1.11    
    Text::Balanced      0        2.03    
    vars                0        1.03    
    warnings            0        1.42    
    YAML::XS            0        0.69    

build_requires:

    Module              Need     Have    
    ------------------- -------- --------
    base                0        2.27    
    ExtUtils::MakeMaker 0        7.34    
    File::Spec          0        3.74    
    File::Temp          0        0.2304  
    IO::Handle          0        1.37    
    IPC::Open3          0        1.20    
    Test::Exception     0        0.43    
    Test::More          0.88     1.302133
    Test::Most          0        0.35    
    Test::Requires      0        0.10    

configure_requires:

    Module              Need     Have    
    ------------------- -------- --------
    ExtUtils::MakeMaker 0        7.34    

opt_build_requires:

    Module              Need     Have    
    ------------------- -------- --------
    CPAN::Meta          2.120900 2.150010


------------------------------
ENVIRONMENT AND OTHER CONTEXT
------------------------------

Environment variables:

    LANG = C
    LC_ALL = de_DE.UTF-8
    PATH = /usr/local/bin:/usr/bin:/bin:/usr/local/sbin:/usr/sbin:/sbin:/home/cpansand/bin/linux-gnu:/home/cpansand/bin/sh:/home/cpansand/bin:/usr/games:/home/cpansand/devel:/home/eserte/src/srezic-misc/scripts
    PERL5LIB = 
    PERL5OPT = 
    PERL5_CPANPLUS_IS_RUNNING = 15340
    PERL5_CPAN_IS_RUNNING = 15340
    PERL5_CPAN_IS_RUNNING_IN_RECURSION = 15243,15340
    PERLDOC = -MPod::Perldoc::ToTextOverstrike
    PERL_BATCH = yes
    PERL_CANARY_STABILITY_NOPROMPT = 1
    PERL_CPAN_REPORTER_CONFIG = /var/tmp/cpansmoker-1023/2018032106/cpanreporter_000_config.ini
    PERL_EXTUTILS_AUTOINSTALL = --defaultdeps
    PERL_PARALLEL_SMOKER = yes
    PERL_USE_UNSAFE_INC = 1
    SHELL = /usr/bin/zsh
    TERM = screen
    TMPDIR = /var/tmp/cpansmoker-1023/2018032106

Perl special variables (and OS-specific diagnostics, for MSWin32):

    $^X = /opt/perl-5.27.10/bin/perl5.27.10
    $UID/$EUID = 1023 / 1023
    $GID = 1023 1023
    $EGID = 1023 1023

Perl module toolchain versions installed:

    Module              Have    
    ------------------- --------
    CPAN                2.20    
    CPAN::Meta          2.150010
    Cwd                 3.74    
    ExtUtils::CBuilder  0.280230
    ExtUtils::Command   7.34    
    ExtUtils::Install   2.14    
    ExtUtils::MakeMaker 7.34    
    ExtUtils::Manifest  1.70    
    ExtUtils::ParseXS   3.39    
    File::Spec          3.74    
    JSON                2.97001 
    JSON::PP            2.97001 
    Module::Build       0.4224  
    Module::Signature   0.81    
    Parse::CPAN::Meta   2.150010
    Test::Harness       3.42    
    Test::More          1.302133
    YAML                1.24    
    YAML::Syck          1.30    
    version             0.9918  


--

Summary of my perl5 (revision 5 version 27 subversion 10) configuration:
   
  Platform:
    osname=linux
    osvers=4.9.0-3-amd64
    archname=x86_64-linux
    uname='linux debian9 4.9.0-3-amd64 #1 smp debian 4.9.30-2+deb9u5 (2017-09-19) x86_64 gnulinux '
    config_args='-ds -e -Dprefix=/opt/perl-5.27.10 -Dusedevel -Dusemallocwrap=no -Dcf_email=srezic@cpan.org'
    hint=recommended
    useposix=true
    d_sigaction=define
    useithreads=undef
    usemultiplicity=undef
    use64bitint=define
    use64bitall=define
    uselongdouble=undef
    usemymalloc=n
    default_inc_excludes_dot=define
    bincompat5005=undef
  Compiler:
    cc='cc'
    ccflags ='-fwrapv -fno-strict-aliasing -pipe -fstack-protector-strong -I/usr/local/include -D_LARGEFILE_SOURCE -D_FILE_OFFSET_BITS=64 -D_FORTIFY_SOURCE=2'
    optimize='-O2'
    cppflags='-fwrapv -fno-strict-aliasing -pipe -fstack-protector-strong -I/usr/local/include'
    ccversion=''
    gccversion='6.3.0 20170516'
    gccosandvers=''
    intsize=4
    longsize=8
    ptrsize=8
    doublesize=8
    byteorder=12345678
    doublekind=3
    d_longlong=define
    longlongsize=8
    d_longdbl=define
    longdblsize=16
    longdblkind=3
    ivtype='long'
    ivsize=8
    nvtype='double'
    nvsize=8
    Off_t='off_t'
    lseeksize=8
    alignbytes=8
    prototype=define
  Linker and Libraries:
    ld='cc'
    ldflags =' -fstack-protector-strong -L/usr/local/lib'
    libpth=/usr/local/lib /usr/lib/gcc/x86_64-linux-gnu/6/include-fixed /usr/include/x86_64-linux-gnu /usr/lib /lib/x86_64-linux-gnu /lib/../lib /usr/lib/x86_64-linux-gnu /usr/lib/../lib /lib
    libs=-lpthread -lnsl -lgdbm -ldb -ldl -lm -lcrypt -lutil -lc -lgdbm_compat
    perllibs=-lpthread -lnsl -ldl -lm -lcrypt -lutil -lc
    libc=libc-2.24.so
    so=so
    useshrplib=false
    libperl=libperl.a
    gnulibc_version='2.24'
  Dynamic Linking:
    dlsrc=dl_dlopen.xs
    dlext=so
    d_dlsymun=undef
    ccdlflags='-Wl,-E'
    cccdlflags='-fPIC'
    lddlflags='-shared -O2 -L/usr/local/lib -fstack-protector-strong'


Characteristics of this binary (from libperl): 
  Compile-time options:
    HAS_TIMES
    PERLIO_LAYERS
    PERL_COPY_ON_WRITE
    PERL_DONT_CREATE_GVSV
    PERL_OP_PARENT
    PERL_PRESERVE_IVUV
    PERL_USE_DEVEL
    USE_64_BIT_ALL
    USE_64_BIT_INT
    USE_LARGE_FILES
    USE_LOCALE
    USE_LOCALE_COLLATE
    USE_LOCALE_CTYPE
    USE_LOCALE_NUMERIC
    USE_LOCALE_TIME
    USE_PERLIO
    USE_PERL_ATOF
  Built under linux
  Compiled at Mar 20 2018 21:34:28
  %ENV:
    PERL5LIB=""
    PERL5OPT=""
    PERL5_CPANPLUS_IS_RUNNING="15340"
    PERL5_CPAN_IS_RUNNING="15340"
    PERL5_CPAN_IS_RUNNING_IN_RECURSION="15243,15340"
    PERLDOC="-MPod::Perldoc::ToTextOverstrike"
    PERL_BATCH="yes"
    PERL_CANARY_STABILITY_NOPROMPT="1"
    PERL_CPAN_REPORTER_CONFIG="/var/tmp/cpansmoker-1023/2018032106/cpanreporter_000_config.ini"
    PERL_EXTUTILS_AUTOINSTALL="--defaultdeps"
    PERL_PARALLEL_SMOKER="yes"
    PERL_USE_UNSAFE_INC="1"
  @INC:
    /opt/perl-5.27.10/lib/site_perl/5.27.10/x86_64-linux
    /opt/perl-5.27.10/lib/site_perl/5.27.10
    /opt/perl-5.27.10/lib/5.27.10/x86_64-linux
    /opt/perl-5.27.10/lib/5.27.10
    .