File-AptFetch vv0.1.15 Perl 5 v5.36.0 OpenBSD.amd64-openbsd
- Status
- Pass
- From
- David Solimano
- Dist
-
File-AptFetch vv0.1.15
- Platform
- Perl 5 v5.36.0 OpenBSD.amd64-openbsd
- Date
- 2023-04-15 15:20:41
- ID
- 155a4430-dba1-11ed-9c03-2c68b0d7c4be
This distribution has been tested as part of the CPAN Testers
project, supporting the Perl programming language. See
http://wiki.cpantesters.org/ for more information or email
questions to cpan-testers-discuss@perl.org
--
Dear whynot@pozharski.name,
This is a computer-generated report for File-AptFetch-v0.1.15
on perl 5.36.0, created by CPAN-Reporter-1.2018.
Thank you for uploading your work to CPAN. Congratulations!
All tests were successful.
Sections of this report:
* Tester comments
* Program output
* Prerequisites
* Environment and other context
------------------------------
TESTER COMMENTS
------------------------------
Additional comments from tester:
this report is from an automated smoke testing program
and was not reviewed by a human for accuracy
------------------------------
PROGRAM OUTPUT
------------------------------
Output from './Build test':
# {{{TERM}}}
t/0.t ....................... ok
t/0/9raCtd.t ................ skipped: (5.36.0): # {CHILD_ERROR}: (0) # 0
t/0/EmMn8o.t ................ skipped: not Debian, or alike
t/copy/0.t .................. skipped: not Debian, or alike
t/copy/fail.t ............... skipped: not Debian, or alike
t/copy/one.t ................ skipped: not Debian, or alike
t/copy/perm.t ............... skipped: not Debian, or alike
t/copy/slow.t ............... skipped: not Debian, or alike
t/copy/two.t ................ skipped: not Debian, or alike
t/file/0.t .................. skipped: not Debian, or alike
t/file/fail.t ............... skipped: not Debian, or alike
t/file/one.t ................ skipped: not Debian, or alike
t/file/two.t ................ skipped: not Debian, or alike
t/ftp/0.t ................... skipped: not Debian, or alike
t/ftp/slow.t ................ skipped: not Debian, or alike
t/gain-callback/simple.t .... ok
t/read-callback/default.t ... ok
t/read-callback/simple.t .... ok
t/select-callback/simple.t .. ok
t/simple/0.t ................ skipped: not Debian, or alike
t/simple/copy.t ............. skipped: not Debian, or alike
t/simple/fail.t ............. skipped: not Debian, or alike
t/simple/file.t ............. skipped: not Debian, or alike
t/simple/wink.t ............. skipped: not Debian, or alike
t/void/aptconfig.t .......... ok
t/void/configure.t .......... ok
t/void/destroy.t ............ ok
t/void/fail.t ............... ok
t/void/handshake.t .......... ok
t/void/set_callback.t ....... ok
All tests successful.
Files=30, Tests=207, 144 wallclock secs ( 0.13 usr 0.24 sys + 12.72 cusr 6.68 csys = 19.77 CPU)
Result: PASS
------------------------------
PREREQUISITES
------------------------------
Prerequisite modules loaded:
requires:
Module Need Have
---------------- ------- --------
base 0 2.27
Carp 0 1.52
Cwd 0 3.84
IO::Pipe 0 1.51
List::Util 0 1.63
perl v5.8.0 5.036000
String::Truncate 0 1.100603
version v0.77.0 0.9929
build_requires:
Module Need Have
---------------- ------- --------
File::Temp 0 0.2311
POSIX 0 2.03
Test::More 0 1.302194
configure_requires:
Module Need Have
---------------- ------- --------
Module::Build 0.38 0.4232
------------------------------
ENVIRONMENT AND OTHER CONTEXT
------------------------------
Environment variables:
AUTOMATED_TESTING = 1
PATH = /home/perluser/perl5/perlbrew/bin:/home/perluser/perl5/perlbrew/perls/perl-5.36.0/bin:/home/perluser/perl5/bin:/home/perluser/bin:/bin:/sbin:/usr/bin:/usr/sbin:/usr/X11R6/bin:/usr/local/bin:/usr/local/sbin:/usr/games:.
PERL5LIB = /home/perluser/.cpan/build/String-Truncate-1.100603-1/blib/arch:/home/perluser/.cpan/build/String-Truncate-1.100603-1/blib/lib:/home/perluser/perl5/lib/perl5
PERL5OPT =
PERL5_CPANPLUS_IS_RUNNING = 75465
PERL5_CPAN_IS_RUNNING = 75465
PERL5_CPAN_IS_RUNNING_IN_RECURSION = 45047,75465
PERLBREW_HOME = /home/perluser/.perlbrew
PERLBREW_MANPATH = /home/perluser/perl5/perlbrew/perls/perl-5.36.0/man
PERLBREW_PATH = /home/perluser/perl5/perlbrew/bin:/home/perluser/perl5/perlbrew/perls/perl-5.36.0/bin
PERLBREW_PERL = perl-5.36.0
PERLBREW_ROOT = /home/perluser/perl5/perlbrew
PERLBREW_SHELLRC_VERSION = 0.96
PERLBREW_VERSION = 0.96
PERL_CR_SMOKER_CURRENT = File-AptFetch-v0.1.15
PERL_EXTUTILS_AUTOINSTALL = --defaultdeps
PERL_LOCAL_LIB_ROOT = /home/perluser/perl5
PERL_MB_OPT = --install_base "/home/perluser/perl5"
PERL_MM_OPT = INSTALL_BASE=/home/perluser/perl5
PERL_MM_USE_DEFAULT = 1
PERL_USE_UNSAFE_INC = 1
SHELL = /bin/ksh
TERM = xterm
Perl special variables (and OS-specific diagnostics, for MSWin32):
$^X = /home/perluser/perl5/perlbrew/perls/perl-5.36.0/bin/perl
$UID/$EUID = 1000 / 1000
$GID = 1000 1000
$EGID = 1000 1000
Perl module toolchain versions installed:
Module Have
------------------- --------
CPAN 2.34
CPAN::Meta 2.150010
Cwd 3.84
ExtUtils::CBuilder 0.280236
ExtUtils::Command 7.70
ExtUtils::Install 2.22
ExtUtils::MakeMaker 7.70
ExtUtils::Manifest 1.73
ExtUtils::ParseXS 3.44
File::Spec 3.84
JSON 4.10
JSON::PP 4.16
Module::Build 0.4232
Module::Signature n/a
Parse::CPAN::Meta 2.150010
Test::Harness 3.44
Test::More 1.302194
YAML 1.30
YAML::Syck n/a
version 0.9929
--
Summary of my perl5 (revision 5 version 36 subversion 0) configuration:
Platform:
osname=openbsd
osvers=7.2
archname=OpenBSD.amd64-openbsd
uname='openbsd openbsd-test.manor.solimano.org 7.2 generic#728 amd64 '
config_args='-de -Dprefix=/home/perluser/perl5/perlbrew/perls/perl-5.36.0 -Aeval:scriptdir=/home/perluser/perl5/perlbrew/perls/perl-5.36.0/bin'
hint=recommended
useposix=true
d_sigaction=define
useithreads=undef
usemultiplicity=undef
use64bitint=define
use64bitall=define
uselongdouble=undef
usemymalloc=n
default_inc_excludes_dot=define
Compiler:
cc='cc'
ccflags ='-fno-strict-aliasing -pipe -fstack-protector-strong -I/usr/local/include'
optimize='-O2'
cppflags='-fno-strict-aliasing -pipe -fstack-protector-strong -I/usr/local/include'
ccversion=''
gccversion='OpenBSD Clang 13.0.0'
gccosandvers=''
intsize=4
longsize=8
ptrsize=8
doublesize=8
byteorder=12345678
doublekind=3
d_longlong=define
longlongsize=8
d_longdbl=define
longdblsize=16
longdblkind=3
ivtype='long'
ivsize=8
nvtype='double'
nvsize=8
Off_t='off_t'
lseeksize=8
alignbytes=8
prototype=define
Linker and Libraries:
ld='cc'
ldflags ='-Wl,-E -fstack-protector-strong -L/usr/local/lib'
libpth=/usr/lib/clang/13.0.0/lib /usr/lib /usr/local/lib
libs=-lpthread -lm -lutil -lc
perllibs=-lpthread -lm -lutil -lc
libc=/usr/lib/libc.a
so=so
useshrplib=false
libperl=libperl.a
gnulibc_version=''
Dynamic Linking:
dlsrc=dl_dlopen.xs
dlext=so
d_dlsymun=undef
ccdlflags=' '
cccdlflags='-DPIC -fPIC '
lddlflags='-shared -fPIC -L/usr/local/lib -fstack-protector-strong'
Characteristics of this binary (from libperl):
Compile-time options:
HAS_TIMES
PERLIO_LAYERS
PERL_COPY_ON_WRITE
PERL_DONT_CREATE_GVSV
PERL_MALLOC_WRAP
PERL_OP_PARENT
PERL_PRESERVE_IVUV
USE_64_BIT_ALL
USE_64_BIT_INT
USE_LARGE_FILES
USE_LOCALE
USE_LOCALE_COLLATE
USE_LOCALE_CTYPE
USE_LOCALE_NUMERIC
USE_LOCALE_TIME
USE_PERLIO
USE_PERL_ATOF
Built under openbsd
Compiled at Nov 24 2022 08:27:24
%ENV:
PERL5LIB="/home/perluser/.cpan/build/String-Truncate-1.100603-1/blib/arch:/home/perluser/.cpan/build/String-Truncate-1.100603-1/blib/lib:/home/perluser/perl5/lib/perl5"
PERL5OPT=""
PERL5_CPANPLUS_IS_RUNNING="75465"
PERL5_CPAN_IS_RUNNING="75465"
PERL5_CPAN_IS_RUNNING_IN_RECURSION="45047,75465"
PERLBREW_HOME="/home/perluser/.perlbrew"
PERLBREW_MANPATH="/home/perluser/perl5/perlbrew/perls/perl-5.36.0/man"
PERLBREW_PATH="/home/perluser/perl5/perlbrew/bin:/home/perluser/perl5/perlbrew/perls/perl-5.36.0/bin"
PERLBREW_PERL="perl-5.36.0"
PERLBREW_ROOT="/home/perluser/perl5/perlbrew"
PERLBREW_SHELLRC_VERSION="0.96"
PERLBREW_VERSION="0.96"
PERL_CR_SMOKER_CURRENT="File-AptFetch-v0.1.15"
PERL_EXTUTILS_AUTOINSTALL="--defaultdeps"
PERL_LOCAL_LIB_ROOT="/home/perluser/perl5"
PERL_MB_OPT="--install_base "/home/perluser/perl5""
PERL_MM_OPT="INSTALL_BASE=/home/perluser/perl5"
PERL_MM_USE_DEFAULT="1"
PERL_USE_UNSAFE_INC="1"
@INC:
/home/perluser/.cpan/build/String-Truncate-1.100603-1/blib/arch
/home/perluser/.cpan/build/String-Truncate-1.100603-1/blib/lib
/home/perluser/perl5/lib/perl5/OpenBSD.amd64-openbsd
/home/perluser/perl5/lib/perl5
/home/perluser/perl5/perlbrew/perls/perl-5.36.0/lib/site_perl/5.36.0/OpenBSD.amd64-openbsd
/home/perluser/perl5/perlbrew/perls/perl-5.36.0/lib/site_perl/5.36.0
/home/perluser/perl5/perlbrew/perls/perl-5.36.0/lib/5.36.0/OpenBSD.amd64-openbsd
/home/perluser/perl5/perlbrew/perls/perl-5.36.0/lib/5.36.0
.