Report for File-Remove-1.57

Back
From: metabase:user:44baa983-6bf6-1014-9a1d-e6daa5296772
Subject: PASS File-Remove-1.57 v5.24.0 Mac OS X
Date: 2016-06-16T21:12:50Z

This distribution has been tested as part of the CPAN Testers
project, supporting the Perl programming language.  See
http://wiki.cpantesters.org/ for more information or email
questions to cpan-testers-discuss@perl.org


--
Dear Shlomi Fish,

This is a computer-generated report for File-Remove-1.57
on perl 5.24.0, created by CPAN-Reporter-1.2017.

Thank you for uploading your work to CPAN.  Congratulations!
All tests were successful.

Sections of this report:

    * Tester comments
    * Program output
    * Prerequisites
    * Environment and other context

------------------------------
TESTER COMMENTS
------------------------------

Additional comments from tester:

none provided

------------------------------
PROGRAM OUTPUT
------------------------------

Output from '/usr/bin/make test':

PERL_DL_NONLAZY=1 "/Users/burak/.plenv/versions/5.24.0/bin/perl5.24.0" "-MExtUtils::Command::MM" "-MTest::Harness" "-e" "undef *Test::Harness::Switches; test_harness(0, 'blib/lib', 'blib/arch')" t/*.t
t/00-compile.t .............. ok
t/01_compile.t .............. ok
t/02_directories.t .......... ok
t/03_deep_readonly.t ........ ok
t/04_can_delete.t ........... ok
t/05_links.t ................ ok
t/06_curly.t ................ ok
t/07_cwd.t .................. ok
t/08_spaces.t ............... ok
t/09_fork.t ................. ok
t/10_noglob.t ............... ok
t/author-pod-coverage.t ..... skipped: these tests are for testing by the author
t/author-pod-syntax.t ....... skipped: these tests are for testing by the author
t/release-cpan-changes.t .... skipped: these tests are for release candidate testing
t/release-kwalitee.t ........ skipped: these tests are for release candidate testing
t/release-trailing-space.t .. skipped: these tests are for release candidate testing
All tests successful.
Files=16, Tests=222,  4 wallclock secs ( 0.08 usr  0.04 sys +  0.52 cusr  0.15 csys =  0.79 CPU)
Result: PASS

------------------------------
PREREQUISITES
------------------------------

Prerequisite modules loaded:

requires:

    Module                Need  Have    
    --------------------- ----- --------
    constant              0     1.33    
    Cwd                   3.29  3.63    
    File::Glob            0     1.26    
    File::Path            0     2.12_01 
    File::Spec            3.29  3.63    
    perl                  5.006 5.024000
    strict                0     1.11    
    vars                  0     1.03    
    warnings              0     1.36    

build_requires:

    Module                Need  Have    
    --------------------- ----- --------
    blib                  1.01  1.06    
    ExtUtils::MakeMaker   0     7.10_01 
    File::Copy            0     2.31    
    File::Spec            3.29  3.63    
    File::Spec::Functions 0     3.63    
    File::Temp            0     0.2304  
    IO::Handle            0     1.36    
    IPC::Open3            0     1.20    
    Test::More            0     1.001014

configure_requires:

    Module                Need  Have    
    --------------------- ----- --------
    ExtUtils::MakeMaker   0     7.10_01 


------------------------------
ENVIRONMENT AND OTHER CONTEXT
------------------------------

Environment variables:

    LC_CTYPE = UTF-8
    PATH = /Users/burak/.plenv/versions/5.24.0/bin:/Users/burak/.plenv/libexec:/Users/burak/.plenv/plugins/perl-build/bin:/Users/burak/.plenv/shims:/Users/burak/.plenv/bin:/opt/local/bin:/opt/local/sbin:/Users/burak/.rakudobrew/bin:/usr/local/bin:/usr/bin:/bin:/usr/sbin:/sbin:/opt/local/bin:/opt/local/sbin
    PERL5LIB = 
    PERL5OPT = 
    PERL5_CPANPLUS_IS_RUNNING = 3773
    PERL5_CPAN_IS_RUNNING = 3773
    SHELL = /bin/bash
    TERM = xterm-256color

Perl special variables (and OS-specific diagnostics, for MSWin32):

    $^X = /Users/burak/.plenv/versions/5.24.0/bin/perl5.24.0
    $UID/$EUID = 0 / 0
    $GID = 0 0 1 2 3 4 5 8 9 12 20 29 61 80
    $EGID = 0 0 1 2 3 4 5 8 9 12 20 29 61 80

Perl module toolchain versions installed:

    Module              Have    
    ------------------- --------
    CPAN                2.11    
    CPAN::Meta          2.150005
    Cwd                 3.63    
    ExtUtils::CBuilder  0.280225
    ExtUtils::Command   7.10    
    ExtUtils::Install   2.04    
    ExtUtils::MakeMaker 7.10_01 
    ExtUtils::Manifest  1.70    
    ExtUtils::ParseXS   3.31    
    File::Spec          3.63    
    JSON                n/a     
    JSON::PP            2.27300 
    Module::Build       0.4218  
    Module::Signature   n/a     
    Parse::CPAN::Meta   1.4417  
    Test::Harness       3.36    
    Test::More          1.001014
    YAML                n/a     
    YAML::Syck          n/a     
    version             0.9916  


--

Summary of my perl5 (revision 5 version 24 subversion 0) configuration:
   
  Platform:
    osname=darwin, osvers=15.5.0, archname=darwin-2level
    uname='darwin tonyukuk.local 15.5.0 darwin kernel version 15.5.0: tue apr 19 18:36:36 pdt 2016; root:xnu-3248.50.21~8release_x86_64 x86_64 '
    config_args='-Dprefix=/Users/burak/.plenv/versions/5.24.0 -de -Dusedevel -A'eval:scriptdir=/Users/burak/.plenv/versions/5.24.0/bin''
    hint=recommended, useposix=true, d_sigaction=define
    useithreads=undef, usemultiplicity=undef
    use64bitint=define, use64bitall=define, uselongdouble=undef
    usemymalloc=n, bincompat5005=undef
  Compiler:
    cc='cc', ccflags ='-fno-common -DPERL_DARWIN -fno-strict-aliasing -pipe -fstack-protector-strong -I/usr/local/include -I/opt/local/include',
    optimize='-O3',
    cppflags='-fno-common -DPERL_DARWIN -fno-strict-aliasing -pipe -fstack-protector-strong -I/usr/local/include -I/opt/local/include'
    ccversion='', gccversion='4.2.1 Compatible Apple LLVM 7.3.0 (clang-703.0.31)', gccosandvers=''
    intsize=4, longsize=8, ptrsize=8, doublesize=8, byteorder=12345678, doublekind=3
    d_longlong=define, longlongsize=8, d_longdbl=define, longdblsize=16, longdblkind=3
    ivtype='long', ivsize=8, nvtype='double', nvsize=8, Off_t='off_t', lseeksize=8
    alignbytes=8, prototype=define
  Linker and Libraries:
    ld='env MACOSX_DEPLOYMENT_TARGET=10.3 cc', ldflags =' -fstack-protector-strong -L/usr/local/lib -L/opt/local/lib'
    libpth=/usr/local/lib /Applications/Xcode.app/Contents/Developer/Toolchains/XcodeDefault.xctoolchain/usr/bin/../lib/clang/7.3.0/lib /Applications/Xcode.app/Contents/Developer/Toolchains/XcodeDefault.xctoolchain/usr/lib /usr/lib /opt/local/lib
    libs=-lpthread -lgdbm -ldbm -ldl -lm -lutil -lc
    perllibs=-lpthread -ldl -lm -lutil -lc
    libc=, so=dylib, useshrplib=false, libperl=libperl.a
    gnulibc_version=''
  Dynamic Linking:
    dlsrc=dl_dlopen.xs, dlext=bundle, d_dlsymun=undef, ccdlflags=' '
    cccdlflags=' ', lddlflags=' -bundle -undefined dynamic_lookup -L/usr/local/lib -L/opt/local/lib -fstack-protector-strong'


Characteristics of this binary (from libperl): 
  Compile-time options: HAS_TIMES PERLIO_LAYERS PERL_COPY_ON_WRITE
                        PERL_DONT_CREATE_GVSV
                        PERL_HASH_FUNC_ONE_AT_A_TIME_HARD PERL_MALLOC_WRAP
                        PERL_PRESERVE_IVUV PERL_USE_DEVEL USE_64_BIT_ALL
                        USE_64_BIT_INT USE_LARGE_FILES USE_LOCALE
                        USE_LOCALE_COLLATE USE_LOCALE_CTYPE
                        USE_LOCALE_NUMERIC USE_LOCALE_TIME USE_PERLIO
                        USE_PERL_ATOF
  Built under darwin
  Compiled at Jun 13 2016 23:50:06
  %ENV:
    PERL5LIB=""
    PERL5OPT=""
    PERL5_CPANPLUS_IS_RUNNING="3773"
    PERL5_CPAN_IS_RUNNING="3773"
  @INC:
    /Users/burak/.plenv/versions/5.24.0/lib/perl5/site_perl/5.24.0/darwin-2level
    /Users/burak/.plenv/versions/5.24.0/lib/perl5/site_perl/5.24.0
    /Users/burak/.plenv/versions/5.24.0/lib/perl5/5.24.0/darwin-2level
    /Users/burak/.plenv/versions/5.24.0/lib/perl5/5.24.0
    .