Back
From: metabase:user:21427c7c-6c1b-1014-a310-4ed93fdd96d6
Subject: PASS Math-Complex_C-0.07 v5.17.11 GNU/Linux
Date: 2013-04-27T20:43:14Z
This distribution has been tested as part of the CPAN Testers
project, supporting the Perl programming language. See
http://wiki.cpantesters.org/ for more information or email
questions to cpan-testers-discuss@perl.org
--
Dear Sisyphus,
This is a computer-generated report for Math-Complex_C-0.07
on perl 5.17.11, created by CPAN-Reporter-1.2010.
Thank you for uploading your work to CPAN. Congratulations!
All tests were successful.
Sections of this report:
* Tester comments
* Program output
* Prerequisites
* Environment and other context
------------------------------
TESTER COMMENTS
------------------------------
Additional comments from tester:
none provided
------------------------------
PROGRAM OUTPUT
------------------------------
Output from '/usr/bin/make test':
make[1]: Entering directory `/home/jm/.cpan/build/Math-Complex_C-0.07-_efYX2/Long'
make[1]: Leaving directory `/home/jm/.cpan/build/Math-Complex_C-0.07-_efYX2/Long'
PERL_DL_NONLAZY=1 /home/jm/perl5/perlbrew/perls/perl-5.17.11/bin/perl5.17.11 "-MExtUtils::Command::MM" "-e" "test_harness(0, 'blib/lib', 'blib/arch')" t/*.t
t/aab_basic.t ........ ok
Argument passed to is_neg_zero function is not an NV - therefore can't be '-0' at t/aab_neg_zero.t line 18.
Argument passed to is_neg_zero function is not an NV - therefore can't be '-0' at t/aab_neg_zero.t line 19.
t/aab_neg_zero.t ..... ok
t/abs_arg.t .......... ok
t/absl_argl.t ........ ok
t/arith.t ............ ok
t/arithl.t ........... ok
t/bool.t ............. ok
t/booll.t ............ ok
t/conj_proj.t ........ ok
t/conjl_projl.t ...... ok
t/exp.t .............. ok
t/expl.t ............. ok
Skipping all tests - couldn't load Math::LongDouble
t/long_double.t ...... ok
t/nan_inf.t .......... ok
t/nanl_infl.t ........ ok
t/new.t .............. ok
t/newl.t ............. ok
t/overload_string.t .. ok
Skipping test 1 - no recent version of Test::Pod installed
t/pod.t .............. ok
t/pow.t .............. ok
t/powl.t ............. ok
t/signed_zero.t ...... ok
t/signed_zerol.t ..... ok
t/to_string.t ........ ok
t/trig.t ............. ok
t/trigl.t ............ ok
Configuration details:
NV size is 8
IV size is 4
double size is 8
long double size is 12
double _Complex size is 16
long double _Complex size is 24
t/type.t ............. ok
All tests successful.
Files=27, Tests=336, 2 wallclock secs ( 0.25 usr 0.04 sys + 1.03 cusr 0.18 csys = 1.50 CPU)
Result: PASS
make[1]: Entering directory `/home/jm/.cpan/build/Math-Complex_C-0.07-_efYX2/Long'
No tests defined for Math::Complex_C::Long extension.
make[1]: Leaving directory `/home/jm/.cpan/build/Math-Complex_C-0.07-_efYX2/Long'
------------------------------
PREREQUISITES
------------------------------
Prerequisite modules loaded:
build_requires:
Module Need Have
------------------- ---- ----
ExtUtils::MakeMaker 0 6.66
------------------------------
ENVIRONMENT AND OTHER CONTEXT
------------------------------
Environment variables:
LANG = pl_PL.UTF-8
LC_COLLATE = pl_PL.UTF-8
LC_MESSAGES = POSIX
PATH = /home/jm/perl5/perlbrew/bin:/home/jm/perl5/perlbrew/perls/perl-5.17.11/bin:/home/jm/perl5/perlbrew/bin:/usr/local/bin:/usr/bin:/bin:/usr/games:/usr/lib/kde4/libexec:/usr/lib/qt/bin:.
PERL5LIB =
PERL5OPT =
PERL5_CPANPLUS_IS_RUNNING = 16939
PERL5_CPAN_IS_RUNNING = 16939
PERLBREW_BASHRC_VERSION = 0.61
PERLBREW_HOME = /home/jm/.perlbrew
PERLBREW_MANPATH = /home/jm/perl5/perlbrew/perls/perl-5.17.11/man
PERLBREW_PATH = /home/jm/perl5/perlbrew/bin:/home/jm/perl5/perlbrew/perls/perl-5.17.11/bin
PERLBREW_PERL = perl-5.17.11
PERLBREW_ROOT = /home/jm/perl5/perlbrew
PERLBREW_VERSION = 0.62
SHELL = /bin/bash
TERM = xterm
Perl special variables (and OS-specific diagnostics, for MSWin32):
$^X = /home/jm/perl5/perlbrew/perls/perl-5.17.11/bin/perl5.17.11
$UID/$EUID = 1000 / 1000
$GID = 100 6 10 17 18 19 83 84 93 94 100 1000
$EGID = 100 6 10 17 18 19 83 84 93 94 100 1000
Perl module toolchain versions installed:
Module Have
------------------- --------
CPAN 2.00
CPAN::Meta 2.120921
Cwd 3.40
ExtUtils::CBuilder 0.280210
ExtUtils::Command 1.17
ExtUtils::Install 1.59
ExtUtils::MakeMaker 6.66
ExtUtils::Manifest 1.63
ExtUtils::ParseXS 3.18
File::Spec 3.40
JSON 2.57
JSON::PP 2.27202
Module::Build 0.4003
Module::Signature n/a
Parse::CPAN::Meta 1.4404
Test::Harness 3.26
Test::More 0.98
YAML 0.84
YAML::Syck n/a
version 0.9902
--
Summary of my perl5 (revision 5 version 17 subversion 11) configuration:
Platform:
osname=linux, osvers=3.2.29-smp, archname=i686-linux
uname='linux darkstar 3.2.29-smp #2 smp mon sep 17 13:16:43 cdt 2012 i686 intel(r) celeron(r) cpu 3.06ghz genuineintel gnulinux '
config_args='-de -Dprefix=/home/jm/perl5/perlbrew/perls/perl-5.17.11 -Dusedevel -Aeval:scriptdir=/home/jm/perl5/perlbrew/perls/perl-5.17.11/bin'
hint=recommended, useposix=true, d_sigaction=define
useithreads=undef, usemultiplicity=undef
useperlio=define, d_sfio=undef, uselargefiles=define, usesocks=undef
use64bitint=undef, use64bitall=undef, uselongdouble=undef
usemymalloc=n, bincompat5005=undef
Compiler:
cc='cc', ccflags ='-fno-strict-aliasing -pipe -fstack-protector -I/usr/local/include -D_LARGEFILE_SOURCE -D_FILE_OFFSET_BITS=64',
optimize='-O2',
cppflags='-fno-strict-aliasing -pipe -fstack-protector -I/usr/local/include'
ccversion='', gccversion='4.7.1', gccosandvers=''
intsize=4, longsize=4, ptrsize=4, doublesize=8, byteorder=1234
d_longlong=define, longlongsize=8, d_longdbl=define, longdblsize=12
ivtype='long', ivsize=4, nvtype='double', nvsize=8, Off_t='off_t', lseeksize=8
alignbytes=4, prototype=define
Linker and Libraries:
ld='cc', ldflags =' -fstack-protector -L/usr/local/lib'
libpth=/usr/local/lib /lib /usr/lib
libs=-lnsl -lgdbm -ldb -ldl -lm -lcrypt -lutil -lc
perllibs=-lnsl -ldl -lm -lcrypt -lutil -lc
libc=/lib/libc-2.15.so, so=so, useshrplib=false, libperl=libperl.a
gnulibc_version='2.15'
Dynamic Linking:
dlsrc=dl_dlopen.xs, dlext=so, d_dlsymun=undef, ccdlflags='-Wl,-E'
cccdlflags='-fPIC', lddlflags='-shared -O2 -L/usr/local/lib -fstack-protector'
Characteristics of this binary (from libperl):
Compile-time options: HAS_TIMES PERLIO_LAYERS PERL_DONT_CREATE_GVSV
PERL_MALLOC_WRAP PERL_PRESERVE_IVUV PERL_SAWAMPERSAND
PERL_USE_DEVEL USE_LARGE_FILES USE_LOCALE
USE_LOCALE_COLLATE USE_LOCALE_CTYPE
USE_LOCALE_NUMERIC USE_PERLIO USE_PERL_ATOF
Built under linux
Compiled at Apr 27 2013 14:20:28
%ENV:
PERL5LIB=""
PERL5OPT=""
PERL5_CPANPLUS_IS_RUNNING="16939"
PERL5_CPAN_IS_RUNNING="16939"
PERLBREW_BASHRC_VERSION="0.61"
PERLBREW_HOME="/home/jm/.perlbrew"
PERLBREW_MANPATH="/home/jm/perl5/perlbrew/perls/perl-5.17.11/man"
PERLBREW_PATH="/home/jm/perl5/perlbrew/bin:/home/jm/perl5/perlbrew/perls/perl-5.17.11/bin"
PERLBREW_PERL="perl-5.17.11"
PERLBREW_ROOT="/home/jm/perl5/perlbrew"
PERLBREW_VERSION="0.62"
@INC:
/home/jm/perl5/perlbrew/perls/perl-5.17.11/lib/site_perl/5.17.11/i686-linux
/home/jm/perl5/perlbrew/perls/perl-5.17.11/lib/site_perl/5.17.11
/home/jm/perl5/perlbrew/perls/perl-5.17.11/lib/5.17.11/i686-linux
/home/jm/perl5/perlbrew/perls/perl-5.17.11/lib/5.17.11
.