Config-Model-Tester v4.007 Perl 5 v5.24.4 x86_64-linux

Status
Pass
From
Andreas J. König (ANDK)
Dist
Config-Model-Tester v4.007
Platform
Perl 5 v5.24.4 x86_64-linux
Date
2022-03-16 15:59:38
ID
150aeade-a542-11ec-9bd3-cadba546c4f0
This distribution has been tested as part of the CPAN Testers
project, supporting the Perl programming language.  See
http://wiki.cpantesters.org/ for more information or email
questions to cpan-testers-discuss@perl.org


--
Dear Dominique Dumont,

This is a computer-generated report for Config-Model-Tester-4.007
on perl 5.24.4, created by CPAN-Reporter-1.2018.

Thank you for uploading your work to CPAN.  Congratulations!
All tests were successful.

Sections of this report:

    * Tester comments
    * Program output
    * Prerequisites
    * Environment and other context

------------------------------
TESTER COMMENTS
------------------------------

Additional comments from tester:

none provided

------------------------------
PROGRAM OUTPUT
------------------------------

Output from './Build test':

t/author-critic.t .. skipped: these tests are for testing by the author
t/model_tests.t .... ok
t/pod.t ............ skipped: these tests are for testing by the author
All tests successful.
Files=3, Tests=2,  1 wallclock secs ( 0.02 usr  0.02 sys +  0.33 cusr  0.11 csys =  0.48 CPU)
Result: PASS

------------------------------
PREREQUISITES
------------------------------

Prerequisite modules loaded:

requires:

    Module                Need  Have    
    --------------------- ----- --------
    File::Copy::Recursive 0     0.45    
    Getopt::Long          0     2.51    
    Log::Log4perl         1.11  1.49    
    Path::Tiny            0     0.118   
    perl                  5.012 5.024004
    Test::Differences     0     0.67    
    Test::Exception       0     0.43    
    Test::File::Contents  0     0.23    
    Test::Log::Log4perl   0     0.32    
    Test::Memory::Cycle   0     1.06    
    Test::More            0     1.302190
    Test::Warn            0     0.36    

build_requires:

    Module                Need  Have    
    --------------------- ----- --------
    Module::Build         0.34  0.4229  

configure_requires:

    Module                Need  Have    
    --------------------- ----- --------
    Module::Build         0.34  0.4229  


------------------------------
ENVIRONMENT AND OTHER CONTEXT
------------------------------

Environment variables:

    LANG = en_US.UTF-8
    PATH = /home/sand/bin:/usr/local/bin:/usr/bin:/bin:/usr/games:/usr/local/perl/bin:/usr/X11/bin:/sbin:/usr/sbin
    PERL5LIB = /tmp/loop_over_bdir-bQg7EB/Test-DiagINC-0.008-0/blib/arch:/tmp/loop_over_bdir-bQg7EB/Test-DiagINC-0.008-0/blib/lib:/tmp/loop_over_bdir-bQg7EB/Module-Mask-0.06-0/blib/arch:/tmp/loop_over_bdir-bQg7EB/Module-Mask-0.06-0/blib/lib:/tmp/loop_over_bdir-bQg7EB/Inline-CPP-0.80-0/blib/arch:/tmp/loop_over_bdir-bQg7EB/Inline-CPP-0.80-0/blib/lib
    PERL5OPT = 
    PERL5_CPANPLUS_IS_RUNNING = 2213356
    PERL5_CPAN_IS_RUNNING = 2213356
    PERL_USE_UNSAFE_INC = 1
    SHELL = /usr/bin/zsh
    TERM = screen

Perl special variables (and OS-specific diagnostics, for MSWin32):

    $^X = /home/sand/src/perl/repoperls/installed-perls/host/k93msid/v5.24.4/da1c/bin/perl
    $UID/$EUID = 1005 / 1005
    $GID = 1005 1005
    $EGID = 1005 1005

Perl module toolchain versions installed:

    Module              Have    
    ------------------- --------
    CPAN                2.29    
    CPAN::Meta          2.150010
    Cwd                 3.75    
    ExtUtils::CBuilder  0.280234
    ExtUtils::Command   7.63_05 
    ExtUtils::Install   2.06    
    ExtUtils::MakeMaker 7.63_05 
    ExtUtils::Manifest  1.70    
    ExtUtils::ParseXS   3.35    
    File::Spec          3.75    
    JSON                4.05    
    JSON::PP            4.07    
    Module::Build       0.4229  
    Module::Signature   0.83    
    Parse::CPAN::Meta   2.150010
    Test::Harness       3.42    
    Test::More          1.302190
    YAML                1.29    
    YAML::Syck          1.31    
    version             0.9925  


--

Summary of my perl5 (revision 5 version 24 subversion 4) configuration:
  Derived from: 901dd848e31de6d0cacfb77c029b4e92c41a13ce
  Platform:
    osname=linux, osvers=5.3.0-2-amd64, archname=x86_64-linux
    uname='linux k93msid 5.3.0-2-amd64 #1 smp debian 5.3.9-3 (2019-11-19) x86_64 gnulinux '
    config_args='-Dprefix=/home/sand/src/perl/repoperls/installed-perls/host/k93msid/v5.24.4/da1c -Dmyhostname=k93msid -Dinstallusrbinperl=n -Uversiononly -Dusedevel -des -Ui_db -Dlibswanted=cl pthread socket inet nsl gdbm dbm malloc dl ld sun m crypt sec util c cposix posix ucb BSD gdbm_compat -Uuseithreads -Uuselongdouble -DEBUGGING=-g'
    hint=recommended, useposix=true, d_sigaction=define
    useithreads=undef, usemultiplicity=undef
    use64bitint=define, use64bitall=define, uselongdouble=undef
    usemymalloc=n, bincompat5005=undef
  Compiler:
    cc='cc', ccflags ='-fwrapv -fno-strict-aliasing -pipe -fstack-protector-strong -I/usr/local/include -D_LARGEFILE_SOURCE -D_FILE_OFFSET_BITS=64',
    optimize='-O2 -g',
    cppflags='-fwrapv -fno-strict-aliasing -pipe -fstack-protector-strong -I/usr/local/include'
    ccversion='', gccversion='9.2.1 20191109', gccosandvers=''
    intsize=4, longsize=8, ptrsize=8, doublesize=8, byteorder=12345678, doublekind=3
    d_longlong=define, longlongsize=8, d_longdbl=define, longdblsize=16, longdblkind=3
    ivtype='long', ivsize=8, nvtype='double', nvsize=8, Off_t='off_t', lseeksize=8
    alignbytes=8, prototype=define
  Linker and Libraries:
    ld='cc', ldflags =' -fstack-protector-strong -L/usr/local/lib'
    libpth=/usr/local/lib /usr/lib/gcc/x86_64-linux-gnu/9/include-fixed /usr/include/x86_64-linux-gnu /usr/lib /lib/x86_64-linux-gnu /lib/../lib /usr/lib/x86_64-linux-gnu /usr/lib/../lib /lib
    libs=-lpthread -lnsl -ldl -lm -lcrypt -lutil -lc
    perllibs=-lpthread -lnsl -ldl -lm -lcrypt -lutil -lc
    libc=libc-2.29.so, so=so, useshrplib=false, libperl=libperl.a
    gnulibc_version='2.29'
  Dynamic Linking:
    dlsrc=dl_dlopen.xs, dlext=so, d_dlsymun=undef, ccdlflags='-Wl,-E'
    cccdlflags='-fPIC', lddlflags='-shared -O2 -g -L/usr/local/lib -fstack-protector-strong'


Characteristics of this binary (from libperl): 
  Compile-time options: HAS_TIMES PERLIO_LAYERS PERL_COPY_ON_WRITE
                        PERL_DONT_CREATE_GVSV
                        PERL_HASH_FUNC_ONE_AT_A_TIME_HARD PERL_MALLOC_WRAP
                        PERL_PRESERVE_IVUV PERL_USE_DEVEL USE_64_BIT_ALL
                        USE_64_BIT_INT USE_LARGE_FILES USE_LOCALE
                        USE_LOCALE_COLLATE USE_LOCALE_CTYPE
                        USE_LOCALE_NUMERIC USE_LOCALE_TIME USE_PERLIO
                        USE_PERL_ATOF
  Locally applied patches:
	uncommitted-changes
  Built under linux
  Compiled at Nov 24 2019 19:04:36
  %ENV:
    PERL5LIB="/tmp/loop_over_bdir-bQg7EB/Test-DiagINC-0.008-0/blib/arch:/tmp/loop_over_bdir-bQg7EB/Test-DiagINC-0.008-0/blib/lib:/tmp/loop_over_bdir-bQg7EB/Module-Mask-0.06-0/blib/arch:/tmp/loop_over_bdir-bQg7EB/Module-Mask-0.06-0/blib/lib:/tmp/loop_over_bdir-bQg7EB/Inline-CPP-0.80-0/blib/arch:/tmp/loop_over_bdir-bQg7EB/Inline-CPP-0.80-0/blib/lib"
    PERL5OPT=""
    PERL5_CPANPLUS_IS_RUNNING="2213356"
    PERL5_CPAN_IS_RUNNING="2213356"
    PERL_USE_UNSAFE_INC="1"
  @INC:
    /tmp/loop_over_bdir-bQg7EB/Test-DiagINC-0.008-0/blib/arch
    /tmp/loop_over_bdir-bQg7EB/Test-DiagINC-0.008-0/blib/lib
    /tmp/loop_over_bdir-bQg7EB/Module-Mask-0.06-0/blib/arch
    /tmp/loop_over_bdir-bQg7EB/Module-Mask-0.06-0/blib/lib
    /tmp/loop_over_bdir-bQg7EB/Inline-CPP-0.80-0/blib/arch
    /tmp/loop_over_bdir-bQg7EB/Inline-CPP-0.80-0/blib/lib
    /home/sand/src/perl/repoperls/installed-perls/host/k93msid/v5.24.4/da1c/lib/site_perl/5.24.4/x86_64-linux
    /home/sand/src/perl/repoperls/installed-perls/host/k93msid/v5.24.4/da1c/lib/site_perl/5.24.4
    /home/sand/src/perl/repoperls/installed-perls/host/k93msid/v5.24.4/da1c/lib/5.24.4/x86_64-linux
    /home/sand/src/perl/repoperls/installed-perls/host/k93msid/v5.24.4/da1c/lib/5.24.4
    .