Path-IsDev v1.001003 Perl 5 v5.18.4 amd64-freebsd

Status
Pass
From
Slaven Rezić (SREZIC)
Dist
Path-IsDev v1.001003
Platform
Perl 5 v5.18.4 amd64-freebsd
Date
2018-10-29 00:17:55
ID
14ffac32-db10-11e8-b7dd-988b23427c4c
This distribution has been tested as part of the CPAN Testers
project, supporting the Perl programming language.  See
http://wiki.cpantesters.org/ for more information or email
questions to cpan-testers-discuss@perl.org


--
Dear Kent Fredric,

This is a computer-generated report for Path-IsDev-1.001003
on perl 5.18.4, created by CPAN-Reporter-1.2018.

Thank you for uploading your work to CPAN.  Congratulations!
All tests were successful.

Sections of this report:

    * Tester comments
    * Program output
    * Prerequisites
    * Environment and other context

------------------------------
TESTER COMMENTS
------------------------------

Additional comments from tester:

none provided

------------------------------
PROGRAM OUTPUT
------------------------------

Output from '/usr/bin/make test':

PERL_DL_NONLAZY=1 "/usr/perl5.18.4p/bin/perl" "-MExtUtils::Command::MM" "-MTest::Harness" "-e" "undef *Test::Harness::Switches; test_harness(0, 'blib/lib', 'blib/arch')" t/*.t t/00-compile/*.t t/Path-IsDev-Object/*.t t/Path-IsDev/is_dev/*.t
t/00-compile/lib_Path_IsDev_Heuristic_Changelog_pm.t ........................... ok
t/00-compile/lib_Path_IsDev_Heuristic_DevDirMarker_pm.t ........................ ok
t/00-compile/lib_Path_IsDev_Heuristic_Makefile_pm.t ............................ ok
t/00-compile/lib_Path_IsDev_Heuristic_META_pm.t ................................ ok
t/00-compile/lib_Path_IsDev_Heuristic_MYMETA_pm.t .............................. ok
t/00-compile/lib_Path_IsDev_Heuristic_TestDir_pm.t ............................. ok
t/00-compile/lib_Path_IsDev_Heuristic_Tool_Dzil_pm.t ........................... ok
t/00-compile/lib_Path_IsDev_Heuristic_Tool_MakeMaker_pm.t ...................... ok
t/00-compile/lib_Path_IsDev_Heuristic_Tool_ModuleBuild_pm.t .................... ok
t/00-compile/lib_Path_IsDev_Heuristic_VCS_Git_pm.t ............................. ok
t/00-compile/lib_Path_IsDev_HeuristicSet_Basic_pm.t ............................ ok
t/00-compile/lib_Path_IsDev_NegativeHeuristic_HomeDir_pm.t ..................... ok
t/00-compile/lib_Path_IsDev_NegativeHeuristic_IsDev_IgnoreFile_pm.t ............ ok
t/00-compile/lib_Path_IsDev_NegativeHeuristic_PerlINC_pm.t ..................... ok
t/00-compile/lib_Path_IsDev_Object_pm.t ........................................ ok
t/00-compile/lib_Path_IsDev_pm.t ............................................... ok
t/00-compile/lib_Path_IsDev_Result_pm.t ........................................ ok
t/00-compile/lib_Path_IsDev_Role_Heuristic_pm.t ................................ ok
t/00-compile/lib_Path_IsDev_Role_HeuristicSet_pm.t ............................. ok
t/00-compile/lib_Path_IsDev_Role_HeuristicSet_Simple_pm.t ...................... ok
t/00-compile/lib_Path_IsDev_Role_Matcher_Child_BaseName_MatchRegexp_File_pm.t .. ok
t/00-compile/lib_Path_IsDev_Role_Matcher_Child_BaseName_MatchRegexp_pm.t ....... ok
t/00-compile/lib_Path_IsDev_Role_Matcher_Child_Exists_Any_Dir_pm.t ............. ok
t/00-compile/lib_Path_IsDev_Role_Matcher_Child_Exists_Any_File_pm.t ............ ok
t/00-compile/lib_Path_IsDev_Role_Matcher_Child_Exists_Any_pm.t ................. ok
t/00-compile/lib_Path_IsDev_Role_Matcher_FullPath_Is_Any_pm.t .................. ok
t/00-compile/lib_Path_IsDev_Role_NegativeHeuristic_pm.t ........................ ok
# 
# Versions for all modules listed in MYMETA.json (including optional ones):
# 
# === Configure Requires ===
# 
#     Module              Want Have
#     ------------------- ---- ----
#     ExtUtils::MakeMaker  any 7.34
# 
# === Configure Recommends ===
# 
#     Module              Want Have
#     ------------------- ---- ----
#     ExtUtils::MakeMaker 7.00 7.34
# 
# === Build Requires ===
# 
#     Module              Want Have
#     ------------------- ---- ----
#     ExtUtils::MakeMaker  any 7.34
# 
# === Test Requires ===
# 
#     Module              Want     Have
#     ------------------- ---- --------
#     ExtUtils::MakeMaker  any     7.34
#     File::Spec           any     3.40
#     File::Temp           any     0.23
#     FindBin              any     1.51
#     Test::Fatal          any    0.014
#     Test::More           any 1.302140
# 
# === Test Recommends ===
# 
#     Module                  Want     Have
#     ------------------- -------- --------
#     CPAN::Meta          2.120900 2.150010
#     ExtUtils::MakeMaker     7.00     7.34
#     Test::More              0.99 1.302140
# 
# === Runtime Requires ===
# 
#     Module            Want     Have
#     ---------------- ----- --------
#     Carp               any     1.50
#     Class::Tiny      0.010    1.006
#     File::HomeDir      any    1.004
#     Module::Runtime    any    0.016
#     Path::Tiny       0.004    0.108
#     Role::Tiny         any 2.000006
#     Role::Tiny::With   any 2.000006
#     Scalar::Util       any     1.50
#     Sub::Exporter      any    0.987
#     strict             any     1.07
#     utf8               any     1.10
#     warnings           any     1.18
# 
# === Runtime Recommends ===
# 
#     Module      Want  Have
#     ---------- ----- -----
#     Path::Tiny 0.058 0.108
# 
t/00-report-prereqs.t .......................................................... ok
t/basic.t ...................................................................... ok
t/Path-IsDev-Object/_matches.t ................................................. ok
# $path_isdev_source = /usr/home/cpansand/.cpan/build/2018102907/Path-IsDev-1.001003-AeBEXd
# $corpus_Changes_dir = /usr/home/cpansand/.cpan/build/2018102907/Path-IsDev-1.001003-AeBEXd/corpus/Changelog
# $corpus_Changes_dir/../ = /usr/home/cpansand/.cpan/build/2018102907/Path-IsDev-1.001003-AeBEXd/corpus
t/Path-IsDev-Object/basic.t .................................................... ok
t/Path-IsDev/is_dev/Changelog.t ................................................ ok
t/Path-IsDev/is_dev/DevDir.t ................................................... ok
t/Path-IsDev/is_dev/DZil.t ..................................................... ok
t/Path-IsDev/is_dev/MakeMaker.t ................................................ ok
t/Path-IsDev/is_dev/META.t ..................................................... ok
t/Path-IsDev/is_dev/ModuleBuild.t .............................................. ok
t/Path-IsDev/is_dev/MYMETA.t ................................................... ok
t/Path-IsDev/is_dev/TestDir.t .................................................. ok
All tests successful.
Files=39, Tests=111,  2 wallclock secs ( 0.09 usr  0.08 sys +  1.56 cusr  0.45 csys =  2.18 CPU)
Result: PASS

------------------------------
PREREQUISITES
------------------------------

Prerequisite modules loaded:

requires:

    Module              Need  Have    
    ------------------- ----- --------
    Carp                0     1.50    
    Class::Tiny         0.010 1.006   
    File::HomeDir       0     1.004   
    Module::Runtime     0     0.016   
    Path::Tiny          0.004 0.108   
    perl                5.008 5.018004
    Role::Tiny          0     2.000006
    Role::Tiny::With    0     2.000006
    Scalar::Util        0     1.50    
    strict              0     1.07    
    Sub::Exporter       0     0.987   
    utf8                0     1.10    
    warnings            0     1.18    

build_requires:

    Module              Need  Have    
    ------------------- ----- --------
    ExtUtils::MakeMaker 0     7.34    
    File::Spec          0     3.40    
    File::Temp          0     0.23    
    FindBin             0     1.51    
    Test::Fatal         0     0.014   
    Test::More          0     1.302140

configure_requires:

    Module              Need  Have    
    ------------------- ----- --------
    ExtUtils::MakeMaker 0     7.34    
    perl                5.008 5.018004


------------------------------
ENVIRONMENT AND OTHER CONTEXT
------------------------------

Environment variables:

    PATH = /usr/local/bin:/usr/bin:/bin:/usr/local/sbin:/usr/sbin:/sbin:/home/cpansand/bin/sh:/home/cpansand/bin:/usr/games:/home/cpansand/devel:/usr/home/eserte/src/srezic-misc/scripts
    PERL = /usr/perl5.18.4p/bin/perl
    PERL5LIB = 
    PERL5OPT = 
    PERL5_CPANPLUS_IS_RUNNING = 52094
    PERL5_CPAN_IS_RUNNING = 52094
    PERL5_CPAN_IS_RUNNING_IN_RECURSION = 52058,52094
    PERL_BATCH = yes
    PERL_CANARY_STABILITY_NOPROMPT = 1
    PERL_CPAN_REPORTER_CONFIG = /var/tmp/cpansmoker-1023/2018102907/cpanreporter_000_config.ini
    PERL_EXTUTILS_AUTOINSTALL = --defaultdeps
    SHELL = /bin/sh
    TMPDIR = /var/tmp/cpansmoker-1023/2018102907

Perl special variables (and OS-specific diagnostics, for MSWin32):

    $^X = /usr/perl5.18.4p/bin/perl
    $UID/$EUID = 1023 / 1023
    $GID = 1023 1023
    $EGID = 1023 1023

Perl module toolchain versions installed:

    Module              Have    
    ------------------- --------
    CPAN                2.00    
    CPAN::Meta          2.150010
    Cwd                 3.40    
    ExtUtils::CBuilder  0.280210
    ExtUtils::Command   7.34    
    ExtUtils::Install   2.06    
    ExtUtils::MakeMaker 7.34    
    ExtUtils::Manifest  1.71    
    ExtUtils::ParseXS   3.18    
    File::Spec          3.40    
    JSON                2.97001 
    JSON::PP            2.97001 
    Module::Build       0.4224  
    Module::Signature   n/a     
    Parse::CPAN::Meta   2.150010
    Test::Harness       3.42    
    Test::More          1.302140
    YAML                1.26    
    YAML::Syck          1.31    
    version             0.9924  


--

Summary of my perl5 (revision 5 version 18 subversion 4) configuration:
   
  Platform:
    osname=freebsd, osvers=13.0-current, archname=amd64-freebsd
    uname='freebsd ali1.bbbike.org 13.0-current freebsd 13.0-current 265606d643e(master) generic amd64 '
    config_args='-ds -e -Dprefix=/usr/perl5.18.4p -Dcf_email=srezic@cpan.org -Doptimize=-O2 -pipe'
    hint=recommended, useposix=true, d_sigaction=define
    useithreads=undef, usemultiplicity=undef
    useperlio=define, d_sfio=undef, uselargefiles=define, usesocks=undef
    use64bitint=define, use64bitall=define, uselongdouble=undef
    usemymalloc=n, bincompat5005=undef
  Compiler:
    cc='cc', ccflags ='-DHAS_FPSETMASK -DHAS_FLOATINGPOINT_H -fno-strict-aliasing -pipe -fstack-protector -I/usr/local/include',
    optimize='-O2 -pipe',
    cppflags='-DHAS_FPSETMASK -DHAS_FLOATINGPOINT_H -fno-strict-aliasing -pipe -fstack-protector -I/usr/local/include'
    ccversion='', gccversion='4.2.1 Compatible FreeBSD Clang 6.0.1 (tags/RELEASE_601/final 335540)', gccosandvers=''
    intsize=4, longsize=8, ptrsize=8, doublesize=8, byteorder=12345678
    d_longlong=define, longlongsize=8, d_longdbl=define, longdblsize=16
    ivtype='long', ivsize=8, nvtype='double', nvsize=8, Off_t='off_t', lseeksize=8
    alignbytes=8, prototype=define
  Linker and Libraries:
    ld='cc', ldflags ='-pthread -Wl,-E  -fstack-protector -L/usr/local/lib'
    libpth=/usr/lib /usr/local/lib
    libs=-lgdbm -ldl -lm -lcrypt -lutil -lc
    perllibs=-ldl -lm -lcrypt -lutil -lc
    libc=, so=so, useshrplib=false, libperl=libperl.a
    gnulibc_version=''
  Dynamic Linking:
    dlsrc=dl_dlopen.xs, dlext=so, d_dlsymun=undef, ccdlflags=' '
    cccdlflags='-DPIC -fPIC', lddlflags='-shared  -L/usr/local/lib -fstack-protector'


Characteristics of this binary (from libperl): 
  Compile-time options: HAS_TIMES PERLIO_LAYERS PERL_DONT_CREATE_GVSV
                        PERL_HASH_FUNC_ONE_AT_A_TIME_HARD PERL_MALLOC_WRAP
                        PERL_PRESERVE_IVUV PERL_SAWAMPERSAND USE_64_BIT_ALL
                        USE_64_BIT_INT USE_LARGE_FILES USE_LOCALE
                        USE_LOCALE_COLLATE USE_LOCALE_CTYPE
                        USE_LOCALE_NUMERIC USE_PERLIO USE_PERL_ATOF
  Built under freebsd
  Compiled at Oct 27 2018 06:11:36
  %ENV:
    PERL="/usr/perl5.18.4p/bin/perl"
    PERL5LIB=""
    PERL5OPT=""
    PERL5_CPANPLUS_IS_RUNNING="52094"
    PERL5_CPAN_IS_RUNNING="52094"
    PERL5_CPAN_IS_RUNNING_IN_RECURSION="52058,52094"
    PERL_BATCH="yes"
    PERL_CANARY_STABILITY_NOPROMPT="1"
    PERL_CPAN_REPORTER_CONFIG="/var/tmp/cpansmoker-1023/2018102907/cpanreporter_000_config.ini"
    PERL_EXTUTILS_AUTOINSTALL="--defaultdeps"
  @INC:
    /usr/perl5.18.4p/lib/site_perl/5.18.4/amd64-freebsd
    /usr/perl5.18.4p/lib/site_perl/5.18.4
    /usr/perl5.18.4p/lib/5.18.4/amd64-freebsd
    /usr/perl5.18.4p/lib/5.18.4
    .