XML-SemanticDiff v1.0007 Perl 5 v5.20.3 arm-freebsd-multi

Status
Pass
From
Nigel Horne
Dist
XML-SemanticDiff v1.0007
Platform
Perl 5 v5.20.3 arm-freebsd-multi
Date
2019-07-21 11:02:51
ID
14e7fc14-aba7-11e9-8fa9-99a29f1e7dde
This distribution has been tested as part of the CPAN Testers
project, supporting the Perl programming language.  See
http://wiki.cpantesters.org/ for more information or email
questions to cpan-testers-discuss@perl.org


--
Dear Chris Prather,

This is a computer-generated report for XML-SemanticDiff-1.0007
on perl 5.20.3, created by CPAN-Reporter-1.2018.

Thank you for uploading your work to CPAN.  Congratulations!
All tests were successful.

Sections of this report:

    * Tester comments
    * Program output
    * Prerequisites
    * Environment and other context

------------------------------
TESTER COMMENTS
------------------------------

Additional comments from tester:

this report is from an automated smoke testing program
and was not reviewed by a human for accuracy

------------------------------
PROGRAM OUTPUT
------------------------------

Output from './Build test':

t/01basic.t ........................... ok
t/02load_xml.t ........................ ok
t/04namespaces.t ...................... ok
t/05simple_handler.t .................. ok
t/03simple_compare.t .................. ok
t/06pass_to_handler.t ................. ok
t/00-compile.t ........................ ok
t/07pitest.t .......................... ok
t/10wide-chars.t ...................... ok
t/09two-tags.t ........................ ok
t/08nonexist_ns.t ..................... ok
t/11tag-in-different-locations.t ...... ok
t/12missing-element-has-o-as-cdata.t .. ok
t/13to-doc-read.t ..................... ok
t/style-trailing-space.t .............. skipped: Test::TrailingSpace required for trailing space test.
t/15ignore_multi.t .................... ok
t/16zero_to_empty_str_cmp.t ........... ok
t/14ignore_xpath.t .................... ok
All tests successful.
Files=18, Tests=47,  8 wallclock secs ( 0.53 usr  0.35 sys + 12.98 cusr 11.29 csys = 25.15 CPU)
Result: PASS

------------------------------
PREREQUISITES
------------------------------

Prerequisite modules loaded:

requires:

    Module        Need  Have    
    ------------- ----- --------
    Digest::MD5   0     2.53    
    Encode        0     2.60    
    perl          5.008 5.020003
    strict        0     1.08    
    warnings      0     1.23    
    XML::Parser   0     2.44    

build_requires:

    Module        Need  Have    
    ------------- ----- --------
    File::Spec    0     3.75    
    IO::Handle    0     1.35    
    IPC::Open3    0     1.16    
    Module::Build 0.28  0.4224  
    Test          0     1.26    
    Test::More    0.88  1.302162

configure_requires:

    Module        Need  Have    
    ------------- ----- --------
    Module::Build 0.28  0.4224  


------------------------------
ENVIRONMENT AND OTHER CONTEXT
------------------------------

Environment variables:

    AUTOMATED_TESTING = 1
    HARNESS_OPTIONS = j4
    PATH = /home/njh/perl5/perlbrew/bin:/home/njh/perl5/perlbrew/perls/perl-5.20.3-multi/bin:/sbin:/bin:/usr/sbin:/usr/bin:/usr/local/sbin:/usr/local/bin:/home/njh/src/njh/smoker/bin
    PERL5LIB = /var/tmp/build/XML-Parser-2.44-3/blib/arch:/var/tmp/build/XML-Parser-2.44-3/blib/lib:/var/tmp/build/Term-ANSIColor-Markup-0.06-0/blib/arch:/var/tmp/build/Term-ANSIColor-Markup-0.06-0/blib/lib:/var/tmp/build/Class-Accessor-Lvalue-0.11-0/blib/arch:/var/tmp/build/Class-Accessor-Lvalue-0.11-0/blib/lib:/var/tmp/build/Want-0.29-0/blib/arch:/var/tmp/build/Want-0.29-0/blib/lib:/var/tmp/build/SVG-2.84-0/blib/arch:/var/tmp/build/SVG-2.84-0/blib/lib:/var/tmp/build/Moo-2.003004-9/blib/arch:/var/tmp/build/Moo-2.003004-9/blib/lib:/var/tmp/build/Sub-Quote-2.006003-6/blib/arch:/var/tmp/build/Sub-Quote-2.006003-6/blib/lib:/var/tmp/build/Role-Tiny-2.000006-6/blib/arch:/var/tmp/build/Role-Tiny-2.000006-6/blib/lib:/var/tmp/build/Devel-GlobalDestruction-0.14-8/blib/arch:/var/tmp/build/Devel-GlobalDestruction-0.14-8/blib/lib:/var/tmp/build/Sub-Exporter-Progressive-0.001013-0/blib/arch:/var/tmp/build/Sub-Exporter-Progressive-0.001013-0/blib/lib:/var/tmp/build/Class-Method-Modifiers-2.12-8/blib/arch:/var/tmp/build/Class-Method-Modifiers-2.12-8/blib/lib
    PERL5OPT = 
    PERL5_CPANPLUS_IS_RUNNING = 41347
    PERL5_CPAN_IS_RUNNING = 41347
    PERL5_CPAN_IS_RUNNING_IN_RECURSION = 41332,41347
    PERLBREW_HOME = /home/njh/.perlbrew
    PERLBREW_MANPATH = /home/njh/perl5/perlbrew/perls/perl-5.20.3-multi/man
    PERLBREW_PATH = /home/njh/perl5/perlbrew/bin:/home/njh/perl5/perlbrew/perls/perl-5.20.3-multi/bin
    PERLBREW_PERL = perl-5.20.3-multi
    PERLBREW_ROOT = /home/njh/perl5/perlbrew
    PERLBREW_SHELLRC_VERSION = 0.84
    PERLBREW_VERSION = 0.84
    PERL_USE_UNSAFE_INC = 1
    SHELL = /bin/sh
    TMPDIR = /tmp/testwrapper.41334

Perl special variables (and OS-specific diagnostics, for MSWin32):

    $^X = /mnt/nas/home/pi2b/njh/perl5/perlbrew/perls/perl-5.20.3-multi/bin/perl5.20.3
    $UID/$EUID = 1000 / 1000
    $GID = 1000 1000 0
    $EGID = 1000 1000 0

Perl module toolchain versions installed:

    Module              Have    
    ------------------- --------
    CPAN                2.26    
    CPAN::Meta          2.143240
    Cwd                 3.75    
    ExtUtils::CBuilder  0.280217
    ExtUtils::Command   7.34    
    ExtUtils::Install   2.06    
    ExtUtils::MakeMaker 7.34    
    ExtUtils::Manifest  1.70    
    ExtUtils::ParseXS   3.24    
    File::Spec          3.75    
    JSON                4.02    
    JSON::PP            2.27203 
    Module::Build       0.4224  
    Module::Signature   n/a     
    Parse::CPAN::Meta   1.4414  
    Test::Harness       3.42    
    Test::More          1.302162
    YAML                1.27    
    YAML::Syck          1.31    
    version             0.9909  


--

Summary of my perl5 (revision 5 version 20 subversion 3) configuration:
   
  Platform:
    osname=freebsd, osvers=12.0-release, archname=arm-freebsd-multi
    uname='freebsd pi2b 12.0-release freebsd 12.0-release r341666 generic arm '
    config_args='-de -Dprefix=/home/njh/perl5/perlbrew/perls/perl-5.20.3-multi -Dusedevel -Dusemultiplicity -Accflags=-O2 -W -Wformat=2 -Wswitch -Wshadow -Wwrite-strings -Wuninitialized -Wall -pipe -fomit-frame-pointer -D_FORTIFY_SOURCE=2 -Wpointer-arith -Wstrict-prototypes -fstack-protector -Wstack-protector -Wextra -Wbad-function-cast -Wcast-align -Wcast-qual -Wdisabled-optimization -Wendif-labels -Wfloat-equal -Wformat-nonliteral -Winline -Wmissing-declarations -Wmissing-prototypes -Wnested-externs -Wpointer-arith -Wundef -Wformat-security -mfloat-abi=hard -mfpu=neon-vfpv4 -mtune=cortex-a7 -fdiagnostics-color=auto -mtune=native -Aeval:scriptdir=/home/njh/perl5/perlbrew/perls/perl-5.20.3-multi/bin'
    hint=recommended, useposix=true, d_sigaction=define
    useithreads=undef, usemultiplicity=define
    use64bitint=undef, use64bitall=undef, uselongdouble=undef
    usemymalloc=n, bincompat5005=undef
  Compiler:
    cc='cc', ccflags ='-DHAS_FPSETMASK -DHAS_FLOATINGPOINT_H -O2 -W -Wformat=2 -Wswitch -Wshadow -Wwrite-strings -Wuninitialized -Wall -pipe -fomit-frame-pointer -D_FORTIFY_SOURCE=2 -Wpointer-arith -Wstrict-prototypes -fstack-protector -Wstack-protector -Wextra -Wbad-function-cast -Wcast-align -Wcast-qual -Wdisabled-optimization -Wendif-labels -Wfloat-equal -Wformat-nonliteral -Winline -Wmissing-declarations -Wmissing-prototypes -Wnested-externs -Wpointer-arith -Wundef -Wformat-security -mfloat-abi=hard -mfpu=neon-vfpv4 -mtune=cortex-a7 -fdiagnostics-color=auto -mtune=native -fno-strict-aliasing -I/usr/local/include',
    optimize='-O2',
    cppflags='-DHAS_FPSETMASK -DHAS_FLOATINGPOINT_H -O2 -W -Wformat=2 -Wswitch -Wshadow -Wwrite-strings -Wuninitialized -Wall -pipe -fomit-frame-pointer -D_FORTIFY_SOURCE=2 -Wpointer-arith -Wstrict-prototypes -fstack-protector -Wstack-protector -Wextra -Wbad-function-cast -Wcast-align -Wcast-qual -Wdisabled-optimization -Wendif-labels -Wfloat-equal -Wformat-nonliteral -Winline -Wmissing-declarations -Wmissing-prototypes -Wnested-externs -Wpointer-arith -Wundef -Wformat-security -mfloat-abi=hard -mfpu=neon-vfpv4 -mtune=cortex-a7 -fdiagnostics-color=auto -mtune=native -fno-strict-aliasing -I/usr/local/include'
    ccversion='', gccversion='4.2.1 Compatible FreeBSD Clang 6.0.1 (tags/RELEASE_601/final 335540)', gccosandvers=''
    intsize=4, longsize=4, ptrsize=4, doublesize=8, byteorder=1234
    d_longlong=define, longlongsize=8, d_longdbl=define, longdblsize=8
    ivtype='long', ivsize=4, nvtype='double', nvsize=8, Off_t='off_t', lseeksize=8
    alignbytes=8, prototype=define
  Linker and Libraries:
    ld='cc', ldflags ='-Wl,-E  -fstack-protector -L/usr/local/lib'
    libpth=/usr/lib /usr/local/lib /usr/lib/clang/6.0.1/lib /usr/lib
    libs=-lpthread -ldl -lm -lcrypt -lutil -lc
    perllibs=-lpthread -ldl -lm -lcrypt -lutil -lc
    libc=, so=so, useshrplib=false, libperl=libperl.a
    gnulibc_version=''
  Dynamic Linking:
    dlsrc=dl_dlopen.xs, dlext=so, d_dlsymun=undef, ccdlflags=' '
    cccdlflags='-DPIC -fPIC', lddlflags='-shared  -L/usr/local/lib -fstack-protector'


Characteristics of this binary (from libperl): 
  Compile-time options: HAS_TIMES MULTIPLICITY PERLIO_LAYERS
                        PERL_DONT_CREATE_GVSV
                        PERL_HASH_FUNC_ONE_AT_A_TIME_HARD
                        PERL_IMPLICIT_CONTEXT PERL_MALLOC_WRAP
                        PERL_NEW_COPY_ON_WRITE PERL_PRESERVE_IVUV
                        PERL_USE_DEVEL USE_LARGE_FILES USE_LOCALE
                        USE_LOCALE_COLLATE USE_LOCALE_CTYPE
                        USE_LOCALE_NUMERIC USE_PERLIO USE_PERL_ATOF
  Locally applied patches:
	Devel::PatchPerl 1.52
  Built under freebsd
  Compiled at Feb 17 2019 23:29:30
  %ENV:
    PERL5LIB="/var/tmp/build/XML-Parser-2.44-3/blib/arch:/var/tmp/build/XML-Parser-2.44-3/blib/lib:/var/tmp/build/Term-ANSIColor-Markup-0.06-0/blib/arch:/var/tmp/build/Term-ANSIColor-Markup-0.06-0/blib/lib:/var/tmp/build/Class-Accessor-Lvalue-0.11-0/blib/arch:/var/tmp/build/Class-Accessor-Lvalue-0.11-0/blib/lib:/var/tmp/build/Want-0.29-0/blib/arch:/var/tmp/build/Want-0.29-0/blib/lib:/var/tmp/build/SVG-2.84-0/blib/arch:/var/tmp/build/SVG-2.84-0/blib/lib:/var/tmp/build/Moo-2.003004-9/blib/arch:/var/tmp/build/Moo-2.003004-9/blib/lib:/var/tmp/build/Sub-Quote-2.006003-6/blib/arch:/var/tmp/build/Sub-Quote-2.006003-6/blib/lib:/var/tmp/build/Role-Tiny-2.000006-6/blib/arch:/var/tmp/build/Role-Tiny-2.000006-6/blib/lib:/var/tmp/build/Devel-GlobalDestruction-0.14-8/blib/arch:/var/tmp/build/Devel-GlobalDestruction-0.14-8/blib/lib:/var/tmp/build/Sub-Exporter-Progressive-0.001013-0/blib/arch:/var/tmp/build/Sub-Exporter-Progressive-0.001013-0/blib/lib:/var/tmp/build/Class-Method-Modifiers-2.12-8/blib/arch:/var/tmp/build/Class-Method-Modifiers-2.12-8/blib/lib"
    PERL5OPT=""
    PERL5_CPANPLUS_IS_RUNNING="41347"
    PERL5_CPAN_IS_RUNNING="41347"
    PERL5_CPAN_IS_RUNNING_IN_RECURSION="41332,41347"
    PERLBREW_HOME="/home/njh/.perlbrew"
    PERLBREW_MANPATH="/home/njh/perl5/perlbrew/perls/perl-5.20.3-multi/man"
    PERLBREW_PATH="/home/njh/perl5/perlbrew/bin:/home/njh/perl5/perlbrew/perls/perl-5.20.3-multi/bin"
    PERLBREW_PERL="perl-5.20.3-multi"
    PERLBREW_ROOT="/home/njh/perl5/perlbrew"
    PERLBREW_SHELLRC_VERSION="0.84"
    PERLBREW_VERSION="0.84"
    PERL_USE_UNSAFE_INC="1"
  @INC:
    /var/tmp/build/XML-Parser-2.44-3/blib/arch
    /var/tmp/build/XML-Parser-2.44-3/blib/lib
    /var/tmp/build/Term-ANSIColor-Markup-0.06-0/blib/arch
    /var/tmp/build/Term-ANSIColor-Markup-0.06-0/blib/lib
    /var/tmp/build/Class-Accessor-Lvalue-0.11-0/blib/arch
    /var/tmp/build/Class-Accessor-Lvalue-0.11-0/blib/lib
    /var/tmp/build/Want-0.29-0/blib/arch
    /var/tmp/build/Want-0.29-0/blib/lib
    /var/tmp/build/SVG-2.84-0/blib/arch
    /var/tmp/build/SVG-2.84-0/blib/lib
    /var/tmp/build/Moo-2.003004-9/blib/arch
    /var/tmp/build/Moo-2.003004-9/blib/lib
    /var/tmp/build/Sub-Quote-2.006003-6/blib/arch
    /var/tmp/build/Sub-Quote-2.006003-6/blib/lib
    /var/tmp/build/Role-Tiny-2.000006-6/blib/arch
    /var/tmp/build/Role-Tiny-2.000006-6/blib/lib
    /var/tmp/build/Devel-GlobalDestruction-0.14-8/blib/arch
    /var/tmp/build/Devel-GlobalDestruction-0.14-8/blib/lib
    /var/tmp/build/Sub-Exporter-Progressive-0.001013-0/blib/arch
    /var/tmp/build/Sub-Exporter-Progressive-0.001013-0/blib/lib
    /var/tmp/build/Class-Method-Modifiers-2.12-8/blib/arch
    /var/tmp/build/Class-Method-Modifiers-2.12-8/blib/lib
    /home/njh/perl5/perlbrew/perls/perl-5.20.3-multi/lib/site_perl/5.20.3/arm-freebsd-multi
    /home/njh/perl5/perlbrew/perls/perl-5.20.3-multi/lib/site_perl/5.20.3
    /home/njh/perl5/perlbrew/perls/perl-5.20.3-multi/lib/5.20.3/arm-freebsd-multi
    /home/njh/perl5/perlbrew/perls/perl-5.20.3-multi/lib/5.20.3
    .