Report for XHTML-MediaWiki-0.11

Back
From: metabase:user:320bfe00-2aae-11df-837a-5e0a49663a4f
Subject: PASS XHTML-MediaWiki-0.11 v5.22.3 RC2 GNU/Linux
Date: 2016-07-30T15:41:28Z

This distribution has been tested as part of the CPAN Testers
project, supporting the Perl programming language.  See
http://wiki.cpantesters.org/ for more information or email
questions to cpan-testers-discuss@perl.org


--
Dear G. Allen Morris III,

This is a computer-generated report for XHTML-MediaWiki-0.11
on perl 5.22.3, created by CPAN-Reporter-1.2018.

Thank you for uploading your work to CPAN.  Congratulations!
All tests were successful.

Sections of this report:

    * Tester comments
    * Program output
    * Prerequisites
    * Environment and other context

------------------------------
TESTER COMMENTS
------------------------------

Additional comments from tester:

this report is from an automated smoke testing program
and was not reviewed by a human for accuracy

------------------------------
PROGRAM OUTPUT
------------------------------

Output from './Build test':

Unescaped left brace in regex is deprecated, passed through in regex; marked by <-- HERE in m/{{ <-- HERE \s*([a-zA-Z0-9][a-z0-9|]*)\s*}}/ at /tmp/loop_over_bdir-31045-g0Hdxt/XHTML-MediaWiki-0.11-0/blib/lib/XHTML/MediaWiki.pm line 1052.
t/blending.t ...... ok
Unescaped left brace in regex is deprecated, passed through in regex; marked by <-- HERE in m/{{ <-- HERE \s*([a-zA-Z0-9][a-z0-9|]*)\s*}}/ at /tmp/loop_over_bdir-31045-g0Hdxt/XHTML-MediaWiki-0.11-0/blib/lib/XHTML/MediaWiki.pm line 1052.
t/cdata.t ......... ok
t/changes.t ....... ok
Unescaped left brace in regex is deprecated, passed through in regex; marked by <-- HERE in m/{{ <-- HERE \s*([a-zA-Z0-9][a-z0-9|]*)\s*}}/ at /tmp/loop_over_bdir-31045-g0Hdxt/XHTML-MediaWiki-0.11-0/blib/lib/XHTML/MediaWiki.pm line 1052.
t/comment.t ....... ok
Unescaped left brace in regex is deprecated, passed through in regex; marked by <-- HERE in m/{{ <-- HERE \s*([a-zA-Z0-9][a-z0-9|]*)\s*}}/ at /tmp/loop_over_bdir-31045-g0Hdxt/XHTML-MediaWiki-0.11-0/blib/lib/XHTML/MediaWiki.pm line 1052.
t/div.t ........... ok
Unescaped left brace in regex is deprecated, passed through in regex; marked by <-- HERE in m/{{ <-- HERE \s*([a-zA-Z0-9][a-z0-9|]*)\s*}}/ at /tmp/loop_over_bdir-31045-g0Hdxt/XHTML-MediaWiki-0.11-0/blib/lib/XHTML/MediaWiki.pm line 1052.
t/footnotes.t ..... ok
Unescaped left brace in regex is deprecated, passed through in regex; marked by <-- HERE in m/{{ <-- HERE \s*([a-zA-Z0-9][a-z0-9|]*)\s*}}/ at /tmp/loop_over_bdir-31045-g0Hdxt/XHTML-MediaWiki-0.11-0/blib/lib/XHTML/MediaWiki.pm line 1052.
t/headers.t ....... ok
Unescaped left brace in regex is deprecated, passed through in regex; marked by <-- HERE in m/{{ <-- HERE \s*([a-zA-Z0-9][a-z0-9|]*)\s*}}/ at /tmp/loop_over_bdir-31045-g0Hdxt/XHTML-MediaWiki-0.11-0/blib/lib/XHTML/MediaWiki.pm line 1052.
t/html.t .......... ok
Unescaped left brace in regex is deprecated, passed through in regex; marked by <-- HERE in m/{{ <-- HERE \s*([a-zA-Z0-9][a-z0-9|]*)\s*}}/ at /tmp/loop_over_bdir-31045-g0Hdxt/XHTML-MediaWiki-0.11-0/blib/lib/XHTML/MediaWiki.pm line 1052.
t/line.t .......... ok
Unescaped left brace in regex is deprecated, passed through in regex; marked by <-- HERE in m/{{ <-- HERE \s*([a-zA-Z0-9][a-z0-9|]*)\s*}}/ at /tmp/loop_over_bdir-31045-g0Hdxt/XHTML-MediaWiki-0.11-0/blib/lib/XHTML/MediaWiki.pm line 1052.
t/links.t ......... ok
Unescaped left brace in regex is deprecated, passed through in regex; marked by <-- HERE in m/{{ <-- HERE \s*([a-zA-Z0-9][a-z0-9|]*)\s*}}/ at /tmp/loop_over_bdir-31045-g0Hdxt/XHTML-MediaWiki-0.11-0/blib/lib/XHTML/MediaWiki.pm line 1052.
Use of uninitialized value in repeat (x) at /tmp/loop_over_bdir-31045-g0Hdxt/XHTML-MediaWiki-0.11-0/blib/lib/XHTML/MediaWiki.pm line 204.
t/misc.t .......... ok
Unescaped left brace in regex is deprecated, passed through in regex; marked by <-- HERE in m/{{ <-- HERE \s*([a-zA-Z0-9][a-z0-9|]*)\s*}}/ at /tmp/loop_over_bdir-31045-g0Hdxt/XHTML-MediaWiki-0.11-0/blib/lib/XHTML/MediaWiki.pm line 1052.
t/nowiki.t ........ ok
Unescaped left brace in regex is deprecated, passed through in regex; marked by <-- HERE in m/{{ <-- HERE \s*([a-zA-Z0-9][a-z0-9|]*)\s*}}/ at /tmp/loop_over_bdir-31045-g0Hdxt/XHTML-MediaWiki-0.11-0/blib/lib/XHTML/MediaWiki.pm line 1052.
t/ordered.t ....... ok
Unescaped left brace in regex is deprecated, passed through in regex; marked by <-- HERE in m/{{ <-- HERE \s*([a-zA-Z0-9][a-z0-9|]*)\s*}}/ at /tmp/loop_over_bdir-31045-g0Hdxt/XHTML-MediaWiki-0.11-0/blib/lib/XHTML/MediaWiki.pm line 1052.
t/para_break.t .... ok
Unescaped left brace in regex is deprecated, passed through in regex; marked by <-- HERE in m/{{ <-- HERE \s*([a-zA-Z0-9][a-z0-9|]*)\s*}}/ at /tmp/loop_over_bdir-31045-g0Hdxt/XHTML-MediaWiki-0.11-0/blib/lib/XHTML/MediaWiki.pm line 1052.
t/paragraph.t ..... ok
t/pod.t ........... ok
t/pod_coverage.t .. ok
Unescaped left brace in regex is deprecated, passed through in regex; marked by <-- HERE in m/{{ <-- HERE \s*([a-zA-Z0-9][a-z0-9|]*)\s*}}/ at /tmp/loop_over_bdir-31045-g0Hdxt/XHTML-MediaWiki-0.11-0/blib/lib/XHTML/MediaWiki.pm line 1052.
t/pre.t ........... ok
Unescaped left brace in regex is deprecated, passed through in regex; marked by <-- HERE in m/{{ <-- HERE \s*([a-zA-Z0-9][a-z0-9|]*)\s*}}/ at /tmp/loop_over_bdir-31045-g0Hdxt/XHTML-MediaWiki-0.11-0/blib/lib/XHTML/MediaWiki.pm line 1052.
t/prewiki.t ....... ok
Unescaped left brace in regex is deprecated, passed through in regex; marked by <-- HERE in m/{{ <-- HERE \s*([a-zA-Z0-9][a-z0-9|]*)\s*}}/ at /tmp/loop_over_bdir-31045-g0Hdxt/XHTML-MediaWiki-0.11-0/blib/lib/XHTML/MediaWiki.pm line 1052.
t/template.t ...... ok
Unescaped left brace in regex is deprecated, passed through in regex; marked by <-- HERE in m/{{ <-- HERE \s*([a-zA-Z0-9][a-z0-9|]*)\s*}}/ at /tmp/loop_over_bdir-31045-g0Hdxt/XHTML-MediaWiki-0.11-0/blib/lib/XHTML/MediaWiki.pm line 1052.
t/test02.t ........ ok
Unescaped left brace in regex is deprecated, passed through in regex; marked by <-- HERE in m/{{ <-- HERE \s*([a-zA-Z0-9][a-z0-9|]*)\s*}}/ at /tmp/loop_over_bdir-31045-g0Hdxt/XHTML-MediaWiki-0.11-0/blib/lib/XHTML/MediaWiki.pm line 1052.
t/unordered.t ..... ok
All tests successful.
Files=22, Tests=49,  2 wallclock secs ( 0.04 usr  0.12 sys +  1.44 cusr  0.21 csys =  1.81 CPU)
Result: PASS

------------------------------
PREREQUISITES
------------------------------

Prerequisite modules loaded:

requires:

    Module           Need      Have    
    ---------------- --------- --------
    HTML::Parser     0         3.72    
    Params::Validate 0.85      1.24    
    perl             5.006_001 5.022003
    URI::Escape      0         3.31    

build_requires:

    Module           Need      Have    
    ---------------- --------- --------
    Test::XML        0         0.08    

configure_requires:

    Module           Need      Have    
    ---------------- --------- --------
    Module::Build    0.36      0.4218  


------------------------------
ENVIRONMENT AND OTHER CONTEXT
------------------------------

Environment variables:

    AUTOMATED_TESTING = 1
    LANG = C
    PATH = /home/sand/bin:/usr/local/bin:/usr/bin:/bin:/usr/games:/usr/local/perl/bin:/usr/X11/bin:/sbin:/usr/sbin
    PERL5LIB = /tmp/loop_over_bdir-31045-g0Hdxt/FusionInventory-Agent-2.3.18-0/blib/arch:/tmp/loop_over_bdir-31045-g0Hdxt/FusionInventory-Agent-2.3.18-0/blib/lib
    PERL5OPT = 
    PERL5_CPANPLUS_IS_RUNNING = 24311
    PERL5_CPAN_IS_RUNNING = 24311
    PERL_CANARY_STABILITY_NOPROMPT = 1
    PERL_MM_USE_DEFAULT = 1
    SHELL = /usr/bin/zsh
    TERM = screen

Perl special variables (and OS-specific diagnostics, for MSWin32):

    $^X = /tmp/basesmoker-reloperl-lnl2/bin/perl
    $UID/$EUID = 1005 / 1005
    $GID = 1005 1005
    $EGID = 1005 1005

Perl module toolchain versions installed:

    Module              Have    
    ------------------- --------
    CPAN                2.15    
    CPAN::Meta          2.150005
    Cwd                 3.62    
    ExtUtils::CBuilder  0.280224
    ExtUtils::Command   7.18    
    ExtUtils::Install   2.04    
    ExtUtils::MakeMaker 7.18    
    ExtUtils::Manifest  1.70    
    ExtUtils::ParseXS   3.30    
    File::Spec          3.62    
    JSON                2.90    
    JSON::PP            2.27400 
    Module::Build       0.4218  
    Module::Signature   0.80    
    Parse::CPAN::Meta   1.4422  
    Test::Harness       3.36    
    Test::More          1.302049
    YAML                1.18    
    YAML::Syck          1.29    
    version             0.9917  


--

Summary of my perl5 (revision 5 version 22 subversion 3) configuration:
  Commit id: afe4e8012bc2950a810d822e442d32c328ed05c3
  Platform:
    osname=linux, osvers=4.6.0-1-amd64, archname=x86_64-linux-ld
    uname='linux k93x64sid 4.6.0-1-amd64 #1 smp debian 4.6.2-2 (2016-06-25) x86_64 gnulinux '
    config_args='-Dprefix=/home/sand/src/perl/repoperls/installed-perls/host/k93x64sid/v5.22.3-RC2/d56f -Dmyhostname=k93x64sid -Dinstallusrbinperl=n -Uversiononly -Dusedevel -des -Ui_db -Dlibswanted=cl pthread socket inet nsl gdbm dbm malloc dl ld sun m crypt sec util c cposix posix ucb BSD gdbm_compat -Uuseithreads -Duselongdouble'
    hint=recommended, useposix=true, d_sigaction=define
    useithreads=undef, usemultiplicity=undef
    use64bitint=define, use64bitall=define, uselongdouble=define
    usemymalloc=n, bincompat5005=undef
  Compiler:
    cc='cc', ccflags ='-fwrapv -fno-strict-aliasing -pipe -fstack-protector-strong -I/usr/local/include -D_LARGEFILE_SOURCE -D_FILE_OFFSET_BITS=64 -D_FORTIFY_SOURCE=2',
    optimize='-O2',
    cppflags='-fwrapv -fno-strict-aliasing -pipe -fstack-protector-strong -I/usr/local/include'
    ccversion='', gccversion='5.4.0 20160609', gccosandvers=''
    intsize=4, longsize=8, ptrsize=8, doublesize=8, byteorder=12345678, doublekind=3
    d_longlong=define, longlongsize=8, d_longdbl=define, longdblsize=16, longdblkind=3
    ivtype='long', ivsize=8, nvtype='long double', nvsize=16, Off_t='off_t', lseeksize=8
    alignbytes=16, prototype=define
  Linker and Libraries:
    ld='cc', ldflags =' -fstack-protector-strong -L/usr/local/lib'
    libpth=/usr/local/lib /usr/lib/gcc/x86_64-linux-gnu/5/include-fixed /usr/include/x86_64-linux-gnu /usr/lib /lib/x86_64-linux-gnu /lib/../lib /usr/lib/x86_64-linux-gnu /usr/lib/../lib /lib
    libs=-lpthread -lnsl -ldl -lm -lcrypt -lutil -lc
    perllibs=-lpthread -lnsl -ldl -lm -lcrypt -lutil -lc
    libc=libc-2.23.so, so=so, useshrplib=false, libperl=libperl.a
    gnulibc_version='2.23'
  Dynamic Linking:
    dlsrc=dl_dlopen.xs, dlext=so, d_dlsymun=undef, ccdlflags='-Wl,-E'
    cccdlflags='-fPIC', lddlflags='-shared -O2 -L/usr/local/lib -fstack-protector-strong'


Characteristics of this binary (from libperl): 
  Compile-time options: HAS_TIMES PERLIO_LAYERS PERL_DONT_CREATE_GVSV
                        PERL_HASH_FUNC_ONE_AT_A_TIME_HARD PERL_MALLOC_WRAP
                        PERL_NEW_COPY_ON_WRITE PERL_PRESERVE_IVUV
                        PERL_USE_DEVEL USE_64_BIT_ALL USE_64_BIT_INT
                        USE_LARGE_FILES USE_LOCALE USE_LOCALE_COLLATE
                        USE_LOCALE_CTYPE USE_LOCALE_NUMERIC USE_LOCALE_TIME
                        USE_LONG_DOUBLE USE_PERLIO USE_PERL_ATOF
  Locally applied patches:
	RC2
  Built under linux
  Compiled at Jul 29 2016 23:17:29
  %ENV:
    PERL5LIB="/tmp/loop_over_bdir-31045-g0Hdxt/FusionInventory-Agent-2.3.18-0/blib/arch:/tmp/loop_over_bdir-31045-g0Hdxt/FusionInventory-Agent-2.3.18-0/blib/lib"
    PERL5OPT=""
    PERL5_CPANPLUS_IS_RUNNING="24311"
    PERL5_CPAN_IS_RUNNING="24311"
    PERL_CANARY_STABILITY_NOPROMPT="1"
    PERL_MM_USE_DEFAULT="1"
  @INC:
    /tmp/loop_over_bdir-31045-g0Hdxt/FusionInventory-Agent-2.3.18-0/blib/arch
    /tmp/loop_over_bdir-31045-g0Hdxt/FusionInventory-Agent-2.3.18-0/blib/lib
    /home/sand/src/perl/repoperls/installed-perls/host/k93x64sid/v5.22.3-RC2/d56f/lib/site_perl/5.22.3/x86_64-linux-ld
    /home/sand/src/perl/repoperls/installed-perls/host/k93x64sid/v5.22.3-RC2/d56f/lib/site_perl/5.22.3
    /home/sand/src/perl/repoperls/installed-perls/host/k93x64sid/v5.22.3-RC2/d56f/lib/5.22.3/x86_64-linux-ld
    /home/sand/src/perl/repoperls/installed-perls/host/k93x64sid/v5.22.3-RC2/d56f/lib/5.22.3
    .