Git-Wrapper-Plus v0.004011 Perl 5 v5.28.0 OpenBSD.amd64-openbsd-thread-multi

Status
Pass
From
Alceu Rodrigues de Freitas Junior
Dist
Git-Wrapper-Plus v0.004011
Platform
Perl 5 v5.28.0 OpenBSD.amd64-openbsd-thread-multi
Date
2018-08-08 06:12:51
ID
14c3ddd4-9ad2-11e8-b7ab-e5cc5b7edfd9
This distribution has been tested as part of the CPAN Testers
project, supporting the Perl programming language.  See
http://wiki.cpantesters.org/ for more information or email
questions to cpan-testers-discuss@perl.org


--
Dear Kent Fredric,

This is a computer-generated report for Git-Wrapper-Plus-0.004011
on perl 5.28.0, created by CPAN-Reporter-1.2018.

Thank you for uploading your work to CPAN.  Congratulations!
All tests were successful.

Sections of this report:

    * Tester comments
    * Program output
    * Prerequisites
    * Environment and other context

------------------------------
TESTER COMMENTS
------------------------------

Additional comments from tester:

this report is from an automated smoke testing program
and was not reviewed by a human for accuracy

------------------------------
PROGRAM OUTPUT
------------------------------

Output from '/usr/bin/make test':

PERL_DL_NONLAZY=1 "/home/goku/perl5/perlbrew/perls/perl-5.28.0/bin/perl" "-MExtUtils::Command::MM" "-MTest::Harness" "-e" "undef *Test::Harness::Switches; test_harness(0, 'blib/lib', 'blib/arch')" t/*.t t/00-compile/*.t t/branches/*.t t/plus/*.t t/refs/*.t t/tags/*.t
t/00-compile/lib_Git_Wrapper_Plus_Branches_pm.t ................. ok
t/00-compile/lib_Git_Wrapper_Plus_pm.t .......................... ok
t/00-compile/lib_Git_Wrapper_Plus_Ref_Branch_pm.t ............... ok
t/00-compile/lib_Git_Wrapper_Plus_Ref_pm.t ...................... ok
t/00-compile/lib_Git_Wrapper_Plus_Ref_Tag_pm.t .................. ok
t/00-compile/lib_Git_Wrapper_Plus_Refs_pm.t ..................... ok
t/00-compile/lib_Git_Wrapper_Plus_Support_Arguments_pm.t ........ ok
t/00-compile/lib_Git_Wrapper_Plus_Support_Behaviors_pm.t ........ ok
t/00-compile/lib_Git_Wrapper_Plus_Support_Commands_pm.t ......... ok
t/00-compile/lib_Git_Wrapper_Plus_Support_pm.t .................. ok
t/00-compile/lib_Git_Wrapper_Plus_Support_Range_pm.t ............ ok
t/00-compile/lib_Git_Wrapper_Plus_Support_RangeDictionary_pm.t .. ok
t/00-compile/lib_Git_Wrapper_Plus_Support_RangeSet_pm.t ......... ok
t/00-compile/lib_Git_Wrapper_Plus_Tags_pm.t ..................... ok
t/00-compile/lib_Git_Wrapper_Plus_Tester_pm.t ................... ok
t/00-compile/lib_Git_Wrapper_Plus_Util_pm.t ..................... ok
t/00-compile/lib_Git_Wrapper_Plus_Versions_pm.t ................. ok
# 
#      arguments supported   | cat-file -e
#      behaviors supported   | 2-arg-cat-file, add-updates-index, can-checkout-detached
#       commands supported   | cat-file, commit-tree, for-each-ref, init, init-db, ls-remote, peek-remote, read-tree
#                            | show-diff, update-index, write-tree
#       commands unsupported | update-cache
t/00-report-git-support.t ....................................... ok
# Git Version: 2.16.2
# Git is >= 2.0
t/00-report-git-version.t ....................................... ok
# 
# Versions for all modules listed in MYMETA.json (including optional ones):
# 
# === Configure Requires ===
# 
#     Module              Want    Have
#     ------------------- ---- -------
#     ExtUtils::MakeMaker  any 7.35_06
# 
# === Configure Recommends ===
# 
#     Module              Want    Have
#     ------------------- ---- -------
#     ExtUtils::MakeMaker 7.00 7.35_06
# 
# === Build Requires ===
# 
#     Module              Want    Have
#     ------------------- ---- -------
#     ExtUtils::MakeMaker  any 7.35_06
# 
# === Test Requires ===
# 
#     Module              Want     Have
#     ------------------- ---- --------
#     ExtUtils::MakeMaker  any  7.35_06
#     File::Spec           any     3.74
#     Test::Fatal          any    0.014
#     Test::More           any 1.302139
#     Test::Requires       any     0.10
# 
# === Test Recommends ===
# 
#     Module                  Want     Have
#     ------------------- -------- --------
#     CPAN::Meta          2.120900 2.150010
#     ExtUtils::MakeMaker     7.00  7.35_06
#     Test::More              0.99 1.302139
# 
# === Runtime Requires ===
# 
#     Module                     Want      Have
#     -------------------------- ---- ---------
#     Carp                        any      1.50
#     Git::Wrapper                any 0.048_090
#     Moo                         any  2.003004
#     Path::Tiny                  any     0.108
#     Scalar::Util                any      1.50
#     Sort::Versions              any      1.62
#     Sub::Exporter::Progressive  any  0.001013
#     Try::Tiny                   any      0.30
#     strict                      any      1.11
#     warnings                    any      1.42
# 
# === Runtime Recommends ===
# 
#     Module         Want     Have
#     ---------- -------- --------
#     Moo        1.000008 2.003004
#     Path::Tiny    0.058    0.108
# 
t/00-report-prereqs.t ........................................... ok
t/branches/basic.t .............................................. ok
t/plus/basic.t .................................................. ok
t/plus/path-class-constructor.t ................................. ok
t/plus/path-tiny-constructor.t .................................. ok
t/refs/basic_branches.t ......................................... ok
t/refs/basic_tags.t ............................................. ok
t/tags/basic.t .................................................. ok
All tests successful.
Files=27, Tests=63,  8 wallclock secs ( 0.13 usr  0.22 sys +  2.95 cusr  3.30 csys =  6.60 CPU)
Result: PASS

------------------------------
PREREQUISITES
------------------------------

Prerequisite modules loaded:

requires:

    Module                     Need     Have     
    -------------------------- -------- ---------
    Carp                       0        1.50     
    Git::Wrapper               0        0.048_090
    Moo                        0        2.003004 
    Path::Tiny                 0        0.108    
    perl                       5.006    5.028000 
    Scalar::Util               0        1.50     
    Sort::Versions             0        1.62     
    strict                     0        1.11     
    Sub::Exporter::Progressive 0        0.001013 
    Try::Tiny                  0        0.30     
    warnings                   0        1.42     

build_requires:

    Module                     Need     Have     
    -------------------------- -------- ---------
    ExtUtils::MakeMaker        0        7.35_06  
    File::Spec                 0        3.74     
    Test::Fatal                0        0.014    
    Test::More                 0        1.302139 
    Test::Requires             0        0.10     

configure_requires:

    Module                     Need     Have     
    -------------------------- -------- ---------
    ExtUtils::MakeMaker        0        7.35_06  
    perl                       5.006    5.028000 

opt_requires:

    Module                     Need     Have     
    -------------------------- -------- ---------
    Moo                        1.000008 2.003004 
    Path::Tiny                 0.058    0.108    

opt_build_requires:

    Module                     Need     Have     
    -------------------------- -------- ---------
    CPAN::Meta                 2.120900 2.150010 
    ExtUtils::MakeMaker        7.00     7.35_06  
    Test::More                 0.99     1.302139 


------------------------------
ENVIRONMENT AND OTHER CONTEXT
------------------------------

Environment variables:

    AUTOMATED_TESTING = 1
    DBD_MYSQL_TESTDB = test
    DBD_MYSQL_TESTHOST = localhost
    DBD_MYSQL_TESTPASSWORD = 
    DBD_MYSQL_TESTPORT = 3306
    DBD_MYSQL_TESTUSER = goku
    EXTENDED_TESTING = 1
    PATH = /home/goku/perl5/perlbrew/bin:/home/goku/perl5/perlbrew/perls/perl-5.28.0/bin:/home/goku/bin:/usr/bin:/bin:/usr/sbin:/sbin:/usr/X11R6/bin:/usr/local/bin:/usr/local/sbin
    PERL5LIB = 
    PERL5OPT = 
    PERL5_CPANPLUS_IS_RUNNING = 19414
    PERL5_CPAN_IS_RUNNING = 19414
    PERL5_CPAN_IS_RUNNING_IN_RECURSION = 18029,19414
    PERLBREW_HOME = /home/goku/.perlbrew
    PERLBREW_MANPATH = /home/goku/perl5/perlbrew/perls/perl-5.28.0/man
    PERLBREW_PATH = /home/goku/perl5/perlbrew/bin:/home/goku/perl5/perlbrew/perls/perl-5.28.0/bin
    PERLBREW_PERL = perl-5.28.0
    PERLBREW_ROOT = /home/goku/perl5/perlbrew
    PERLBREW_SHELLRC_VERSION = 0.84
    PERLBREW_VERSION = 0.84
    PERL_CR_SMOKER_CURRENT = BioSAILs-Command-1.0
    PERL_EXTUTILS_AUTOINSTALL = --defaultdeps
    PERL_MM_USE_DEFAULT = 1
    PERL_USE_UNSAFE_INC = 1
    SHELL = /usr/local/bin/bash
    TERM = xterm

Perl special variables (and OS-specific diagnostics, for MSWin32):

    $^X = /home/goku/perl5/perlbrew/perls/perl-5.28.0/bin/perl
    $UID/$EUID = 1002 / 1002
    $GID = 1002 1002 1001
    $EGID = 1002 1002 1001

Perl module toolchain versions installed:

    Module              Have    
    ------------------- --------
    CPAN                2.20    
    CPAN::Meta          2.150010
    Cwd                 3.74    
    ExtUtils::CBuilder  0.280230
    ExtUtils::Command   7.35_06 
    ExtUtils::Install   2.14    
    ExtUtils::MakeMaker 7.35_06 
    ExtUtils::Manifest  1.70    
    ExtUtils::ParseXS   3.39    
    File::Spec          3.74    
    JSON                2.97001 
    JSON::PP            2.97001 
    Module::Build       0.4224  
    Module::Signature   0.81    
    Parse::CPAN::Meta   2.150010
    Test::Harness       3.42    
    Test::More          1.302139
    YAML                1.26    
    YAML::Syck          n/a     
    version             0.9923  


--

Summary of my perl5 (revision 5 version 28 subversion 0) configuration:
   
  Platform:
    osname=openbsd
    osvers=6.3
    archname=OpenBSD.amd64-openbsd-thread-multi
    uname='openbsd cpan-smoker-openbsd 6.3 generic.mp#107 amd64 '
    config_args='-de -Dprefix=/home/goku/perl5/perlbrew/perls/perl-5.28.0 -Dman1dir=none -Dman3dir=none -Dusethreads -Aeval:scriptdir=/home/goku/perl5/perlbrew/perls/perl-5.28.0/bin'
    hint=recommended
    useposix=true
    d_sigaction=define
    useithreads=define
    usemultiplicity=define
    use64bitint=define
    use64bitall=define
    uselongdouble=undef
    usemymalloc=n
    default_inc_excludes_dot=define
    bincompat5005=undef
  Compiler:
    cc='cc'
    ccflags ='-pthread -fno-strict-aliasing -pipe -fstack-protector-strong -I/usr/local/include -D_FORTIFY_SOURCE=2'
    optimize='-O2'
    cppflags='-pthread -fno-strict-aliasing -pipe -fstack-protector-strong -I/usr/local/include'
    ccversion=''
    gccversion='4.2.1 Compatible OpenBSD Clang 5.0.1 (tags/RELEASE_501/final)'
    gccosandvers=''
    intsize=4
    longsize=8
    ptrsize=8
    doublesize=8
    byteorder=12345678
    doublekind=3
    d_longlong=define
    longlongsize=8
    d_longdbl=define
    longdblsize=16
    longdblkind=3
    ivtype='long'
    ivsize=8
    nvtype='double'
    nvsize=8
    Off_t='off_t'
    lseeksize=8
    alignbytes=8
    prototype=define
  Linker and Libraries:
    ld='cc'
    ldflags ='-pthread -Wl,-E  -fstack-protector-strong -L/usr/local/lib'
    libpth=/usr/lib /usr/local/lib
    libs=-lpthread -lm -lutil -lc
    perllibs=-lpthread -lm -lutil -lc
    libc=/usr/lib/libc.so.92.3
    so=so
    useshrplib=false
    libperl=libperl.a
    gnulibc_version=''
  Dynamic Linking:
    dlsrc=dl_dlopen.xs
    dlext=so
    d_dlsymun=undef
    ccdlflags=' '
    cccdlflags='-DPIC -fPIC '
    lddlflags='-shared -fPIC  -L/usr/local/lib -fstack-protector-strong'


Characteristics of this binary (from libperl): 
  Compile-time options:
    HAS_TIMES
    MULTIPLICITY
    PERLIO_LAYERS
    PERL_COPY_ON_WRITE
    PERL_DONT_CREATE_GVSV
    PERL_IMPLICIT_CONTEXT
    PERL_MALLOC_WRAP
    PERL_OP_PARENT
    PERL_PRESERVE_IVUV
    USE_64_BIT_ALL
    USE_64_BIT_INT
    USE_ITHREADS
    USE_LARGE_FILES
    USE_LOCALE
    USE_LOCALE_COLLATE
    USE_LOCALE_CTYPE
    USE_LOCALE_NUMERIC
    USE_LOCALE_TIME
    USE_PERLIO
    USE_PERL_ATOF
    USE_REENTRANT_API
  Locally applied patches:
    Devel::PatchPerl 1.48
  Built under openbsd
  Compiled at Aug  2 2018 17:44:44
  %ENV:
    PERL5LIB=""
    PERL5OPT=""
    PERL5_CPANPLUS_IS_RUNNING="19414"
    PERL5_CPAN_IS_RUNNING="19414"
    PERL5_CPAN_IS_RUNNING_IN_RECURSION="18029,19414"
    PERLBREW_HOME="/home/goku/.perlbrew"
    PERLBREW_MANPATH="/home/goku/perl5/perlbrew/perls/perl-5.28.0/man"
    PERLBREW_PATH="/home/goku/perl5/perlbrew/bin:/home/goku/perl5/perlbrew/perls/perl-5.28.0/bin"
    PERLBREW_PERL="perl-5.28.0"
    PERLBREW_ROOT="/home/goku/perl5/perlbrew"
    PERLBREW_SHELLRC_VERSION="0.84"
    PERLBREW_VERSION="0.84"
    PERL_CR_SMOKER_CURRENT="BioSAILs-Command-1.0"
    PERL_EXTUTILS_AUTOINSTALL="--defaultdeps"
    PERL_MM_USE_DEFAULT="1"
    PERL_USE_UNSAFE_INC="1"
  @INC:
    /home/goku/perl5/perlbrew/perls/perl-5.28.0/lib/site_perl/5.28.0/OpenBSD.amd64-openbsd-thread-multi
    /home/goku/perl5/perlbrew/perls/perl-5.28.0/lib/site_perl/5.28.0
    /home/goku/perl5/perlbrew/perls/perl-5.28.0/lib/5.28.0/OpenBSD.amd64-openbsd-thread-multi
    /home/goku/perl5/perlbrew/perls/perl-5.28.0/lib/5.28.0
    .