Text-Amuse-Preprocessor v0.65 Perl 5 v5.26.1 MSWin32-x86-multi-thread-64int

Status
Pass
From
Alexandr Ciornii (CHORNY)
Dist
Text-Amuse-Preprocessor v0.65
Platform
Perl 5 v5.26.1 MSWin32-x86-multi-thread-64int
Date
2021-11-21 20:41:51
ID
14bf63a2-6bf6-1014-9911-2cc1c88b78d3
This distribution has been tested as part of the CPAN Testers
project, supporting the Perl programming language.  See
http://wiki.cpantesters.org/ for more information or email
questions to cpan-testers-discuss@perl.org


--
Dear Marco Pessotto,

This is a computer-generated report for Text-Amuse-Preprocessor-0.65
on perl 5.26.1, created by CPAN-Reporter-1.2018.

Thank you for uploading your work to CPAN.  Congratulations!
All tests were successful.

Sections of this report:

    * Tester comments
    * Program output
    * Prerequisites
    * Environment and other context

------------------------------
TESTER COMMENTS
------------------------------

Additional comments from tester:

this report is from an automated smoke testing program
and was not reviewed by a human for accuracy

------------------------------
PROGRAM OUTPUT
------------------------------

Output from 'C:\STRAWB~1\c\bin\gmake.exe test':

"C:\Strawberry261\perl\bin\perl.exe" "-MExtUtils::Command::MM" "-MTest::Harness" "-e" "undef *Test::Harness::Switches; test_harness(0, 'blib\lib', 'blib\arch')" t/*.t
# Testing Text::Amuse::Preprocessor 0.65, Perl 5.026001, C:\Strawberry261\perl\bin\perl.exe
t/00-load.t ........... ok
t/changes.t ........... skipped: Changes testing not required (or Test::CPAN::Changes not found)
t/chars.t ............. ok
# Using C:\DOCUME~1\a\LOCALS~1\Temp\XEtnNUpL1d for ligatures
# Using C:\DOCUME~1\a\LOCALS~1\Temp\YNJ9z_Psrp for missing_nl
# Using C:\DOCUME~1\a\LOCALS~1\Temp\yGdhfEFLA2 for garbage
# Using C:\DOCUME~1\a\LOCALS~1\Temp\swoxm4UHf7 for ellipsis_no_fix
# Using C:\DOCUME~1\a\LOCALS~1\Temp\c2xPVC4Zyv for ellipsis
# Using C:\DOCUME~1\a\LOCALS~1\Temp\Cs4GuP2A4B for links
# Using C:\DOCUME~1\a\LOCALS~1\Temp\sAUdTS2ZB1 for en
# Using C:\DOCUME~1\a\LOCALS~1\Temp\Tyfl_D8_Y4 for fi
# Using C:\DOCUME~1\a\LOCALS~1\Temp\tcn1EsFj7O for es
# Using C:\DOCUME~1\a\LOCALS~1\Temp\ZdOUB20K6e for sr
# Using C:\DOCUME~1\a\LOCALS~1\Temp\04BIVzN589 for hr
# Using C:\DOCUME~1\a\LOCALS~1\Temp\gY51LZpj0c for ru
# Using C:\DOCUME~1\a\LOCALS~1\Temp\kRbqFqNXMU for it
# Using C:\DOCUME~1\a\LOCALS~1\Temp\NIG1CU_FEi for mk
# Using C:\DOCUME~1\a\LOCALS~1\Temp\Q7zW4i6cMd for sv
# Using C:\DOCUME~1\a\LOCALS~1\Temp\5liGkE5Cit for de
# Using C:\DOCUME~1\a\LOCALS~1\Temp\Ulo57MNuWJ for pl
# Using C:\DOCUME~1\a\LOCALS~1\Temp\zDeuQwyYva for bg
# Using C:\DOCUME~1\a\LOCALS~1\Temp\9KoLSfmvoK for eo
# Using C:\DOCUME~1\a\LOCALS~1\Temp\YkOgHdjCoa for fr
# Using C:\DOCUME~1\a\LOCALS~1\Temp\jTx1vkuQDD for pt
# Using C:\DOCUME~1\a\LOCALS~1\Temp\t_1huq__mI for sq
# Using C:\DOCUME~1\a\LOCALS~1\Temp\Z84W0oQeGf for da
# Using C:\DOCUME~1\a\LOCALS~1\Temp\rYtMif6Btz for nl
# Using C:\DOCUME~1\a\LOCALS~1\Temp\lnnG0gAWxZ for id
# Using C:\DOCUME~1\a\LOCALS~1\Temp\W127zzDJbw for Full example
# Using C:\DOCUME~1\a\LOCALS~1\Temp\DFKMp7a5NH for Quote
# Using C:\DOCUME~1\a\LOCALS~1\Temp\WrSygm45uJ for Quote
# Using C:\DOCUME~1\a\LOCALS~1\Temp\McjlIlV0ml for Nl quotation
t/common.t ............ ok
t/crash-on-verb.t ..... ok
# $VAR1 = "#title Test
# #lang en
# 
# 0
# 
# \x{201c}0\x{201d}
# 
# 0
# ";
# $VAR1 = "#title Test
# #lang en
# 
# 0
# 
# \x{201c}0\x{201d}
# 
# 0
# ";
t/crash_on_loop.t ..... ok
# C:\DOCUME~1\a\LOCALS~1\Temp\fkuWsX_KGf\verbatim-in.muse
# C:\DOCUME~1\a\LOCALS~1\Temp\fkuWsX_KGf
t/exclude-verbatim.t .. ok
# Testing t\footnotes\good.in => t\footnotes\good.out
# Testing t\footnotes\good2.in => t\footnotes\good2.out
# Testing t\footnotes\good3.in => t\footnotes\good3.out
# Testing t\footnotes\mixed.in => t\footnotes\mixed.out
# Testing t\footnotes\indentation.in => t\footnotes\indentation.out
# Testing t\footnotes\sec-good.in => t\footnotes\sec-good.out
# Testing t\footnotes\sec-good2.in => t\footnotes\sec-good2.out
# Testing t\footnotes\sec-good3.in => t\footnotes\sec-good3.out
# Testing t\footnotes\sec-bad.in => t\footnotes\sec-bad.out
# @@ -1 +1,2 @@
# -{4}
# +{3}
# +{3}
# Testing t\footnotes\sec-bad2.in => t\footnotes\sec-bad2.out
# @@ -1,3 +1,2 @@
# -{4}
# +{3}
# -{5}
# +{3}
# -{6}
# Testing t\footnotes\bad.in => t\footnotes\bad.out
# @@ -1,2 +1,3 @@
#  [1]
# -[1]
# +[2]
# +[4]
# Testing t\footnotes\bad2.in => t\footnotes\bad2.out
# @@ -1,4 +1,3 @@
#  [1]
# -[1]
# +[2]
#  [4]
# -[5]
t/footnotes.t ......... ok
tagpile mismatch: root, p
t/html-2.t ............ ok
# Using C:\DOCUME~1\a\LOCALS~1\Temp\cJ4Tk_6JPF.html
# Using C:\DOCUME~1\a\LOCALS~1\Temp\YUx0C8iauw.html
# Using C:\DOCUME~1\a\LOCALS~1\Temp\ip0sms6XMp.html
# Using C:\DOCUME~1\a\LOCALS~1\Temp\Rlsl2R4IUh.html
# Using C:\DOCUME~1\a\LOCALS~1\Temp\f2aRSTh4_y.html
# Using C:\DOCUME~1\a\LOCALS~1\Temp\thJmRpRbVB.html
# Using C:\DOCUME~1\a\LOCALS~1\Temp\pvKt90_MJG.html
# Using C:\DOCUME~1\a\LOCALS~1\Temp\pcChZ2L0mK.html
# Using C:\DOCUME~1\a\LOCALS~1\Temp\P193jE0QC6.html
# Using C:\DOCUME~1\a\LOCALS~1\Temp\tnRT5syv9L.html
# Using C:\DOCUME~1\a\LOCALS~1\Temp\37QVG4gRPz.html
# Using C:\DOCUME~1\a\LOCALS~1\Temp\b3i1BNFwmA.html
# Using C:\DOCUME~1\a\LOCALS~1\Temp\s0qHHtpict.html
# Using C:\DOCUME~1\a\LOCALS~1\Temp\lJOf2TtAgj.html
# Using C:\DOCUME~1\a\LOCALS~1\Temp\_yE51bXnSj.html
# Using C:\DOCUME~1\a\LOCALS~1\Temp\FUShC71a63.html
# Using C:\DOCUME~1\a\LOCALS~1\Temp\5pR4IxN7NR.html
t/html.t .............. ok
t/manifest.t .......... skipped: Author tests not required for installation
t/memory-cycles.t ..... ok
t/nbsp.t .............. ok
# Infile is C:\DOCUME~1\a\LOCALS~1\Temp\mi3tRtw0Q3\input.txt
# Using C:\DOCUME~1\a\LOCALS~1\Temp\55WuXChhhN as temporary dir
t/object.t ............ ok
t/pod-coverage.t ...... skipped: Pod coverage not required for installation
t/pod.t ............... skipped: Pod test not required for installation
t/russian.t ........... ok
t/subs.t .............. ok
t/typography.t ........ ok
All tests successful.
Files=19, Tests=441, 12 wallclock secs ( 0.21 usr +  0.06 sys =  0.27 CPU)
Result: PASS

------------------------------
PREREQUISITES
------------------------------

Prerequisite modules loaded:

requires:

    Module              Need Have    
    ------------------- ---- --------
    HTML::PullParser    0    3.57    
    IO::HTML            1    1.001   
    Pod::Simple::Wiki   0.19 0.20    
    Text::Amuse         0.95 1.77    
    Text::Diff          0    1.45    

build_requires:

    Module              Need Have    
    ------------------- ---- --------
    Test::More          0    1.302135

configure_requires:

    Module              Need Have    
    ------------------- ---- --------
    ExtUtils::MakeMaker 0    7.34    


------------------------------
ENVIRONMENT AND OTHER CONTEXT
------------------------------

Environment variables:

    AUTOMATED_TESTING = 1
    COMSPEC = C:\WINDOWS\system32\cmd.exe
    NUMBER_OF_PROCESSORS = 1
    PATH = C:\WINDOWS\system32;C:\WINDOWS;C:\WINDOWS\System32\Wbem;C:\Git\cmd;C:\Strawberry261\c\bin;C:\Strawberry261\perl\site\bin;C:\Strawberry261\perl\bin
    PERL5LIB = C:\STRAWB~1\cpan\build\Text-Amuse-1.77-0/blib/arch;C:\STRAWB~1\cpan\build\Text-Amuse-1.77-0/blib/lib;C:\STRAWB~1\cpan\build\Pod-Simple-Wiki-0.20-0/blib/arch;C:\STRAWB~1\cpan\build\Pod-Simple-Wiki-0.20-0/blib/lib
    PERL5OPT = 
    PERL5_CPANPLUS_IS_RUNNING = 1148
    PERL5_CPAN_IS_RUNNING = 1148
    PERL5_CPAN_IS_RUNNING_IN_RECURSION = 388,1148
    PERL_CR_SMOKER_CURRENT = Text-Amuse-Preprocessor-0.65
    PERL_CR_SMOKER_RUNONCE = 1
    PERL_EXTUTILS_AUTOINSTALL = --defaultdeps
    PERL_HASH_SEED = 0x11111111
    PERL_MM_USE_DEFAULT = 1
    PERL_USE_UNSAFE_INC = 1
    PROCESSOR_IDENTIFIER = x86 Family 16 Model 5 Stepping 3, AuthenticAMD
    TEMP = C:\DOCUME~1\a\LOCALS~1\Temp

Perl special variables (and OS-specific diagnostics, for MSWin32):

    $^X = C:\Strawberry261\perl\bin\perl.exe
    $UID/$EUID = 0 / 0
    $GID = 0
    $EGID = 0
    Win32::GetOSName = WinXP/.Net
    Win32::GetOSVersion = Service Pack 3, 5, 1, 2600, 2, 3, 0, 256, 1
    Win32::FsType = NTFS
    Win32::IsAdminUser = 1

Perl module toolchain versions installed:

    Module              Have    
    ------------------- --------
    CPAN                2.18    
    CPAN::Meta          2.150010
    Cwd                 3.74    
    ExtUtils::CBuilder  0.280230
    ExtUtils::Command   7.34    
    ExtUtils::Install   2.14    
    ExtUtils::MakeMaker 7.34    
    ExtUtils::Manifest  1.70    
    ExtUtils::ParseXS   3.35    
    File::Spec          3.74    
    JSON                2.97001 
    JSON::PP            2.97001 
    Module::Build       0.4224  
    Module::Signature   0.81    
    Parse::CPAN::Meta   2.150010
    Test::Harness       3.42    
    Test::More          1.302135
    YAML                1.24    
    YAML::Syck          1.30    
    version             0.9918  


--

Summary of my perl5 (revision 5 version 26 subversion 1) configuration:
   
  Platform:
    osname=MSWin32
    osvers=4.0
    archname=MSWin32-x86-multi-thread-64int
    uname='Win32 strawberry-perl 5.26.1.1 #1 Mon Apr  2 23:57:52 2018 i386'
    config_args='undef'
    hint=recommended
    useposix=true
    d_sigaction=undef
    useithreads=define
    usemultiplicity=define
    use64bitint=define
    use64bitall=undef
    uselongdouble=undef
    usemymalloc=n
    default_inc_excludes_dot=define
    bincompat5005=undef
  Compiler:
    cc='gcc'
    ccflags =' -s -O2 -DWIN32 -D__USE_MINGW_ANSI_STDIO -DPERL_TEXTMODE_SCRIPTS -DPERL_IMPLICIT_CONTEXT -DPERL_IMPLICIT_SYS -DUSE_PERLIO -fwrapv -fno-strict-aliasing -mms-bitfields'
    optimize='-s -O2'
    cppflags='-DWIN32'
    ccversion=''
    gccversion='7.1.0'
    gccosandvers=''
    intsize=4
    longsize=4
    ptrsize=4
    doublesize=8
    byteorder=12345678
    doublekind=3
    d_longlong=define
    longlongsize=8
    d_longdbl=define
    longdblsize=12
    longdblkind=3
    ivtype='long long'
    ivsize=8
    nvtype='double'
    nvsize=8
    Off_t='long long'
    lseeksize=8
    alignbytes=8
    prototype=define
  Linker and Libraries:
    ld='g++'
    ldflags ='-s -L"C:\STRAWB~1\perl\lib\CORE" -L"C:\STRAWB~1\c\lib"'
    libpth=C:\STRAWB~1\c\lib C:\STRAWB~1\c\i686-w64-mingw32\lib C:\STRAWB~1\c\lib\gcc\i686-w64-mingw32\7.1.0
    libs= -lmoldname -lkernel32 -luser32 -lgdi32 -lwinspool -lcomdlg32 -ladvapi32 -lshell32 -lole32 -loleaut32 -lnetapi32 -luuid -lws2_32 -lmpr -lwinmm -lversion -lodbc32 -lodbccp32 -lcomctl32
    perllibs= -lmoldname -lkernel32 -luser32 -lgdi32 -lwinspool -lcomdlg32 -ladvapi32 -lshell32 -lole32 -loleaut32 -lnetapi32 -luuid -lws2_32 -lmpr -lwinmm -lversion -lodbc32 -lodbccp32 -lcomctl32
    libc=
    so=dll
    useshrplib=true
    libperl=libperl526.a
    gnulibc_version=''
  Dynamic Linking:
    dlsrc=dl_win32.xs
    dlext=xs.dll
    d_dlsymun=undef
    ccdlflags=' '
    cccdlflags=' '
    lddlflags='-mdll -s -L"C:\STRAWB~1\perl\lib\CORE" -L"C:\STRAWB~1\c\lib"'


Characteristics of this binary (from libperl): 
  Compile-time options:
    HAS_TIMES
    HAVE_INTERP_INTERN
    MULTIPLICITY
    PERLIO_LAYERS
    PERL_COPY_ON_WRITE
    PERL_DONT_CREATE_GVSV
    PERL_IMPLICIT_CONTEXT
    PERL_IMPLICIT_SYS
    PERL_MALLOC_WRAP
    PERL_OP_PARENT
    PERL_PRESERVE_IVUV
    USE_64_BIT_INT
    USE_ITHREADS
    USE_LARGE_FILES
    USE_LOCALE
    USE_LOCALE_COLLATE
    USE_LOCALE_CTYPE
    USE_LOCALE_NUMERIC
    USE_LOCALE_TIME
    USE_PERLIO
    USE_PERL_ATOF
  Built under MSWin32
  Compiled at Apr  3 2018 00:07:56
  %ENV:
    PERL5LIB="C:\STRAWB~1\cpan\build\Text-Amuse-1.77-0/blib/arch;C:\STRAWB~1\cpan\build\Text-Amuse-1.77-0/blib/lib;C:\STRAWB~1\cpan\build\Pod-Simple-Wiki-0.20-0/blib/arch;C:\STRAWB~1\cpan\build\Pod-Simple-Wiki-0.20-0/blib/lib"
    PERL5_CPANPLUS_IS_RUNNING="1148"
    PERL5_CPAN_IS_RUNNING="1148"
    PERL5_CPAN_IS_RUNNING_IN_RECURSION="388,1148"
    PERL_CR_SMOKER_CURRENT="Text-Amuse-Preprocessor-0.65"
    PERL_CR_SMOKER_RUNONCE="1"
    PERL_EXTUTILS_AUTOINSTALL="--defaultdeps"
    PERL_HASH_SEED="0x11111111"
    PERL_MM_USE_DEFAULT="1"
    PERL_USE_UNSAFE_INC="1"
  @INC:
    C:\STRAWB~1\cpan\build\Text-Amuse-1.77-0/blib/arch
    C:\STRAWB~1\cpan\build\Text-Amuse-1.77-0/blib/lib
    C:\STRAWB~1\cpan\build\Pod-Simple-Wiki-0.20-0/blib/arch
    C:\STRAWB~1\cpan\build\Pod-Simple-Wiki-0.20-0/blib/lib
    C:/Strawberry261/perl/site/lib
    C:/Strawberry261/perl/vendor/lib
    C:/Strawberry261/perl/lib
    .