Brick v0.904 Perl 5 v5.18.4 amd64-freebsd

Status
Pass
From
Slaven Rezić
Dist
Brick v0.904
Platform
Perl 5 v5.18.4 amd64-freebsd
Date
2025-04-14 20:57:30
ID
14a2f46c-1973-11f0-a5e8-d8316e8775ea
This distribution has been tested as part of the CPAN Testers
project, supporting the Perl programming language.  See
http://wiki.cpantesters.org/ for more information or email
questions to cpan-testers-discuss@perl.org


--
Dear brian d foy,

This is a computer-generated report for Brick-0.904
on perl 5.18.4, created by CPAN-Reporter-1.2019.

Thank you for uploading your work to CPAN.  Congratulations!
All tests were successful.

Sections of this report:

    * Tester comments
    * Program output
    * Prerequisites
    * Environment and other context

------------------------------
TESTER COMMENTS
------------------------------

Additional comments from tester:

none provided

------------------------------
PROGRAM OUTPUT
------------------------------

Output from '/usr/bin/make test':

"/usr/perl5.18.4p/bin/perl" "-MTest::Manifest" "-e" "run_t_manifest(0, 'blib/lib', 'blib/arch',  )"
t/load.t ............................................. ok
t/pod.t .............................................. ok
t/composers/load.t ................................... ok
t/composers/__compose_satisfy_N_to_M.t ............... ok
t/composers/__compose_satisfy_none.t ................. ok
t/composers/__compose_satisfy_all.t .................. ok
t/composers/__compose_satisfy_any.t .................. ok
t/composers/__compose_pass_or_stop.t ................. ok
t/composers/__compose_pass_or_skip.t ................. ok
t/constraints/__make_constraint.t .................... ok
t/bucket/load.t ...................................... ok
t/bucket/new_bucket.t ................................ ok
t/bucket/new_entry.t ................................. ok
t/bucket/add_to_bucket.t ............................. ok
t/bucket/get_brick_by_name.t ......................... ok
t/bucket/unique.t .................................... ok
t/error.t ............................................ ok
t/init.t ............................................. ok
t/explain.t .......................................... ok
t/apply.t ............................................ ok
t/field_labels.t ..................................... ok
t/external/add_validator_packages.t .................. ok
t/external/new-external_packages.t ................... ok
t/filters/_remove_whitespace.t ....................... ok
t/filters/_uppercase.t ............................... ok
t/filters/_lowercase.t ............................... ok
t/filters/_remove_extra_fields.t ..................... ok
t/general/__fields_are_something.t ................... ok
t/general/_is_defined.t .............................. ok
t/general/_fields_exist.t ............................ ok
t/general/_fields_are_defined_and_not_null_string.t .. ok
t/general/_value_length_is_equal_to_greater_than.t ... ok
t/general/_value_length_is_equal_to_less_than.t ...... ok
t/general/_value_length_is_between.t ................. ok
t/numbers/number_within_range.t ...................... ok
t/numbers/_numeric_equal_or_greater_than.t ........... ok
t/numbers/_numeric_strictly_greater_than.t ........... ok
t/numbers/_numeric_equal_or_less_than.t .............. ok
t/numbers/_numeric_strictly_less_than.t .............. ok
t/messages/number_range_error.t ...................... ok
t/dates/__get_ymd_as_hashref.t ....................... ok
t/dates/_get_days_between.t .......................... ok
t/dates/_is_YYYYMMDD_date_format.t ................... ok
t/dates/valid_date.t ................................. ok
t/dates/ranges.t ..................................... ok
t/dates/days_between_dates_within_range.t ............ ok
t/dates/days_between_dates_outside_range.t ........... ok
t/dates/at_least_N_days_between.t .................... ok
t/dates/at_most_N_days_between.t ..................... ok
t/files/_file_magic_type.t ........................... ok
t/files/has_file_extension.t ......................... ok
t/files/_get_file_extensions_by_mime_type.t .......... ok
t/files/is_mime_type.t ............................... ok
t/files/is_clamav_clean.t ............................ ok
t/regexes/_matches_regex.t ........................... ok
t/selectors/_is_even_number.t ........................ ok
t/selectors/_is_odd_number.t ......................... ok
t/selectors/_is_tuesday.t ............................ ok
t/use_cases/zip_code.t ............................... ok
t/use_cases/phone_number.t ........................... ok
t/use_cases/anonymous_brick.t ........................ ok
t/use_cases/paycheck.t ............................... ok
Cannot [_term_format] at /home/cpansand/.cpan/build/2025041422/Brick-0.904-1/blib/lib/Brick.pm line 182.
t/use_cases/foursquare.t ............................. ok
t/use_cases/top-level-errors.t ....................... ok
t/use_cases/programming-error-in-brick.t ............. ok
All tests successful.
Files=65, Tests=1022,  4 wallclock secs ( 0.19 usr  0.06 sys +  2.53 cusr  1.69 csys =  4.47 CPU)
Result: PASS

------------------------------
PREREQUISITES
------------------------------

Prerequisite modules loaded:

requires:

    Module                Need  Have    
    --------------------- ----- --------
    File::MMagic          0     1.30    
    MIME::Types           0     2.26    
    perl                  5.008 5.018004
    Storable              0     3.25    
    Time::Moment          0.38  0.44    

build_requires:

    Module                Need  Have    
    --------------------- ----- --------
    Test::Data            0     1.247   
    Test::More            1     1.302210
    Test::Output          0     1.035   
    version               0.86  0.9933  

configure_requires:

    Module                Need  Have    
    --------------------- ----- --------
    ExtUtils::MakeMaker   6.64  7.74    
    File::Spec::Functions 0     3.75    


------------------------------
ENVIRONMENT AND OTHER CONTEXT
------------------------------

Environment variables:

    LC_ALL = de_DE.ISO8859-1
    PATH = /usr/local/bin:/usr/bin:/bin:/usr/local/sbin:/usr/sbin:/sbin:/home/cpansand/bin/freebsd10.3:/home/cpansand/bin/sh:/home/cpansand/bin:/usr/games:/home/cpansand/devel:/home/eserte/src/srezic-misc/scripts
    PERL5LIB = 
    PERL5OPT = 
    PERL5_CPANPLUS_IS_RUNNING = 32998
    PERL5_CPAN_IS_RUNNING = 32998
    PERL5_CPAN_IS_RUNNING_IN_RECURSION = 31034,32998
    PERLDOC = -MPod::Perldoc::ToTextOverstrike
    PERL_BATCH = yes
    PERL_CANARY_STABILITY_NOPROMPT = 1
    PERL_CPAN_REPORTER_CONFIG = /var/tmp/cpansmoker-1023/2025041422/cpanreporter_000_config.ini
    PERL_EXTUTILS_AUTOINSTALL = --defaultdeps
    PERL_USE_UNSAFE_INC = 1
    SHELL = /usr/local/bin/zsh
    TERM = screen
    TMPDIR = /var/tmp/cpansmoker-1023/2025041422

Perl special variables (and OS-specific diagnostics, for MSWin32):

    $^X = /usr/perl5.18.4p/bin/perl
    $UID/$EUID = 1023 / 1023
    $GID = 1023 1023
    $EGID = 1023 1023

Perl module toolchain versions installed:

    Module              Have    
    ------------------- --------
    CPAN                2.37    
    CPAN::Meta          2.150010
    Cwd                 3.75    
    ExtUtils::CBuilder  0.280236
    ExtUtils::Command   7.74    
    ExtUtils::Install   2.22    
    ExtUtils::MakeMaker 7.74    
    ExtUtils::Manifest  1.75    
    ExtUtils::ParseXS   3.51    
    File::Spec          3.75    
    JSON                4.10    
    JSON::PP            4.16    
    Module::Build       0.4234  
    Module::Signature   0.89    
    Parse::CPAN::Meta   2.150010
    Test2               1.302210
    Test::Harness       3.50    
    Test::More          1.302210
    YAML                1.30    
    YAML::Syck          1.34    
    version             0.9933  


--

Summary of my perl5 (revision 5 version 18 subversion 4) configuration:
   
  Platform:
    osname=freebsd, osvers=10.1-release, archname=amd64-freebsd
    uname='freebsd cvrsnica-freebsd-101.herceg.de 10.1-release freebsd 10.1-release #0 r274401: tue nov 11 21:02:49 utc 2014 root@releng1.nyi.freebsd.org:usrobjusrsrcsysgeneric amd64 '
    config_args='-ds -e -Dprefix=/usr/perl5.18.4p'
    hint=recommended, useposix=true, d_sigaction=define
    useithreads=undef, usemultiplicity=undef
    useperlio=define, d_sfio=undef, uselargefiles=define, usesocks=undef
    use64bitint=define, use64bitall=define, uselongdouble=undef
    usemymalloc=n, bincompat5005=undef
  Compiler:
    cc='cc', ccflags ='-DHAS_FPSETMASK -DHAS_FLOATINGPOINT_H -fno-strict-aliasing -pipe -fstack-protector -I/usr/local/include',
    optimize='-O',
    cppflags='-DHAS_FPSETMASK -DHAS_FLOATINGPOINT_H -fno-strict-aliasing -pipe -fstack-protector -I/usr/local/include'
    ccversion='', gccversion='4.2.1 Compatible FreeBSD Clang 3.4.1 (tags/RELEASE_34/dot1-final 208032)', gccosandvers=''
    intsize=4, longsize=8, ptrsize=8, doublesize=8, byteorder=12345678
    d_longlong=define, longlongsize=8, d_longdbl=define, longdblsize=16
    ivtype='long', ivsize=8, nvtype='double', nvsize=8, Off_t='off_t', lseeksize=8
    alignbytes=8, prototype=define
  Linker and Libraries:
    ld='cc', ldflags ='-pthread -Wl,-E  -fstack-protector -L/usr/local/lib'
    libpth=/usr/lib /usr/local/lib
    libs=-lgdbm -lm -lcrypt -lutil -lc
    perllibs=-lm -lcrypt -lutil -lc
    libc=, so=so, useshrplib=false, libperl=libperl.a
    gnulibc_version=''
  Dynamic Linking:
    dlsrc=dl_dlopen.xs, dlext=so, d_dlsymun=undef, ccdlflags=' '
    cccdlflags='-DPIC -fPIC', lddlflags='-shared  -L/usr/local/lib -fstack-protector'


Characteristics of this binary (from libperl): 
  Compile-time options: HAS_TIMES PERLIO_LAYERS PERL_DONT_CREATE_GVSV
                        PERL_HASH_FUNC_ONE_AT_A_TIME_HARD PERL_MALLOC_WRAP
                        PERL_PRESERVE_IVUV PERL_SAWAMPERSAND USE_64_BIT_ALL
                        USE_64_BIT_INT USE_LARGE_FILES USE_LOCALE
                        USE_LOCALE_COLLATE USE_LOCALE_CTYPE
                        USE_LOCALE_NUMERIC USE_PERLIO USE_PERL_ATOF
  Built under freebsd
  Compiled at Apr  4 2015 13:03:15
  %ENV:
    PERL5LIB=""
    PERL5OPT=""
    PERL5_CPANPLUS_IS_RUNNING="32998"
    PERL5_CPAN_IS_RUNNING="32998"
    PERL5_CPAN_IS_RUNNING_IN_RECURSION="31034,32998"
    PERLDOC="-MPod::Perldoc::ToTextOverstrike"
    PERL_BATCH="yes"
    PERL_CANARY_STABILITY_NOPROMPT="1"
    PERL_CPAN_REPORTER_CONFIG="/var/tmp/cpansmoker-1023/2025041422/cpanreporter_000_config.ini"
    PERL_EXTUTILS_AUTOINSTALL="--defaultdeps"
    PERL_USE_UNSAFE_INC="1"
  @INC:
    /usr/perl5.18.4p/lib/site_perl/5.18.4/amd64-freebsd
    /usr/perl5.18.4p/lib/site_perl/5.18.4
    /usr/perl5.18.4p/lib/5.18.4/amd64-freebsd
    /usr/perl5.18.4p/lib/5.18.4
    .