Astro-App-Satpass2 v0.054_01 Perl 5 v5.34.3 x86_64-linux

Status
Pass
From
Slaven Rezić
Dist
Astro-App-Satpass2 v0.054_01
Platform
Perl 5 v5.34.3 x86_64-linux
Date
2024-12-16 16:16:18
ID
14a1a81c-bbc9-11ef-aa02-1e246e8775ea
This distribution has been tested as part of the CPAN Testers
project, supporting the Perl programming language.  See
http://wiki.cpantesters.org/ for more information or email
questions to cpan-testers-discuss@perl.org


--
Dear Tom Wyant,

This is a computer-generated report for Astro-App-Satpass2-0.054_01
on perl 5.34.3, created by CPAN-Reporter-1.2019.

Thank you for uploading your work to CPAN.  Congratulations!
All tests were successful.

Sections of this report:

    * Tester comments
    * Program output
    * Prerequisites
    * Environment and other context

------------------------------
TESTER COMMENTS
------------------------------

Additional comments from tester:

none provided

------------------------------
PROGRAM OUTPUT
------------------------------

Output from './Build test':

# 
# +------+----------+-----------+
# | PERL | REQUIRED | INSTALLED |
# +------+----------+-----------+
# | perl | 5.8.0    | 5.34.3    |
# +------+----------+-----------+
# +--------------------+----------+-----------+
# | CONFIGURE REQUIRES | REQUIRED | INSTALLED |
# +--------------------+----------+-----------+
# | lib                | 0        | 0.65      |
# | strict             | 0        | 1.12      |
# | warnings           | 0        | 1.51      |
# +--------------------+----------+-----------+
# +---------------------------+----------+-----------+
# | BUILD REQUIRES            | REQUIRED | INSTALLED |
# +---------------------------+----------+-----------+
# | Test2::Plugin::BailOnFail | 0        | 1.302204  |
# | Test2::Tools::Explain     | 0        | 0.02      |
# | Test2::Tools::LoadModule  | 0        | 0.008     |
# | Test2::V0                 | 0        | 1.302204  |
# +---------------------------+----------+-----------+
# +-----------------------------+----------+-----------+
# | RUNTIME REQUIRES            | REQUIRED | INSTALLED |
# +-----------------------------+----------+-----------+
# | Astro::Coord::ECI           | 0.131    | 0.131     |
# | Astro::Coord::ECI::Moon     | 0.131    | 0.131     |
# | Astro::Coord::ECI::Star     | 0.131    | 0.131     |
# | Astro::Coord::ECI::Sun      | 0.131    | 0.131     |
# | Astro::Coord::ECI::TLE      | 0.131    | 0.131     |
# | Astro::Coord::ECI::TLE::Set | 0.131    | 0.131     |
# | Astro::Coord::ECI::Utils    | 0.131    | 0.131     |
# | Attribute::Handlers         | 0        | 1.01      |
# | Carp                        | 0        | 1.52      |
# | Clone                       | 0        | 0.46      |
# | Cwd                         | 0        | 3.80      |
# | Exporter                    | 0        | 5.78      |
# | File::Glob                  | 0        | 1.33      |
# | File::HomeDir               | 0.93     | 1.006     |
# | File::Spec                  | 0        | 3.80      |
# | File::Temp                  | 0        | 0.2311    |
# | Getopt::Long                | 2.39     | 2.58      |
# | I18N::LangTags              | 0        | 0.45      |
# | I18N::LangTags::Detect      | 0        | 1.08      |
# | IO::File                    | 1.14     | 1.55      |
# | IO::Handle                  | 0        | 1.55      |
# | IPC::System::Simple         | 0        | 1.30      |
# | List::Util                  | 0        | 1.68      |
# | POSIX                       | 0        | 1.97      |
# | Scalar::Util                | 1.26     | 1.68      |
# | Template                    | 2.21     | 3.102     |
# | Template::Provider          | 2.21     | 3.100     |
# | Text::Abbrev                | 0        | 1.02      |
# | Text::ParseWords            | 0        | 3.31      |
# | Text::Wrap                  | 0        | 2024.001  |
# | Time::Local                 | 0        | 1.30      |
# | constant                    | 0        | 1.33      |
# | lib                         | 0        | 0.65      |
# | parent                      | 0        | 0.238     |
# | strict                      | 0        | 1.12      |
# | utf8                        | 0        | 1.24      |
# | warnings                    | 0        | 1.51      |
# +-----------------------------+----------+-----------+
# +----------------------------------+----------+---------------+
# | OPTIONAL MODULES                 | REQUIRED | INSTALLED     |
# +----------------------------------+----------+---------------+
# | Astro::Coord::ECI::TLE::Iridium  | 0        | not installed |
# | Astro::SIMBAD::Client            | 0        | not installed |
# | Astro::SpaceTrack                | 0.105    | 0.164         |
# | Browser::Open                    | 0        | 0.04          |
# | Date::Manip                      | 0        | 6.93          |
# | DateTime                         | 0        | 1.65          |
# | DateTime::Calendar::Christian    | 0.06     | not installed |
# | DateTime::TimeZone               | 0        | 2.62          |
# | Geo::Coder::OSM                  | 0        | not installed |
# | Geo::WebService::Elevation::USGS | 0        | not installed |
# | LWP::Protocol                    | 0        | 6.77          |
# | LWP::UserAgent                   | 0        | 6.77          |
# | Term::ReadLine                   | 0        | 1.17          |
# | Time::HiRes                      | 0        | 1.9767        |
# | URI                              | 0        | 5.28          |
# +----------------------------------+----------+---------------+
t/basic.t .......................... ok
t/complete.t ....................... skipped: Term::ReadLine::Perl not available
t/format.t ......................... ok
t/format_dump.t .................... ok
t/format_template.t ................ ok
t/format_time.t .................... ok
t/format_time_datetime_cldr.t ...... ok
t/format_time_datetime_strftime.t .. ok
t/format_time_posix_strftime.t ..... ok
t/format_value.t ................... ok
t/geocode_osm.t .................... skipped: Geo::Coder::OSM not available
t/locale.t ......................... ok
t/macro_code.t ..................... ok
t/parse_time_code.t ................ ok
t/parse_time_date_manip_5.t ........ ok
t/parse_time_date_manip_6.t ........ skipped: Date::Manip zone is 'etc/utc' but DateTime zone is 'UTC'
t/parse_time_epoch.t ............... ok
t/parse_time_iso8601.t ............. ok
t/read_file.t ...................... ok
t/rewrite.t ........................ ok
t/tokenize.t ....................... ok
t/whole_app.t ...................... ok
All tests successful.

Test Summary Report
-------------------
t/whole_app.t                    (Wstat: 0 Tests: 270 Failed: 0)
  TODO passed:   231
Files=22, Tests=1006, 15 wallclock secs ( 0.11 usr  0.05 sys + 13.36 cusr  1.39 csys = 14.91 CPU)
Result: PASS

------------------------------
PREREQUISITES
------------------------------

Prerequisite modules loaded:

requires:

    Module                      Need  Have    
    --------------------------- ----- --------
    Astro::Coord::ECI           0.131 0.131   
    Astro::Coord::ECI::Moon     0.131 0.131   
    Astro::Coord::ECI::Star     0.131 0.131   
    Astro::Coord::ECI::Sun      0.131 0.131   
    Astro::Coord::ECI::TLE      0.131 0.131   
    Astro::Coord::ECI::TLE::Set 0.131 0.131   
    Astro::Coord::ECI::Utils    0.131 0.131   
    Attribute::Handlers         0     1.01    
    Carp                        0     1.52    
    Clone                       0     0.46    
    constant                    0     1.33    
    Cwd                         0     3.80    
    Exporter                    0     5.78    
    File::Glob                  0     1.33    
    File::HomeDir               0.93  1.006   
    File::Spec                  0     3.80    
    File::Temp                  0     0.2311  
    Getopt::Long                2.39  2.58    
    I18N::LangTags              0     0.45    
    I18N::LangTags::Detect      0     1.08    
    IO::File                    1.14  1.55    
    IO::Handle                  0     1.55    
    IPC::System::Simple         0     1.30    
    lib                         0     0.65    
    List::Util                  0     1.68    
    parent                      0     0.238   
    perl                        5.008 5.034003
    POSIX                       0     1.97    
    Scalar::Util                1.26  1.68    
    strict                      0     1.12    
    Template                    2.21  3.102   
    Template::Provider          2.21  3.100   
    Text::Abbrev                0     1.02    
    Text::ParseWords            0     3.31    
    Text::Wrap                  0     2024.001
    Time::Local                 0     1.30    
    utf8                        0     1.24    
    warnings                    0     1.51    

build_requires:

    Module                      Need  Have    
    --------------------------- ----- --------
    Test2::Plugin::BailOnFail   0     1.302204
    Test2::Tools::Explain       0     0.02    
    Test2::Tools::LoadModule    0     0.008   
    Test2::V0                   0     1.302204

configure_requires:

    Module                      Need  Have    
    --------------------------- ----- --------
    lib                         0     0.65    
    Module::Build               0.42  0.4234  
    strict                      0     1.12    
    warnings                    0     1.51    


------------------------------
ENVIRONMENT AND OTHER CONTEXT
------------------------------

Environment variables:

    LANG = en_US.UTF-8
    PATH = /usr/local/bin:/usr/bin:/bin:/usr/local/sbin:/usr/sbin:/sbin:/home/cpansand/bin/linux-gnu:/home/cpansand/bin/sh:/home/cpansand/bin:/usr/games:/home/cpansand/devel:/home/eserte/src/srezic-misc/scripts
    PERL5LIB = /home/cpansand/.cpan/build/2024121616/Test2-Tools-LoadModule-0.008-2/blib/arch:/home/cpansand/.cpan/build/2024121616/Test2-Tools-LoadModule-0.008-2/blib/lib
    PERL5OPT = 
    PERL5_CPANPLUS_IS_RUNNING = 3901648
    PERL5_CPAN_IS_RUNNING = 3901648
    PERL5_CPAN_IS_RUNNING_IN_RECURSION = 3901253,3901648
    PERLDOC = -MPod::Perldoc::ToTextOverstrike
    PERL_BATCH = yes
    PERL_CANARY_STABILITY_NOPROMPT = 1
    PERL_CPAN_REPORTER_CONFIG = /var/tmp/cpansmoker-1023/2024121616/cpanreporter_000_config.ini
    PERL_EXTUTILS_AUTOINSTALL = --defaultdeps
    PERL_USE_UNSAFE_INC = 1
    SHELL = /usr/bin/zsh
    TERM = screen
    TMPDIR = /var/tmp/cpansmoker-1023/2024121616

Perl special variables (and OS-specific diagnostics, for MSWin32):

    $^X = /opt/perl-5.34.3/bin/perl
    $UID/$EUID = 1023 / 1023
    $GID = 1023 1023
    $EGID = 1023 1023

Perl module toolchain versions installed:

    Module              Have    
    ------------------- --------
    CPAN                2.28    
    CPAN::Meta          2.150010
    Cwd                 3.80    
    ExtUtils::CBuilder  0.280236
    ExtUtils::Command   7.70    
    ExtUtils::Install   2.20    
    ExtUtils::MakeMaker 7.70    
    ExtUtils::Manifest  1.75    
    ExtUtils::ParseXS   3.43    
    File::Spec          3.80    
    JSON                4.10    
    JSON::PP            4.16    
    Module::Build       0.4234  
    Module::Signature   0.88    
    Parse::CPAN::Meta   2.150010
    Test2               1.302204
    Test::Harness       3.50    
    Test::More          1.302204
    YAML                1.31    
    YAML::Syck          1.34    
    version             0.9930  


--

Summary of my perl5 (revision 5 version 34 subversion 3) configuration:
   
  Platform:
    osname=linux
    osvers=6.6.8-100.fc38.x86_64
    archname=x86_64-linux
    uname='linux fedora39-2gb-hil 6.6.8-100.fc38.x86_64 #1 smp preempt_dynamic thu dec 21 04:01:45 utc 2023 x86_64 gnulinux '
    config_args='-ds -e -Dprefix=/opt/perl-5.34.3 -Dcf_email=srezic@cpan.org'
    hint=recommended
    useposix=true
    d_sigaction=define
    useithreads=undef
    usemultiplicity=undef
    use64bitint=define
    use64bitall=define
    uselongdouble=undef
    usemymalloc=n
    default_inc_excludes_dot=define
  Compiler:
    cc='cc'
    ccflags ='-fwrapv -fno-strict-aliasing -pipe -fstack-protector-strong -I/usr/local/include -D_LARGEFILE_SOURCE -D_FILE_OFFSET_BITS=64 -D_FORTIFY_SOURCE=2'
    optimize='-O2'
    cppflags='-fwrapv -fno-strict-aliasing -pipe -fstack-protector-strong -I/usr/local/include'
    ccversion=''
    gccversion='13.2.1 20231205 (Red Hat 13.2.1-6)'
    gccosandvers=''
    intsize=4
    longsize=8
    ptrsize=8
    doublesize=8
    byteorder=12345678
    doublekind=3
    d_longlong=define
    longlongsize=8
    d_longdbl=define
    longdblsize=16
    longdblkind=3
    ivtype='long'
    ivsize=8
    nvtype='double'
    nvsize=8
    Off_t='off_t'
    lseeksize=8
    alignbytes=8
    prototype=define
  Linker and Libraries:
    ld='cc'
    ldflags =' -fstack-protector-strong -L/usr/local/lib'
    libpth=/usr/local/lib /usr/lib /usr/lib64 /usr/local/lib64
    libs=-lpthread -ldb -ldl -lm -lcrypt -lutil -lc
    perllibs=-lpthread -ldl -lm -lcrypt -lutil -lc
    libc=/lib/../lib64/libc.so.6
    so=so
    useshrplib=false
    libperl=libperl.a
    gnulibc_version='2.38'
  Dynamic Linking:
    dlsrc=dl_dlopen.xs
    dlext=so
    d_dlsymun=undef
    ccdlflags='-Wl,-E'
    cccdlflags='-fPIC'
    lddlflags='-shared -O2 -L/usr/local/lib -fstack-protector-strong'


Characteristics of this binary (from libperl): 
  Compile-time options:
    HAS_TIMES
    PERLIO_LAYERS
    PERL_COPY_ON_WRITE
    PERL_DONT_CREATE_GVSV
    PERL_MALLOC_WRAP
    PERL_OP_PARENT
    PERL_PRESERVE_IVUV
    USE_64_BIT_ALL
    USE_64_BIT_INT
    USE_LARGE_FILES
    USE_LOCALE
    USE_LOCALE_COLLATE
    USE_LOCALE_CTYPE
    USE_LOCALE_NUMERIC
    USE_LOCALE_TIME
    USE_PERLIO
    USE_PERL_ATOF
  Built under linux
  Compiled at Dec 26 2023 16:13:28
  %ENV:
    PERL5LIB="/home/cpansand/.cpan/build/2024121616/Test2-Tools-LoadModule-0.008-2/blib/arch:/home/cpansand/.cpan/build/2024121616/Test2-Tools-LoadModule-0.008-2/blib/lib"
    PERL5OPT=""
    PERL5_CPANPLUS_IS_RUNNING="3901648"
    PERL5_CPAN_IS_RUNNING="3901648"
    PERL5_CPAN_IS_RUNNING_IN_RECURSION="3901253,3901648"
    PERLDOC="-MPod::Perldoc::ToTextOverstrike"
    PERL_BATCH="yes"
    PERL_CANARY_STABILITY_NOPROMPT="1"
    PERL_CPAN_REPORTER_CONFIG="/var/tmp/cpansmoker-1023/2024121616/cpanreporter_000_config.ini"
    PERL_EXTUTILS_AUTOINSTALL="--defaultdeps"
    PERL_USE_UNSAFE_INC="1"
  @INC:
    /home/cpansand/.cpan/build/2024121616/Test2-Tools-LoadModule-0.008-2/blib/arch
    /home/cpansand/.cpan/build/2024121616/Test2-Tools-LoadModule-0.008-2/blib/lib
    /opt/perl-5.34.3/lib/site_perl/5.34.3/x86_64-linux
    /opt/perl-5.34.3/lib/site_perl/5.34.3
    /opt/perl-5.34.3/lib/5.34.3/x86_64-linux
    /opt/perl-5.34.3/lib/5.34.3
    .