Report for AppleII-LibA2-0.201

Back
From: metabase:user:0d96120c-29e2-11e5-b049-ede3035d37de
Subject: PASS AppleII-LibA2-0.201 v5.23.1 GNU/Linux
Date: 2015-11-12T21:33:57Z

This distribution has been tested as part of the CPAN Testers
project, supporting the Perl programming language.  See
http://wiki.cpantesters.org/ for more information or email
questions to cpan-testers-discuss@perl.org


--
Dear Christopher J. Madsen,

This is a computer-generated report for AppleII-LibA2-0.201
on perl 5.23.1, created by CPAN-Reporter-1.2015.

Thank you for uploading your work to CPAN.  Congratulations!
All tests were successful.

Sections of this report:

    * Tester comments
    * Program output
    * Prerequisites
    * Environment and other context

------------------------------
TESTER COMMENTS
------------------------------

Additional comments from tester:

this report is from an automated smoke testing program
and was not reviewed by a human for accuracy

CPU            : Intel(R) Xeon(R) CPU E5-2680 v2 @ 2.80GHz
MEMORY         : 1.94 GB
ARCH           : x86_64
OS             : CentOS 7.1.1503
KERNEL         : Linux 4.1.5-x86_64-linode61
VIRTUALIZATION : xen0

------------------------------
PROGRAM OUTPUT
------------------------------

Output from './Build test':

# Listing %INC
#              AutoLoader 5.74
#                    Carp 1.38
#                  Config 5.023001
#              DynaLoader 1.33
#                Exporter 5.72
#                   Fcntl 1.13
#              File::Glob 1.24
#            Getopt::Long 2.48
#                      IO 1.35
#                IO::File 1.16
#              IO::Handle 1.35
#            IO::Seekable 1.1
#                   POSIX 1.55
#             SelectSaver 1.02
#                  Symbol 1.07
#          Term::ReadLine 1.15
#     Term::ReadLine::Gnu 1.28
# Term::ReadLine::Gnu::XS 1.28
#    Term::ReadLine::Perl 1.0303
#               Tie::Hash 1.05
#                XSLoader 0.20
#                constant 1.33
#                overload 1.26
#             overloading 0.02
#                  strict 1.09
#                    vars 1.03
#                warnings 1.33
#      warnings::register 1.04
t/00-all_prereqs.t .. ok
# Testing AppleII-LibA2 0.201
t/00-load.t ......... ok
t/10-Disk.t ......... ok
t/20-ProDOS.t ....... ok
t/30-PDsubs.t ....... ok
All tests successful.
Files=5, Tests=120,  1 wallclock secs ( 0.04 usr  0.05 sys +  0.22 cusr  0.07 csys =  0.38 CPU)
Result: PASS

------------------------------
PREREQUISITES
------------------------------

Prerequisite modules loaded:

requires:

    Module               Need  Have    
    -------------------- ----- --------
    Carp                 0     1.38    
    Exporter             5.57  5.72    
    File::Glob           0     1.24    
    Getopt::Long         2.10  2.48    
    IO::File             0     1.16    
    perl                 5.006 5.023001
    POSIX                0     1.55    
    Term::ReadLine       0     1.15    

build_requires:

    Module               Need  Have    
    -------------------- ----- --------
    FindBin              0     1.51    
    Module::Build        0     0.4214  
    Test::More           0     1.001014

configure_requires:

    Module               Need  Have    
    -------------------- ----- --------
    Cwd                  0     3.56    
    Module::Build        0.21  0.4214  
    perl                 5.006 5.023001

opt_requires:

    Module               Need  Have    
    -------------------- ----- --------
    Term::ReadLine::Perl 0     1.0303  


------------------------------
ENVIRONMENT AND OTHER CONTEXT
------------------------------

Environment variables:

    AUTOMATED_TESTING = 1
    LANG = en_US.UTF-8
    NONINTERACTIVE_TESTING = 1
    PATH = /home/jmaslak/perl5/perlbrew/bin:/home/jmaslak/perl5/perlbrew/perls/perl-5.23.1-thread-multi/bin:/home/jmaslak/perltest/bin:/home/jmaslak/perltest/bin:/home/jmaslak/perltest/bin:/home/jmaslak/perl5/perlbrew/bin:/home/jmaslak/perl5/perlbrew/perls/perl-5.23.1/bin:/usr/local/bin:/usr/bin:/usr/local/sbin:/usr/sbin:/usr/sbin:~/perltest/bin:/usr/sbin:~/perltest/bin
    PERL5LIB = 
    PERL5OPT = 
    PERL5_CPANPLUS_IS_RUNNING = 9737
    PERL5_CPAN_IS_RUNNING = 9737
    PERL5_CPAN_IS_RUNNING_IN_RECURSION = 28017,9737
    PERLBREW_BASHRC_VERSION = 0.73
    PERLBREW_HOME = /home/jmaslak/.perlbrew
    PERLBREW_LIB = 
    PERLBREW_MANPATH = /home/jmaslak/perl5/perlbrew/perls/perl-5.23.1-thread-multi/man
    PERLBREW_PATH = /home/jmaslak/perl5/perlbrew/bin:/home/jmaslak/perl5/perlbrew/perls/perl-5.23.1-thread-multi/bin
    PERLBREW_PERL = perl-5.23.1-thread-multi
    PERLBREW_ROOT = /home/jmaslak/perl5/perlbrew
    PERLBREW_VERSION = 0.73
    PERL_CR_SMOKER_CURRENT = AppleII-LibA2-0.201
    PERL_EXTUTILS_AUTOINSTALL = --defaultdeps
    PERL_LOCAL_LIB_ROOT = 
    PERL_MM_USE_DEFAULT = 1
    SHELL = /bin/bash
    TERM = screen

Perl special variables (and OS-specific diagnostics, for MSWin32):

    $^X = /home/jmaslak/perl5/perlbrew/perls/perl-5.23.1-thread-multi/bin/perl5.23.1
    $UID/$EUID = 1000 / 1000
    $GID = 1000 10 1000
    $EGID = 1000 10 1000

Perl module toolchain versions installed:

    Module              Have    
    ------------------- --------
    CPAN                2.11    
    CPAN::Meta          2.150005
    Cwd                 3.56    
    ExtUtils::CBuilder  0.280224
    ExtUtils::Command   7.10    
    ExtUtils::Install   2.04    
    ExtUtils::MakeMaker 7.10    
    ExtUtils::Manifest  1.70    
    ExtUtils::ParseXS   3.30    
    File::Spec          3.56    
    JSON                2.90    
    JSON::PP            2.27300 
    Module::Build       0.4214  
    Module::Signature   n/a     
    Parse::CPAN::Meta   1.4417  
    Test::Harness       3.35    
    Test::More          1.001014
    YAML                1.15    
    YAML::Syck          n/a     
    version             0.9912  


--

Summary of my perl5 (revision 5 version 23 subversion 1) configuration:
   
  Platform:
    osname=linux, osvers=4.1.0-x86_64-linode59, archname=x86_64-linux-thread-multi
    uname='linux cpantest.antelope.net 4.1.0-x86_64-linode59 #1 smp mon jun 22 10:39:23 edt 2015 x86_64 x86_64 x86_64 gnulinux '
    config_args='-de -Dprefix=/home/jmaslak/perl5/perlbrew/perls/perl-5.23.1-thread-multi -Dusethreads -Dusemultiplicity -Dusedevel -Aeval:scriptdir=/home/jmaslak/perl5/perlbrew/perls/perl-5.23.1-thread-multi/bin'
    hint=recommended, useposix=true, d_sigaction=define
    useithreads=define, usemultiplicity=define
    use64bitint=define, use64bitall=define, uselongdouble=undef
    usemymalloc=n, bincompat5005=undef
  Compiler:
    cc='cc', ccflags ='-D_REENTRANT -D_GNU_SOURCE -fwrapv -fno-strict-aliasing -pipe -fstack-protector-strong -I/usr/local/include -D_LARGEFILE_SOURCE -D_FILE_OFFSET_BITS=64 -D_FORTIFY_SOURCE=2',
    optimize='-O2',
    cppflags='-D_REENTRANT -D_GNU_SOURCE -fwrapv -fno-strict-aliasing -pipe -fstack-protector-strong -I/usr/local/include'
    ccversion='', gccversion='4.8.3 20140911 (Red Hat 4.8.3-9)', gccosandvers=''
    intsize=4, longsize=8, ptrsize=8, doublesize=8, byteorder=12345678, doublekind=3
    d_longlong=define, longlongsize=8, d_longdbl=define, longdblsize=16, longdblkind=3
    ivtype='long', ivsize=8, nvtype='double', nvsize=8, Off_t='off_t', lseeksize=8
    alignbytes=8, prototype=define
  Linker and Libraries:
    ld='cc', ldflags =' -fstack-protector-strong -L/usr/local/lib'
    libpth=/usr/local/lib /usr/lib /lib/../lib64 /usr/lib/../lib64 /lib /lib64 /usr/lib64 /usr/local/lib64
    libs=-lpthread -lnsl -ldl -lm -lcrypt -lutil -lc
    perllibs=-lpthread -lnsl -ldl -lm -lcrypt -lutil -lc
    libc=libc-2.17.so, so=so, useshrplib=false, libperl=libperl.a
    gnulibc_version='2.17'
  Dynamic Linking:
    dlsrc=dl_dlopen.xs, dlext=so, d_dlsymun=undef, ccdlflags='-Wl,-E'
    cccdlflags='-fPIC', lddlflags='-shared -O2 -L/usr/local/lib -fstack-protector-strong'


Characteristics of this binary (from libperl): 
  Compile-time options: HAS_TIMES MULTIPLICITY PERLIO_LAYERS
                        PERL_COPY_ON_WRITE PERL_DONT_CREATE_GVSV
                        PERL_HASH_FUNC_ONE_AT_A_TIME_HARD
                        PERL_IMPLICIT_CONTEXT PERL_MALLOC_WRAP
                        PERL_PRESERVE_IVUV PERL_USE_DEVEL USE_64_BIT_ALL
                        USE_64_BIT_INT USE_ITHREADS USE_LARGE_FILES
                        USE_LOCALE USE_LOCALE_COLLATE USE_LOCALE_CTYPE
                        USE_LOCALE_NUMERIC USE_LOCALE_TIME USE_PERLIO
                        USE_PERL_ATOF USE_REENTRANT_API
  Locally applied patches:
	Devel::PatchPerl 1.38
  Built under linux
  Compiled at Jul 26 2015 05:10:58
  %ENV:
    PERL5LIB=""
    PERL5OPT=""
    PERL5_CPANPLUS_IS_RUNNING="9737"
    PERL5_CPAN_IS_RUNNING="9737"
    PERL5_CPAN_IS_RUNNING_IN_RECURSION="28017,9737"
    PERLBREW_BASHRC_VERSION="0.73"
    PERLBREW_HOME="/home/jmaslak/.perlbrew"
    PERLBREW_LIB=""
    PERLBREW_MANPATH="/home/jmaslak/perl5/perlbrew/perls/perl-5.23.1-thread-multi/man"
    PERLBREW_PATH="/home/jmaslak/perl5/perlbrew/bin:/home/jmaslak/perl5/perlbrew/perls/perl-5.23.1-thread-multi/bin"
    PERLBREW_PERL="perl-5.23.1-thread-multi"
    PERLBREW_ROOT="/home/jmaslak/perl5/perlbrew"
    PERLBREW_VERSION="0.73"
    PERL_CR_SMOKER_CURRENT="AppleII-LibA2-0.201"
    PERL_EXTUTILS_AUTOINSTALL="--defaultdeps"
    PERL_LOCAL_LIB_ROOT=""
    PERL_MM_USE_DEFAULT="1"
  @INC:
    /home/jmaslak/perl5/perlbrew/perls/perl-5.23.1-thread-multi/lib/site_perl/5.23.1/x86_64-linux-thread-multi
    /home/jmaslak/perl5/perlbrew/perls/perl-5.23.1-thread-multi/lib/site_perl/5.23.1
    /home/jmaslak/perl5/perlbrew/perls/perl-5.23.1-thread-multi/lib/5.23.1/x86_64-linux-thread-multi
    /home/jmaslak/perl5/perlbrew/perls/perl-5.23.1-thread-multi/lib/5.23.1
    .