Back
From: metabase:user:314402c4-2aae-11df-837a-5e0a49663a4f
Subject: PASS XML-Compile-WSS-Signature-2.01 v5.18.4 FreeBSD
Date: 2015-12-30T15:43:31Z
This distribution has been tested as part of the CPAN Testers
project, supporting the Perl programming language. See
http://wiki.cpantesters.org/ for more information or email
questions to cpan-testers-discuss@perl.org
--
Dear Mark Overmeer,
This is a computer-generated report for XML-Compile-WSS-Signature-2.01
on perl 5.18.4, created by CPAN-Reporter-1.2015.
Thank you for uploading your work to CPAN. Congratulations!
All tests were successful.
Sections of this report:
* Tester comments
* Program output
* Prerequisites
* Environment and other context
------------------------------
TESTER COMMENTS
------------------------------
Additional comments from tester:
none provided
------------------------------
PROGRAM OUTPUT
------------------------------
Output from '/usr/bin/make test':
PERL_DL_NONLAZY=1 "/usr/perl5.18.4p/bin/perl5.18.4" "-MExtUtils::Command::MM" "-MTest::Harness" "-e" "undef *Test::Harness::Switches; test_harness(0, 'blib/lib', 'blib/arch')" t/*.t
Test::More version 1.001014
XML::Compile version 1.51
XML::Compile::Cache version 1.04
XML::Compile::SOAP version 3.13
XML::Compile::WSS version 1.13
XML::Compile::C14N version 0.94
Digest version 1.17
Crypt::OpenSSL::RSA version 0.28
Crypt::OpenSSL::CA not installed
Crypt::OpenSSL::X509 version 1.806
Crypt::DSA version 1.17
t/01use.t ......... ok
t/02templs.t ...... ok
mistake: tag `Usage' not used at wsse:SecurityTokenReference
at /usr/perl5.18.4p/lib/site_perl/5.18.4/XML/Compile/Translate/Writer.pm line 532
t/20signature.t ... ok
t/30signedinfo.t .. ok
mistake: tag `Usage' not used at wsse:SecurityTokenReference
at /usr/perl5.18.4p/lib/site_perl/5.18.4/XML/Compile/Translate/Writer.pm line 532
mistake: tag `Usage' not used at wsse:SecurityTokenReference
at /usr/perl5.18.4p/lib/site_perl/5.18.4/XML/Compile/Translate/Writer.pm line 532
t/31keyinfo.t ..... ok
All tests successful.
Files=5, Tests=65, 6 wallclock secs ( 0.17 usr 0.02 sys + 5.15 cusr 0.60 csys = 5.95 CPU)
Result: PASS
------------------------------
PREREQUISITES
------------------------------
Prerequisite modules loaded:
requires:
Module Need Have
-------------------- ----- --------
Crypt::OpenSSL::RSA 0 0.28
Crypt::OpenSSL::X509 1.803 1.806
Digest 0 1.17
Digest::HMAC_SHA1 0 1.03
Digest::SHA1 0 2.13
Encode 0 2.78
File::Basename 0 2.84
File::Glob 0 1.20_01
File::Slurp 0 9999.19
Log::Report 0.92 1.05
MIME::Base64 0 3.15
Scalar::Util 0 1.42
Test::More 0.54 1.001014
XML::Compile 1.29 1.51
XML::Compile::C14N 0.93 0.94
XML::Compile::Cache 0.995 1.04
XML::Compile::SOAP 2.33 3.13
XML::Compile::WSS 1.09 1.13
XML::LibXML 2.00 2.0123
build_requires:
Module Need Have
-------------------- ----- --------
ExtUtils::MakeMaker 0 7.10
configure_requires:
Module Need Have
-------------------- ----- --------
ExtUtils::MakeMaker 0 7.10
------------------------------
ENVIRONMENT AND OTHER CONTEXT
------------------------------
Environment variables:
LC_ALL = de_DE.ISO8859-1
PATH = /usr/local/bin:/usr/bin:/bin:/usr/local/sbin:/usr/sbin:/sbin:/home/cpansand/bin/freebsd10.1:/home/cpansand/bin/sh:/home/cpansand/bin:/usr/games:/home/cpansand/devel:/home/eserte/src/srezic-misc/scripts
PERL5LIB = /home/cpansand/.cpan/build/2015123015/XML-Compile-C14N-0.94-Naa7LF/blib/arch:/home/cpansand/.cpan/build/2015123015/XML-Compile-C14N-0.94-Naa7LF/blib/lib:/home/cpansand/.cpan/build/2015123015/XML-Compile-WSS-1.13-yBOWYM/blib/arch:/home/cpansand/.cpan/build/2015123015/XML-Compile-WSS-1.13-yBOWYM/blib/lib:/home/cpansand/.cpan/build/2015123015/Convert-X509-0.3-w2pI3w/blib/arch:/home/cpansand/.cpan/build/2015123015/Convert-X509-0.3-w2pI3w/blib/lib
PERL5OPT =
PERL5_CPANPLUS_IS_RUNNING = 98898
PERL5_CPAN_IS_RUNNING = 98898
PERL5_CPAN_IS_RUNNING_IN_RECURSION = 98881,98898
PERLDOC = -MPod::Perldoc::ToTextOverstrike
PERL_BATCH = yes
PERL_CANARY_STABILITY_NOPROMPT = 1
PERL_CPAN_REPORTER_CONFIG = /var/tmp/cpansmoker-1023/2015123015/cpanreporter_000_config.ini
PERL_EXTUTILS_AUTOINSTALL = --defaultdeps
SHELL = /usr/local/bin/zsh
TERM = screen
TMPDIR = /var/tmp/cpansmoker-1023/2015123015
Perl special variables (and OS-specific diagnostics, for MSWin32):
$^X = /usr/perl5.18.4p/bin/perl5.18.4
$UID/$EUID = 1023 / 1023
$GID = 1023 1023
$EGID = 1023 1023
Perl module toolchain versions installed:
Module Have
------------------- --------
CPAN 2.00
CPAN::Meta 2.150005
Cwd 3.60
ExtUtils::CBuilder 0.280224
ExtUtils::Command 7.10
ExtUtils::Install 1.59
ExtUtils::MakeMaker 7.10
ExtUtils::Manifest 1.70
ExtUtils::ParseXS 3.24
File::Spec 3.60
JSON 2.90
JSON::PP 2.27300
Module::Build 0.4214
Module::Signature 0.79
Parse::CPAN::Meta 1.4417
Test::Harness 3.35
Test::More 1.001014
YAML 1.15
YAML::Syck 1.29
version 0.9912
--
Summary of my perl5 (revision 5 version 18 subversion 4) configuration:
Platform:
osname=freebsd, osvers=10.1-release, archname=amd64-freebsd
uname='freebsd cvrsnica-freebsd-101.herceg.de 10.1-release freebsd 10.1-release #0 r274401: tue nov 11 21:02:49 utc 2014 root@releng1.nyi.freebsd.org:usrobjusrsrcsysgeneric amd64 '
config_args='-ds -e -Dprefix=/usr/perl5.18.4p'
hint=recommended, useposix=true, d_sigaction=define
useithreads=undef, usemultiplicity=undef
useperlio=define, d_sfio=undef, uselargefiles=define, usesocks=undef
use64bitint=define, use64bitall=define, uselongdouble=undef
usemymalloc=n, bincompat5005=undef
Compiler:
cc='cc', ccflags ='-DHAS_FPSETMASK -DHAS_FLOATINGPOINT_H -fno-strict-aliasing -pipe -fstack-protector -I/usr/local/include',
optimize='-O',
cppflags='-DHAS_FPSETMASK -DHAS_FLOATINGPOINT_H -fno-strict-aliasing -pipe -fstack-protector -I/usr/local/include'
ccversion='', gccversion='4.2.1 Compatible FreeBSD Clang 3.4.1 (tags/RELEASE_34/dot1-final 208032)', gccosandvers=''
intsize=4, longsize=8, ptrsize=8, doublesize=8, byteorder=12345678
d_longlong=define, longlongsize=8, d_longdbl=define, longdblsize=16
ivtype='long', ivsize=8, nvtype='double', nvsize=8, Off_t='off_t', lseeksize=8
alignbytes=8, prototype=define
Linker and Libraries:
ld='cc', ldflags ='-pthread -Wl,-E -fstack-protector -L/usr/local/lib'
libpth=/usr/lib /usr/local/lib
libs=-lgdbm -lm -lcrypt -lutil -lc
perllibs=-lm -lcrypt -lutil -lc
libc=, so=so, useshrplib=false, libperl=libperl.a
gnulibc_version=''
Dynamic Linking:
dlsrc=dl_dlopen.xs, dlext=so, d_dlsymun=undef, ccdlflags=' '
cccdlflags='-DPIC -fPIC', lddlflags='-shared -L/usr/local/lib -fstack-protector'
Characteristics of this binary (from libperl):
Compile-time options: HAS_TIMES PERLIO_LAYERS PERL_DONT_CREATE_GVSV
PERL_HASH_FUNC_ONE_AT_A_TIME_HARD PERL_MALLOC_WRAP
PERL_PRESERVE_IVUV PERL_SAWAMPERSAND USE_64_BIT_ALL
USE_64_BIT_INT USE_LARGE_FILES USE_LOCALE
USE_LOCALE_COLLATE USE_LOCALE_CTYPE
USE_LOCALE_NUMERIC USE_PERLIO USE_PERL_ATOF
Built under freebsd
Compiled at Apr 4 2015 13:03:15
%ENV:
PERL5LIB="/home/cpansand/.cpan/build/2015123015/XML-Compile-C14N-0.94-Naa7LF/blib/arch:/home/cpansand/.cpan/build/2015123015/XML-Compile-C14N-0.94-Naa7LF/blib/lib:/home/cpansand/.cpan/build/2015123015/XML-Compile-WSS-1.13-yBOWYM/blib/arch:/home/cpansand/.cpan/build/2015123015/XML-Compile-WSS-1.13-yBOWYM/blib/lib:/home/cpansand/.cpan/build/2015123015/Convert-X509-0.3-w2pI3w/blib/arch:/home/cpansand/.cpan/build/2015123015/Convert-X509-0.3-w2pI3w/blib/lib"
PERL5OPT=""
PERL5_CPANPLUS_IS_RUNNING="98898"
PERL5_CPAN_IS_RUNNING="98898"
PERL5_CPAN_IS_RUNNING_IN_RECURSION="98881,98898"
PERLDOC="-MPod::Perldoc::ToTextOverstrike"
PERL_BATCH="yes"
PERL_CANARY_STABILITY_NOPROMPT="1"
PERL_CPAN_REPORTER_CONFIG="/var/tmp/cpansmoker-1023/2015123015/cpanreporter_000_config.ini"
PERL_EXTUTILS_AUTOINSTALL="--defaultdeps"
@INC:
/home/cpansand/.cpan/build/2015123015/XML-Compile-C14N-0.94-Naa7LF/blib/arch
/home/cpansand/.cpan/build/2015123015/XML-Compile-C14N-0.94-Naa7LF/blib/lib
/home/cpansand/.cpan/build/2015123015/XML-Compile-WSS-1.13-yBOWYM/blib/arch
/home/cpansand/.cpan/build/2015123015/XML-Compile-WSS-1.13-yBOWYM/blib/lib
/home/cpansand/.cpan/build/2015123015/Convert-X509-0.3-w2pI3w/blib/arch
/home/cpansand/.cpan/build/2015123015/Convert-X509-0.3-w2pI3w/blib/lib
/usr/perl5.18.4p/lib/site_perl/5.18.4/amd64-freebsd
/usr/perl5.18.4p/lib/site_perl/5.18.4
/usr/perl5.18.4p/lib/5.18.4/amd64-freebsd
/usr/perl5.18.4p/lib/5.18.4
.