Path-Dispatcher v1.08 Perl 5 v5.41.9 i86pc-solaris-64
- Status
- Pass
- From
- Carlos Guevara
- Dist
-
Path-Dispatcher v1.08
- Platform
- Perl 5 v5.41.9 i86pc-solaris-64
- Date
- 2025-02-16 01:33:52
- ID
- 1401c24e-ec06-11ef-a9fc-d58c854aa98d
This distribution has been tested as part of the CPAN Testers
project, supporting the Perl programming language. See
http://wiki.cpantesters.org/ for more information or email
questions to cpan-testers-discuss@perl.org
--
Dear Karen Etheridge,
This is a computer-generated report for Path-Dispatcher-1.08
on perl 5.41.9, created by CPAN-Reporter-1.2020.
Thank you for uploading your work to CPAN. Congratulations!
All tests were successful.
Sections of this report:
* Tester comments
* Program output
* Prerequisites
* Environment and other context
------------------------------
TESTER COMMENTS
------------------------------
Additional comments from tester:
this report is from an automated smoke testing program
and was not reviewed by a human for accuracy
------------------------------
PROGRAM OUTPUT
------------------------------
Output from './Build test':
#
# Versions for all modules listed in MYMETA.json (including optional ones):
#
# === Configure Requires ===
#
# Module Want Have
# ------------------- ----- -----
# ExtUtils::MakeMaker any 7.70
# Module::Build::Tiny 0.034 0.051
#
# === Test Requires ===
#
# Module Want Have
# ---------------- ---- --------
# File::Spec any 3.93
# Module::Metadata any 1.000038
# Test::Fatal any 0.017
# Test::More any 1.302209
# strict any 1.13
# warnings any 1.72
#
# === Test Recommends ===
#
# Module Want Have
# ---------- -------- --------
# CPAN::Meta 2.120900 2.150010
#
# === Runtime Requires ===
#
# Module Want Have
# --------------- ---- --------
# Carp any 1.54
# Moo any 2.005005
# Moo::Role any 2.005005
# MooX::TypeTiny any 0.002003
# Scalar::Util any 1.68_01
# Try::Tiny any 0.32
# Type::Tiny any 2.006000
# Type::Utils any 2.006000
# Types::Standard any 2.006000
# constant any 1.33
# overload any 1.39
#
# === Other Modules ===
#
# Module Have
# --------------- ------
# Encode 3.21
# File::Temp 0.2311
# JSON::PP 4.16
# Module::Runtime 0.016
# Sub::Name 0.28
# YAML 1.31
# autodie 2.37
#
t/00-report-prereqs.t .......... ok
t/000-compile.t ................ ok
t/001-api.t .................... ok
t/002-rule.t ................... ok
t/003-404.t .................... ok
t/004-run.t .................... ok
t/005-multi-rule.t ............. ok
t/006-abort.t .................. ok
t/007-coderef-matcher.t ........ ok
t/009-args.t ................... ok
t/010-return.t ................. ok
t/011-next-rule.t .............. ok
t/012-under.t .................. ok
t/013-tokens.t ................. ok
t/014-tokens-prefix.t .......... ok
t/015-regex-prefix.t ........... ok
t/017-intersection.t ........... ok
t/018-metadata.t ............... ok
t/019-intersection-metadata.t .. ok
t/022-numbers-undef.t .......... ok
t/023-alternation.t ............ ok
t/024-sequence.t ............... ok
t/025-sequence-custom-rule.t ... ok
t/026-named-captures.t ......... ok
t/027-custom-named-captures.t .. ok
t/030-exceptions.t ............. ok
t/031-structured-match.t ....... ok
t/032-multiple-delimiter.t ..... ok
t/033-chain.t .................. ok
t/100-match-object.t ........... ok
t/200-payload.t ................ ok
t/901-return-values.t .......... ok
t/902-coderef.t ................ ok
All tests successful.
Files=33, Tests=216, 5 wallclock secs ( 0.11 usr 0.09 sys + 4.49 cusr 0.75 csys = 5.44 CPU)
Result: PASS
------------------------------
PREREQUISITES
------------------------------
Prerequisite modules loaded:
requires:
Module Need Have
------------------- -------- --------
Carp 0 1.54
constant 0 1.33
Moo 0 2.005005
Moo::Role 0 2.005005
MooX::TypeTiny 0 0.002003
overload 0 1.39
perl 5.008001 5.041009
Scalar::Util 0 1.68_01
Try::Tiny 0 0.32
Type::Tiny 0 2.006000
Type::Utils 0 2.006000
Types::Standard 0 2.006000
build_requires:
Module Need Have
------------------- -------- --------
File::Spec 0 3.93
Module::Metadata 0 1.000038
perl 5.008001 5.041009
strict 0 1.13
Test::Fatal 0 0.017
Test::More 0 1.302209
warnings 0 1.72
configure_requires:
Module Need Have
------------------- -------- --------
ExtUtils::MakeMaker 0 7.70
Module::Build::Tiny 0.034 0.051
perl 5.008001 5.041009
------------------------------
ENVIRONMENT AND OTHER CONTEXT
------------------------------
Environment variables:
AUTOMATED_TESTING = 1
DATE_MANIP_TEST_DM5 = 1
LANG = en_US.UTF-8
LC_ALL = C
NONINTERACTIVE_TESTING = 1
NO_NETWORK_TESTING = 1
PATH = /export/home/cpan/bin/perl/bin:/usr/bin:/usr/sbin:/sbin:/opt/ooce/bin:/usr/gnu/bin
PERL5LIB =
PERL5OPT =
PERL5_CPANPLUS_IS_RUNNING = 11639
PERL5_CPAN_IS_RUNNING = 11639
PERL_MM_USE_DEFAULT = 1
PERL_USE_UNSAFE_INC = 1
SHELL = /bin/bash
TERM = screen
Perl special variables (and OS-specific diagnostics, for MSWin32):
$^X = /export/home/cpan/bin/perl/bin/perl5.41.9
$UID/$EUID = 101 / 101
$GID = 1 1
$EGID = 1 1
Perl module toolchain versions installed:
Module Have
------------------- --------
CPAN 2.38
CPAN::Meta 2.150010
Cwd 3.92
ExtUtils::CBuilder 0.280240
ExtUtils::Command 7.70
ExtUtils::Install 2.22
ExtUtils::MakeMaker 7.70
ExtUtils::Manifest 1.75
ExtUtils::ParseXS 3.57
File::Spec 3.93
JSON 4.10
JSON::PP 4.16
Module::Build 0.4234
Module::Signature 0.89
Parse::CPAN::Meta 2.150010
Test2 1.302209
Test::Harness 3.50
Test::More 1.302209
YAML 1.31
YAML::Syck 1.34
version 0.9933
--
Summary of my perl5 (revision 5 version 41 subversion 9) configuration:
Commit id: 7fdc8f34fd20e8d4bec8de19f64c869b152f1249
Platform:
osname=solaris
osvers=2.11
archname=i86pc-solaris-64
uname='sunos cjg-omniosce 5.11 omnios-r151050-49db1c0a0fe i86pc i386 i86pc '
config_args='-des -Dprefix=/export/home/cpan/bin/perl -Dscriptdir=/export/home/cpan/bin/perl/bin -Dusedevel -Duse64bitall -Dcc=gcc'
hint=recommended
useposix=true
d_sigaction=define
useithreads=undef
usemultiplicity=undef
use64bitint=define
use64bitall=define
uselongdouble=undef
usemymalloc=n
default_inc_excludes_dot=define
Compiler:
cc='gcc'
ccflags ='-m64 -fwrapv -fno-strict-aliasing -pipe -fstack-protector-strong -D_LARGEFILE_SOURCE -D_FILE_OFFSET_BITS=64 -D_FORTIFY_SOURCE=2'
optimize='-O'
cppflags='-m64 -fwrapv -fno-strict-aliasing -pipe -fstack-protector-strong'
ccversion=''
gccversion='13.2.0'
gccosandvers=''
intsize=4
longsize=8
ptrsize=8
doublesize=8
byteorder=12345678
doublekind=3
d_longlong=define
longlongsize=8
d_longdbl=define
longdblsize=16
longdblkind=3
ivtype='long'
ivsize=8
nvtype='double'
nvsize=8
Off_t='off_t'
lseeksize=8
alignbytes=8
prototype=define
Linker and Libraries:
ld='gcc'
ldflags =' -m64 -fstack-protector-strong -L/usr/gnu/lib '
libpth=/opt/gcc-13/lib /usr/lib /usr/gnu/lib /usr/ccs/lib
libs=-lpthread -lsocket -lnsl -ldl -lm -lc
perllibs=-lpthread -lsocket -lnsl -ldl -lm -lc
libc=/lib/libc.so
so=so
useshrplib=true
libperl=libperl.so
gnulibc_version=''
Dynamic Linking:
dlsrc=dl_dlopen.xs
dlext=so
d_dlsymun=undef
ccdlflags=' -R /export/home/cpan/bin/perl/lib/5.41.9/i86pc-solaris-64/CORE'
cccdlflags='-fPIC'
lddlflags=' -shared -m64 -L/usr/gnu/lib -fstack-protector-strong'
Characteristics of this binary (from libperl):
Compile-time options:
HAS_LONG_DOUBLE
HAS_STRTOLD
HAS_TIMES
PERLIO_LAYERS
PERL_COPY_ON_WRITE
PERL_DONT_CREATE_GVSV
PERL_HASH_FUNC_SIPHASH13
PERL_HASH_USE_SBOX32
PERL_MALLOC_WRAP
PERL_OP_PARENT
PERL_PRESERVE_IVUV
PERL_USE_DEVEL
PERL_USE_SAFE_PUTENV
USE_64_BIT_ALL
USE_64_BIT_INT
USE_LARGE_FILES
USE_LOCALE
USE_LOCALE_COLLATE
USE_LOCALE_CTYPE
USE_LOCALE_NUMERIC
USE_LOCALE_TIME
USE_PERLIO
USE_PERL_ATOF
Built under solaris
Compiled at Feb 15 2025 07:32:45
%ENV:
PERL5LIB=""
PERL5OPT=""
PERL5_CPANPLUS_IS_RUNNING="11639"
PERL5_CPAN_IS_RUNNING="11639"
PERL_MM_USE_DEFAULT="1"
PERL_USE_UNSAFE_INC="1"
@INC:
/export/home/cpan/bin/perl/lib/site_perl/5.41.9/i86pc-solaris-64
/export/home/cpan/bin/perl/lib/site_perl/5.41.9
/export/home/cpan/bin/perl/lib/5.41.9/i86pc-solaris-64
/export/home/cpan/bin/perl/lib/5.41.9
.