Back
From: metabase:user:c3c0e594-9be7-11e0-ab6b-65b017dc0771
Subject: PASS Sys-Config-Manage-0.0.1 v5.12.4 Mac OS X
Date: 2011-08-05T05:59:27Z
This distribution has been tested as part of the CPAN Testers
project, supporting the Perl programming language. See
http://wiki.cpantesters.org/ for more information or email
questions to cpan-testers-discuss@perl.org
--
Dear Zane C. Bowers-Hadley,
This is a computer-generated report for Sys-Config-Manage-0.0.1
on perl 5.12.4, created by CPAN-Reporter-1.1902.
Thank you for uploading your work to CPAN. Congratulations!
All tests were successful.
Sections of this report:
* Tester comments
* Program output
* Prerequisites
* Environment and other context
------------------------------
TESTER COMMENTS
------------------------------
Additional comments from tester:
this report is from an automated smoke testing program
and was not reviewed by a human for accuracy
------------------------------
PROGRAM OUTPUT
------------------------------
Output from '/usr/bin/make test':
PERL_DL_NONLAZY=1 /Users/fh/perl5/perlbrew/perls/perl-5.12.4/bin/perl "-MExtUtils::Command::MM" "-e" "test_harness(0, 'blib/lib', 'blib/arch')" t/*.t
# Testing Sys::Config::Manage 0.0.1, Perl 5.012004, /Users/fh/perl5/perlbrew/perls/perl-5.12.4/bin/perl
t/00-load.t ....... ok
t/boilerplate.t ... ok
t/manifest.t ...... skipped: Author tests not required for installation
t/pod-coverage.t .. ok
t/pod.t ........... ok
All tests successful.
Test Summary Report
-------------------
t/boilerplate.t (Wstat: 0 Tests: 3 Failed: 0)
TODO passed: 1-3
Files=5, Tests=6, 1 wallclock secs ( 0.02 usr 0.01 sys + 0.19 cusr 0.03 csys = 0.25 CPU)
Result: PASS
------------------------------
PREREQUISITES
------------------------------
Prerequisite modules loaded:
requires:
Module Need Have
------------------ ---- -------
Cwd 0 3.33
File::Basename 0 2.78
File::Copy 0 2.18
File::Find 0 1.15
File::Path 0 2.08_01
String::ShellQuote 0 1.04
Sys::Hostname 0 1.11
Test::More 0 0.98
------------------------------
ENVIRONMENT AND OTHER CONTEXT
------------------------------
Environment variables:
AUTOMATED_TESTING = 1
LANG = de_AT.UTF-8
PATH = /Users/fh/perl5/perlbrew/bin:/Users/fh/perl5/perlbrew/perls/current/bin:/opt/local/bin:/opt/local/sbin:/usr/bin:/bin:/usr/sbin:/sbin:/usr/local/bin:/usr/X11/bin
PATH_WITHOUT_PERLBREW = /opt/local/bin:/opt/local/sbin:/usr/bin:/bin:/usr/sbin:/sbin:/usr/local/bin:/usr/X11/bin
PERL5LIB = /Users/fh/.cpan/build/String-ShellQuote-1.04-xp_y7U/blib/arch:/Users/fh/.cpan/build/String-ShellQuote-1.04-xp_y7U/blib/lib
PERL5OPT =
PERL5_CPANPLUS_IS_RUNNING = 70055
PERL5_CPAN_IS_RUNNING = 70055
PERL5_CPAN_IS_RUNNING_IN_RECURSION = 81238,70055
PERLBREW_PATH = /Users/fh/perl5/perlbrew/bin:/Users/fh/perl5/perlbrew/perls/current/bin
PERLBREW_PERL = perl-5.12.4
PERLBREW_ROOT = /Users/fh/perl5/perlbrew
PERLBREW_VERSION = 0.19
PERL_CR_SMOKER_CURRENT = Sys-Config-Manage-0.0.1
PERL_EXTUTILS_AUTOINSTALL = --defaultdeps
PERL_MM_USE_DEFAULT = 1
SHELL = /bin/bash
TERM = screen.linux
TMPDIR = /var/folders/zk/zkvqmgtoEAWHIV1swpIMnk+++TI/-Tmp-/
Perl special variables (and OS-specific diagnostics, for MSWin32):
$^X = /Users/fh/perl5/perlbrew/perls/perl-5.12.4/bin/perl
$UID/$EUID = 501 / 501
$GID = 20 20 402 204 100 98 81 80 79 61 12 401
$EGID = 20 20 402 204 100 98 81 80 79 61 12 401
Perl module toolchain versions installed:
Module Have
------------------- ------
CPAN 1.9600
Cwd 3.33
ExtUtils::CBuilder 0.27
ExtUtils::Command 1.16
ExtUtils::Install 1.55
ExtUtils::MakeMaker 6.56
ExtUtils::Manifest 1.57
ExtUtils::ParseXS 2.21
File::Spec 3.33
Module::Build 0.3603
Module::Signature n/a
Test::Harness 3.17
Test::More 0.98
YAML 0.73
YAML::Syck 1.17
version 0.82
--
Summary of my perl5 (revision 5 version 12 subversion 4) configuration:
Platform:
osname=darwin, osvers=10.7.0, archname=darwin-2level
uname='darwin lerchenferse.local 10.7.0 darwin kernel version 10.7.0: sat jan 29 15:17:16 pst 2011; root:xnu-1504.9.37~1release_i386 i386 '
config_args='-de -Dprefix=/Users/fh/perl5/perlbrew/perls/perl-5.12.4'
hint=recommended, useposix=true, d_sigaction=define
useithreads=undef, usemultiplicity=undef
useperlio=define, d_sfio=undef, uselargefiles=define, usesocks=undef
use64bitint=define, use64bitall=define, uselongdouble=undef
usemymalloc=n, bincompat5005=undef
Compiler:
cc='cc', ccflags ='-fno-common -DPERL_DARWIN -no-cpp-precomp -fno-strict-aliasing -pipe -fstack-protector -I/opt/local/include',
optimize='-O3',
cppflags='-no-cpp-precomp -fno-common -DPERL_DARWIN -no-cpp-precomp -fno-strict-aliasing -pipe -fstack-protector -I/opt/local/include'
ccversion='', gccversion='4.2.1 (Based on Apple Inc. build 5658) (LLVM build 2335.9)', gccosandvers=''
intsize=4, longsize=8, ptrsize=8, doublesize=8, byteorder=12345678
d_longlong=define, longlongsize=8, d_longdbl=define, longdblsize=16
ivtype='long', ivsize=8, nvtype='double', nvsize=8, Off_t='off_t', lseeksize=8
alignbytes=8, prototype=define
Linker and Libraries:
ld='env MACOSX_DEPLOYMENT_TARGET=10.3 cc', ldflags =' -fstack-protector -L/opt/local/lib'
libpth=/opt/local/lib /usr/lib
libs=-lgdbm -ldbm -ldl -lm -lutil -lc
perllibs=-ldl -lm -lutil -lc
libc=/usr/lib/libc.dylib, so=dylib, useshrplib=false, libperl=libperl.a
gnulibc_version=''
Dynamic Linking:
dlsrc=dl_dlopen.xs, dlext=bundle, d_dlsymun=undef, ccdlflags=' '
cccdlflags=' ', lddlflags=' -bundle -undefined dynamic_lookup -L/opt/local/lib -fstack-protector'
Characteristics of this binary (from libperl):
Compile-time options: PERL_DONT_CREATE_GVSV PERL_MALLOC_WRAP USE_64_BIT_ALL
USE_64_BIT_INT USE_LARGE_FILES USE_PERLIO
USE_PERL_ATOF
Built under darwin
Compiled at Jun 20 2011 14:51:14
%ENV:
PERL5LIB="/Users/fh/.cpan/build/String-ShellQuote-1.04-xp_y7U/blib/arch:/Users/fh/.cpan/build/String-ShellQuote-1.04-xp_y7U/blib/lib"
PERL5OPT=""
PERL5_CPANPLUS_IS_RUNNING="70055"
PERL5_CPAN_IS_RUNNING="70055"
PERL5_CPAN_IS_RUNNING_IN_RECURSION="81238,70055"
PERLBREW_PATH="/Users/fh/perl5/perlbrew/bin:/Users/fh/perl5/perlbrew/perls/current/bin"
PERLBREW_PERL="perl-5.12.4"
PERLBREW_ROOT="/Users/fh/perl5/perlbrew"
PERLBREW_VERSION="0.19"
PERL_CR_SMOKER_CURRENT="Sys-Config-Manage-0.0.1"
PERL_EXTUTILS_AUTOINSTALL="--defaultdeps"
PERL_MM_USE_DEFAULT="1"
@INC:
/Users/fh/.cpan/build/String-ShellQuote-1.04-xp_y7U/blib/arch
/Users/fh/.cpan/build/String-ShellQuote-1.04-xp_y7U/blib/lib
/Users/fh/perl5/perlbrew/perls/perl-5.12.4/lib/site_perl/5.12.4/darwin-2level
/Users/fh/perl5/perlbrew/perls/perl-5.12.4/lib/site_perl/5.12.4
/Users/fh/perl5/perlbrew/perls/perl-5.12.4/lib/5.12.4/darwin-2level
/Users/fh/perl5/perlbrew/perls/perl-5.12.4/lib/5.12.4
.