Report for Reaction-0.002005

Back
From: metabase:user:314402c4-2aae-11df-837a-5e0a49663a4f
Subject: PASS Reaction-0.002005 v5.10.1 GNU/Linux
Date: 2015-03-29T19:30:37Z

This distribution has been tested as part of the CPAN Testers
project, supporting the Perl programming language.  See
http://wiki.cpantesters.org/ for more information or email
questions to cpan-testers-discuss@perl.org


--
Dear Justin Hunter,

This is a computer-generated report for Reaction-0.002005
on perl 5.10.1, created by CPAN-Reporter-1.2011.

Thank you for uploading your work to CPAN.  Congratulations!
All tests were successful.

Sections of this report:

    * Tester comments
    * Program output
    * Prerequisites
    * Environment and other context

------------------------------
TESTER COMMENTS
------------------------------

Additional comments from tester:

none provided

------------------------------
PROGRAM OUTPUT
------------------------------

Output from '/usr/bin/make test':

PERL_DL_NONLAZY=1 "/bbbike/perl-5.10.1/bin/perl" "-MExtUtils::Command::MM" "-MTest::Harness" "-e" "undef *Test::Harness::Switches; test_harness(0, 'inc', 'blib/lib', 'blib/arch')" t/00componentui_compiles.t t/01app.t t/04load_all.t t/05reflect_attr_from.t t/im_dbic.t t/ui_focus_stack.t t/ui_view.t t/ui_viewport.t t/uncheck_bool_field.t
Class::MOP::load_class is deprecated at /opt/perl-5.10.1/lib/site_perl/5.10.1/x86_64-linux/Class/MOP.pm line 69.
	Class::MOP::load_class("ComponentUI::TestModel") called at /tmpfs/.cpan-build/Reaction-0.002005-A7CJW1/blib/lib/Catalyst/Model/Reaction/InterfaceModel/DBIC.pm line 24
	Catalyst::Model::Reaction::InterfaceModel::DBIC::COMPONENT("ComponentUI::Model::TestModel", "ComponentUI", HASH(0x62f6eb0)) called at /opt/perl-5.10.1/lib/site_perl/5.10.1/Catalyst.pm line 2853
	eval {...} called at /opt/perl-5.10.1/lib/site_perl/5.10.1/Catalyst.pm line 2853
	Catalyst::setup_component("ComponentUI", "ComponentUI::Model::TestModel") called at /opt/perl-5.10.1/lib/site_perl/5.10.1/Catalyst.pm line 2783
	Catalyst::setup_components("ComponentUI") called at /opt/perl-5.10.1/lib/site_perl/5.10.1/Catalyst.pm line 1298
	Catalyst::setup("ComponentUI") called at /tmpfs/.cpan-build/Reaction-0.002005-A7CJW1/blib/lib/ComponentUI.pm line 32
	require ComponentUI.pm called at t/00componentui_compiles.t line 7
	main::BEGIN() called at /tmpfs/.cpan-build/Reaction-0.002005-A7CJW1/blib/lib/ComponentUI.pm line 0
	eval {...} called at /tmpfs/.cpan-build/Reaction-0.002005-A7CJW1/blib/lib/ComponentUI.pm line 0
	eval 'package main;

#line 7 t/00componentui_compiles.t
use ComponentUI @{$args[0]};
1;

;' called at /opt/perl-5.10.1/lib/5.10.1/Test/More.pm line 993
	Test::More::_eval("package main;\x{a}\x{a}#line 7 t/00componentui_compiles.t\x{a}use Compone"..., ARRAY(0x205ee78)) called at /opt/perl-5.10.1/lib/5.10.1/Test/More.pm line 968
	Test::More::use_ok("ComponentUI") called at t/00componentui_compiles.t line 7
Class::MOP::load_class is deprecated at /opt/perl-5.10.1/lib/site_perl/5.10.1/x86_64-linux/Class/MOP.pm line 69.
	Class::MOP::load_class("Reaction::InterfaceModel::Object") called at /tmpfs/.cpan-build/Reaction-0.002005-A7CJW1/blib/lib/Reaction/InterfaceModel/Reflector/DBIC.pm line 149
	Reaction::InterfaceModel::Reflector::DBIC::reflect_schema(Reaction::InterfaceModel::Reflector::DBIC=HASH(0x6d51b40), "model_class", "ComponentUI::TestModel", "schema_class", "RTest::TestDB", "sources", ARRAY(0x6d519f0)) called at /tmpfs/.cpan-build/Reaction-0.002005-A7CJW1/blib/lib/ComponentUI/TestModel.pm line 10
	require ComponentUI/TestModel.pm called at /opt/perl-5.10.1/lib/site_perl/5.10.1/Module/Runtime.pm line 317
	Module::Runtime::require_module("ComponentUI::TestModel") called at /opt/perl-5.10.1/lib/site_perl/5.10.1/Class/Load.pm line 180
	Class::Load::try {...} () called at /opt/perl-5.10.1/lib/site_perl/5.10.1/Try/Tiny.pm line 76
	eval {...} called at /opt/perl-5.10.1/lib/site_perl/5.10.1/Try/Tiny.pm line 72
	Try::Tiny::try(CODE(0x69b81d0), Try::Tiny::Catch=REF(0x68f4378)) called at /opt/perl-5.10.1/lib/site_perl/5.10.1/Class/Load.pm line 186
	Class::Load::try_load_class("ComponentUI::TestModel", undef) called at /opt/perl-5.10.1/lib/site_perl/5.10.1/Class/Load.pm line 41
	Class::Load::load_class("ComponentUI::TestModel") called at /tmpfs/.cpan-build/Reaction-0.002005-A7CJW1/blib/lib/Catalyst/Model/Reaction/InterfaceModel/DBIC.pm line 24
	Catalyst::Model::Reaction::InterfaceModel::DBIC::COMPONENT("ComponentUI::Model::TestModel", "ComponentUI", HASH(0x62f6eb0)) called at /opt/perl-5.10.1/lib/site_perl/5.10.1/Catalyst.pm line 2853
	eval {...} called at /opt/perl-5.10.1/lib/site_perl/5.10.1/Catalyst.pm line 2853
	Catalyst::setup_component("ComponentUI", "ComponentUI::Model::TestModel") called at /opt/perl-5.10.1/lib/site_perl/5.10.1/Catalyst.pm line 2783
	Catalyst::setup_components("ComponentUI") called at /opt/perl-5.10.1/lib/site_perl/5.10.1/Catalyst.pm line 1298
	Catalyst::setup("ComponentUI") called at /tmpfs/.cpan-build/Reaction-0.002005-A7CJW1/blib/lib/ComponentUI.pm line 32
	require ComponentUI.pm called at t/00componentui_compiles.t line 7
	main::BEGIN() called at /tmpfs/.cpan-build/Reaction-0.002005-A7CJW1/blib/lib/ComponentUI/TestModel.pm line 0
	eval {...} called at /tmpfs/.cpan-build/Reaction-0.002005-A7CJW1/blib/lib/ComponentUI/TestModel.pm line 0
	eval 'package main;

#line 7 t/00componentui_compiles.t
use ComponentUI @{$args[0]};
1;

;' called at /opt/perl-5.10.1/lib/5.10.1/Test/More.pm line 993
	Test::More::_eval("package main;\x{a}\x{a}#line 7 t/00componentui_compiles.t\x{a}use Compone"..., ARRAY(0x205ee78)) called at /opt/perl-5.10.1/lib/5.10.1/Test/More.pm line 968
	Test::More::use_ok("ComponentUI") called at t/00componentui_compiles.t line 7
Class::MOP::load_class is deprecated at /opt/perl-5.10.1/lib/site_perl/5.10.1/x86_64-linux/Class/MOP.pm line 69.
	Class::MOP::load_class("Reaction::InterfaceModel::Object") called at /tmpfs/.cpan-build/Reaction-0.002005-A7CJW1/blib/lib/Reaction/Class.pm line 123
	Reaction::Class::do_class_sub("Reaction::Class", "ComponentUI::TestModel::Foo", "ComponentUI::TestModel::Foo", "is", "Reaction::InterfaceModel::Object", "which", CODE(0x7024f68)) called at /tmpfs/.cpan-build/Reaction-0.002005-A7CJW1/blib/lib/Reaction/Class.pm line 86
	Reaction::Class::("ComponentUI::TestModel::Foo", "is", "Reaction::InterfaceModel::Object", "which", CODE(0x7024f68)) called at /tmpfs/.cpan-build/Reaction-0.002005-A7CJW1/blib/lib/ComponentUI/TestModel/Foo.pm line 8
	require ComponentUI/TestModel/Foo.pm called at /opt/perl-5.10.1/lib/site_perl/5.10.1/Module/Runtime.pm line 317
	Module::Runtime::require_module("ComponentUI::TestModel::Foo") called at /opt/perl-5.10.1/lib/site_perl/5.10.1/Class/Load.pm line 180
	Class::Load::try {...} () called at /opt/perl-5.10.1/lib/site_perl/5.10.1/Try/Tiny.pm line 76
	eval {...} called at /opt/perl-5.10.1/lib/site_perl/5.10.1/Try/Tiny.pm line 72
	Try::Tiny::try(CODE(0x703ca78), Try::Tiny::Catch=REF(0x704d998)) called at /opt/perl-5.10.1/lib/site_perl/5.10.1/Class/Load.pm line 186
	Class::Load::try_load_class("ComponentUI::TestModel::Foo", undef) called at /opt/perl-5.10.1/lib/site_perl/5.10.1/Class/Load.pm line 41
	Class::Load::load_class("ComponentUI::TestModel::Foo") called at /tmpfs/.cpan-build/Reaction-0.002005-A7CJW1/blib/lib/Reaction/InterfaceModel/Reflector/DBIC.pm line 892
	eval {...} called at /tmpfs/.cpan-build/Reaction-0.002005-A7CJW1/blib/lib/Reaction/InterfaceModel/Reflector/DBIC.pm line 892
	Reaction::InterfaceModel::Reflector::DBIC::_maybe_load_class(Reaction::InterfaceModel::Reflector::DBIC=HASH(0x6d51b40), "ComponentUI::TestModel::Foo") called at /tmpfs/.cpan-build/Reaction-0.002005-A7CJW1/blib/lib/Reaction/InterfaceModel/Reflector/DBIC.pm line 876
	Reaction::InterfaceModel::Reflector::DBIC::_load_or_create(Reaction::InterfaceModel::Reflector::DBIC=HASH(0x6d51b40), "ComponentUI::TestModel::Foo", "superclasses", ARRAY(0x6fa3138)) called at /tmpfs/.cpan-build/Reaction-0.002005-A7CJW1/blib/lib/Reaction/InterfaceModel/Reflector/DBIC.pm line 448
	Reaction::InterfaceModel::Reflector::DBIC::reflect_source_object(Reaction::InterfaceModel::Reflector::DBIC=HASH(0x6d51b40), "schema_class", "RTest::TestDB", "source_name", "Foo", "source_class", "RTest::TestDB::Foo", "parent_class", "ComponentUI::TestModel", ...) called at /tmpfs/.cpan-build/Reaction-0.002005-A7CJW1/blib/lib/Reaction/InterfaceModel/Reflector/DBIC.pm line 323
	Reaction::InterfaceModel::Reflector::DBIC::reflect_source(Reaction::InterfaceModel::Reflector::DBIC=HASH(0x6d51b40), "source_name", "Foo", "parent_class", "ComponentUI::TestModel", "schema_class", "RTest::TestDB", "source_class", "RTest::TestDB::Foo", ...) called at /tmpfs/.cpan-build/Reaction-0.002005-A7CJW1/blib/lib/Reaction/InterfaceModel/Reflector/DBIC.pm line 185
	Reaction::InterfaceModel::Reflector::DBIC::reflect_schema(Reaction::InterfaceModel::Reflector::DBIC=HASH(0x6d51b40), "model_class", "ComponentUI::TestModel", "schema_class", "RTest::TestDB", "sources", ARRAY(0x6d519f0)) called at /tmpfs/.cpan-build/Reaction-0.002005-A7CJW1/blib/lib/ComponentUI/TestModel.pm line 10
	require ComponentUI/TestModel.pm called at /opt/perl-5.10.1/lib/site_perl/5.10.1/Module/Runtime.pm line 317
	Module::Runtime::require_module("ComponentUI::TestModel") called at /opt/perl-5.10.1/lib/site_perl/5.10.1/Class/Load.pm line 180
	Class::Load::try {...} () called at /opt/perl-5.10.1/lib/site_perl/5.10.1/Try/Tiny.pm line 76
	eval {...} called at /opt/perl-5.10.1/lib/site_perl/5.10.1/Try/Tiny.pm line 72
	Try::Tiny::try(CODE(0x69b81d0), Try::Tiny::Catch=REF(0x68f4378)) called at /opt/perl-5.10.1/lib/site_perl/5.10.1/Class/Load.pm line 186
	Class::Load::try_load_class("ComponentUI::TestModel", undef) called at /opt/perl-5.10.1/lib/site_perl/5.10.1/Class/Load.pm line 41
	Class::Load::load_class("ComponentUI::TestModel") called at /tmpfs/.cpan-build/Reaction-0.002005-A7CJW1/blib/lib/Catalyst/Model/Reaction/InterfaceModel/DBIC.pm line 24
	Catalyst::Model::Reaction::InterfaceModel::DBIC::COMPONENT("ComponentUI::Model::TestModel", "ComponentUI", HASH(0x62f6eb0)) called at /opt/perl-5.10.1/lib/site_perl/5.10.1/Catalyst.pm line 2853
	eval {...} called at /opt/perl-5.10.1/lib/site_perl/5.10.1/Catalyst.pm line 2853
	Catalyst::setup_component("ComponentUI", "ComponentUI::Model::TestModel") called at /opt/perl-5.10.1/lib/site_perl/5.10.1/Catalyst.pm line 2783
	Catalyst::setup_components("ComponentUI") called at /opt/perl-5.10.1/lib/site_perl/5.10.1/Catalyst.pm line 1298
	Catalyst::setup("ComponentUI") called at /tmpfs/.cpan-build/Reaction-0.002005-A7CJW1/blib/lib/ComponentUI.pm line 32
	require ComponentUI.pm called at t/00componentui_compiles.t line 7
	main::BEGIN() called at /tmpfs/.cpan-build/Reaction-0.002005-A7CJW1/blib/lib/ComponentUI/TestModel/Foo.pm line 0
	eval {...} called at /tmpfs/.cpan-build/Reaction-0.002005-A7CJW1/blib/lib/ComponentUI/TestModel/Foo.pm line 0
	eval 'package main;

#line 7 t/00componentui_compiles.t
use ComponentUI @{$args[0]};
1;

;' called at /opt/perl-5.10.1/lib/5.10.1/Test/More.pm line 993
	Test::More::_eval("package main;\x{a}\x{a}#line 7 t/00componentui_compiles.t\x{a}use Compone"..., ARRAY(0x205ee78)) called at /opt/perl-5.10.1/lib/5.10.1/Test/More.pm line 968
	Test::More::use_ok("ComponentUI") called at t/00componentui_compiles.t line 7
t/00componentui_compiles.t .. ok
Class::MOP::load_class is deprecated at /opt/perl-5.10.1/lib/site_perl/5.10.1/x86_64-linux/Class/MOP.pm line 69.
	Class::MOP::load_class("ComponentUI::TestModel") called at /tmpfs/.cpan-build/Reaction-0.002005-A7CJW1/blib/lib/Catalyst/Model/Reaction/InterfaceModel/DBIC.pm line 24
	Catalyst::Model::Reaction::InterfaceModel::DBIC::COMPONENT("ComponentUI::Model::TestModel", "ComponentUI", HASH(0x4f11ef0)) called at /opt/perl-5.10.1/lib/site_perl/5.10.1/Catalyst.pm line 2853
	eval {...} called at /opt/perl-5.10.1/lib/site_perl/5.10.1/Catalyst.pm line 2853
	Catalyst::setup_component("ComponentUI", "ComponentUI::Model::TestModel") called at /opt/perl-5.10.1/lib/site_perl/5.10.1/Catalyst.pm line 2783
	Catalyst::setup_components("ComponentUI") called at /opt/perl-5.10.1/lib/site_perl/5.10.1/Catalyst.pm line 1298
	Catalyst::setup("ComponentUI") called at /tmpfs/.cpan-build/Reaction-0.002005-A7CJW1/blib/lib/ComponentUI.pm line 32
	require ComponentUI.pm called at /opt/perl-5.10.1/lib/site_perl/5.10.1/Module/Runtime.pm line 317
	Module::Runtime::require_module("ComponentUI") called at /opt/perl-5.10.1/lib/site_perl/5.10.1/Class/Load.pm line 180
	Class::Load::try {...} () called at /opt/perl-5.10.1/lib/site_perl/5.10.1/Try/Tiny.pm line 76
	eval {...} called at /opt/perl-5.10.1/lib/site_perl/5.10.1/Try/Tiny.pm line 72
	Try::Tiny::try(CODE(0x187fcc0), Try::Tiny::Catch=REF(0x187ff00)) called at /opt/perl-5.10.1/lib/site_perl/5.10.1/Class/Load.pm line 186
	Class::Load::try_load_class("ComponentUI", undef) called at /opt/perl-5.10.1/lib/site_perl/5.10.1/Class/Load.pm line 41
	Class::Load::load_class("ComponentUI") called at /opt/perl-5.10.1/lib/site_perl/5.10.1/Catalyst/Test.pm line 29
	Catalyst::Test::_build_request_export("Catalyst::Test", HASH(0x1c2a380)) called at /opt/perl-5.10.1/lib/site_perl/5.10.1/Catalyst/Test.pm line 92
	Catalyst::Test::__ANON__("Catalyst::Test", "all", HASH(0x1c2a338), HASH(0xc36fa8)) called at /opt/perl-5.10.1/lib/site_perl/5.10.1/Sub/Exporter.pm line 108
	Sub::Exporter::_expand_group("Catalyst::Test", HASH(0x1c38a20), ARRAY(0x1c25a58), HASH(0xc36fa8), HASH(0x1c2a3b0), HASH(0x1c38480)) called at /opt/perl-5.10.1/lib/site_perl/5.10.1/Sub/Exporter.pm line 39
	Sub::Exporter::_expand_groups("Catalyst::Test", HASH(0x1c38a20), ARRAY(0x1c38b58), HASH(0xc36fa8)) called at /opt/perl-5.10.1/lib/site_perl/5.10.1/Sub/Exporter.pm line 323
	Sub::Exporter::__ANON__("Catalyst::Test", "-all", HASH(0xc36f30)) called at /opt/perl-5.10.1/lib/site_perl/5.10.1/Catalyst/Test.pm line 155
	Catalyst::Test::import("Catalyst::Test", "ComponentUI") called at t/01app.t line 7
	main::BEGIN() called at /tmpfs/.cpan-build/Reaction-0.002005-A7CJW1/blib/lib/ComponentUI.pm line 0
	eval {...} called at /tmpfs/.cpan-build/Reaction-0.002005-A7CJW1/blib/lib/ComponentUI.pm line 0
	eval 'package main;

#line 7 t/01app.t
use Catalyst::Test @{$args[0]};
1;

;' called at /opt/perl-5.10.1/lib/5.10.1/Test/More.pm line 993
	Test::More::_eval("package main;\x{a}\x{a}#line 7 t/01app.t\x{a}use Catalyst::Test \@{\$args[0"..., ARRAY(0xbe8dd8)) called at /opt/perl-5.10.1/lib/5.10.1/Test/More.pm line 968
	Test::More::use_ok("Catalyst::Test", "ComponentUI") called at t/01app.t line 7
	main::BEGIN() called at /tmpfs/.cpan-build/Reaction-0.002005-A7CJW1/blib/lib/ComponentUI.pm line 0
	eval {...} called at /tmpfs/.cpan-build/Reaction-0.002005-A7CJW1/blib/lib/ComponentUI.pm line 0
Class::MOP::load_class is deprecated at /opt/perl-5.10.1/lib/site_perl/5.10.1/x86_64-linux/Class/MOP.pm line 69.
	Class::MOP::load_class("Reaction::InterfaceModel::Object") called at /tmpfs/.cpan-build/Reaction-0.002005-A7CJW1/blib/lib/Reaction/InterfaceModel/Reflector/DBIC.pm line 149
	Reaction::InterfaceModel::Reflector::DBIC::reflect_schema(Reaction::InterfaceModel::Reflector::DBIC=HASH(0x590d240), "model_class", "ComponentUI::TestModel", "schema_class", "RTest::TestDB", "sources", ARRAY(0x590d0f0)) called at /tmpfs/.cpan-build/Reaction-0.002005-A7CJW1/blib/lib/ComponentUI/TestModel.pm line 10
	require ComponentUI/TestModel.pm called at /opt/perl-5.10.1/lib/site_perl/5.10.1/Module/Runtime.pm line 317
	Module::Runtime::require_module("ComponentUI::TestModel") called at /opt/perl-5.10.1/lib/site_perl/5.10.1/Class/Load.pm line 180
	Class::Load::try {...} () called at /opt/perl-5.10.1/lib/site_perl/5.10.1/Try/Tiny.pm line 76
	eval {...} called at /opt/perl-5.10.1/lib/site_perl/5.10.1/Try/Tiny.pm line 72
	Try::Tiny::try(CODE(0x5571b70), Try::Tiny::Catch=REF(0x54b01d8)) called at /opt/perl-5.10.1/lib/site_perl/5.10.1/Class/Load.pm line 186
	Class::Load::try_load_class("ComponentUI::TestModel", undef) called at /opt/perl-5.10.1/lib/site_perl/5.10.1/Class/Load.pm line 41
	Class::Load::load_class("ComponentUI::TestModel") called at /tmpfs/.cpan-build/Reaction-0.002005-A7CJW1/blib/lib/Catalyst/Model/Reaction/InterfaceModel/DBIC.pm line 24
	Catalyst::Model::Reaction::InterfaceModel::DBIC::COMPONENT("ComponentUI::Model::TestModel", "ComponentUI", HASH(0x4f11ef0)) called at /opt/perl-5.10.1/lib/site_perl/5.10.1/Catalyst.pm line 2853
	eval {...} called at /opt/perl-5.10.1/lib/site_perl/5.10.1/Catalyst.pm line 2853
	Catalyst::setup_component("ComponentUI", "ComponentUI::Model::TestModel") called at /opt/perl-5.10.1/lib/site_perl/5.10.1/Catalyst.pm line 2783
	Catalyst::setup_components("ComponentUI") called at /opt/perl-5.10.1/lib/site_perl/5.10.1/Catalyst.pm line 1298
	Catalyst::setup("ComponentUI") called at /tmpfs/.cpan-build/Reaction-0.002005-A7CJW1/blib/lib/ComponentUI.pm line 32
	require ComponentUI.pm called at /opt/perl-5.10.1/lib/site_perl/5.10.1/Module/Runtime.pm line 317
	Module::Runtime::require_module("ComponentUI") called at /opt/perl-5.10.1/lib/site_perl/5.10.1/Class/Load.pm line 180
	Class::Load::try {...} () called at /opt/perl-5.10.1/lib/site_perl/5.10.1/Try/Tiny.pm line 76
	eval {...} called at /opt/perl-5.10.1/lib/site_perl/5.10.1/Try/Tiny.pm line 72
	Try::Tiny::try(CODE(0x187fcc0), Try::Tiny::Catch=REF(0x187ff00)) called at /opt/perl-5.10.1/lib/site_perl/5.10.1/Class/Load.pm line 186
	Class::Load::try_load_class("ComponentUI", undef) called at /opt/perl-5.10.1/lib/site_perl/5.10.1/Class/Load.pm line 41
	Class::Load::load_class("ComponentUI") called at /opt/perl-5.10.1/lib/site_perl/5.10.1/Catalyst/Test.pm line 29
	Catalyst::Test::_build_request_export("Catalyst::Test", HASH(0x1c2a380)) called at /opt/perl-5.10.1/lib/site_perl/5.10.1/Catalyst/Test.pm line 92
	Catalyst::Test::__ANON__("Catalyst::Test", "all", HASH(0x1c2a338), HASH(0xc36fa8)) called at /opt/perl-5.10.1/lib/site_perl/5.10.1/Sub/Exporter.pm line 108
	Sub::Exporter::_expand_group("Catalyst::Test", HASH(0x1c38a20), ARRAY(0x1c25a58), HASH(0xc36fa8), HASH(0x1c2a3b0), HASH(0x1c38480)) called at /opt/perl-5.10.1/lib/site_perl/5.10.1/Sub/Exporter.pm line 39
	Sub::Exporter::_expand_groups("Catalyst::Test", HASH(0x1c38a20), ARRAY(0x1c38b58), HASH(0xc36fa8)) called at /opt/perl-5.10.1/lib/site_perl/5.10.1/Sub/Exporter.pm line 323
	Sub::Exporter::__ANON__("Catalyst::Test", "-all", HASH(0xc36f30)) called at /opt/perl-5.10.1/lib/site_perl/5.10.1/Catalyst/Test.pm line 155
	Catalyst::Test::import("Catalyst::Test", "ComponentUI") called at t/01app.t line 7
	main::BEGIN() called at /tmpfs/.cpan-build/Reaction-0.002005-A7CJW1/blib/lib/ComponentUI/TestModel.pm line 0
	eval {...} called at /tmpfs/.cpan-build/Reaction-0.002005-A7CJW1/blib/lib/ComponentUI/TestModel.pm line 0
	eval 'package main;

#line 7 t/01app.t
use Catalyst::Test @{$args[0]};
1;

;' called at /opt/perl-5.10.1/lib/5.10.1/Test/More.pm line 993
	Test::More::_eval("package main;\x{a}\x{a}#line 7 t/01app.t\x{a}use Catalyst::Test \@{\$args[0"..., ARRAY(0xbe8dd8)) called at /opt/perl-5.10.1/lib/5.10.1/Test/More.pm line 968
	Test::More::use_ok("Catalyst::Test", "ComponentUI") called at t/01app.t line 7
	main::BEGIN() called at /tmpfs/.cpan-build/Reaction-0.002005-A7CJW1/blib/lib/ComponentUI/TestModel.pm line 0
	eval {...} called at /tmpfs/.cpan-build/Reaction-0.002005-A7CJW1/blib/lib/ComponentUI/TestModel.pm line 0
Class::MOP::load_class is deprecated at /opt/perl-5.10.1/lib/site_perl/5.10.1/x86_64-linux/Class/MOP.pm line 69.
	Class::MOP::load_class("Reaction::InterfaceModel::Object") called at /tmpfs/.cpan-build/Reaction-0.002005-A7CJW1/blib/lib/Reaction/Class.pm line 123
	Reaction::Class::do_class_sub("Reaction::Class", "ComponentUI::TestModel::Foo", "ComponentUI::TestModel::Foo", "is", "Reaction::InterfaceModel::Object", "which", CODE(0x5be0428)) called at /tmpfs/.cpan-build/Reaction-0.002005-A7CJW1/blib/lib/Reaction/Class.pm line 86
	Reaction::Class::("ComponentUI::TestModel::Foo", "is", "Reaction::InterfaceModel::Object", "which", CODE(0x5be0428)) called at /tmpfs/.cpan-build/Reaction-0.002005-A7CJW1/blib/lib/ComponentUI/TestModel/Foo.pm line 8
	require ComponentUI/TestModel/Foo.pm called at /opt/perl-5.10.1/lib/site_perl/5.10.1/Module/Runtime.pm line 317
	Module::Runtime::require_module("ComponentUI::TestModel::Foo") called at /opt/perl-5.10.1/lib/site_perl/5.10.1/Class/Load.pm line 180
	Class::Load::try {...} () called at /opt/perl-5.10.1/lib/site_perl/5.10.1/Try/Tiny.pm line 76
	eval {...} called at /opt/perl-5.10.1/lib/site_perl/5.10.1/Try/Tiny.pm line 72
	Try::Tiny::try(CODE(0x5bf8e08), Try::Tiny::Catch=REF(0x5c08d38)) called at /opt/perl-5.10.1/lib/site_perl/5.10.1/Class/Load.pm line 186
	Class::Load::try_load_class("ComponentUI::TestModel::Foo", undef) called at /opt/perl-5.10.1/lib/site_perl/5.10.1/Class/Load.pm line 41
	Class::Load::load_class("ComponentUI::TestModel::Foo") called at /tmpfs/.cpan-build/Reaction-0.002005-A7CJW1/blib/lib/Reaction/InterfaceModel/Reflector/DBIC.pm line 892
	eval {...} called at /tmpfs/.cpan-build/Reaction-0.002005-A7CJW1/blib/lib/Reaction/InterfaceModel/Reflector/DBIC.pm line 892
	Reaction::InterfaceModel::Reflector::DBIC::_maybe_load_class(Reaction::InterfaceModel::Reflector::DBIC=HASH(0x590d240), "ComponentUI::TestModel::Foo") called at /tmpfs/.cpan-build/Reaction-0.002005-A7CJW1/blib/lib/Reaction/InterfaceModel/Reflector/DBIC.pm line 876
	Reaction::InterfaceModel::Reflector::DBIC::_load_or_create(Reaction::InterfaceModel::Reflector::DBIC=HASH(0x590d240), "ComponentUI::TestModel::Foo", "superclasses", ARRAY(0x5b5d998)) called at /tmpfs/.cpan-build/Reaction-0.002005-A7CJW1/blib/lib/Reaction/InterfaceModel/Reflector/DBIC.pm line 448
	Reaction::InterfaceModel::Reflector::DBIC::reflect_source_object(Reaction::InterfaceModel::Reflector::DBIC=HASH(0x590d240), "schema_class", "RTest::TestDB", "source_name", "Foo", "source_class", "RTest::TestDB::Foo", "parent_class", "ComponentUI::TestModel", ...) called at /tmpfs/.cpan-build/Reaction-0.002005-A7CJW1/blib/lib/Reaction/InterfaceModel/Reflector/DBIC.pm line 323
	Reaction::InterfaceModel::Reflector::DBIC::reflect_source(Reaction::InterfaceModel::Reflector::DBIC=HASH(0x590d240), "source_name", "Foo", "parent_class", "ComponentUI::TestModel", "schema_class", "RTest::TestDB", "source_class", "RTest::TestDB::Foo", ...) called at /tmpfs/.cpan-build/Reaction-0.002005-A7CJW1/blib/lib/Reaction/InterfaceModel/Reflector/DBIC.pm line 185
	Reaction::InterfaceModel::Reflector::DBIC::reflect_schema(Reaction::InterfaceModel::Reflector::DBIC=HASH(0x590d240), "model_class", "ComponentUI::TestModel", "schema_class", "RTest::TestDB", "sources", ARRAY(0x590d0f0)) called at /tmpfs/.cpan-build/Reaction-0.002005-A7CJW1/blib/lib/ComponentUI/TestModel.pm line 10
	require ComponentUI/TestModel.pm called at /opt/perl-5.10.1/lib/site_perl/5.10.1/Module/Runtime.pm line 317
	Module::Runtime::require_module("ComponentUI::TestModel") called at /opt/perl-5.10.1/lib/site_perl/5.10.1/Class/Load.pm line 180
	Class::Load::try {...} () called at /opt/perl-5.10.1/lib/site_perl/5.10.1/Try/Tiny.pm line 76
	eval {...} called at /opt/perl-5.10.1/lib/site_perl/5.10.1/Try/Tiny.pm line 72
	Try::Tiny::try(CODE(0x5571b70), Try::Tiny::Catch=REF(0x54b01d8)) called at /opt/perl-5.10.1/lib/site_perl/5.10.1/Class/Load.pm line 186
	Class::Load::try_load_class("ComponentUI::TestModel", undef) called at /opt/perl-5.10.1/lib/site_perl/5.10.1/Class/Load.pm line 41
	Class::Load::load_class("ComponentUI::TestModel") called at /tmpfs/.cpan-build/Reaction-0.002005-A7CJW1/blib/lib/Catalyst/Model/Reaction/InterfaceModel/DBIC.pm line 24
	Catalyst::Model::Reaction::InterfaceModel::DBIC::COMPONENT("ComponentUI::Model::TestModel", "ComponentUI", HASH(0x4f11ef0)) called at /opt/perl-5.10.1/lib/site_perl/5.10.1/Catalyst.pm line 2853
	eval {...} called at /opt/perl-5.10.1/lib/site_perl/5.10.1/Catalyst.pm line 2853
	Catalyst::setup_component("ComponentUI", "ComponentUI::Model::TestModel") called at /opt/perl-5.10.1/lib/site_perl/5.10.1/Catalyst.pm line 2783
	Catalyst::setup_components("ComponentUI") called at /opt/perl-5.10.1/lib/site_perl/5.10.1/Catalyst.pm line 1298
	Catalyst::setup("ComponentUI") called at /tmpfs/.cpan-build/Reaction-0.002005-A7CJW1/blib/lib/ComponentUI.pm line 32
	require ComponentUI.pm called at /opt/perl-5.10.1/lib/site_perl/5.10.1/Module/Runtime.pm line 317
	Module::Runtime::require_module("ComponentUI") called at /opt/perl-5.10.1/lib/site_perl/5.10.1/Class/Load.pm line 180
	Class::Load::try {...} () called at /opt/perl-5.10.1/lib/site_perl/5.10.1/Try/Tiny.pm line 76
	eval {...} called at /opt/perl-5.10.1/lib/site_perl/5.10.1/Try/Tiny.pm line 72
	Try::Tiny::try(CODE(0x187fcc0), Try::Tiny::Catch=REF(0x187ff00)) called at /opt/perl-5.10.1/lib/site_perl/5.10.1/Class/Load.pm line 186
	Class::Load::try_load_class("ComponentUI", undef) called at /opt/perl-5.10.1/lib/site_perl/5.10.1/Class/Load.pm line 41
	Class::Load::load_class("ComponentUI") called at /opt/perl-5.10.1/lib/site_perl/5.10.1/Catalyst/Test.pm line 29
	Catalyst::Test::_build_request_export("Catalyst::Test", HASH(0x1c2a380)) called at /opt/perl-5.10.1/lib/site_perl/5.10.1/Catalyst/Test.pm line 92
	Catalyst::Test::__ANON__("Catalyst::Test", "all", HASH(0x1c2a338), HASH(0xc36fa8)) called at /opt/perl-5.10.1/lib/site_perl/5.10.1/Sub/Exporter.pm line 108
	Sub::Exporter::_expand_group("Catalyst::Test", HASH(0x1c38a20), ARRAY(0x1c25a58), HASH(0xc36fa8), HASH(0x1c2a3b0), HASH(0x1c38480)) called at /opt/perl-5.10.1/lib/site_perl/5.10.1/Sub/Exporter.pm line 39
	Sub::Exporter::_expand_groups("Catalyst::Test", HASH(0x1c38a20), ARRAY(0x1c38b58), HASH(0xc36fa8)) called at /opt/perl-5.10.1/lib/site_perl/5.10.1/Sub/Exporter.pm line 323
	Sub::Exporter::__ANON__("Catalyst::Test", "-all", HASH(0xc36f30)) called at /opt/perl-5.10.1/lib/site_perl/5.10.1/Catalyst/Test.pm line 155
	Catalyst::Test::import("Catalyst::Test", "ComponentUI") called at t/01app.t line 7
	main::BEGIN() called at /tmpfs/.cpan-build/Reaction-0.002005-A7CJW1/blib/lib/ComponentUI/TestModel/Foo.pm line 0
	eval {...} called at /tmpfs/.cpan-build/Reaction-0.002005-A7CJW1/blib/lib/ComponentUI/TestModel/Foo.pm line 0
	eval 'package main;

#line 7 t/01app.t
use Catalyst::Test @{$args[0]};
1;

;' called at /opt/perl-5.10.1/lib/5.10.1/Test/More.pm line 993
	Test::More::_eval("package main;\x{a}\x{a}#line 7 t/01app.t\x{a}use Catalyst::Test \@{\$args[0"..., ARRAY(0xbe8dd8)) called at /opt/perl-5.10.1/lib/5.10.1/Test/More.pm line 968
	Test::More::use_ok("Catalyst::Test", "ComponentUI") called at t/01app.t line 7
	main::BEGIN() called at /tmpfs/.cpan-build/Reaction-0.002005-A7CJW1/blib/lib/ComponentUI/TestModel/Foo.pm line 0
	eval {...} called at /tmpfs/.cpan-build/Reaction-0.002005-A7CJW1/blib/lib/ComponentUI/TestModel/Foo.pm line 0
Class::MOP::load_class is deprecated at /opt/perl-5.10.1/lib/site_perl/5.10.1/x86_64-linux/Class/MOP.pm line 69.
	Class::MOP::load_class("ComponentUI::RenderingContext::Site") called at /tmpfs/.cpan-build/Reaction-0.002005-A7CJW1/blib/lib/Reaction/UI/View.pm line 125
	eval {...} called at /tmpfs/.cpan-build/Reaction-0.002005-A7CJW1/blib/lib/Reaction/UI/View.pm line 125
	Reaction::UI::View::find_related_class(ComponentUI::View::Site=HASH(0x59f0a70), "RenderingContext") called at /tmpfs/.cpan-build/Reaction-0.002005-A7CJW1/blib/lib/Reaction/UI/View.pm line 43
	Reaction::UI::View::_build_rendering_context_class(ComponentUI::View::Site=HASH(0x59f0a70)) called at reader Reaction::UI::View::rendering_context_class (defined at /tmpfs/.cpan-build/Reaction-0.002005-A7CJW1/blib/lib/Reaction/UI/View.pm line 29) line 7
	Reaction::UI::View::rendering_context_class(ComponentUI::View::Site=HASH(0x59f0a70)) called at /tmpfs/.cpan-build/Reaction-0.002005-A7CJW1/blib/lib/Reaction/UI/View.pm line 134
	Reaction::UI::View::create_rendering_context(ComponentUI::View::Site=HASH(0x59f0a70)) called at /tmpfs/.cpan-build/Reaction-0.002005-A7CJW1/blib/lib/Reaction/UI/View.pm line 60
	Reaction::UI::View::render_window(ComponentUI::View::Site=HASH(0x59f0a70), Reaction::UI::Window=HASH(0x6015d08)) called at /tmpfs/.cpan-build/Reaction-0.002005-A7CJW1/blib/lib/Reaction/UI/Window.pm line 74
	Reaction::UI::Window::flush_view(Reaction::UI::Window=HASH(0x6015d08)) called at /tmpfs/.cpan-build/Reaction-0.002005-A7CJW1/blib/lib/Reaction/UI/Window.pm line 36
	Reaction::UI::Window::flush(Reaction::UI::Window=HASH(0x6015d08)) called at /tmpfs/.cpan-build/Reaction-0.002005-A7CJW1/blib/lib/Reaction/UI/Controller/Root.pm line 38
	Reaction::UI::Controller::Root::end(ComponentUI::Controller::Root=HASH(0x6012a10), ComponentUI=HASH(0x6006b30)) called at /opt/perl-5.10.1/lib/site_perl/5.10.1/Catalyst/Action.pm line 65
	Catalyst::Action::execute(Catalyst::Action=HASH(0x5f173f0), ComponentUI::Controller::Root=HASH(0x6012a10), ComponentUI=HASH(0x6006b30)) called at /opt/perl-5.10.1/lib/site_perl/5.10.1/Catalyst.pm line 1884
	eval {...} called at /opt/perl-5.10.1/lib/site_perl/5.10.1/Catalyst.pm line 1884
	Catalyst::execute(ComponentUI=HASH(0x6006b30), "ComponentUI::Controller::Root", Catalyst::Action=HASH(0x5f173f0)) called at /opt/perl-5.10.1/lib/site_perl/5.10.1/Catalyst/Action.pm line 60
	Catalyst::Action::dispatch(Catalyst::Action=HASH(0x5f173f0), ComponentUI=HASH(0x6006b30)) called at /opt/perl-5.10.1/lib/site_perl/5.10.1/Catalyst/Controller.pm line 174
	Catalyst::Controller::_END(ComponentUI::Controller::Root=HASH(0x6012a10), ComponentUI=HASH(0x6006b30)) called at /opt/perl-5.10.1/lib/site_perl/5.10.1/Catalyst/Action.pm line 65
	Catalyst::Action::execute(Catalyst::Action=HASH(0x5f175b8), ComponentUI::Controller::Root=HASH(0x6012a10), ComponentUI=HASH(0x6006b30)) called at /opt/perl-5.10.1/lib/site_perl/5.10.1/Catalyst.pm line 1884
	eval {...} called at /opt/perl-5.10.1/lib/site_perl/5.10.1/Catalyst.pm line 1884
	Catalyst::execute(ComponentUI=HASH(0x6006b30), "ComponentUI::Controller::Root", Catalyst::Action=HASH(0x5f175b8)) called at /opt/perl-5.10.1/lib/site_perl/5.10.1/Catalyst/Action.pm line 60
	Catalyst::Action::dispatch(Catalyst::Action=HASH(0x5f175b8), ComponentUI=HASH(0x6006b30)) called at /opt/perl-5.10.1/lib/site_perl/5.10.1/Catalyst/Dispatcher.pm line 262
	Catalyst::Dispatcher::_do_forward(Catalyst::Dispatcher=HASH(0x271a470), "forward", ComponentUI=HASH(0x6006b30), "_END") called at /opt/perl-5.10.1/lib/site_perl/5.10.1/Catalyst/Dispatcher.pm line 242
	Catalyst::Dispatcher::forward(Catalyst::Dispatcher=HASH(0x271a470), ComponentUI=HASH(0x6006b30), "_END") called at /opt/perl-5.10.1/lib/site_perl/5.10.1/Catalyst.pm line 401
	Catalyst::forward(ComponentUI=HASH(0x6006b30), "_END") called at /opt/perl-5.10.1/lib/site_perl/5.10.1/Catalyst/Controller.pm line 138
	Catalyst::Controller::_DISPATCH(ComponentUI::Controller::Root=HASH(0x6012a10), ComponentUI=HASH(0x6006b30)) called at /opt/perl-5.10.1/lib/site_perl/5.10.1/Catalyst/Action.pm line 65
	Catalyst::Action::execute(Catalyst::Action=HASH(0x5f174c8), ComponentUI::Controller::Root=HASH(0x6012a10), ComponentUI=HASH(0x6006b30)) called at /opt/perl-5.10.1/lib/site_perl/5.10.1/Catalyst.pm line 1884
	eval {...} called at /opt/perl-5.10.1/lib/site_perl/5.10.1/Catalyst.pm line 1884
	Catalyst::execute(ComponentUI=HASH(0x6006b30), "ComponentUI::Controller::Root", Catalyst::Action=HASH(0x5f174c8)) called at /opt/perl-5.10.1/lib/site_perl/5.10.1/Catalyst/Action.pm line 60
	Catalyst::Action::dispatch(Catalyst::Action=HASH(0x5f174c8), ComponentUI=HASH(0x6006b30)) called at /opt/perl-5.10.1/lib/site_perl/5.10.1/Catalyst/Dispatcher.pm line 262
	Catalyst::Dispatcher::_do_forward(Catalyst::Dispatcher=HASH(0x271a470), "forward", ComponentUI=HASH(0x6006b30), "//_DISPATCH") called at /opt/perl-5.10.1/lib/site_perl/5.10.1/Catalyst/Dispatcher.pm line 242
	Catalyst::Dispatcher::forward(Catalyst::Dispatcher=HASH(0x271a470), ComponentUI=HASH(0x6006b30), "//_DISPATCH") called at /opt/perl-5.10.1/lib/site_perl/5.10.1/Catalyst.pm line 401
	Catalyst::forward(ComponentUI=HASH(0x6006b30), "//_DISPATCH") called at /opt/perl-5.10.1/lib/site_perl/5.10.1/Catalyst/Dispatcher.pm line 107
	Catalyst::Dispatcher::dispatch(Catalyst::Dispatcher=HASH(0x271a470), ComponentUI=HASH(0x6006b30)) called at /opt/perl-5.10.1/lib/site_perl/5.10.1/Catalyst.pm line 1830
	Catalyst::dispatch(ComponentUI=HASH(0x6006b30)) called at /opt/perl-5.10.1/lib/site_perl/5.10.1/Catalyst/Plugin/Static/Simple.pm line 86
	Class::MOP::Class:::around(CODE(0x25db488), ComponentUI=HASH(0x6006b30)) called at /opt/perl-5.10.1/lib/site_perl/5.10.1/x86_64-linux/Class/MOP/Method/Wrapped.pm line 158
	Class::MOP::Method::Wrapped::__ANON__(ComponentUI=HASH(0x6006b30)) called at /opt/perl-5.10.1/lib/site_perl/5.10.1/x86_64-linux/Class/MOP/Method/Wrapped.pm line 87
	ComponentUI::dispatch(ComponentUI=HASH(0x6006b30)) called at /opt/perl-5.10.1/lib/site_perl/5.10.1/Catalyst.pm line 2220
	Catalyst::try {...} () called at /opt/perl-5.10.1/lib/site_perl/5.10.1/Try/Tiny.pm line 81
	eval {...} called at /opt/perl-5.10.1/lib/site_perl/5.10.1/Try/Tiny.pm line 72
	Try::Tiny::try(CODE(0x6006488), Try::Tiny::Catch=REF(0x60062d8)) called at /opt/perl-5.10.1/lib/site_perl/5.10.1/Catalyst.pm line 2229
	Catalyst::handle_request("ComponentUI", "env", HASH(0x5fbeb38), "response_cb", CODE(0x6006338)) called at /opt/perl-5.10.1/lib/site_perl/5.10.1/Catalyst/Engine.pm line 771
	Catalyst::Engine::__ANON__(CODE(0x6006338)) called at /opt/perl-5.10.1/lib/site_perl/5.10.1/Plack/Middleware/HTTPExceptions.pm line 32
	Plack::Middleware::HTTPExceptions::try {...} () called at /opt/perl-5.10.1/lib/site_perl/5.10.1/Try/Tiny.pm line 81
	eval {...} called at /opt/perl-5.10.1/lib/site_perl/5.10.1/Try/Tiny.pm line 72
	Try::Tiny::try(CODE(0x6006110), Try::Tiny::Catch=REF(0x5fbe880)) called at /opt/perl-5.10.1/lib/site_perl/5.10.1/Plack/Middleware/HTTPExceptions.pm line 41
	Plack::Middleware::HTTPExceptions::__ANON__(CODE(0x6005fc0)) called at /opt/perl-5.10.1/lib/site_perl/5.10.1/Plack/Util.pm line 301
	Plack::Util::__ANON__(CODE(0x5fbf618)) called at /opt/perl-5.10.1/lib/site_perl/5.10.1/Plack/Util.pm line 301
	Plack::Util::__ANON__(CODE(0x5fbf4c8)) called at /opt/perl-5.10.1/lib/site_perl/5.10.1/Plack/Util.pm line 301
	Plack::Util::__ANON__(CODE(0x5fbf420)) called at /opt/perl-5.10.1/lib/site_perl/5.10.1/HTTP/Message/PSGI.pm line 100
	HTTP::Message::PSGI::res_from_psgi(CODE(0x5fbe6e8)) called at /opt/perl-5.10.1/lib/site_perl/5.10.1/HTTP/Message/PSGI.pm line 156
	HTTP::Response::from_psgi("HTTP::Response", CODE(0x5fbe6e8)) called at /opt/perl-5.10.1/lib/site_perl/5.10.1/Plack/Test/MockHTTP.pm line 24
	Plack::Test::MockHTTP::try {...} () called at /opt/perl-5.10.1/lib/site_perl/5.10.1/Try/Tiny.pm line 76
	eval {...} called at /opt/perl-5.10.1/lib/site_perl/5.10.1/Try/Tiny.pm line 72
	Try::Tiny::try(CODE(0xc36f00), Try::Tiny::Catch=REF(0x5ef3820)) called at /opt/perl-5.10.1/lib/site_perl/5.10.1/Plack/Test/MockHTTP.pm line 27
	Plack::Test::MockHTTP::request(Plack::Test::MockHTTP=HASH(0x5fbcc00), HTTP::Request=HASH(0x5fbc660)) called at /opt/perl-5.10.1/lib/site_perl/5.10.1/Plack/Test.pm line 38
	Plack::Test::__ANON__(HTTP::Request=HASH(0x5fbc660)) called at /opt/perl-5.10.1/lib/site_perl/5.10.1/Catalyst/Test.pm line 281
	Catalyst::Test::__ANON__(CODE(0x5fbc9c0)) called at /opt/perl-5.10.1/lib/site_perl/5.10.1/Plack/Test.pm line 38
	Plack::Test::test_psgi("app", CODE(0x5f2a590), "mangle_response", CODE(0x1c30388), "app", CODE(0x5fbc798), "client", CODE(0x5fbc870)) called at /opt/perl-5.10.1/lib/site_perl/5.10.1/Catalyst/Test.pm line 284
	Catalyst::Test::_request(HASH(0x5f2a4b8), "/") called at /opt/perl-5.10.1/lib/site_perl/5.10.1/Catalyst/Test.pm line 327
	Catalyst::Test::_local_request("ComponentUI", "/") called at /opt/perl-5.10.1/lib/site_perl/5.10.1/Catalyst/Test.pm line 32
	Catalyst::Test::__ANON__("/") called at t/01app.t line 10
Class::MOP::is_class_loaded is deprecated at /opt/perl-5.10.1/lib/site_perl/5.10.1/x86_64-linux/Class/MOP.pm line 87.
	Class::MOP::is_class_loaded("ComponentUI::UI::Widget::SiteLayout") called at /tmpfs/.cpan-build/Reaction-0.002005-A7CJW1/blib/lib/Reaction/UI/Skin.pm line 178
	Reaction::UI::Skin::widget_class_for(Reaction::UI::Skin=HASH(0x605d220), Reaction::UI::LayoutSet::TT=HASH(0x608ac70)) called at /tmpfs/.cpan-build/Reaction-0.002005-A7CJW1/blib/lib/Reaction/UI/LayoutSet.pm line 28
	Reaction::UI::LayoutSet::BUILD(Reaction::UI::LayoutSet::TT=HASH(0x608ac70), HASH(0x608abe0)) called at constructor Reaction::UI::LayoutSet::TT::new (defined at /tmpfs/.cpan-build/Reaction-0.002005-A7CJW1/blib/lib/Reaction/UI/LayoutSet/TT.pm line 43) line 69
	Reaction::UI::LayoutSet::TT::new("Reaction::UI::LayoutSet::TT", "name", "site_layout", "skin", Reaction::UI::Skin=HASH(0x605d220), "tt_object", Template=HASH(0x5385000), "source_file", Path::Class::File=HASH(0x608a2e0), ...) called at /tmpfs/.cpan-build/Reaction-0.002005-A7CJW1/blib/lib/Reaction/UI/Skin.pm line 114
	Reaction::UI::Skin::_create_layout_set(Reaction::UI::Skin=HASH(0x605d220), "site_layout", ARRAY(0x60730a8), Reaction::UI::Skin=HASH(0x605d220)) called at /tmpfs/.cpan-build/Reaction-0.002005-A7CJW1/blib/lib/Reaction/UI/Skin.pm line 110
	Reaction::UI::Skin::create_layout_set(Reaction::UI::Skin=HASH(0x605d220), "site_layout") called at /tmpfs/.cpan-build/Reaction-0.002005-A7CJW1/blib/lib/Reaction/UI/LayoutSet.pm line 83
	Reaction::UI::LayoutSet::_load_file(Reaction::UI::LayoutSet::TT=HASH(0x607d160), Path::Class::File=HASH(0x60618a8), HASH(0x60788d8)) called at /tmpfs/.cpan-build/Reaction-0.002005-A7CJW1/blib/lib/Reaction/UI/LayoutSet.pm line 27
	Reaction::UI::LayoutSet::BUILD(Reaction::UI::LayoutSet::TT=HASH(0x607d160), HASH(0x60788d8)) called at constructor Reaction::UI::LayoutSet::TT::new (defined at /tmpfs/.cpan-build/Reaction-0.002005-A7CJW1/blib/lib/Reaction/UI/LayoutSet/TT.pm line 43) line 69
	Reaction::UI::LayoutSet::TT::new("Reaction::UI::LayoutSet::TT", "name", "site_layout", "skin", Reaction::UI::Skin=HASH(0x6042ad8), "next_skin", Reaction::UI::Skin=HASH(0x605d220), "tt_object", Template=HASH(0x5385000), ...) called at /tmpfs/.cpan-build/Reaction-0.002005-A7CJW1/blib/lib/Reaction/UI/Skin.pm line 114
	Reaction::UI::Skin::_create_layout_set(Reaction::UI::Skin=HASH(0x6042ad8), "site_layout", ARRAY(0x6017f88), Reaction::UI::Skin=HASH(0x6042ad8)) called at /tmpfs/.cpan-build/Reaction-0.002005-A7CJW1/blib/lib/Reaction/UI/Skin.pm line 110
	Reaction::UI::Skin::create_layout_set(Reaction::UI::Skin=HASH(0x6042ad8), "site_layout") called at /tmpfs/.cpan-build/Reaction-0.002005-A7CJW1/blib/lib/Reaction/UI/LayoutSet.pm line 83
	Reaction::UI::LayoutSet::_load_file(Reaction::UI::LayoutSet::TT=HASH(0x6017f58), Path::Class::File=HASH(0x6017a78), HASH(0x6042370)) called at /tmpfs/.cpan-build/Reaction-0.002005-A7CJW1/blib/lib/Reaction/UI/LayoutSet.pm line 27
	Reaction::UI::LayoutSet::BUILD(Reaction::UI::LayoutSet::TT=HASH(0x6017f58), HASH(0x6042370)) called at constructor Reaction::UI::LayoutSet::TT::new (defined at /tmpfs/.cpan-build/Reaction-0.002005-A7CJW1/blib/lib/Reaction/UI/LayoutSet/TT.pm line 43) line 69
	Reaction::UI::LayoutSet::TT::new("Reaction::UI::LayoutSet::TT", "name", "site_layout", "skin", Reaction::UI::Skin=HASH(0x6017d48), "next_skin", Reaction::UI::Skin=HASH(0x6042ad8), "tt_object", Template=HASH(0x5385000), ...) called at /tmpfs/.cpan-build/Reaction-0.002005-A7CJW1/blib/lib/Reaction/UI/Skin.pm line 114
	Reaction::UI::Skin::_create_layout_set(Reaction::UI::Skin=HASH(0x6017d48), "site_layout", ARRAY(0x6017688), Reaction::UI::Skin=HASH(0x6017d48)) called at /tmpfs/.cpan-build/Reaction-0.002005-A7CJW1/blib/lib/Reaction/UI/Skin.pm line 110
	Reaction::UI::Skin::create_layout_set(Reaction::UI::Skin=HASH(0x6017d48), "site_layout") called at /opt/perl-5.10.1/lib/site_perl/5.10.1/x86_64-linux/Moose/Meta/Method/Delegation.pm line 110
	Reaction::UI::View::create_layout_set(ComponentUI::View::Site=HASH(0x59f0a70), "site_layout") called at /tmpfs/.cpan-build/Reaction-0.002005-A7CJW1/blib/lib/Reaction/UI/View.pm line 99
	Reaction::UI::View::layout_set_for(ComponentUI::View::Site=HASH(0x59f0a70), Reaction::UI::ViewPort::SiteLayout=HASH(0x6017460)) called at /tmpfs/.cpan-build/Reaction-0.002005-A7CJW1/blib/lib/Reaction/UI/View.pm line 78
	Reaction::UI::View::render_viewport_args(ComponentUI::View::Site=HASH(0x59f0a70), Reaction::UI::ViewPort::SiteLayout=HASH(0x6017460)) called at /tmpfs/.cpan-build/Reaction-0.002005-A7CJW1/blib/lib/Reaction/UI/View.pm line 61
	Reaction::UI::View::render_window(ComponentUI::View::Site=HASH(0x59f0a70), Reaction::UI::Window=HASH(0x6015d08)) called at /tmpfs/.cpan-build/Reaction-0.002005-A7CJW1/blib/lib/Reaction/UI/Window.pm line 74
	Reaction::UI::Window::flush_view(Reaction::UI::Window=HASH(0x6015d08)) called at /tmpfs/.cpan-build/Reaction-0.002005-A7CJW1/blib/lib/Reaction/UI/Window.pm line 36
	Reaction::UI::Window::flush(Reaction::UI::Window=HASH(0x6015d08)) called at /tmpfs/.cpan-build/Reaction-0.002005-A7CJW1/blib/lib/Reaction/UI/Controller/Root.pm line 38
	Reaction::UI::Controller::Root::end(ComponentUI::Controller::Root=HASH(0x6012a10), ComponentUI=HASH(0x6006b30)) called at /opt/perl-5.10.1/lib/site_perl/5.10.1/Catalyst/Action.pm line 65
	Catalyst::Action::execute(Catalyst::Action=HASH(0x5f173f0), ComponentUI::Controller::Root=HASH(0x6012a10), ComponentUI=HASH(0x6006b30)) called at /opt/perl-5.10.1/lib/site_perl/5.10.1/Catalyst.pm line 1884
	eval {...} called at /opt/perl-5.10.1/lib/site_perl/5.10.1/Catalyst.pm line 1884
	Catalyst::execute(ComponentUI=HASH(0x6006b30), "ComponentUI::Controller::Root", Catalyst::Action=HASH(0x5f173f0)) called at /opt/perl-5.10.1/lib/site_perl/5.10.1/Catalyst/Action.pm line 60
	Catalyst::Action::dispatch(Catalyst::Action=HASH(0x5f173f0), ComponentUI=HASH(0x6006b30)) called at /opt/perl-5.10.1/lib/site_perl/5.10.1/Catalyst/Controller.pm line 174
	Catalyst::Controller::_END(ComponentUI::Controller::Root=HASH(0x6012a10), ComponentUI=HASH(0x6006b30)) called at /opt/perl-5.10.1/lib/site_perl/5.10.1/Catalyst/Action.pm line 65
	Catalyst::Action::execute(Catalyst::Action=HASH(0x5f175b8), ComponentUI::Controller::Root=HASH(0x6012a10), ComponentUI=HASH(0x6006b30)) called at /opt/perl-5.10.1/lib/site_perl/5.10.1/Catalyst.pm line 1884
	eval {...} called at /opt/perl-5.10.1/lib/site_perl/5.10.1/Catalyst.pm line 1884
	Catalyst::execute(ComponentUI=HASH(0x6006b30), "ComponentUI::Controller::Root", Catalyst::Action=HASH(0x5f175b8)) called at /opt/perl-5.10.1/lib/site_perl/5.10.1/Catalyst/Action.pm line 60
	Catalyst::Action::dispatch(Catalyst::Action=HASH(0x5f175b8), ComponentUI=HASH(0x6006b30)) called at /opt/perl-5.10.1/lib/site_perl/5.10.1/Catalyst/Dispatcher.pm line 262
	Catalyst::Dispatcher::_do_forward(Catalyst::Dispatcher=HASH(0x271a470), "forward", ComponentUI=HASH(0x6006b30), "_END") called at /opt/perl-5.10.1/lib/site_perl/5.10.1/Catalyst/Dispatcher.pm line 242
	Catalyst::Dispatcher::forward(Catalyst::Dispatcher=HASH(0x271a470), ComponentUI=HASH(0x6006b30), "_END") called at /opt/perl-5.10.1/lib/site_perl/5.10.1/Catalyst.pm line 401
	Catalyst::forward(ComponentUI=HASH(0x6006b30), "_END") called at /opt/perl-5.10.1/lib/site_perl/5.10.1/Catalyst/Controller.pm line 138
	Catalyst::Controller::_DISPATCH(ComponentUI::Controller::Root=HASH(0x6012a10), ComponentUI=HASH(0x6006b30)) called at /opt/perl-5.10.1/lib/site_perl/5.10.1/Catalyst/Action.pm line 65
	Catalyst::Action::execute(Catalyst::Action=HASH(0x5f174c8), ComponentUI::Controller::Root=HASH(0x6012a10), ComponentUI=HASH(0x6006b30)) called at /opt/perl-5.10.1/lib/site_perl/5.10.1/Catalyst.pm line 1884
	eval {...} called at /opt/perl-5.10.1/lib/site_perl/5.10.1/Catalyst.pm line 1884
	Catalyst::execute(ComponentUI=HASH(0x6006b30), "ComponentUI::Controller::Root", Catalyst::Action=HASH(0x5f174c8)) called at /opt/perl-5.10.1/lib/site_perl/5.10.1/Catalyst/Action.pm line 60
	Catalyst::Action::dispatch(Catalyst::Action=HASH(0x5f174c8), ComponentUI=HASH(0x6006b30)) called at /opt/perl-5.10.1/lib/site_perl/5.10.1/Catalyst/Dispatcher.pm line 262
	Catalyst::Dispatcher::_do_forward(Catalyst::Dispatcher=HASH(0x271a470), "forward", ComponentUI=HASH(0x6006b30), "//_DISPATCH") called at /opt/perl-5.10.1/lib/site_perl/5.10.1/Catalyst/Dispatcher.pm line 242
	Catalyst::Dispatcher::forward(Catalyst::Dispatcher=HASH(0x271a470), ComponentUI=HASH(0x6006b30), "//_DISPATCH") called at /opt/perl-5.10.1/lib/site_perl/5.10.1/Catalyst.pm line 401
	Catalyst::forward(ComponentUI=HASH(0x6006b30), "//_DISPATCH") called at /opt/perl-5.10.1/lib/site_perl/5.10.1/Catalyst/Dispatcher.pm line 107
	Catalyst::Dispatcher::dispatch(Catalyst::Dispatcher=HASH(0x271a470), ComponentUI=HASH(0x6006b30)) called at /opt/perl-5.10.1/lib/site_perl/5.10.1/Catalyst.pm line 1830
	Catalyst::dispatch(ComponentUI=HASH(0x6006b30)) called at /opt/perl-5.10.1/lib/site_perl/5.10.1/Catalyst/Plugin/Static/Simple.pm line 86
	Class::MOP::Class:::around(CODE(0x25db488), ComponentUI=HASH(0x6006b30)) called at /opt/perl-5.10.1/lib/site_perl/5.10.1/x86_64-linux/Class/MOP/Method/Wrapped.pm line 158
	Class::MOP::Method::Wrapped::__ANON__(ComponentUI=HASH(0x6006b30)) called at /opt/perl-5.10.1/lib/site_perl/5.10.1/x86_64-linux/Class/MOP/Method/Wrapped.pm line 87
	ComponentUI::dispatch(ComponentUI=HASH(0x6006b30)) called at /opt/perl-5.10.1/lib/site_perl/5.10.1/Catalyst.pm line 2220
	Catalyst::try {...} () called at /opt/perl-5.10.1/lib/site_perl/5.10.1/Try/Tiny.pm line 81
	eval {...} called at /opt/perl-5.10.1/lib/site_perl/5.10.1/Try/Tiny.pm line 72
	Try::Tiny::try(CODE(0x6006488), Try::Tiny::Catch=REF(0x60062d8)) called at /opt/perl-5.10.1/lib/site_perl/5.10.1/Catalyst.pm line 2229
	Catalyst::handle_request("ComponentUI", "env", HASH(0x5fbeb38), "response_cb", CODE(0x6006338)) called at /opt/perl-5.10.1/lib/site_perl/5.10.1/Catalyst/Engine.pm line 771
	Catalyst::Engine::__ANON__(CODE(0x6006338)) called at /opt/perl-5.10.1/lib/site_perl/5.10.1/Plack/Middleware/HTTPExceptions.pm line 32
	Plack::Middleware::HTTPExceptions::try {...} () called at /opt/perl-5.10.1/lib/site_perl/5.10.1/Try/Tiny.pm line 81
	eval {...} called at /opt/perl-5.10.1/lib/site_perl/5.10.1/Try/Tiny.pm line 72
	Try::Tiny::try(CODE(0x6006110), Try::Tiny::Catch=REF(0x5fbe880)) called at /opt/perl-5.10.1/lib/site_perl/5.10.1/Plack/Middleware/HTTPExceptions.pm line 41
	Plack::Middleware::HTTPExceptions::__ANON__(CODE(0x6005fc0)) called at /opt/perl-5.10.1/lib/site_perl/5.10.1/Plack/Util.pm line 301
	Plack::Util::__ANON__(CODE(0x5fbf618)) called at /opt/perl-5.10.1/lib/site_perl/5.10.1/Plack/Util.pm line 301
	Plack::Util::__ANON__(CODE(0x5fbf4c8)) called at /opt/perl-5.10.1/lib/site_perl/5.10.1/Plack/Util.pm line 301
	Plack::Util::__ANON__(CODE(0x5fbf420)) called at /opt/perl-5.10.1/lib/site_perl/5.10.1/HTTP/Message/PSGI.pm line 100
	HTTP::Message::PSGI::res_from_psgi(CODE(0x5fbe6e8)) called at /opt/perl-5.10.1/lib/site_perl/5.10.1/HTTP/Message/PSGI.pm line 156
	HTTP::Response::from_psgi("HTTP::Response", CODE(0x5fbe6e8)) called at /opt/perl-5.10.1/lib/site_perl/5.10.1/Plack/Test/MockHTTP.pm line 24
	Plack::Test::MockHTTP::try {...} () called at /opt/perl-5.10.1/lib/site_perl/5.10.1/Try/Tiny.pm line 76
	eval {...} called at /opt/perl-5.10.1/lib/site_perl/5.10.1/Try/Tiny.pm line 72
	Try::Tiny::try(CODE(0xc36f00), Try::Tiny::Catch=REF(0x5ef3820)) called at /opt/perl-5.10.1/lib/site_perl/5.10.1/Plack/Test/MockHTTP.pm line 27
	Plack::Test::MockHTTP::request(Plack::Test::MockHTTP=HASH(0x5fbcc00), HTTP::Request=HASH(0x5fbc660)) called at /opt/perl-5.10.1/lib/site_perl/5.10.1/Plack/Test.pm line 38
	Plack::Test::__ANON__(HTTP::Request=HASH(0x5fbc660)) called at /opt/perl-5.10.1/lib/site_perl/5.10.1/Catalyst/Test.pm line 281
	Catalyst::Test::__ANON__(CODE(0x5fbc9c0)) called at /opt/perl-5.10.1/lib/site_perl/5.10.1/Plack/Test.pm line 38
	Plack::Test::test_psgi("app", CODE(0x5f2a590), "mangle_response", CODE(0x1c30388), "app", CODE(0x5fbc798), "client", CODE(0x5fbc870)) called at /opt/perl-5.10.1/lib/site_perl/5.10.1/Catalyst/Test.pm line 284
	Catalyst::Test::_request(HASH(0x5f2a4b8), "/") called at /opt/perl-5.10.1/lib/site_perl/5.10.1/Catalyst/Test.pm line 327
	Catalyst::Test::_local_request("ComponentUI", "/") called at /opt/perl-5.10.1/lib/site_perl/5.10.1/Catalyst/Test.pm line 32
	Catalyst::Test::__ANON__("/") called at t/01app.t line 10
Class::MOP::load_class is deprecated at /opt/perl-5.10.1/lib/site_perl/5.10.1/x86_64-linux/Class/MOP.pm line 69.
	Class::MOP::load_class("Reaction::UI::Widget::SiteLayout") called at /tmpfs/.cpan-build/Reaction-0.002005-A7CJW1/blib/lib/Reaction/UI/Skin.pm line 181
	eval {...} called at /tmpfs/.cpan-build/Reaction-0.002005-A7CJW1/blib/lib/Reaction/UI/Skin.pm line 181
	Reaction::UI::Skin::widget_class_for(Reaction::UI::Skin=HASH(0x605d220), Reaction::UI::LayoutSet::TT=HASH(0x608ac70)) called at /tmpfs/.cpan-build/Reaction-0.002005-A7CJW1/blib/lib/Reaction/UI/LayoutSet.pm line 28
	Reaction::UI::LayoutSet::BUILD(Reaction::UI::LayoutSet::TT=HASH(0x608ac70), HASH(0x608abe0)) called at constructor Reaction::UI::LayoutSet::TT::new (defined at /tmpfs/.cpan-build/Reaction-0.002005-A7CJW1/blib/lib/Reaction/UI/LayoutSet/TT.pm line 43) line 69
	Reaction::UI::LayoutSet::TT::new("Reaction::UI::LayoutSet::TT", "name", "site_layout", "skin", Reaction::UI::Skin=HASH(0x605d220), "tt_object", Template=HASH(0x5385000), "source_file", Path::Class::File=HASH(0x608a2e0), ...) called at /tmpfs/.cpan-build/Reaction-0.002005-A7CJW1/blib/lib/Reaction/UI/Skin.pm line 114
	Reaction::UI::Skin::_create_layout_set(Reaction::UI::Skin=HASH(0x605d220), "site_layout", ARRAY(0x60730a8), Reaction::UI::Skin=HASH(0x605d220)) called at /tmpfs/.cpan-build/Reaction-0.002005-A7CJW1/blib/lib/Reaction/UI/Skin.pm line 110
	Reaction::UI::Skin::create_layout_set(Reaction::UI::Skin=HASH(0x605d220), "site_layout") called at /tmpfs/.cpan-build/Reaction-0.002005-A7CJW1/blib/lib/Reaction/UI/LayoutSet.pm line 83
	Reaction::UI::LayoutSet::_load_file(Reaction::UI::LayoutSet::TT=HASH(0x607d160), Path::Class::File=HASH(0x60618a8), HASH(0x60788d8)) called at /tmpfs/.cpan-build/Reaction-0.002005-A7CJW1/blib/lib/Reaction/UI/LayoutSet.pm line 27
	Reaction::UI::LayoutSet::BUILD(Reaction::UI::LayoutSet::TT=HASH(0x607d160), HASH(0x60788d8)) called at constructor Reaction::UI::LayoutSet::TT::new (defined at /tmpfs/.cpan-build/Reaction-0.002005-A7CJW1/blib/lib/Reaction/UI/LayoutSet/TT.pm line 43) line 69
	Reaction::UI::LayoutSet::TT::new("Reaction::UI::LayoutSet::TT", "name", "site_layout", "skin", Reaction::UI::Skin=HASH(0x6042ad8), "next_skin", Reaction::UI::Skin=HASH(0x605d220), "tt_object", Template=HASH(0x5385000), ...) called at /tmpfs/.cpan-build/Reaction-0.002005-A7CJW1/blib/lib/Reaction/UI/Skin.pm line 114
	Reaction::UI::Skin::_create_layout_set(Reaction::UI::Skin=HASH(0x6042ad8), "site_layout", ARRAY(0x6017f88), Reaction::UI::Skin=HASH(0x6042ad8)) called at /tmpfs/.cpan-build/Reaction-0.002005-A7CJW1/blib/lib/Reaction/UI/Skin.pm line 110
	Reaction::UI::Skin::create_layout_set(Reaction::UI::Skin=HASH(0x6042ad8), "site_layout") called at /tmpfs/.cpan-build/Reaction-0.002005-A7CJW1/blib/lib/Reaction/UI/LayoutSet.pm line 83
	Reaction::UI::LayoutSet::_load_file(Reaction::UI::LayoutSet::TT=HASH(0x6017f58), Path::Class::File=HASH(0x6017a78), HASH(0x6042370)) called at /tmpfs/.cpan-build/Reaction-0.002005-A7CJW1/blib/lib/Reaction/UI/LayoutSet.pm line 27
	Reaction::UI::LayoutSet::BUILD(Reaction::UI::LayoutSet::TT=HASH(0x6017f58), HASH(0x6042370)) called at constructor Reaction::UI::LayoutSet::TT::new (defined at /tmpfs/.cpan-build/Reaction-0.002005-A7CJW1/blib/lib/Reaction/UI/LayoutSet/TT.pm line 43) line 69
	Reaction::UI::LayoutSet::TT::new("Reaction::UI::LayoutSet::TT", "name", "site_layout", "skin", Reaction::UI::Skin=HASH(0x6017d48), "next_skin", Reaction::UI::Skin=HASH(0x6042ad8), "tt_object", Template=HASH(0x5385000), ...) called at /tmpfs/.cpan-build/Reaction-0.002005-A7CJW1/blib/lib/Reaction/UI/Skin.pm line 114
	Reaction::UI::Skin::_create_layout_set(Reaction::UI::Skin=HASH(0x6017d48), "site_layout", ARRAY(0x6017688), Reaction::UI::Skin=HASH(0x6017d48)) called at /tmpfs/.cpan-build/Reaction-0.002005-A7CJW1/blib/lib/Reaction/UI/Skin.pm line 110
	Reaction::UI::Skin::create_layout_set(Reaction::UI::Skin=HASH(0x6017d48), "site_layout") called at /opt/perl-5.10.1/lib/site_perl/5.10.1/x86_64-linux/Moose/Meta/Method/Delegation.pm line 110
	Reaction::UI::View::create_layout_set(ComponentUI::View::Site=HASH(0x59f0a70), "site_layout") called at /tmpfs/.cpan-build/Reaction-0.002005-A7CJW1/blib/lib/Reaction/UI/View.pm line 99
	Reaction::UI::View::layout_set_for(ComponentUI::View::Site=HASH(0x59f0a70), Reaction::UI::ViewPort::SiteLayout=HASH(0x6017460)) called at /tmpfs/.cpan-build/Reaction-0.002005-A7CJW1/blib/lib/Reaction/UI/View.pm line 78
	Reaction::UI::View::render_viewport_args(ComponentUI::View::Site=HASH(0x59f0a70), Reaction::UI::ViewPort::SiteLayout=HASH(0x6017460)) called at /tmpfs/.cpan-build/Reaction-0.002005-A7CJW1/blib/lib/Reaction/UI/View.pm line 61
	Reaction::UI::View::render_window(ComponentUI::View::Site=HASH(0x59f0a70), Reaction::UI::Window=HASH(0x6015d08)) called at /tmpfs/.cpan-build/Reaction-0.002005-A7CJW1/blib/lib/Reaction/UI/Window.pm line 74
	Reaction::UI::Window::flush_view(Reaction::UI::Window=HASH(0x6015d08)) called at /tmpfs/.cpan-build/Reaction-0.002005-A7CJW1/blib/lib/Reaction/UI/Window.pm line 36
	Reaction::UI::Window::flush(Reaction::UI::Window=HASH(0x6015d08)) called at /tmpfs/.cpan-build/Reaction-0.002005-A7CJW1/blib/lib/Reaction/UI/Controller/Root.pm line 38
	Reaction::UI::Controller::Root::end(ComponentUI::Controller::Root=HASH(0x6012a10), ComponentUI=HASH(0x6006b30)) called at /opt/perl-5.10.1/lib/site_perl/5.10.1/Catalyst/Action.pm line 65
	Catalyst::Action::execute(Catalyst::Action=HASH(0x5f173f0), ComponentUI::Controller::Root=HASH(0x6012a10), ComponentUI=HASH(0x6006b30)) called at /opt/perl-5.10.1/lib/site_perl/5.10.1/Catalyst.pm line 1884
	eval {...} called at /opt/perl-5.10.1/lib/site_perl/5.10.1/Catalyst.pm line 1884
	Catalyst::execute(ComponentUI=HASH(0x6006b30), "ComponentUI::Controller::Root", Catalyst::Action=HASH(0x5f173f0)) called at /opt/perl-5.10.1/lib/site_perl/5.10.1/Catalyst/Action.pm line 60
	Catalyst::Action::dispatch(Catalyst::Action=HASH(0x5f173f0), ComponentUI=HASH(0x6006b30)) called at /opt/perl-5.10.1/lib/site_perl/5.10.1/Catalyst/Controller.pm line 174
	Catalyst::Controller::_END(ComponentUI::Controller::Root=HASH(0x6012a10), ComponentUI=HASH(0x6006b30)) called at /opt/perl-5.10.1/lib/site_perl/5.10.1/Catalyst/Action.pm line 65
	Catalyst::Action::execute(Catalyst::Action=HASH(0x5f175b8), ComponentUI::Controller::Root=HASH(0x6012a10), ComponentUI=HASH(0x6006b30)) called at /opt/perl-5.10.1/lib/site_perl/5.10.1/Catalyst.pm line 1884
	eval {...} called at /opt/perl-5.10.1/lib/site_perl/5.10.1/Catalyst.pm line 1884
	Catalyst::execute(ComponentUI=HASH(0x6006b30), "ComponentUI::Controller::Root", Catalyst::Action=HASH(0x5f175b8)) called at /opt/perl-5.10.1/lib/site_perl/5.10.1/Catalyst/Action.pm line 60
	Catalyst::Action::dispatch(Catalyst::Action=HASH(0x5f175b8), ComponentUI=HASH(0x6006b30)) called at /opt/perl-5.10.1/lib/site_perl/5.10.1/Catalyst/Dispatcher.pm line 262
	Catalyst::Dispatcher::_do_forward(Catalyst::Dispatcher=HASH(0x271a470), "forward", ComponentUI=HASH(0x6006b30), "_END") called at /opt/perl-5.10.1/lib/site_perl/5.10.1/Catalyst/Dispatcher.pm line 242
	Catalyst::Dispatcher::forward(Catalyst::Dispatcher=HASH(0x271a470), ComponentUI=HASH(0x6006b30), "_END") called at /opt/perl-5.10.1/lib/site_perl/5.10.1/Catalyst.pm line 401
	Catalyst::forward(ComponentUI=HASH(0x6006b30), "_END") called at /opt/perl-5.10.1/lib/site_perl/5.10.1/Catalyst/Controller.pm line 138
	Catalyst::Controller::_DISPATCH(ComponentUI::Controller::Root=HASH(0x6012a10), ComponentUI=HASH(0x6006b30)) called at /opt/perl-5.10.1/lib/site_perl/5.10.1/Catalyst/Action.pm line 65
	Catalyst::Action::execute(Catalyst::Action=HASH(0x5f174c8), ComponentUI::Controller::Root=HASH(0x6012a10), ComponentUI=HASH(0x6006b30)) called at /opt/perl-5.10.1/lib/site_perl/5.10.1/Catalyst.pm line 1884
	eval {...} called at /opt/perl-5.10.1/lib/site_perl/5.10.1/Catalyst.pm line 1884
	Catalyst::execute(ComponentUI=HASH(0x6006b30), "ComponentUI::Controller::Root", Catalyst::Action=HASH(0x5f174c8)) called at /opt/perl-5.10.1/lib/site_perl/5.10.1/Catalyst/Action.pm line 60
	Catalyst::Action::dispatch(Catalyst::Action=HASH(0x5f174c8), ComponentUI=HASH(0x6006b30)) called at /opt/perl-5.10.1/lib/site_perl/5.10.1/Catalyst/Dispatcher.pm line 262
	Catalyst::Dispatcher::_do_forward(Catalyst::Dispatcher=HASH(0x271a470), "forward", ComponentUI=HASH(0x6006b30), "//_DISPATCH") called at /opt/perl-5.10.1/lib/site_perl/5.10.1/Catalyst/Dispatcher.pm line 242
	Catalyst::Dispatcher::forward(Catalyst::Dispatcher=HASH(0x271a470), ComponentUI=HASH(0x6006b30), "//_DISPATCH") called at /opt/perl-5.10.1/lib/site_perl/5.10.1/Catalyst.pm line 401
	Catalyst::forward(ComponentUI=HASH(0x6006b30), "//_DISPATCH") called at /opt/perl-5.10.1/lib/site_perl/5.10.1/Catalyst/Dispatcher.pm line 107
	Catalyst::Dispatcher::dispatch(Catalyst::Dispatcher=HASH(0x271a470), ComponentUI=HASH(0x6006b30)) called at /opt/perl-5.10.1/lib/site_perl/5.10.1/Catalyst.pm line 1830
	Catalyst::dispatch(ComponentUI=HASH(0x6006b30)) called at /opt/perl-5.10.1/lib/site_perl/5.10.1/Catalyst/Plugin/Static/Simple.pm line 86
	Class::MOP::Class:::around(CODE(0x25db488), ComponentUI=HASH(0x6006b30)) called at /opt/perl-5.10.1/lib/site_perl/5.10.1/x86_64-linux/Class/MOP/Method/Wrapped.pm line 158
	Class::MOP::Method::Wrapped::__ANON__(ComponentUI=HASH(0x6006b30)) called at /opt/perl-5.10.1/lib/site_perl/5.10.1/x86_64-linux/Class/MOP/Method/Wrapped.pm line 87
	ComponentUI::dispatch(ComponentUI=HASH(0x6006b30)) called at /opt/perl-5.10.1/lib/site_perl/5.10.1/Catalyst.pm line 2220
	Catalyst::try {...} () called at /opt/perl-5.10.1/lib/site_perl/5.10.1/Try/Tiny.pm line 81
	eval {...} called at /opt/perl-5.10.1/lib/site_perl/5.10.1/Try/Tiny.pm line 72
	Try::Tiny::try(CODE(0x6006488), Try::Tiny::Catch=REF(0x60062d8)) called at /opt/perl-5.10.1/lib/site_perl/5.10.1/Catalyst.pm line 2229
	Catalyst::handle_request("ComponentUI", "env", HASH(0x5fbeb38), "response_cb", CODE(0x6006338)) called at /opt/perl-5.10.1/lib/site_perl/5.10.1/Catalyst/Engine.pm line 771
	Catalyst::Engine::__ANON__(CODE(0x6006338)) called at /opt/perl-5.10.1/lib/site_perl/5.10.1/Plack/Middleware/HTTPExceptions.pm line 32
	Plack::Middleware::HTTPExceptions::try {...} () called at /opt/perl-5.10.1/lib/site_perl/5.10.1/Try/Tiny.pm line 81
	eval {...} called at /opt/perl-5.10.1/lib/site_perl/5.10.1/Try/Tiny.pm line 72
	Try::Tiny::try(CODE(0x6006110), Try::Tiny::Catch=REF(0x5fbe880)) called at /opt/perl-5.10.1/lib/site_perl/5.10.1/Plack/Middleware/HTTPExceptions.pm line 41
	Plack::Middleware::HTTPExceptions::__ANON__(CODE(0x6005fc0)) called at /opt/perl-5.10.1/lib/site_perl/5.10.1/Plack/Util.pm line 301
	Plack::Util::__ANON__(CODE(0x5fbf618)) called at /opt/perl-5.10.1/lib/site_perl/5.10.1/Plack/Util.pm line 301
	Plack::Util::__ANON__(CODE(0x5fbf4c8)) called at /opt/perl-5.10.1/lib/site_perl/5.10.1/Plack/Util.pm line 301
	Plack::Util::__ANON__(CODE(0x5fbf420)) called at /opt/perl-5.10.1/lib/site_perl/5.10.1/HTTP/Message/PSGI.pm line 100
	HTTP::Message::PSGI::res_from_psgi(CODE(0x5fbe6e8)) called at /opt/perl-5.10.1/lib/site_perl/5.10.1/HTTP/Message/PSGI.pm line 156
	HTTP::Response::from_psgi("HTTP::Response", CODE(0x5fbe6e8)) called at /opt/perl-5.10.1/lib/site_perl/5.10.1/Plack/Test/MockHTTP.pm line 24
	Plack::Test::MockHTTP::try {...} () called at /opt/perl-5.10.1/lib/site_perl/5.10.1/Try/Tiny.pm line 76
	eval {...} called at /opt/perl-5.10.1/lib/site_perl/5.10.1/Try/Tiny.pm line 72
	Try::Tiny::try(CODE(0xc36f00), Try::Tiny::Catch=REF(0x5ef3820)) called at /opt/perl-5.10.1/lib/site_perl/5.10.1/Plack/Test/MockHTTP.pm line 27
	Plack::Test::MockHTTP::request(Plack::Test::MockHTTP=HASH(0x5fbcc00), HTTP::Request=HASH(0x5fbc660)) called at /opt/perl-5.10.1/lib/site_perl/5.10.1/Plack/Test.pm line 38
	Plack::Test::__ANON__(HTTP::Request=HASH(0x5fbc660)) called at /opt/perl-5.10.1/lib/site_perl/5.10.1/Catalyst/Test.pm line 281
	Catalyst::Test::__ANON__(CODE(0x5fbc9c0)) called at /opt/perl-5.10.1/lib/site_perl/5.10.1/Plack/Test.pm line 38
	Plack::Test::test_psgi("app", CODE(0x5f2a590), "mangle_response", CODE(0x1c30388), "app", CODE(0x5fbc798), "client", CODE(0x5fbc870)) called at /opt/perl-5.10.1/lib/site_perl/5.10.1/Catalyst/Test.pm line 284
	Catalyst::Test::_request(HASH(0x5f2a4b8), "/") called at /opt/perl-5.10.1/lib/site_perl/5.10.1/Catalyst/Test.pm line 327
	Catalyst::Test::_local_request("ComponentUI", "/") called at /opt/perl-5.10.1/lib/site_perl/5.10.1/Catalyst/Test.pm line 32
	Catalyst::Test::__ANON__("/") called at t/01app.t line 10
[debug] remote
t/01app.t ................... ok
t/04load_all.t .............. ok
t/05reflect_attr_from.t ..... ok
Class::MOP::load_class is deprecated at /opt/perl-5.10.1/lib/site_perl/5.10.1/x86_64-linux/Class/MOP.pm line 69.
	Class::MOP::load_class("Reaction::InterfaceModel::Object") called at /tmpfs/.cpan-build/Reaction-0.002005-A7CJW1/blib/lib/Reaction/InterfaceModel/Reflector/DBIC.pm line 149
	Reaction::InterfaceModel::Reflector::DBIC::reflect_schema(Reaction::InterfaceModel::Reflector::DBIC=HASH(0x30ec6b8), "model_class", "ComponentUI::TestModel", "schema_class", "RTest::TestDB", "sources", ARRAY(0x3b08038)) called at /tmpfs/.cpan-build/Reaction-0.002005-A7CJW1/blib/lib/ComponentUI/TestModel.pm line 10
	require ComponentUI/TestModel.pm called at t/lib/RTest/InterfaceModel/Reflector/DBIC.pm line 6
	RTest::InterfaceModel::Reflector::DBIC::BEGIN() called at /tmpfs/.cpan-build/Reaction-0.002005-A7CJW1/blib/lib/ComponentUI/TestModel.pm line 0
	eval {...} called at /tmpfs/.cpan-build/Reaction-0.002005-A7CJW1/blib/lib/ComponentUI/TestModel.pm line 0
	require RTest/InterfaceModel/Reflector/DBIC.pm called at t/im_dbic.t line 7
	main::BEGIN() called at /tmpfs/.cpan-build/Reaction-0.002005-A7CJW1/blib/lib/ComponentUI/TestModel.pm line 0
	eval {...} called at /tmpfs/.cpan-build/Reaction-0.002005-A7CJW1/blib/lib/ComponentUI/TestModel.pm line 0
Class::MOP::load_class is deprecated at /opt/perl-5.10.1/lib/site_perl/5.10.1/x86_64-linux/Class/MOP.pm line 69.
	Class::MOP::load_class("Reaction::InterfaceModel::Object") called at /tmpfs/.cpan-build/Reaction-0.002005-A7CJW1/blib/lib/Reaction/Class.pm line 123
	Reaction::Class::do_class_sub("Reaction::Class", "ComponentUI::TestModel::Foo", "ComponentUI::TestModel::Foo", "is", "Reaction::InterfaceModel::Object", "which", CODE(0x43c9690)) called at /tmpfs/.cpan-build/Reaction-0.002005-A7CJW1/blib/lib/Reaction/Class.pm line 86
	Reaction::Class::("ComponentUI::TestModel::Foo", "is", "Reaction::InterfaceModel::Object", "which", CODE(0x43c9690)) called at /tmpfs/.cpan-build/Reaction-0.002005-A7CJW1/blib/lib/ComponentUI/TestModel/Foo.pm line 8
	require ComponentUI/TestModel/Foo.pm called at /opt/perl-5.10.1/lib/site_perl/5.10.1/Module/Runtime.pm line 317
	Module::Runtime::require_module("ComponentUI::TestModel::Foo") called at /opt/perl-5.10.1/lib/site_perl/5.10.1/Class/Load.pm line 180
	Class::Load::try {...} () called at /opt/perl-5.10.1/lib/site_perl/5.10.1/Try/Tiny.pm line 76
	eval {...} called at /opt/perl-5.10.1/lib/site_perl/5.10.1/Try/Tiny.pm line 72
	Try::Tiny::try(CODE(0x43ebea0), Try::Tiny::Catch=REF(0x440d0f8)) called at /opt/perl-5.10.1/lib/site_perl/5.10.1/Class/Load.pm line 186
	Class::Load::try_load_class("ComponentUI::TestModel::Foo", undef) called at /opt/perl-5.10.1/lib/site_perl/5.10.1/Class/Load.pm line 41
	Class::Load::load_class("ComponentUI::TestModel::Foo") called at /tmpfs/.cpan-build/Reaction-0.002005-A7CJW1/blib/lib/Reaction/InterfaceModel/Reflector/DBIC.pm line 892
	eval {...} called at /tmpfs/.cpan-build/Reaction-0.002005-A7CJW1/blib/lib/Reaction/InterfaceModel/Reflector/DBIC.pm line 892
	Reaction::InterfaceModel::Reflector::DBIC::_maybe_load_class(Reaction::InterfaceModel::Reflector::DBIC=HASH(0x30ec6b8), "ComponentUI::TestModel::Foo") called at /tmpfs/.cpan-build/Reaction-0.002005-A7CJW1/blib/lib/Reaction/InterfaceModel/Reflector/DBIC.pm line 876
	Reaction::InterfaceModel::Reflector::DBIC::_load_or_create(Reaction::InterfaceModel::Reflector::DBIC=HASH(0x30ec6b8), "ComponentUI::TestModel::Foo", "superclasses", ARRAY(0x4389888)) called at /tmpfs/.cpan-build/Reaction-0.002005-A7CJW1/blib/lib/Reaction/InterfaceModel/Reflector/DBIC.pm line 448
	Reaction::InterfaceModel::Reflector::DBIC::reflect_source_object(Reaction::InterfaceModel::Reflector::DBIC=HASH(0x30ec6b8), "schema_class", "RTest::TestDB", "source_name", "Foo", "source_class", "RTest::TestDB::Foo", "parent_class", "ComponentUI::TestModel", ...) called at /tmpfs/.cpan-build/Reaction-0.002005-A7CJW1/blib/lib/Reaction/InterfaceModel/Reflector/DBIC.pm line 323
	Reaction::InterfaceModel::Reflector::DBIC::reflect_source(Reaction::InterfaceModel::Reflector::DBIC=HASH(0x30ec6b8), "source_name", "Foo", "parent_class", "ComponentUI::TestModel", "schema_class", "RTest::TestDB", "source_class", "RTest::TestDB::Foo", ...) called at /tmpfs/.cpan-build/Reaction-0.002005-A7CJW1/blib/lib/Reaction/InterfaceModel/Reflector/DBIC.pm line 185
	Reaction::InterfaceModel::Reflector::DBIC::reflect_schema(Reaction::InterfaceModel::Reflector::DBIC=HASH(0x30ec6b8), "model_class", "ComponentUI::TestModel", "schema_class", "RTest::TestDB", "sources", ARRAY(0x3b08038)) called at /tmpfs/.cpan-build/Reaction-0.002005-A7CJW1/blib/lib/ComponentUI/TestModel.pm line 10
	require ComponentUI/TestModel.pm called at t/lib/RTest/InterfaceModel/Reflector/DBIC.pm line 6
	RTest::InterfaceModel::Reflector::DBIC::BEGIN() called at /tmpfs/.cpan-build/Reaction-0.002005-A7CJW1/blib/lib/ComponentUI/TestModel/Foo.pm line 0
	eval {...} called at /tmpfs/.cpan-build/Reaction-0.002005-A7CJW1/blib/lib/ComponentUI/TestModel/Foo.pm line 0
	require RTest/InterfaceModel/Reflector/DBIC.pm called at t/im_dbic.t line 7
	main::BEGIN() called at /tmpfs/.cpan-build/Reaction-0.002005-A7CJW1/blib/lib/ComponentUI/TestModel/Foo.pm line 0
	eval {...} called at /tmpfs/.cpan-build/Reaction-0.002005-A7CJW1/blib/lib/ComponentUI/TestModel/Foo.pm line 0
Class::MOP::is_class_loaded is deprecated at /opt/perl-5.10.1/lib/site_perl/5.10.1/x86_64-linux/Class/MOP.pm line 87.
	Class::MOP::is_class_loaded("RTest::TestIM::Foo") called at t/lib/RTest/InterfaceModel/Reflector/DBIC.pm line 74
	RTest::InterfaceModel::Reflector::DBIC::test_reflect_schema(RTest::InterfaceModel::Reflector::DBIC=HASH(0x45c0260)) called at /opt/perl-5.10.1/lib/site_perl/5.10.1/Test/Class.pm line 293
	Test::Class::try {...} () called at /opt/perl-5.10.1/lib/site_perl/5.10.1/Try/Tiny.pm line 76
	eval {...} called at /opt/perl-5.10.1/lib/site_perl/5.10.1/Try/Tiny.pm line 72
	Try::Tiny::try(CODE(0x55404c0), Try::Tiny::Catch=REF(0x5531cc0)) called at /opt/perl-5.10.1/lib/site_perl/5.10.1/Test/Class.pm line 293
	Test::Class::_run_method(RTest::InterfaceModel::Reflector::DBIC=HASH(0x45c0260), "test_reflect_schema", ARRAY(0x239efd8)) called at /opt/perl-5.10.1/lib/site_perl/5.10.1/Test/Class.pm line 395
	Test::Class::runtests("Test::Class", RTest::InterfaceModel::Reflector::DBIC=HASH(0x45c0260)) called at t/im_dbic.t line 10
t/im_dbic.t ................. ok
t/ui_focus_stack.t .......... ok
t/ui_view.t ................. ok
t/ui_viewport.t ............. ok
Class::MOP::load_class is deprecated at /opt/perl-5.10.1/lib/site_perl/5.10.1/x86_64-linux/Class/MOP.pm line 69.
	Class::MOP::load_class("ComponentUI::TestModel") called at /tmpfs/.cpan-build/Reaction-0.002005-A7CJW1/blib/lib/Catalyst/Model/Reaction/InterfaceModel/DBIC.pm line 24
	Catalyst::Model::Reaction::InterfaceModel::DBIC::COMPONENT("ComponentUI::Model::TestModel", "ComponentUI", HASH(0x65a0108)) called at /opt/perl-5.10.1/lib/site_perl/5.10.1/Catalyst.pm line 2853
	eval {...} called at /opt/perl-5.10.1/lib/site_perl/5.10.1/Catalyst.pm line 2853
	Catalyst::setup_component("ComponentUI", "ComponentUI::Model::TestModel") called at /opt/perl-5.10.1/lib/site_perl/5.10.1/Catalyst.pm line 2783
	Catalyst::setup_components("ComponentUI") called at /opt/perl-5.10.1/lib/site_perl/5.10.1/Catalyst.pm line 1298
	Catalyst::setup("ComponentUI") called at /tmpfs/.cpan-build/Reaction-0.002005-A7CJW1/blib/lib/ComponentUI.pm line 32
	require ComponentUI.pm called at /opt/perl-5.10.1/lib/site_perl/5.10.1/Module/Runtime.pm line 317
	Module::Runtime::require_module("ComponentUI") called at /opt/perl-5.10.1/lib/site_perl/5.10.1/Class/Load.pm line 180
	Class::Load::try {...} () called at /opt/perl-5.10.1/lib/site_perl/5.10.1/Try/Tiny.pm line 76
	eval {...} called at /opt/perl-5.10.1/lib/site_perl/5.10.1/Try/Tiny.pm line 72
	Try::Tiny::try(CODE(0x33a0340), Try::Tiny::Catch=REF(0x33b09f0)) called at /opt/perl-5.10.1/lib/site_perl/5.10.1/Class/Load.pm line 186
	Class::Load::try_load_class("ComponentUI", undef) called at /opt/perl-5.10.1/lib/site_perl/5.10.1/Class/Load.pm line 41
	Class::Load::load_class("ComponentUI") called at /opt/perl-5.10.1/lib/site_perl/5.10.1/Test/WWW/Mechanize/Catalyst.pm line 245
	Test::WWW::Mechanize::Catalyst::import("Test::WWW::Mechanize::Catalyst", "ComponentUI") called at t/uncheck_bool_field.t line 6
	main::BEGIN() called at /tmpfs/.cpan-build/Reaction-0.002005-A7CJW1/blib/lib/ComponentUI.pm line 0
	eval {...} called at /tmpfs/.cpan-build/Reaction-0.002005-A7CJW1/blib/lib/ComponentUI.pm line 0
Class::MOP::load_class is deprecated at /opt/perl-5.10.1/lib/site_perl/5.10.1/x86_64-linux/Class/MOP.pm line 69.
	Class::MOP::load_class("Reaction::InterfaceModel::Object") called at /tmpfs/.cpan-build/Reaction-0.002005-A7CJW1/blib/lib/Reaction/InterfaceModel/Reflector/DBIC.pm line 149
	Reaction::InterfaceModel::Reflector::DBIC::reflect_schema(Reaction::InterfaceModel::Reflector::DBIC=HASH(0x6fa6ce0), "model_class", "ComponentUI::TestModel", "schema_class", "RTest::TestDB", "sources", ARRAY(0x6fa6b90)) called at /tmpfs/.cpan-build/Reaction-0.002005-A7CJW1/blib/lib/ComponentUI/TestModel.pm line 10
	require ComponentUI/TestModel.pm called at /opt/perl-5.10.1/lib/site_perl/5.10.1/Module/Runtime.pm line 317
	Module::Runtime::require_module("ComponentUI::TestModel") called at /opt/perl-5.10.1/lib/site_perl/5.10.1/Class/Load.pm line 180
	Class::Load::try {...} () called at /opt/perl-5.10.1/lib/site_perl/5.10.1/Try/Tiny.pm line 76
	eval {...} called at /opt/perl-5.10.1/lib/site_perl/5.10.1/Try/Tiny.pm line 72
	Try::Tiny::try(CODE(0x6c0c7c8), Try::Tiny::Catch=REF(0x6b4cb20)) called at /opt/perl-5.10.1/lib/site_perl/5.10.1/Class/Load.pm line 186
	Class::Load::try_load_class("ComponentUI::TestModel", undef) called at /opt/perl-5.10.1/lib/site_perl/5.10.1/Class/Load.pm line 41
	Class::Load::load_class("ComponentUI::TestModel") called at /tmpfs/.cpan-build/Reaction-0.002005-A7CJW1/blib/lib/Catalyst/Model/Reaction/InterfaceModel/DBIC.pm line 24
	Catalyst::Model::Reaction::InterfaceModel::DBIC::COMPONENT("ComponentUI::Model::TestModel", "ComponentUI", HASH(0x65a0108)) called at /opt/perl-5.10.1/lib/site_perl/5.10.1/Catalyst.pm line 2853
	eval {...} called at /opt/perl-5.10.1/lib/site_perl/5.10.1/Catalyst.pm line 2853
	Catalyst::setup_component("ComponentUI", "ComponentUI::Model::TestModel") called at /opt/perl-5.10.1/lib/site_perl/5.10.1/Catalyst.pm line 2783
	Catalyst::setup_components("ComponentUI") called at /opt/perl-5.10.1/lib/site_perl/5.10.1/Catalyst.pm line 1298
	Catalyst::setup("ComponentUI") called at /tmpfs/.cpan-build/Reaction-0.002005-A7CJW1/blib/lib/ComponentUI.pm line 32
	require ComponentUI.pm called at /opt/perl-5.10.1/lib/site_perl/5.10.1/Module/Runtime.pm line 317
	Module::Runtime::require_module("ComponentUI") called at /opt/perl-5.10.1/lib/site_perl/5.10.1/Class/Load.pm line 180
	Class::Load::try {...} () called at /opt/perl-5.10.1/lib/site_perl/5.10.1/Try/Tiny.pm line 76
	eval {...} called at /opt/perl-5.10.1/lib/site_perl/5.10.1/Try/Tiny.pm line 72
	Try::Tiny::try(CODE(0x33a0340), Try::Tiny::Catch=REF(0x33b09f0)) called at /opt/perl-5.10.1/lib/site_perl/5.10.1/Class/Load.pm line 186
	Class::Load::try_load_class("ComponentUI", undef) called at /opt/perl-5.10.1/lib/site_perl/5.10.1/Class/Load.pm line 41
	Class::Load::load_class("ComponentUI") called at /opt/perl-5.10.1/lib/site_perl/5.10.1/Test/WWW/Mechanize/Catalyst.pm line 245
	Test::WWW::Mechanize::Catalyst::import("Test::WWW::Mechanize::Catalyst", "ComponentUI") called at t/uncheck_bool_field.t line 6
	main::BEGIN() called at /tmpfs/.cpan-build/Reaction-0.002005-A7CJW1/blib/lib/ComponentUI/TestModel.pm line 0
	eval {...} called at /tmpfs/.cpan-build/Reaction-0.002005-A7CJW1/blib/lib/ComponentUI/TestModel.pm line 0
Class::MOP::load_class is deprecated at /opt/perl-5.10.1/lib/site_perl/5.10.1/x86_64-linux/Class/MOP.pm line 69.
	Class::MOP::load_class("Reaction::InterfaceModel::Object") called at /tmpfs/.cpan-build/Reaction-0.002005-A7CJW1/blib/lib/Reaction/Class.pm line 123
	Reaction::Class::do_class_sub("Reaction::Class", "ComponentUI::TestModel::Foo", "ComponentUI::TestModel::Foo", "is", "Reaction::InterfaceModel::Object", "which", CODE(0x727d8b0)) called at /tmpfs/.cpan-build/Reaction-0.002005-A7CJW1/blib/lib/Reaction/Class.pm line 86
	Reaction::Class::("ComponentUI::TestModel::Foo", "is", "Reaction::InterfaceModel::Object", "which", CODE(0x727d8b0)) called at /tmpfs/.cpan-build/Reaction-0.002005-A7CJW1/blib/lib/ComponentUI/TestModel/Foo.pm line 8
	require ComponentUI/TestModel/Foo.pm called at /opt/perl-5.10.1/lib/site_perl/5.10.1/Module/Runtime.pm line 317
	Module::Runtime::require_module("ComponentUI::TestModel::Foo") called at /opt/perl-5.10.1/lib/site_perl/5.10.1/Class/Load.pm line 180
	Class::Load::try {...} () called at /opt/perl-5.10.1/lib/site_perl/5.10.1/Try/Tiny.pm line 76
	eval {...} called at /opt/perl-5.10.1/lib/site_perl/5.10.1/Try/Tiny.pm line 72
	Try::Tiny::try(CODE(0x7291ee8), Try::Tiny::Catch=REF(0x72a4270)) called at /opt/perl-5.10.1/lib/site_perl/5.10.1/Class/Load.pm line 186
	Class::Load::try_load_class("ComponentUI::TestModel::Foo", undef) called at /opt/perl-5.10.1/lib/site_perl/5.10.1/Class/Load.pm line 41
	Class::Load::load_class("ComponentUI::TestModel::Foo") called at /tmpfs/.cpan-build/Reaction-0.002005-A7CJW1/blib/lib/Reaction/InterfaceModel/Reflector/DBIC.pm line 892
	eval {...} called at /tmpfs/.cpan-build/Reaction-0.002005-A7CJW1/blib/lib/Reaction/InterfaceModel/Reflector/DBIC.pm line 892
	Reaction::InterfaceModel::Reflector::DBIC::_maybe_load_class(Reaction::InterfaceModel::Reflector::DBIC=HASH(0x6fa6ce0), "ComponentUI::TestModel::Foo") called at /tmpfs/.cpan-build/Reaction-0.002005-A7CJW1/blib/lib/Reaction/InterfaceModel/Reflector/DBIC.pm line 876
	Reaction::InterfaceModel::Reflector::DBIC::_load_or_create(Reaction::InterfaceModel::Reflector::DBIC=HASH(0x6fa6ce0), "ComponentUI::TestModel::Foo", "superclasses", ARRAY(0x71f10d0)) called at /tmpfs/.cpan-build/Reaction-0.002005-A7CJW1/blib/lib/Reaction/InterfaceModel/Reflector/DBIC.pm line 448
	Reaction::InterfaceModel::Reflector::DBIC::reflect_source_object(Reaction::InterfaceModel::Reflector::DBIC=HASH(0x6fa6ce0), "schema_class", "RTest::TestDB", "source_name", "Foo", "source_class", "RTest::TestDB::Foo", "parent_class", "ComponentUI::TestModel", ...) called at /tmpfs/.cpan-build/Reaction-0.002005-A7CJW1/blib/lib/Reaction/InterfaceModel/Reflector/DBIC.pm line 323
	Reaction::InterfaceModel::Reflector::DBIC::reflect_source(Reaction::InterfaceModel::Reflector::DBIC=HASH(0x6fa6ce0), "source_name", "Foo", "parent_class", "ComponentUI::TestModel", "schema_class", "RTest::TestDB", "source_class", "RTest::TestDB::Foo", ...) called at /tmpfs/.cpan-build/Reaction-0.002005-A7CJW1/blib/lib/Reaction/InterfaceModel/Reflector/DBIC.pm line 185
	Reaction::InterfaceModel::Reflector::DBIC::reflect_schema(Reaction::InterfaceModel::Reflector::DBIC=HASH(0x6fa6ce0), "model_class", "ComponentUI::TestModel", "schema_class", "RTest::TestDB", "sources", ARRAY(0x6fa6b90)) called at /tmpfs/.cpan-build/Reaction-0.002005-A7CJW1/blib/lib/ComponentUI/TestModel.pm line 10
	require ComponentUI/TestModel.pm called at /opt/perl-5.10.1/lib/site_perl/5.10.1/Module/Runtime.pm line 317
	Module::Runtime::require_module("ComponentUI::TestModel") called at /opt/perl-5.10.1/lib/site_perl/5.10.1/Class/Load.pm line 180
	Class::Load::try {...} () called at /opt/perl-5.10.1/lib/site_perl/5.10.1/Try/Tiny.pm line 76
	eval {...} called at /opt/perl-5.10.1/lib/site_perl/5.10.1/Try/Tiny.pm line 72
	Try::Tiny::try(CODE(0x6c0c7c8), Try::Tiny::Catch=REF(0x6b4cb20)) called at /opt/perl-5.10.1/lib/site_perl/5.10.1/Class/Load.pm line 186
	Class::Load::try_load_class("ComponentUI::TestModel", undef) called at /opt/perl-5.10.1/lib/site_perl/5.10.1/Class/Load.pm line 41
	Class::Load::load_class("ComponentUI::TestModel") called at /tmpfs/.cpan-build/Reaction-0.002005-A7CJW1/blib/lib/Catalyst/Model/Reaction/InterfaceModel/DBIC.pm line 24
	Catalyst::Model::Reaction::InterfaceModel::DBIC::COMPONENT("ComponentUI::Model::TestModel", "ComponentUI", HASH(0x65a0108)) called at /opt/perl-5.10.1/lib/site_perl/5.10.1/Catalyst.pm line 2853
	eval {...} called at /opt/perl-5.10.1/lib/site_perl/5.10.1/Catalyst.pm line 2853
	Catalyst::setup_component("ComponentUI", "ComponentUI::Model::TestModel") called at /opt/perl-5.10.1/lib/site_perl/5.10.1/Catalyst.pm line 2783
	Catalyst::setup_components("ComponentUI") called at /opt/perl-5.10.1/lib/site_perl/5.10.1/Catalyst.pm line 1298
	Catalyst::setup("ComponentUI") called at /tmpfs/.cpan-build/Reaction-0.002005-A7CJW1/blib/lib/ComponentUI.pm line 32
	require ComponentUI.pm called at /opt/perl-5.10.1/lib/site_perl/5.10.1/Module/Runtime.pm line 317
	Module::Runtime::require_module("ComponentUI") called at /opt/perl-5.10.1/lib/site_perl/5.10.1/Class/Load.pm line 180
	Class::Load::try {...} () called at /opt/perl-5.10.1/lib/site_perl/5.10.1/Try/Tiny.pm line 76
	eval {...} called at /opt/perl-5.10.1/lib/site_perl/5.10.1/Try/Tiny.pm line 72
	Try::Tiny::try(CODE(0x33a0340), Try::Tiny::Catch=REF(0x33b09f0)) called at /opt/perl-5.10.1/lib/site_perl/5.10.1/Class/Load.pm line 186
	Class::Load::try_load_class("ComponentUI", undef) called at /opt/perl-5.10.1/lib/site_perl/5.10.1/Class/Load.pm line 41
	Class::Load::load_class("ComponentUI") called at /opt/perl-5.10.1/lib/site_perl/5.10.1/Test/WWW/Mechanize/Catalyst.pm line 245
	Test::WWW::Mechanize::Catalyst::import("Test::WWW::Mechanize::Catalyst", "ComponentUI") called at t/uncheck_bool_field.t line 6
	main::BEGIN() called at /tmpfs/.cpan-build/Reaction-0.002005-A7CJW1/blib/lib/ComponentUI/TestModel/Foo.pm line 0
	eval {...} called at /tmpfs/.cpan-build/Reaction-0.002005-A7CJW1/blib/lib/ComponentUI/TestModel/Foo.pm line 0
Class::MOP::load_class is deprecated at /opt/perl-5.10.1/lib/site_perl/5.10.1/x86_64-linux/Class/MOP.pm line 69.
	Class::MOP::load_class("ComponentUI::RenderingContext::Site") called at /tmpfs/.cpan-build/Reaction-0.002005-A7CJW1/blib/lib/Reaction/UI/View.pm line 125
	eval {...} called at /tmpfs/.cpan-build/Reaction-0.002005-A7CJW1/blib/lib/Reaction/UI/View.pm line 125
	Reaction::UI::View::find_related_class(ComponentUI::View::Site=HASH(0x7091e68), "RenderingContext") called at /tmpfs/.cpan-build/Reaction-0.002005-A7CJW1/blib/lib/Reaction/UI/View.pm line 43
	Reaction::UI::View::_build_rendering_context_class(ComponentUI::View::Site=HASH(0x7091e68)) called at reader Reaction::UI::View::rendering_context_class (defined at /tmpfs/.cpan-build/Reaction-0.002005-A7CJW1/blib/lib/Reaction/UI/View.pm line 29) line 7
	Reaction::UI::View::rendering_context_class(ComponentUI::View::Site=HASH(0x7091e68)) called at /tmpfs/.cpan-build/Reaction-0.002005-A7CJW1/blib/lib/Reaction/UI/View.pm line 134
	Reaction::UI::View::create_rendering_context(ComponentUI::View::Site=HASH(0x7091e68)) called at /tmpfs/.cpan-build/Reaction-0.002005-A7CJW1/blib/lib/Reaction/UI/View.pm line 60
	Reaction::UI::View::render_window(ComponentUI::View::Site=HASH(0x7091e68), Reaction::UI::Window=HASH(0x774dfe0)) called at /tmpfs/.cpan-build/Reaction-0.002005-A7CJW1/blib/lib/Reaction/UI/Window.pm line 74
	Reaction::UI::Window::flush_view(Reaction::UI::Window=HASH(0x774dfe0)) called at /tmpfs/.cpan-build/Reaction-0.002005-A7CJW1/blib/lib/Reaction/UI/Window.pm line 36
	Reaction::UI::Window::flush(Reaction::UI::Window=HASH(0x774dfe0)) called at /tmpfs/.cpan-build/Reaction-0.002005-A7CJW1/blib/lib/Reaction/UI/Controller/Root.pm line 38
	Reaction::UI::Controller::Root::end(ComponentUI::Controller::Root=HASH(0x774e130), ComponentUI=HASH(0x773b258)) called at /opt/perl-5.10.1/lib/site_perl/5.10.1/Catalyst/Action.pm line 65
	Catalyst::Action::execute(Catalyst::Action=HASH(0x75acc20), ComponentUI::Controller::Root=HASH(0x774e130), ComponentUI=HASH(0x773b258)) called at /opt/perl-5.10.1/lib/site_perl/5.10.1/Catalyst.pm line 1884
	eval {...} called at /opt/perl-5.10.1/lib/site_perl/5.10.1/Catalyst.pm line 1884
	Catalyst::execute(ComponentUI=HASH(0x773b258), "ComponentUI::Controller::Root", Catalyst::Action=HASH(0x75acc20)) called at /opt/perl-5.10.1/lib/site_perl/5.10.1/Catalyst/Action.pm line 60
	Catalyst::Action::dispatch(Catalyst::Action=HASH(0x75acc20), ComponentUI=HASH(0x773b258)) called at /opt/perl-5.10.1/lib/site_perl/5.10.1/Catalyst/Controller.pm line 174
	Catalyst::Controller::_END(ComponentUI::Controller::TestModel::Baz=HASH(0x3d0b2d8), ComponentUI=HASH(0x773b258)) called at /opt/perl-5.10.1/lib/site_perl/5.10.1/Catalyst/Action.pm line 65
	Catalyst::Action::execute(Catalyst::Action=HASH(0x75231b8), ComponentUI::Controller::TestModel::Baz=HASH(0x3d0b2d8), ComponentUI=HASH(0x773b258)) called at /opt/perl-5.10.1/lib/site_perl/5.10.1/Catalyst.pm line 1884
	eval {...} called at /opt/perl-5.10.1/lib/site_perl/5.10.1/Catalyst.pm line 1884
	Catalyst::execute(ComponentUI=HASH(0x773b258), "ComponentUI::Controller::TestModel::Baz", Catalyst::Action=HASH(0x75231b8)) called at /opt/perl-5.10.1/lib/site_perl/5.10.1/Catalyst/Action.pm line 60
	Catalyst::Action::dispatch(Catalyst::Action=HASH(0x75231b8), ComponentUI=HASH(0x773b258)) called at /opt/perl-5.10.1/lib/site_perl/5.10.1/Catalyst/Dispatcher.pm line 262
	Catalyst::Dispatcher::_do_forward(Catalyst::Dispatcher=HASH(0x3de27e0), "forward", ComponentUI=HASH(0x773b258), "_END") called at /opt/perl-5.10.1/lib/site_perl/5.10.1/Catalyst/Dispatcher.pm line 242
	Catalyst::Dispatcher::forward(Catalyst::Dispatcher=HASH(0x3de27e0), ComponentUI=HASH(0x773b258), "_END") called at /opt/perl-5.10.1/lib/site_perl/5.10.1/Catalyst.pm line 401
	Catalyst::forward(ComponentUI=HASH(0x773b258), "_END") called at /opt/perl-5.10.1/lib/site_perl/5.10.1/Catalyst/Controller.pm line 138
	Catalyst::Controller::_DISPATCH(ComponentUI::Controller::TestModel::Baz=HASH(0x3d0b2d8), ComponentUI=HASH(0x773b258)) called at /opt/perl-5.10.1/lib/site_perl/5.10.1/Catalyst/Action.pm line 65
	Catalyst::Action::execute(Catalyst::Action=HASH(0x7500a08), ComponentUI::Controller::TestModel::Baz=HASH(0x3d0b2d8), ComponentUI=HASH(0x773b258)) called at /opt/perl-5.10.1/lib/site_perl/5.10.1/Catalyst.pm line 1884
	eval {...} called at /opt/perl-5.10.1/lib/site_perl/5.10.1/Catalyst.pm line 1884
	Catalyst::execute(ComponentUI=HASH(0x773b258), "ComponentUI::Controller::TestModel::Baz", Catalyst::Action=HASH(0x7500a08)) called at /opt/perl-5.10.1/lib/site_perl/5.10.1/Catalyst/Action.pm line 60
	Catalyst::Action::dispatch(Catalyst::Action=HASH(0x7500a08), ComponentUI=HASH(0x773b258)) called at /opt/perl-5.10.1/lib/site_perl/5.10.1/Catalyst/Dispatcher.pm line 262
	Catalyst::Dispatcher::_do_forward(Catalyst::Dispatcher=HASH(0x3de27e0), "forward", ComponentUI=HASH(0x773b258), "/testmodel/baz/_DISPATCH") called at /opt/perl-5.10.1/lib/site_perl/5.10.1/Catalyst/Dispatcher.pm line 242
	Catalyst::Dispatcher::forward(Catalyst::Dispatcher=HASH(0x3de27e0), ComponentUI=HASH(0x773b258), "/testmodel/baz/_DISPATCH") called at /opt/perl-5.10.1/lib/site_perl/5.10.1/Catalyst.pm line 401
	Catalyst::forward(ComponentUI=HASH(0x773b258), "/testmodel/baz/_DISPATCH") called at /opt/perl-5.10.1/lib/site_perl/5.10.1/Catalyst/Dispatcher.pm line 107
	Catalyst::Dispatcher::dispatch(Catalyst::Dispatcher=HASH(0x3de27e0), ComponentUI=HASH(0x773b258)) called at /opt/perl-5.10.1/lib/site_perl/5.10.1/Catalyst.pm line 1830
	Catalyst::dispatch(ComponentUI=HASH(0x773b258)) called at /opt/perl-5.10.1/lib/site_perl/5.10.1/Catalyst/Plugin/Static/Simple.pm line 86
	Class::MOP::Class:::around(CODE(0x3ca12c8), ComponentUI=HASH(0x773b258)) called at /opt/perl-5.10.1/lib/site_perl/5.10.1/x86_64-linux/Class/MOP/Method/Wrapped.pm line 158
	Class::MOP::Method::Wrapped::__ANON__(ComponentUI=HASH(0x773b258)) called at /opt/perl-5.10.1/lib/site_perl/5.10.1/x86_64-linux/Class/MOP/Method/Wrapped.pm line 87
	ComponentUI::dispatch(ComponentUI=HASH(0x773b258)) called at /opt/perl-5.10.1/lib/site_perl/5.10.1/Catalyst.pm line 2220
	Catalyst::try {...} () called at /opt/perl-5.10.1/lib/site_perl/5.10.1/Try/Tiny.pm line 81
	eval {...} called at /opt/perl-5.10.1/lib/site_perl/5.10.1/Try/Tiny.pm line 72
	Try::Tiny::try(CODE(0x7738338), Try::Tiny::Catch=REF(0x7738188)) called at /opt/perl-5.10.1/lib/site_perl/5.10.1/Catalyst.pm line 2229
	Catalyst::handle_request("ComponentUI", "env", HASH(0x7717218), "response_cb", CODE(0x77381e8)) called at /opt/perl-5.10.1/lib/site_perl/5.10.1/Catalyst/Engine.pm line 771
	Catalyst::Engine::__ANON__(CODE(0x77381e8)) called at /opt/perl-5.10.1/lib/site_perl/5.10.1/Plack/Middleware/HTTPExceptions.pm line 32
	Plack::Middleware::HTTPExceptions::try {...} () called at /opt/perl-5.10.1/lib/site_perl/5.10.1/Try/Tiny.pm line 81
	eval {...} called at /opt/perl-5.10.1/lib/site_perl/5.10.1/Try/Tiny.pm line 72
	Try::Tiny::try(CODE(0x7737fc0), Try::Tiny::Catch=REF(0x7716f30)) called at /opt/perl-5.10.1/lib/site_perl/5.10.1/Plack/Middleware/HTTPExceptions.pm line 41
	Plack::Middleware::HTTPExceptions::__ANON__(CODE(0x7737e70)) called at /opt/perl-5.10.1/lib/site_perl/5.10.1/Plack/Util.pm line 301
	Plack::Util::__ANON__(CODE(0x7737d20)) called at /opt/perl-5.10.1/lib/site_perl/5.10.1/Plack/Util.pm line 301
	Plack::Util::__ANON__(CODE(0x7737bd0)) called at /opt/perl-5.10.1/lib/site_perl/5.10.1/Plack/Util.pm line 301
	Plack::Util::__ANON__(CODE(0x7737b28)) called at /opt/perl-5.10.1/lib/site_perl/5.10.1/HTTP/Message/PSGI.pm line 100
	HTTP::Message::PSGI::res_from_psgi(CODE(0x7716d98)) called at /opt/perl-5.10.1/lib/site_perl/5.10.1/HTTP/Message/PSGI.pm line 156
	HTTP::Response::from_psgi("HTTP::Response", CODE(0x7716d98)) called at /opt/perl-5.10.1/lib/site_perl/5.10.1/Plack/Test/MockHTTP.pm line 24
	Plack::Test::MockHTTP::try {...} () called at /opt/perl-5.10.1/lib/site_perl/5.10.1/Try/Tiny.pm line 76
	eval {...} called at /opt/perl-5.10.1/lib/site_perl/5.10.1/Try/Tiny.pm line 72
	Try::Tiny::try(CODE(0x77105f0), Try::Tiny::Catch=REF(0x7598868)) called at /opt/perl-5.10.1/lib/site_perl/5.10.1/Plack/Test/MockHTTP.pm line 27
	Plack::Test::MockHTTP::request(Plack::Test::MockHTTP=HASH(0x7710380), HTTP::Request=HASH(0x7702540)) called at /opt/perl-5.10.1/lib/site_perl/5.10.1/Plack/Test.pm line 38
	Plack::Test::__ANON__(HTTP::Request=HASH(0x7702540)) called at /opt/perl-5.10.1/lib/site_perl/5.10.1/Catalyst/Test.pm line 281
	Catalyst::Test::__ANON__(CODE(0x7710140)) called at /opt/perl-5.10.1/lib/site_perl/5.10.1/Plack/Test.pm line 38
	Plack::Test::test_psgi("app", CODE(0x770fc90), "mangle_response", CODE(0x338b140), "app", CODE(0x770ff18), "client", CODE(0x770fff0)) called at /opt/perl-5.10.1/lib/site_perl/5.10.1/Catalyst/Test.pm line 284
	Catalyst::Test::_request(HASH(0x770fbb8), HTTP::Request=HASH(0x7702540)) called at /opt/perl-5.10.1/lib/site_perl/5.10.1/Catalyst/Test.pm line 327
	Catalyst::Test::_local_request("ComponentUI", HTTP::Request=HASH(0x7702540)) called at /opt/perl-5.10.1/lib/site_perl/5.10.1/Test/WWW/Mechanize/Catalyst.pm line 174
	Test::WWW::Mechanize::Catalyst::_do_catalyst_request(Test::WWW::Mechanize::Catalyst=HASH(0x764c140), HTTP::Request=HASH(0x7702540)) called at /opt/perl-5.10.1/lib/site_perl/5.10.1/Test/WWW/Mechanize/Catalyst.pm line 78
	Test::WWW::Mechanize::Catalyst::_make_request(Test::WWW::Mechanize::Catalyst=HASH(0x764c140), HTTP::Request=HASH(0x7702540)) called at /opt/perl-5.10.1/lib/site_perl/5.10.1/WWW/Mechanize.pm line 2312
	WWW::Mechanize::request(Test::WWW::Mechanize::Catalyst=HASH(0x764c140), HTTP::Request=HASH(0x7702540)) called at /opt/perl-5.10.1/lib/site_perl/5.10.1/LWP/UserAgent.pm line 411
	LWP::UserAgent::get(Test::WWW::Mechanize::Catalyst=HASH(0x764c140), "http://localhost/testmodel/baz/id/1/update") called at /opt/perl-5.10.1/lib/site_perl/5.10.1/WWW/Mechanize.pm line 407
	WWW::Mechanize::get(Test::WWW::Mechanize::Catalyst=HASH(0x764c140), "http://localhost/testmodel/baz/id/1/update") called at /opt/perl-5.10.1/lib/site_perl/5.10.1/Test/WWW/Mechanize.pm line 159
	Test::WWW::Mechanize::get_ok(Test::WWW::Mechanize::Catalyst=HASH(0x764c140), "http://localhost/testmodel/baz/id/1/update") called at t/uncheck_bool_field.t line 9
Class::MOP::is_class_loaded is deprecated at /opt/perl-5.10.1/lib/site_perl/5.10.1/x86_64-linux/Class/MOP.pm line 87.
	Class::MOP::is_class_loaded("ComponentUI::UI::Widget::SiteLayout") called at /tmpfs/.cpan-build/Reaction-0.002005-A7CJW1/blib/lib/Reaction/UI/Skin.pm line 178
	Reaction::UI::Skin::widget_class_for(Reaction::UI::Skin=HASH(0x7a21640), Reaction::UI::LayoutSet::TT=HASH(0x7a29c00)) called at /tmpfs/.cpan-build/Reaction-0.002005-A7CJW1/blib/lib/Reaction/UI/LayoutSet.pm line 28
	Reaction::UI::LayoutSet::BUILD(Reaction::UI::LayoutSet::TT=HASH(0x7a29c00), HASH(0x7a29b70)) called at constructor Reaction::UI::LayoutSet::TT::new (defined at /tmpfs/.cpan-build/Reaction-0.002005-A7CJW1/blib/lib/Reaction/UI/LayoutSet/TT.pm line 43) line 69
	Reaction::UI::LayoutSet::TT::new("Reaction::UI::LayoutSet::TT", "name", "site_layout", "skin", Reaction::UI::Skin=HASH(0x7a21640), "tt_object", Template=HASH(0x6b3dfd0), "source_file", Path::Class::File=HASH(0x7a29270), ...) called at /tmpfs/.cpan-build/Reaction-0.002005-A7CJW1/blib/lib/Reaction/UI/Skin.pm line 114
	Reaction::UI::Skin::_create_layout_set(Reaction::UI::Skin=HASH(0x7a21640), "site_layout", ARRAY(0x7a301f0), Reaction::UI::Skin=HASH(0x7a21640)) called at /tmpfs/.cpan-build/Reaction-0.002005-A7CJW1/blib/lib/Reaction/UI/Skin.pm line 110
	Reaction::UI::Skin::create_layout_set(Reaction::UI::Skin=HASH(0x7a21640), "site_layout") called at /tmpfs/.cpan-build/Reaction-0.002005-A7CJW1/blib/lib/Reaction/UI/LayoutSet.pm line 83
	Reaction::UI::LayoutSet::_load_file(Reaction::UI::LayoutSet::TT=HASH(0x7a40888), Path::Class::File=HASH(0x7a26758), HASH(0x7a407f8)) called at /tmpfs/.cpan-build/Reaction-0.002005-A7CJW1/blib/lib/Reaction/UI/LayoutSet.pm line 27
	Reaction::UI::LayoutSet::BUILD(Reaction::UI::LayoutSet::TT=HASH(0x7a40888), HASH(0x7a407f8)) called at constructor Reaction::UI::LayoutSet::TT::new (defined at /tmpfs/.cpan-build/Reaction-0.002005-A7CJW1/blib/lib/Reaction/UI/LayoutSet/TT.pm line 43) line 69
	Reaction::UI::LayoutSet::TT::new("Reaction::UI::LayoutSet::TT", "name", "site_layout", "skin", Reaction::UI::Skin=HASH(0x79f4788), "next_skin", Reaction::UI::Skin=HASH(0x7a21640), "tt_object", Template=HASH(0x6b3dfd0), ...) called at /tmpfs/.cpan-build/Reaction-0.002005-A7CJW1/blib/lib/Reaction/UI/Skin.pm line 114
	Reaction::UI::Skin::_create_layout_set(Reaction::UI::Skin=HASH(0x79f4788), "site_layout", ARRAY(0x79db410), Reaction::UI::Skin=HASH(0x79f4788)) called at /tmpfs/.cpan-build/Reaction-0.002005-A7CJW1/blib/lib/Reaction/UI/Skin.pm line 110
	Reaction::UI::Skin::create_layout_set(Reaction::UI::Skin=HASH(0x79f4788), "site_layout") called at /tmpfs/.cpan-build/Reaction-0.002005-A7CJW1/blib/lib/Reaction/UI/LayoutSet.pm line 83
	Reaction::UI::LayoutSet::_load_file(Reaction::UI::LayoutSet::TT=HASH(0x7539258), Path::Class::File=HASH(0x6e4cd68), HASH(0x79f4d28)) called at /tmpfs/.cpan-build/Reaction-0.002005-A7CJW1/blib/lib/Reaction/UI/LayoutSet.pm line 27
	Reaction::UI::LayoutSet::BUILD(Reaction::UI::LayoutSet::TT=HASH(0x7539258), HASH(0x79f4d28)) called at constructor Reaction::UI::LayoutSet::TT::new (defined at /tmpfs/.cpan-build/Reaction-0.002005-A7CJW1/blib/lib/Reaction/UI/LayoutSet/TT.pm line 43) line 69
	Reaction::UI::LayoutSet::TT::new("Reaction::UI::LayoutSet::TT", "name", "site_layout", "skin", Reaction::UI::Skin=HASH(0x79dba10), "next_skin", Reaction::UI::Skin=HASH(0x79f4788), "tt_object", Template=HASH(0x6b3dfd0), ...) called at /tmpfs/.cpan-build/Reaction-0.002005-A7CJW1/blib/lib/Reaction/UI/Skin.pm line 114
	Reaction::UI::Skin::_create_layout_set(Reaction::UI::Skin=HASH(0x79dba10), "site_layout", ARRAY(0x79d2928), Reaction::UI::Skin=HASH(0x79dba10)) called at /tmpfs/.cpan-build/Reaction-0.002005-A7CJW1/blib/lib/Reaction/UI/Skin.pm line 110
	Reaction::UI::Skin::create_layout_set(Reaction::UI::Skin=HASH(0x79dba10), "site_layout") called at /opt/perl-5.10.1/lib/site_perl/5.10.1/x86_64-linux/Moose/Meta/Method/Delegation.pm line 110
	Reaction::UI::View::create_layout_set(ComponentUI::View::Site=HASH(0x7091e68), "site_layout") called at /tmpfs/.cpan-build/Reaction-0.002005-A7CJW1/blib/lib/Reaction/UI/View.pm line 99
	Reaction::UI::View::layout_set_for(ComponentUI::View::Site=HASH(0x7091e68), Reaction::UI::ViewPort::SiteLayout=HASH(0x774e4c0)) called at /tmpfs/.cpan-build/Reaction-0.002005-A7CJW1/blib/lib/Reaction/UI/View.pm line 78
	Reaction::UI::View::render_viewport_args(ComponentUI::View::Site=HASH(0x7091e68), Reaction::UI::ViewPort::SiteLayout=HASH(0x774e4c0)) called at /tmpfs/.cpan-build/Reaction-0.002005-A7CJW1/blib/lib/Reaction/UI/View.pm line 61
	Reaction::UI::View::render_window(ComponentUI::View::Site=HASH(0x7091e68), Reaction::UI::Window=HASH(0x774dfe0)) called at /tmpfs/.cpan-build/Reaction-0.002005-A7CJW1/blib/lib/Reaction/UI/Window.pm line 74
	Reaction::UI::Window::flush_view(Reaction::UI::Window=HASH(0x774dfe0)) called at /tmpfs/.cpan-build/Reaction-0.002005-A7CJW1/blib/lib/Reaction/UI/Window.pm line 36
	Reaction::UI::Window::flush(Reaction::UI::Window=HASH(0x774dfe0)) called at /tmpfs/.cpan-build/Reaction-0.002005-A7CJW1/blib/lib/Reaction/UI/Controller/Root.pm line 38
	Reaction::UI::Controller::Root::end(ComponentUI::Controller::Root=HASH(0x774e130), ComponentUI=HASH(0x773b258)) called at /opt/perl-5.10.1/lib/site_perl/5.10.1/Catalyst/Action.pm line 65
	Catalyst::Action::execute(Catalyst::Action=HASH(0x75acc20), ComponentUI::Controller::Root=HASH(0x774e130), ComponentUI=HASH(0x773b258)) called at /opt/perl-5.10.1/lib/site_perl/5.10.1/Catalyst.pm line 1884
	eval {...} called at /opt/perl-5.10.1/lib/site_perl/5.10.1/Catalyst.pm line 1884
	Catalyst::execute(ComponentUI=HASH(0x773b258), "ComponentUI::Controller::Root", Catalyst::Action=HASH(0x75acc20)) called at /opt/perl-5.10.1/lib/site_perl/5.10.1/Catalyst/Action.pm line 60
	Catalyst::Action::dispatch(Catalyst::Action=HASH(0x75acc20), ComponentUI=HASH(0x773b258)) called at /opt/perl-5.10.1/lib/site_perl/5.10.1/Catalyst/Controller.pm line 174
	Catalyst::Controller::_END(ComponentUI::Controller::TestModel::Baz=HASH(0x3d0b2d8), ComponentUI=HASH(0x773b258)) called at /opt/perl-5.10.1/lib/site_perl/5.10.1/Catalyst/Action.pm line 65
	Catalyst::Action::execute(Catalyst::Action=HASH(0x75231b8), ComponentUI::Controller::TestModel::Baz=HASH(0x3d0b2d8), ComponentUI=HASH(0x773b258)) called at /opt/perl-5.10.1/lib/site_perl/5.10.1/Catalyst.pm line 1884
	eval {...} called at /opt/perl-5.10.1/lib/site_perl/5.10.1/Catalyst.pm line 1884
	Catalyst::execute(ComponentUI=HASH(0x773b258), "ComponentUI::Controller::TestModel::Baz", Catalyst::Action=HASH(0x75231b8)) called at /opt/perl-5.10.1/lib/site_perl/5.10.1/Catalyst/Action.pm line 60
	Catalyst::Action::dispatch(Catalyst::Action=HASH(0x75231b8), ComponentUI=HASH(0x773b258)) called at /opt/perl-5.10.1/lib/site_perl/5.10.1/Catalyst/Dispatcher.pm line 262
	Catalyst::Dispatcher::_do_forward(Catalyst::Dispatcher=HASH(0x3de27e0), "forward", ComponentUI=HASH(0x773b258), "_END") called at /opt/perl-5.10.1/lib/site_perl/5.10.1/Catalyst/Dispatcher.pm line 242
	Catalyst::Dispatcher::forward(Catalyst::Dispatcher=HASH(0x3de27e0), ComponentUI=HASH(0x773b258), "_END") called at /opt/perl-5.10.1/lib/site_perl/5.10.1/Catalyst.pm line 401
	Catalyst::forward(ComponentUI=HASH(0x773b258), "_END") called at /opt/perl-5.10.1/lib/site_perl/5.10.1/Catalyst/Controller.pm line 138
	Catalyst::Controller::_DISPATCH(ComponentUI::Controller::TestModel::Baz=HASH(0x3d0b2d8), ComponentUI=HASH(0x773b258)) called at /opt/perl-5.10.1/lib/site_perl/5.10.1/Catalyst/Action.pm line 65
	Catalyst::Action::execute(Catalyst::Action=HASH(0x7500a08), ComponentUI::Controller::TestModel::Baz=HASH(0x3d0b2d8), ComponentUI=HASH(0x773b258)) called at /opt/perl-5.10.1/lib/site_perl/5.10.1/Catalyst.pm line 1884
	eval {...} called at /opt/perl-5.10.1/lib/site_perl/5.10.1/Catalyst.pm line 1884
	Catalyst::execute(ComponentUI=HASH(0x773b258), "ComponentUI::Controller::TestModel::Baz", Catalyst::Action=HASH(0x7500a08)) called at /opt/perl-5.10.1/lib/site_perl/5.10.1/Catalyst/Action.pm line 60
	Catalyst::Action::dispatch(Catalyst::Action=HASH(0x7500a08), ComponentUI=HASH(0x773b258)) called at /opt/perl-5.10.1/lib/site_perl/5.10.1/Catalyst/Dispatcher.pm line 262
	Catalyst::Dispatcher::_do_forward(Catalyst::Dispatcher=HASH(0x3de27e0), "forward", ComponentUI=HASH(0x773b258), "/testmodel/baz/_DISPATCH") called at /opt/perl-5.10.1/lib/site_perl/5.10.1/Catalyst/Dispatcher.pm line 242
	Catalyst::Dispatcher::forward(Catalyst::Dispatcher=HASH(0x3de27e0), ComponentUI=HASH(0x773b258), "/testmodel/baz/_DISPATCH") called at /opt/perl-5.10.1/lib/site_perl/5.10.1/Catalyst.pm line 401
	Catalyst::forward(ComponentUI=HASH(0x773b258), "/testmodel/baz/_DISPATCH") called at /opt/perl-5.10.1/lib/site_perl/5.10.1/Catalyst/Dispatcher.pm line 107
	Catalyst::Dispatcher::dispatch(Catalyst::Dispatcher=HASH(0x3de27e0), ComponentUI=HASH(0x773b258)) called at /opt/perl-5.10.1/lib/site_perl/5.10.1/Catalyst.pm line 1830
	Catalyst::dispatch(ComponentUI=HASH(0x773b258)) called at /opt/perl-5.10.1/lib/site_perl/5.10.1/Catalyst/Plugin/Static/Simple.pm line 86
	Class::MOP::Class:::around(CODE(0x3ca12c8), ComponentUI=HASH(0x773b258)) called at /opt/perl-5.10.1/lib/site_perl/5.10.1/x86_64-linux/Class/MOP/Method/Wrapped.pm line 158
	Class::MOP::Method::Wrapped::__ANON__(ComponentUI=HASH(0x773b258)) called at /opt/perl-5.10.1/lib/site_perl/5.10.1/x86_64-linux/Class/MOP/Method/Wrapped.pm line 87
	ComponentUI::dispatch(ComponentUI=HASH(0x773b258)) called at /opt/perl-5.10.1/lib/site_perl/5.10.1/Catalyst.pm line 2220
	Catalyst::try {...} () called at /opt/perl-5.10.1/lib/site_perl/5.10.1/Try/Tiny.pm line 81
	eval {...} called at /opt/perl-5.10.1/lib/site_perl/5.10.1/Try/Tiny.pm line 72
	Try::Tiny::try(CODE(0x7738338), Try::Tiny::Catch=REF(0x7738188)) called at /opt/perl-5.10.1/lib/site_perl/5.10.1/Catalyst.pm line 2229
	Catalyst::handle_request("ComponentUI", "env", HASH(0x7717218), "response_cb", CODE(0x77381e8)) called at /opt/perl-5.10.1/lib/site_perl/5.10.1/Catalyst/Engine.pm line 771
	Catalyst::Engine::__ANON__(CODE(0x77381e8)) called at /opt/perl-5.10.1/lib/site_perl/5.10.1/Plack/Middleware/HTTPExceptions.pm line 32
	Plack::Middleware::HTTPExceptions::try {...} () called at /opt/perl-5.10.1/lib/site_perl/5.10.1/Try/Tiny.pm line 81
	eval {...} called at /opt/perl-5.10.1/lib/site_perl/5.10.1/Try/Tiny.pm line 72
	Try::Tiny::try(CODE(0x7737fc0), Try::Tiny::Catch=REF(0x7716f30)) called at /opt/perl-5.10.1/lib/site_perl/5.10.1/Plack/Middleware/HTTPExceptions.pm line 41
	Plack::Middleware::HTTPExceptions::__ANON__(CODE(0x7737e70)) called at /opt/perl-5.10.1/lib/site_perl/5.10.1/Plack/Util.pm line 301
	Plack::Util::__ANON__(CODE(0x7737d20)) called at /opt/perl-5.10.1/lib/site_perl/5.10.1/Plack/Util.pm line 301
	Plack::Util::__ANON__(CODE(0x7737bd0)) called at /opt/perl-5.10.1/lib/site_perl/5.10.1/Plack/Util.pm line 301
	Plack::Util::__ANON__(CODE(0x7737b28)) called at /opt/perl-5.10.1/lib/site_perl/5.10.1/HTTP/Message/PSGI.pm line 100
	HTTP::Message::PSGI::res_from_psgi(CODE(0x7716d98)) called at /opt/perl-5.10.1/lib/site_perl/5.10.1/HTTP/Message/PSGI.pm line 156
	HTTP::Response::from_psgi("HTTP::Response", CODE(0x7716d98)) called at /opt/perl-5.10.1/lib/site_perl/5.10.1/Plack/Test/MockHTTP.pm line 24
	Plack::Test::MockHTTP::try {...} () called at /opt/perl-5.10.1/lib/site_perl/5.10.1/Try/Tiny.pm line 76
	eval {...} called at /opt/perl-5.10.1/lib/site_perl/5.10.1/Try/Tiny.pm line 72
	Try::Tiny::try(CODE(0x77105f0), Try::Tiny::Catch=REF(0x7598868)) called at /opt/perl-5.10.1/lib/site_perl/5.10.1/Plack/Test/MockHTTP.pm line 27
	Plack::Test::MockHTTP::request(Plack::Test::MockHTTP=HASH(0x7710380), HTTP::Request=HASH(0x7702540)) called at /opt/perl-5.10.1/lib/site_perl/5.10.1/Plack/Test.pm line 38
	Plack::Test::__ANON__(HTTP::Request=HASH(0x7702540)) called at /opt/perl-5.10.1/lib/site_perl/5.10.1/Catalyst/Test.pm line 281
	Catalyst::Test::__ANON__(CODE(0x7710140)) called at /opt/perl-5.10.1/lib/site_perl/5.10.1/Plack/Test.pm line 38
	Plack::Test::test_psgi("app", CODE(0x770fc90), "mangle_response", CODE(0x338b140), "app", CODE(0x770ff18), "client", CODE(0x770fff0)) called at /opt/perl-5.10.1/lib/site_perl/5.10.1/Catalyst/Test.pm line 284
	Catalyst::Test::_request(HASH(0x770fbb8), HTTP::Request=HASH(0x7702540)) called at /opt/perl-5.10.1/lib/site_perl/5.10.1/Catalyst/Test.pm line 327
	Catalyst::Test::_local_request("ComponentUI", HTTP::Request=HASH(0x7702540)) called at /opt/perl-5.10.1/lib/site_perl/5.10.1/Test/WWW/Mechanize/Catalyst.pm line 174
	Test::WWW::Mechanize::Catalyst::_do_catalyst_request(Test::WWW::Mechanize::Catalyst=HASH(0x764c140), HTTP::Request=HASH(0x7702540)) called at /opt/perl-5.10.1/lib/site_perl/5.10.1/Test/WWW/Mechanize/Catalyst.pm line 78
	Test::WWW::Mechanize::Catalyst::_make_request(Test::WWW::Mechanize::Catalyst=HASH(0x764c140), HTTP::Request=HASH(0x7702540)) called at /opt/perl-5.10.1/lib/site_perl/5.10.1/WWW/Mechanize.pm line 2312
	WWW::Mechanize::request(Test::WWW::Mechanize::Catalyst=HASH(0x764c140), HTTP::Request=HASH(0x7702540)) called at /opt/perl-5.10.1/lib/site_perl/5.10.1/LWP/UserAgent.pm line 411
	LWP::UserAgent::get(Test::WWW::Mechanize::Catalyst=HASH(0x764c140), "http://localhost/testmodel/baz/id/1/update") called at /opt/perl-5.10.1/lib/site_perl/5.10.1/WWW/Mechanize.pm line 407
	WWW::Mechanize::get(Test::WWW::Mechanize::Catalyst=HASH(0x764c140), "http://localhost/testmodel/baz/id/1/update") called at /opt/perl-5.10.1/lib/site_perl/5.10.1/Test/WWW/Mechanize.pm line 159
	Test::WWW::Mechanize::get_ok(Test::WWW::Mechanize::Catalyst=HASH(0x764c140), "http://localhost/testmodel/baz/id/1/update") called at t/uncheck_bool_field.t line 9
Class::MOP::load_class is deprecated at /opt/perl-5.10.1/lib/site_perl/5.10.1/x86_64-linux/Class/MOP.pm line 69.
	Class::MOP::load_class("Reaction::UI::Widget::SiteLayout") called at /tmpfs/.cpan-build/Reaction-0.002005-A7CJW1/blib/lib/Reaction/UI/Skin.pm line 181
	eval {...} called at /tmpfs/.cpan-build/Reaction-0.002005-A7CJW1/blib/lib/Reaction/UI/Skin.pm line 181
	Reaction::UI::Skin::widget_class_for(Reaction::UI::Skin=HASH(0x7a21640), Reaction::UI::LayoutSet::TT=HASH(0x7a29c00)) called at /tmpfs/.cpan-build/Reaction-0.002005-A7CJW1/blib/lib/Reaction/UI/LayoutSet.pm line 28
	Reaction::UI::LayoutSet::BUILD(Reaction::UI::LayoutSet::TT=HASH(0x7a29c00), HASH(0x7a29b70)) called at constructor Reaction::UI::LayoutSet::TT::new (defined at /tmpfs/.cpan-build/Reaction-0.002005-A7CJW1/blib/lib/Reaction/UI/LayoutSet/TT.pm line 43) line 69
	Reaction::UI::LayoutSet::TT::new("Reaction::UI::LayoutSet::TT", "name", "site_layout", "skin", Reaction::UI::Skin=HASH(0x7a21640), "tt_object", Template=HASH(0x6b3dfd0), "source_file", Path::Class::File=HASH(0x7a29270), ...) called at /tmpfs/.cpan-build/Reaction-0.002005-A7CJW1/blib/lib/Reaction/UI/Skin.pm line 114
	Reaction::UI::Skin::_create_layout_set(Reaction::UI::Skin=HASH(0x7a21640), "site_layout", ARRAY(0x7a301f0), Reaction::UI::Skin=HASH(0x7a21640)) called at /tmpfs/.cpan-build/Reaction-0.002005-A7CJW1/blib/lib/Reaction/UI/Skin.pm line 110
	Reaction::UI::Skin::create_layout_set(Reaction::UI::Skin=HASH(0x7a21640), "site_layout") called at /tmpfs/.cpan-build/Reaction-0.002005-A7CJW1/blib/lib/Reaction/UI/LayoutSet.pm line 83
	Reaction::UI::LayoutSet::_load_file(Reaction::UI::LayoutSet::TT=HASH(0x7a40888), Path::Class::File=HASH(0x7a26758), HASH(0x7a407f8)) called at /tmpfs/.cpan-build/Reaction-0.002005-A7CJW1/blib/lib/Reaction/UI/LayoutSet.pm line 27
	Reaction::UI::LayoutSet::BUILD(Reaction::UI::LayoutSet::TT=HASH(0x7a40888), HASH(0x7a407f8)) called at constructor Reaction::UI::LayoutSet::TT::new (defined at /tmpfs/.cpan-build/Reaction-0.002005-A7CJW1/blib/lib/Reaction/UI/LayoutSet/TT.pm line 43) line 69
	Reaction::UI::LayoutSet::TT::new("Reaction::UI::LayoutSet::TT", "name", "site_layout", "skin", Reaction::UI::Skin=HASH(0x79f4788), "next_skin", Reaction::UI::Skin=HASH(0x7a21640), "tt_object", Template=HASH(0x6b3dfd0), ...) called at /tmpfs/.cpan-build/Reaction-0.002005-A7CJW1/blib/lib/Reaction/UI/Skin.pm line 114
	Reaction::UI::Skin::_create_layout_set(Reaction::UI::Skin=HASH(0x79f4788), "site_layout", ARRAY(0x79db410), Reaction::UI::Skin=HASH(0x79f4788)) called at /tmpfs/.cpan-build/Reaction-0.002005-A7CJW1/blib/lib/Reaction/UI/Skin.pm line 110
	Reaction::UI::Skin::create_layout_set(Reaction::UI::Skin=HASH(0x79f4788), "site_layout") called at /tmpfs/.cpan-build/Reaction-0.002005-A7CJW1/blib/lib/Reaction/UI/LayoutSet.pm line 83
	Reaction::UI::LayoutSet::_load_file(Reaction::UI::LayoutSet::TT=HASH(0x7539258), Path::Class::File=HASH(0x6e4cd68), HASH(0x79f4d28)) called at /tmpfs/.cpan-build/Reaction-0.002005-A7CJW1/blib/lib/Reaction/UI/LayoutSet.pm line 27
	Reaction::UI::LayoutSet::BUILD(Reaction::UI::LayoutSet::TT=HASH(0x7539258), HASH(0x79f4d28)) called at constructor Reaction::UI::LayoutSet::TT::new (defined at /tmpfs/.cpan-build/Reaction-0.002005-A7CJW1/blib/lib/Reaction/UI/LayoutSet/TT.pm line 43) line 69
	Reaction::UI::LayoutSet::TT::new("Reaction::UI::LayoutSet::TT", "name", "site_layout", "skin", Reaction::UI::Skin=HASH(0x79dba10), "next_skin", Reaction::UI::Skin=HASH(0x79f4788), "tt_object", Template=HASH(0x6b3dfd0), ...) called at /tmpfs/.cpan-build/Reaction-0.002005-A7CJW1/blib/lib/Reaction/UI/Skin.pm line 114
	Reaction::UI::Skin::_create_layout_set(Reaction::UI::Skin=HASH(0x79dba10), "site_layout", ARRAY(0x79d2928), Reaction::UI::Skin=HASH(0x79dba10)) called at /tmpfs/.cpan-build/Reaction-0.002005-A7CJW1/blib/lib/Reaction/UI/Skin.pm line 110
	Reaction::UI::Skin::create_layout_set(Reaction::UI::Skin=HASH(0x79dba10), "site_layout") called at /opt/perl-5.10.1/lib/site_perl/5.10.1/x86_64-linux/Moose/Meta/Method/Delegation.pm line 110
	Reaction::UI::View::create_layout_set(ComponentUI::View::Site=HASH(0x7091e68), "site_layout") called at /tmpfs/.cpan-build/Reaction-0.002005-A7CJW1/blib/lib/Reaction/UI/View.pm line 99
	Reaction::UI::View::layout_set_for(ComponentUI::View::Site=HASH(0x7091e68), Reaction::UI::ViewPort::SiteLayout=HASH(0x774e4c0)) called at /tmpfs/.cpan-build/Reaction-0.002005-A7CJW1/blib/lib/Reaction/UI/View.pm line 78
	Reaction::UI::View::render_viewport_args(ComponentUI::View::Site=HASH(0x7091e68), Reaction::UI::ViewPort::SiteLayout=HASH(0x774e4c0)) called at /tmpfs/.cpan-build/Reaction-0.002005-A7CJW1/blib/lib/Reaction/UI/View.pm line 61
	Reaction::UI::View::render_window(ComponentUI::View::Site=HASH(0x7091e68), Reaction::UI::Window=HASH(0x774dfe0)) called at /tmpfs/.cpan-build/Reaction-0.002005-A7CJW1/blib/lib/Reaction/UI/Window.pm line 74
	Reaction::UI::Window::flush_view(Reaction::UI::Window=HASH(0x774dfe0)) called at /tmpfs/.cpan-build/Reaction-0.002005-A7CJW1/blib/lib/Reaction/UI/Window.pm line 36
	Reaction::UI::Window::flush(Reaction::UI::Window=HASH(0x774dfe0)) called at /tmpfs/.cpan-build/Reaction-0.002005-A7CJW1/blib/lib/Reaction/UI/Controller/Root.pm line 38
	Reaction::UI::Controller::Root::end(ComponentUI::Controller::Root=HASH(0x774e130), ComponentUI=HASH(0x773b258)) called at /opt/perl-5.10.1/lib/site_perl/5.10.1/Catalyst/Action.pm line 65
	Catalyst::Action::execute(Catalyst::Action=HASH(0x75acc20), ComponentUI::Controller::Root=HASH(0x774e130), ComponentUI=HASH(0x773b258)) called at /opt/perl-5.10.1/lib/site_perl/5.10.1/Catalyst.pm line 1884
	eval {...} called at /opt/perl-5.10.1/lib/site_perl/5.10.1/Catalyst.pm line 1884
	Catalyst::execute(ComponentUI=HASH(0x773b258), "ComponentUI::Controller::Root", Catalyst::Action=HASH(0x75acc20)) called at /opt/perl-5.10.1/lib/site_perl/5.10.1/Catalyst/Action.pm line 60
	Catalyst::Action::dispatch(Catalyst::Action=HASH(0x75acc20), ComponentUI=HASH(0x773b258)) called at /opt/perl-5.10.1/lib/site_perl/5.10.1/Catalyst/Controller.pm line 174
	Catalyst::Controller::_END(ComponentUI::Controller::TestModel::Baz=HASH(0x3d0b2d8), ComponentUI=HASH(0x773b258)) called at /opt/perl-5.10.1/lib/site_perl/5.10.1/Catalyst/Action.pm line 65
	Catalyst::Action::execute(Catalyst::Action=HASH(0x75231b8), ComponentUI::Controller::TestModel::Baz=HASH(0x3d0b2d8), ComponentUI=HASH(0x773b258)) called at /opt/perl-5.10.1/lib/site_perl/5.10.1/Catalyst.pm line 1884
	eval {...} called at /opt/perl-5.10.1/lib/site_perl/5.10.1/Catalyst.pm line 1884
	Catalyst::execute(ComponentUI=HASH(0x773b258), "ComponentUI::Controller::TestModel::Baz", Catalyst::Action=HASH(0x75231b8)) called at /opt/perl-5.10.1/lib/site_perl/5.10.1/Catalyst/Action.pm line 60
	Catalyst::Action::dispatch(Catalyst::Action=HASH(0x75231b8), ComponentUI=HASH(0x773b258)) called at /opt/perl-5.10.1/lib/site_perl/5.10.1/Catalyst/Dispatcher.pm line 262
	Catalyst::Dispatcher::_do_forward(Catalyst::Dispatcher=HASH(0x3de27e0), "forward", ComponentUI=HASH(0x773b258), "_END") called at /opt/perl-5.10.1/lib/site_perl/5.10.1/Catalyst/Dispatcher.pm line 242
	Catalyst::Dispatcher::forward(Catalyst::Dispatcher=HASH(0x3de27e0), ComponentUI=HASH(0x773b258), "_END") called at /opt/perl-5.10.1/lib/site_perl/5.10.1/Catalyst.pm line 401
	Catalyst::forward(ComponentUI=HASH(0x773b258), "_END") called at /opt/perl-5.10.1/lib/site_perl/5.10.1/Catalyst/Controller.pm line 138
	Catalyst::Controller::_DISPATCH(ComponentUI::Controller::TestModel::Baz=HASH(0x3d0b2d8), ComponentUI=HASH(0x773b258)) called at /opt/perl-5.10.1/lib/site_perl/5.10.1/Catalyst/Action.pm line 65
	Catalyst::Action::execute(Catalyst::Action=HASH(0x7500a08), ComponentUI::Controller::TestModel::Baz=HASH(0x3d0b2d8), ComponentUI=HASH(0x773b258)) called at /opt/perl-5.10.1/lib/site_perl/5.10.1/Catalyst.pm line 1884
	eval {...} called at /opt/perl-5.10.1/lib/site_perl/5.10.1/Catalyst.pm line 1884
	Catalyst::execute(ComponentUI=HASH(0x773b258), "ComponentUI::Controller::TestModel::Baz", Catalyst::Action=HASH(0x7500a08)) called at /opt/perl-5.10.1/lib/site_perl/5.10.1/Catalyst/Action.pm line 60
	Catalyst::Action::dispatch(Catalyst::Action=HASH(0x7500a08), ComponentUI=HASH(0x773b258)) called at /opt/perl-5.10.1/lib/site_perl/5.10.1/Catalyst/Dispatcher.pm line 262
	Catalyst::Dispatcher::_do_forward(Catalyst::Dispatcher=HASH(0x3de27e0), "forward", ComponentUI=HASH(0x773b258), "/testmodel/baz/_DISPATCH") called at /opt/perl-5.10.1/lib/site_perl/5.10.1/Catalyst/Dispatcher.pm line 242
	Catalyst::Dispatcher::forward(Catalyst::Dispatcher=HASH(0x3de27e0), ComponentUI=HASH(0x773b258), "/testmodel/baz/_DISPATCH") called at /opt/perl-5.10.1/lib/site_perl/5.10.1/Catalyst.pm line 401
	Catalyst::forward(ComponentUI=HASH(0x773b258), "/testmodel/baz/_DISPATCH") called at /opt/perl-5.10.1/lib/site_perl/5.10.1/Catalyst/Dispatcher.pm line 107
	Catalyst::Dispatcher::dispatch(Catalyst::Dispatcher=HASH(0x3de27e0), ComponentUI=HASH(0x773b258)) called at /opt/perl-5.10.1/lib/site_perl/5.10.1/Catalyst.pm line 1830
	Catalyst::dispatch(ComponentUI=HASH(0x773b258)) called at /opt/perl-5.10.1/lib/site_perl/5.10.1/Catalyst/Plugin/Static/Simple.pm line 86
	Class::MOP::Class:::around(CODE(0x3ca12c8), ComponentUI=HASH(0x773b258)) called at /opt/perl-5.10.1/lib/site_perl/5.10.1/x86_64-linux/Class/MOP/Method/Wrapped.pm line 158
	Class::MOP::Method::Wrapped::__ANON__(ComponentUI=HASH(0x773b258)) called at /opt/perl-5.10.1/lib/site_perl/5.10.1/x86_64-linux/Class/MOP/Method/Wrapped.pm line 87
	ComponentUI::dispatch(ComponentUI=HASH(0x773b258)) called at /opt/perl-5.10.1/lib/site_perl/5.10.1/Catalyst.pm line 2220
	Catalyst::try {...} () called at /opt/perl-5.10.1/lib/site_perl/5.10.1/Try/Tiny.pm line 81
	eval {...} called at /opt/perl-5.10.1/lib/site_perl/5.10.1/Try/Tiny.pm line 72
	Try::Tiny::try(CODE(0x7738338), Try::Tiny::Catch=REF(0x7738188)) called at /opt/perl-5.10.1/lib/site_perl/5.10.1/Catalyst.pm line 2229
	Catalyst::handle_request("ComponentUI", "env", HASH(0x7717218), "response_cb", CODE(0x77381e8)) called at /opt/perl-5.10.1/lib/site_perl/5.10.1/Catalyst/Engine.pm line 771
	Catalyst::Engine::__ANON__(CODE(0x77381e8)) called at /opt/perl-5.10.1/lib/site_perl/5.10.1/Plack/Middleware/HTTPExceptions.pm line 32
	Plack::Middleware::HTTPExceptions::try {...} () called at /opt/perl-5.10.1/lib/site_perl/5.10.1/Try/Tiny.pm line 81
	eval {...} called at /opt/perl-5.10.1/lib/site_perl/5.10.1/Try/Tiny.pm line 72
	Try::Tiny::try(CODE(0x7737fc0), Try::Tiny::Catch=REF(0x7716f30)) called at /opt/perl-5.10.1/lib/site_perl/5.10.1/Plack/Middleware/HTTPExceptions.pm line 41
	Plack::Middleware::HTTPExceptions::__ANON__(CODE(0x7737e70)) called at /opt/perl-5.10.1/lib/site_perl/5.10.1/Plack/Util.pm line 301
	Plack::Util::__ANON__(CODE(0x7737d20)) called at /opt/perl-5.10.1/lib/site_perl/5.10.1/Plack/Util.pm line 301
	Plack::Util::__ANON__(CODE(0x7737bd0)) called at /opt/perl-5.10.1/lib/site_perl/5.10.1/Plack/Util.pm line 301
	Plack::Util::__ANON__(CODE(0x7737b28)) called at /opt/perl-5.10.1/lib/site_perl/5.10.1/HTTP/Message/PSGI.pm line 100
	HTTP::Message::PSGI::res_from_psgi(CODE(0x7716d98)) called at /opt/perl-5.10.1/lib/site_perl/5.10.1/HTTP/Message/PSGI.pm line 156
	HTTP::Response::from_psgi("HTTP::Response", CODE(0x7716d98)) called at /opt/perl-5.10.1/lib/site_perl/5.10.1/Plack/Test/MockHTTP.pm line 24
	Plack::Test::MockHTTP::try {...} () called at /opt/perl-5.10.1/lib/site_perl/5.10.1/Try/Tiny.pm line 76
	eval {...} called at /opt/perl-5.10.1/lib/site_perl/5.10.1/Try/Tiny.pm line 72
	Try::Tiny::try(CODE(0x77105f0), Try::Tiny::Catch=REF(0x7598868)) called at /opt/perl-5.10.1/lib/site_perl/5.10.1/Plack/Test/MockHTTP.pm line 27
	Plack::Test::MockHTTP::request(Plack::Test::MockHTTP=HASH(0x7710380), HTTP::Request=HASH(0x7702540)) called at /opt/perl-5.10.1/lib/site_perl/5.10.1/Plack/Test.pm line 38
	Plack::Test::__ANON__(HTTP::Request=HASH(0x7702540)) called at /opt/perl-5.10.1/lib/site_perl/5.10.1/Catalyst/Test.pm line 281
	Catalyst::Test::__ANON__(CODE(0x7710140)) called at /opt/perl-5.10.1/lib/site_perl/5.10.1/Plack/Test.pm line 38
	Plack::Test::test_psgi("app", CODE(0x770fc90), "mangle_response", CODE(0x338b140), "app", CODE(0x770ff18), "client", CODE(0x770fff0)) called at /opt/perl-5.10.1/lib/site_perl/5.10.1/Catalyst/Test.pm line 284
	Catalyst::Test::_request(HASH(0x770fbb8), HTTP::Request=HASH(0x7702540)) called at /opt/perl-5.10.1/lib/site_perl/5.10.1/Catalyst/Test.pm line 327
	Catalyst::Test::_local_request("ComponentUI", HTTP::Request=HASH(0x7702540)) called at /opt/perl-5.10.1/lib/site_perl/5.10.1/Test/WWW/Mechanize/Catalyst.pm line 174
	Test::WWW::Mechanize::Catalyst::_do_catalyst_request(Test::WWW::Mechanize::Catalyst=HASH(0x764c140), HTTP::Request=HASH(0x7702540)) called at /opt/perl-5.10.1/lib/site_perl/5.10.1/Test/WWW/Mechanize/Catalyst.pm line 78
	Test::WWW::Mechanize::Catalyst::_make_request(Test::WWW::Mechanize::Catalyst=HASH(0x764c140), HTTP::Request=HASH(0x7702540)) called at /opt/perl-5.10.1/lib/site_perl/5.10.1/WWW/Mechanize.pm line 2312
	WWW::Mechanize::request(Test::WWW::Mechanize::Catalyst=HASH(0x764c140), HTTP::Request=HASH(0x7702540)) called at /opt/perl-5.10.1/lib/site_perl/5.10.1/LWP/UserAgent.pm line 411
	LWP::UserAgent::get(Test::WWW::Mechanize::Catalyst=HASH(0x764c140), "http://localhost/testmodel/baz/id/1/update") called at /opt/perl-5.10.1/lib/site_perl/5.10.1/WWW/Mechanize.pm line 407
	WWW::Mechanize::get(Test::WWW::Mechanize::Catalyst=HASH(0x764c140), "http://localhost/testmodel/baz/id/1/update") called at /opt/perl-5.10.1/lib/site_perl/5.10.1/Test/WWW/Mechanize.pm line 159
	Test::WWW::Mechanize::get_ok(Test::WWW::Mechanize::Catalyst=HASH(0x764c140), "http://localhost/testmodel/baz/id/1/update") called at t/uncheck_bool_field.t line 9
t/uncheck_bool_field.t ...... ok
All tests successful.
Files=9, Tests=604, 12 wallclock secs ( 0.06 usr  0.06 sys + 10.90 cusr  1.01 csys = 12.03 CPU)
Result: PASS

------------------------------
PREREQUISITES
------------------------------

Prerequisite modules loaded:

requires:

    Module                                  Need      Have     
    --------------------------------------- --------- ---------
    aliased                                 0.22      0.34     
    Catalyst                                5.80002   5.90084  
    Catalyst::Component::ACCEPT_CONTEXT     0.05      0.07     
    Catalyst::Component::InstancePerContext 0.001001  0.001001 
    Catalyst::Model::DBIC::Schema           0.23      0.65     
    Catalyst::Plugin::ConfigLoader          0.23      0.34     
    Catalyst::Plugin::I18N                  0.09      0.10     
    Catalyst::Plugin::Static::Simple        0.21      0.32     
    Catalyst::View::TT                      0.29      0.42     
    Class::MOP                              0.81      2.1403   
    Config::General                         2.42      2.56     
    Crypt::Eksblowfish::Bcrypt              0.005     0.009    
    DateTime                                0.47      1.18     
    DateTime::Event::Recurrence             0.16      0.16     
    DateTime::Span                          0         0        
    DBIx::Class                             0.08100   0.082810 
    DBIx::Class::IntrospectableM2M          0.001001  0.001001 
    Devel::Declare                          0.005000  0.006018 
    Email::Valid                            0.181     1.196    
    ExtUtils::MakeMaker                     6.11      7.04     
    File::ShareDir                          1.00      1.102    
    File::Spec                              3.29      3.47     
    JSON                                    0         2.90     
    metaclass                               0.81      2.1403   
    Method::Signatures::Simple              0.03      1.07     
    Moose                                   0.74      2.1403   
    MooseX::MethodAttributes                0.18      0.29     
    MooseX::Role::Parameterized             0.24      1.08     
    MooseX::Types                           0.10      0.45     
    MooseX::Types::Common                   0.001000  0.001012 
    MooseX::Types::DateTime                 0.03      0.10     
    MooseX::Types::URI                      0.02      0.07     
    namespace::clean                        0.11      0.25     
    Path::Class::Dir                        0         0.35     
    Path::Class::File                       0         0.35     
    perl                                    5.008001  5.010001 
    Scalar::Util                            1.19      1.41     
    signatures                              0.05      0.11     
    SQL::Translator                         0.11002   0.11021  
    Sub::Exporter                           0.982     0.987    
    Sub::Name                               0.04      0.13     
    Template                                2.20      2.25     
    Test::Class                             0.31      0.48     
    Test::Memory::Cycle                     1.04      1.04     
    Test::WWW::Mechanize::Catalyst          0.51      0.60     
    Time::ParseDate                         2006.0814 2013.1113
    URI                                     1.37      1.65     

build_requires:

    Module                                  Need      Have     
    --------------------------------------- --------- ---------
    ExtUtils::MakeMaker                     6.42      7.04     
    SQL::Translator                         0.11002   0.11021  
    Test::Class                             0.31      0.48     
    Test::Memory::Cycle                     1.04      1.04     
    Test::WWW::Mechanize::Catalyst          0.51      0.60     

configure_requires:

    Module                                  Need      Have     
    --------------------------------------- --------- ---------
    ExtUtils::MakeMaker                     6.42      7.04     


------------------------------
ENVIRONMENT AND OTHER CONTEXT
------------------------------

Environment variables:

    DBIC_NO_WARN_BAD_PERL = 1
    LANG = C
    PATH = /usr/local/bin:/usr/bin:/bin:/usr/local/sbin:/usr/sbin:/sbin:/home/eserte/bin/linux-gnu:/home/eserte/bin/sh:/home/eserte/bin:/usr/games:/home/eserte/devel:/home/eserte/src/srezic-misc/scripts
    PERL5LIB = /home/eserte/.cpan/build/Catalyst-Component-ACCEPT_CONTEXT-0.07-CAfXop/blib/arch:/home/eserte/.cpan/build/Catalyst-Component-ACCEPT_CONTEXT-0.07-CAfXop/blib/lib:/home/eserte/.cpan/build/signatures-0.11-4WECZF/blib/arch:/home/eserte/.cpan/build/signatures-0.11-4WECZF/blib/lib
    PERL5OPT = 
    PERL5_CPANPLUS_IS_RUNNING = 20163
    PERL5_CPAN_IS_RUNNING = 20163
    PERL5_CPAN_IS_RUNNING_IN_RECURSION = 9092,20163
    PERLDOC = -MPod::Perldoc::ToTextOverstrike
    PERL_BATCH = yes
    PERL_CPAN_REPORTER_CONFIG = /var/tmp/cpansmoker-1001/O_EXBUziub_config.ini
    PERL_EXTUTILS_AUTOINSTALL = --defaultdeps
    PERL_HTML_DISPLAY_CLASS = HTML::Display::Mozilla
    SHELL = /bin/zsh
    TERM = screen
    TMPDIR = /var/tmp/cpansmoker-1001

Perl special variables (and OS-specific diagnostics, for MSWin32):

    $^X = /bbbike/perl-5.10.1/bin/perl
    $UID/$EUID = 1001 / 1001
    $GID = 1001 109 1001
    $EGID = 1001 109 1001

Perl module toolchain versions installed:

    Module              Have    
    ------------------- --------
    CPAN                2.05    
    CPAN::Meta          2.150001
    Cwd                 3.47    
    ExtUtils::CBuilder  0.280219
    ExtUtils::Command   1.16    
    ExtUtils::Install   2.04    
    ExtUtils::MakeMaker 7.04    
    ExtUtils::Manifest  1.68    
    ExtUtils::ParseXS   3.24    
    File::Spec          3.47    
    JSON                2.90    
    JSON::PP            2.27203 
    Module::Build       0.4211  
    Module::Signature   0.73    
    Parse::CPAN::Meta   1.4414  
    Test::Harness       3.35    
    Test::More          1.001014
    YAML                1.14    
    YAML::Syck          1.29    
    version             0.9912  


--

Summary of my perl5 (revision 5 version 10 subversion 1) configuration:
   
  Platform:
    osname=linux, osvers=3.2.0-4-amd64, archname=x86_64-linux
    uname='linux eserte 3.2.0-4-amd64 #1 smp debian 3.2.60-1+deb7u3 x86_64 gnulinux '
    config_args='-ds -e -Dprefix=/opt/perl-5.10.1'
    hint=recommended, useposix=true, d_sigaction=define
    useithreads=undef, usemultiplicity=undef
    useperlio=define, d_sfio=undef, uselargefiles=define, usesocks=undef
    use64bitint=define, use64bitall=define, uselongdouble=undef
    usemymalloc=n, bincompat5005=undef
  Compiler:
    cc='cc', ccflags ='-fno-strict-aliasing -pipe -fstack-protector -I/usr/local/include -D_LARGEFILE_SOURCE -D_FILE_OFFSET_BITS=64',
    optimize='-O2',
    cppflags='-fno-strict-aliasing -pipe -fstack-protector -I/usr/local/include'
    ccversion='', gccversion='4.7.2', gccosandvers=''
    intsize=4, longsize=8, ptrsize=8, doublesize=8, byteorder=12345678
    d_longlong=define, longlongsize=8, d_longdbl=define, longdblsize=16
    ivtype='long', ivsize=8, nvtype='double', nvsize=8, Off_t='off_t', lseeksize=8
    alignbytes=8, prototype=define
  Linker and Libraries:
    ld='cc', ldflags =' -fstack-protector -L/usr/local/lib'
    libpth=/usr/local/lib /lib/x86_64-linux-gnu /lib/../lib /usr/lib/x86_64-linux-gnu /usr/lib/../lib /lib /usr/lib
    libs=-lnsl -ldb -ldl -lm -lcrypt -lutil -lc
    perllibs=-lnsl -ldl -lm -lcrypt -lutil -lc
    libc=libc-2.13.so, so=so, useshrplib=false, libperl=libperl.a
    gnulibc_version='2.13'
  Dynamic Linking:
    dlsrc=dl_dlopen.xs, dlext=so, d_dlsymun=undef, ccdlflags='-Wl,-E'
    cccdlflags='-fPIC', lddlflags='-shared -O2 -L/usr/local/lib -fstack-protector'


Characteristics of this binary (from libperl): 
  Compile-time options: PERL_DONT_CREATE_GVSV PERL_MALLOC_WRAP USE_64_BIT_ALL
                        USE_64_BIT_INT USE_LARGE_FILES USE_PERLIO
  Built under linux
  Compiled at Aug 18 2014 20:38:33
  %ENV:
    PERL5LIB="/home/eserte/.cpan/build/Catalyst-Component-ACCEPT_CONTEXT-0.07-CAfXop/blib/arch:/home/eserte/.cpan/build/Catalyst-Component-ACCEPT_CONTEXT-0.07-CAfXop/blib/lib:/home/eserte/.cpan/build/signatures-0.11-4WECZF/blib/arch:/home/eserte/.cpan/build/signatures-0.11-4WECZF/blib/lib"
    PERL5OPT=""
    PERL5_CPANPLUS_IS_RUNNING="20163"
    PERL5_CPAN_IS_RUNNING="20163"
    PERL5_CPAN_IS_RUNNING_IN_RECURSION="9092,20163"
    PERLDOC="-MPod::Perldoc::ToTextOverstrike"
    PERL_BATCH="yes"
    PERL_CPAN_REPORTER_CONFIG="/var/tmp/cpansmoker-1001/O_EXBUziub_config.ini"
    PERL_EXTUTILS_AUTOINSTALL="--defaultdeps"
    PERL_HTML_DISPLAY_CLASS="HTML::Display::Mozilla"
  @INC:
    /home/eserte/.cpan/build/Catalyst-Component-ACCEPT_CONTEXT-0.07-CAfXop/blib/arch
    /home/eserte/.cpan/build/Catalyst-Component-ACCEPT_CONTEXT-0.07-CAfXop/blib/lib
    /home/eserte/.cpan/build/signatures-0.11-4WECZF/blib/arch
    /home/eserte/.cpan/build/signatures-0.11-4WECZF/blib/lib
    /opt/perl-5.10.1/lib/5.10.1/x86_64-linux
    /opt/perl-5.10.1/lib/5.10.1
    /opt/perl-5.10.1/lib/site_perl/5.10.1/x86_64-linux
    /opt/perl-5.10.1/lib/site_perl/5.10.1
    .