IO-Iron v0.13 Perl 5 v5.18.4 x86_64-linux-thread-multi
- Status
- Pass
- From
- David Cantrell (DCANTRELL)
- Dist
-
IO-Iron v0.13
- Platform
- Perl 5 v5.18.4 x86_64-linux-thread-multi
- Date
- 2019-01-10 11:01:27
- ID
- 13bd07a2-14c7-11e9-8630-2afb7247484a
This distribution has been tested as part of the CPAN Testers
project, supporting the Perl programming language. See
http://wiki.cpantesters.org/ for more information or email
questions to cpan-testers-discuss@perl.org
--
Dear Mikko Koivunalho,
This is a computer-generated report for IO-Iron-0.13
on perl 5.18.4, created by CPAN-Reporter-1.2018.
Thank you for uploading your work to CPAN. Congratulations!
All tests were successful.
Sections of this report:
* Tester comments
* Program output
* Prerequisites
* Environment and other context
------------------------------
TESTER COMMENTS
------------------------------
Additional comments from tester:
this report is from an automated smoke testing program
and was not reviewed by a human for accuracy
------------------------------
PROGRAM OUTPUT
------------------------------
Output from '/usr/bin/make test':
PERL_DL_NONLAZY=1 "/home/david/cpantesting/perl-5.18.4/bin/perl" "-MExtUtils::Command::MM" "-MTest::Harness" "-e" "undef *Test::Harness::Switches; test_harness(0, 'blib/lib', 'blib/arch')" t/*.t t/Iron/*.t t/IronCache/*.t t/IronMQ/*.t t/IronWorker/*.t
#
# Versions for all modules listed in MYMETA.json (including optional ones):
#
# === Configure Requires ===
#
# Module Want Have
# ------------------- ---- ----
# ExtUtils::MakeMaker any 7.34
#
# === Build Requires ===
#
# Module Want Have
# ------------------- ---- ----
# ExtUtils::MakeMaker any 7.34
#
# === Test Requires ===
#
# Module Want Have
# ------------------- ---- --------
# Data::Dumper any 2.145
# ExtUtils::MakeMaker any 7.34
# File::Copy any 2.26
# File::Remove any 1.58
# File::Spec any 3.40
# Log::Any::Test any 1.707
# Test::Exception any 0.43
# Test::More any 1.302158
# lib any 0.63
#
# === Test Recommends ===
#
# Module Want Have
# ---------- -------- --------
# CPAN::Meta 2.120900 2.150010
#
# === Runtime Requires ===
#
# Module Want Have
# ------------------ ---- --------
# Carp any 1.29
# Carp::Assert any 0.21
# Carp::Assert::More any 1.16
# Const::Fast any 0.014
# Data::UUID any 1.221
# English any 1.06_01
# Exception::Class any 1.44
# Exporter any 5.68
# File::HomeDir any 1.00
# File::Spec any 3.40
# Hash::Util 0.06 0.16
# JSON::MaybeXS any 1.003008
# Log::Any any 1.707
# Params::Validate any 1.29
# Path::Tiny any 0.108
# REST::Client any 273
# Scalar::Util any 1.50
# Try::Tiny any 0.27
# URI::Escape any 3.31
# parent any 0.225
# strict any 1.07
# warnings any 1.18
#
t/00-report-prereqs.t ........ ok
# Testing IO::Iron::IronWorker::Client (0.13), Perl 5.018004, /home/david/cpantesting/perl-5.18.4/bin/perl
# test ReadIronMQConfig
# Current dir config filename: ./iron.json
# Extra config filename: t/.IronMQTestConfig.json
t/Iron/client_readconfig.t ... ok
# Testing IO::Iron::Common (0.13), Perl 5.018004, /home/david/cpantesting/perl-5.18.4/bin/perl
t/Iron/common.t .............. ok
# Testing IO::Iron (0.13), Perl 5.018004, /home/david/cpantesting/perl-5.18.4/bin/perl
t/Iron/load.t ................ ok
# Testing IO::Iron::IronCache::Client (0.13) with policies, Perl 5.018004, /home/david/cpantesting/perl-5.18.4/bin/perl
t/IronCache/cache_policy.t ... ok
# Testing IO::Iron::IronCache::Client (0.13), Perl 5.018004, /home/david/cpantesting/perl-5.18.4/bin/perl
t/IronCache/cache_policy2.t .. ok
# Testing IO::Iron::IronCache::Client (0.13), Perl 5.018004, /home/david/cpantesting/perl-5.18.4/bin/perl
t/IronCache/load.t ........... ok
# Testing IO::Iron::IronMQ::Client (0.13), Perl 5.018004, /home/david/cpantesting/perl-5.18.4/bin/perl
t/IronMQ/load.t .............. ok
# Testing IO::Iron::IronCache::Client (0.13), Perl 5.018004, /home/david/cpantesting/perl-5.18.4/bin/perl
t/IronWorker/load.t .......... ok
All tests successful.
Files=9, Tests=104, 5 wallclock secs ( 0.04 usr 0.02 sys + 0.92 cusr 0.13 csys = 1.11 CPU)
Result: PASS
------------------------------
PREREQUISITES
------------------------------
Prerequisite modules loaded:
requires:
Module Need Have
------------------- --------- --------
Carp 0 1.29
Carp::Assert 0 0.21
Carp::Assert::More 0 1.16
Const::Fast 0 0.014
Data::UUID 0 1.221
English 0 1.06_01
Exception::Class 0 1.44
Exporter 0 5.68
File::HomeDir 0 1.00
File::Spec 0 3.40
Hash::Util 0.06 0.16
JSON::MaybeXS 0 1.003008
Log::Any 0 1.707
Params::Validate 0 1.29
parent 0 0.225
Path::Tiny 0 0.108
perl 5.010000 5.018004
REST::Client 0 273
Scalar::Util 0 1.50
strict 0 1.07
Try::Tiny 0 0.27
URI::Escape 0 3.31
warnings 0 1.18
build_requires:
Module Need Have
------------------- --------- --------
Data::Dumper 0 2.145
ExtUtils::MakeMaker 0 7.34
File::Copy 0 2.26
File::Remove 0 1.58
File::Spec 0 3.40
lib 0 0.63
Log::Any::Test 0 1.707
Test::Exception 0 0.43
Test::More 0 1.302158
configure_requires:
Module Need Have
------------------- --------- --------
ExtUtils::MakeMaker 0 7.34
perl 5.010_000 5.018004
------------------------------
ENVIRONMENT AND OTHER CONTEXT
------------------------------
Environment variables:
AUTOMATED_TESTING = 1
NONINTERACTIVE_TESTING = 1
PATH = /usr/local/bin:/usr/bin:/bin:/usr/local/games:/usr/games
PERL = 5.18.4
PERL5LIB =
PERL5OPT =
PERL5_CPANPLUS_IS_RUNNING = 15709
PERL5_CPAN_IS_RUNNING = 15709
PERLVER = 5.18.4
PERL_INLINE_DIRECTORY = /home/david/.Inline-5.18.4
PERL_MM_USE_DEFAULT = 1
PERL_USE_UNSAFE_INC = 0
SHELL = /bin/bash
TERM = screen
Perl special variables (and OS-specific diagnostics, for MSWin32):
$^X = /home/david/cpantesting/perl-5.18.4/bin/perl
$UID/$EUID = 1000 / 1000
$GID = 1000 1000
$EGID = 1000 1000
Perl module toolchain versions installed:
Module Have
------------------- --------
CPAN 2.00
CPAN::Meta 2.150010
Cwd 3.40
ExtUtils::CBuilder 0.280210
ExtUtils::Command 7.34
ExtUtils::Install 2.06
ExtUtils::MakeMaker 7.34
ExtUtils::Manifest 1.70
ExtUtils::ParseXS 3.18
File::Spec 3.40
JSON 2.90
JSON::PP 2.27400
Module::Build 0.4003
Module::Signature n/a
Parse::CPAN::Meta 2.150010
Test::Harness 3.42
Test::More 1.302158
YAML 1.18
YAML::Syck n/a
version 0.9902
--
Summary of my perl5 (revision 5 version 18 subversion 4) configuration:
Platform:
osname=linux, osvers=3.16.0-4-amd64, archname=x86_64-linux-thread-multi
uname='linux pigsty.barnyard.co.uk 3.16.0-4-amd64 #1 smp debian 3.16.36-1+deb8u1 (2016-09-03) x86_64 gnulinux '
config_args='-de -Duse64bitall -Dusethreads -Dprefix=/home/david/cpantesting/perl-5.18.4'
hint=recommended, useposix=true, d_sigaction=define
useithreads=define, usemultiplicity=define
useperlio=define, d_sfio=undef, uselargefiles=define, usesocks=undef
use64bitint=define, use64bitall=define, uselongdouble=undef
usemymalloc=n, bincompat5005=undef
Compiler:
cc='cc', ccflags ='-D_REENTRANT -D_GNU_SOURCE -fno-strict-aliasing -pipe -fstack-protector -I/usr/local/include -D_LARGEFILE_SOURCE -D_FILE_OFFSET_BITS=64',
optimize='-O2',
cppflags='-D_REENTRANT -D_GNU_SOURCE -fno-strict-aliasing -pipe -fstack-protector -I/usr/local/include'
ccversion='', gccversion='4.9.2', gccosandvers=''
intsize=4, longsize=8, ptrsize=8, doublesize=8, byteorder=12345678
d_longlong=define, longlongsize=8, d_longdbl=define, longdblsize=16
ivtype='long', ivsize=8, nvtype='double', nvsize=8, Off_t='off_t', lseeksize=8
alignbytes=8, prototype=define
Linker and Libraries:
ld='cc', ldflags =' -fstack-protector -L/usr/local/lib'
libpth=/usr/local/lib /lib/x86_64-linux-gnu /lib/../lib /usr/lib/x86_64-linux-gnu /usr/lib/../lib /lib /usr/lib
libs=-lnsl -ldb -ldl -lm -lcrypt -lutil -lpthread -lc
perllibs=-lnsl -ldl -lm -lcrypt -lutil -lpthread -lc
libc=libc-2.19.so, so=so, useshrplib=false, libperl=libperl.a
gnulibc_version='2.19'
Dynamic Linking:
dlsrc=dl_dlopen.xs, dlext=so, d_dlsymun=undef, ccdlflags='-Wl,-E'
cccdlflags='-fPIC', lddlflags='-shared -O2 -L/usr/local/lib -fstack-protector'
Characteristics of this binary (from libperl):
Compile-time options: HAS_TIMES MULTIPLICITY PERLIO_LAYERS
PERL_DONT_CREATE_GVSV
PERL_HASH_FUNC_ONE_AT_A_TIME_HARD
PERL_IMPLICIT_CONTEXT PERL_MALLOC_WRAP
PERL_PRESERVE_IVUV PERL_SAWAMPERSAND USE_64_BIT_ALL
USE_64_BIT_INT USE_ITHREADS USE_LARGE_FILES
USE_LOCALE USE_LOCALE_COLLATE USE_LOCALE_CTYPE
USE_LOCALE_NUMERIC USE_PERLIO USE_PERL_ATOF
USE_REENTRANT_API
Locally applied patches:
Devel::PatchPerl 1.44
Built under linux
Compiled at Oct 12 2016 16:20:17
%ENV:
PERL="5.18.4"
PERL5LIB=""
PERL5OPT=""
PERL5_CPANPLUS_IS_RUNNING="15709"
PERL5_CPAN_IS_RUNNING="15709"
PERLVER="5.18.4"
PERL_INLINE_DIRECTORY="/home/david/.Inline-5.18.4"
PERL_MM_USE_DEFAULT="1"
PERL_USE_UNSAFE_INC="0"
@INC:
/home/david/cpantesting/perl-5.18.4/lib/site_perl/5.18.4/x86_64-linux-thread-multi
/home/david/cpantesting/perl-5.18.4/lib/site_perl/5.18.4
/home/david/cpantesting/perl-5.18.4/lib/5.18.4/x86_64-linux-thread-multi
/home/david/cpantesting/perl-5.18.4/lib/5.18.4
.