Back
From: metabase:user:320bfe00-2aae-11df-837a-5e0a49663a4f
Subject: PASS POE-Loop-Mojo_IOLoop-0.003 v5.12.5 GNU/Linux
Date: 2017-03-21T05:34:39Z
This distribution has been tested as part of the CPAN Testers
project, supporting the Perl programming language. See
http://wiki.cpantesters.org/ for more information or email
questions to cpan-testers-discuss@perl.org
--
Dear Dan Book,
This is a computer-generated report for POE-Loop-Mojo_IOLoop-0.003
on perl 5.12.5, created by CPAN-Reporter-1.2018.
Thank you for uploading your work to CPAN. Congratulations!
All tests were successful.
Sections of this report:
* Tester comments
* Program output
* Prerequisites
* Environment and other context
------------------------------
TESTER COMMENTS
------------------------------
Additional comments from tester:
this report is from an automated smoke testing program
and was not reviewed by a human for accuracy
------------------------------
PROGRAM OUTPUT
------------------------------
Output from '/usr/bin/make test':
PERL_DL_NONLAZY=1 "/home/sand/src/perl/repoperls/installed-perls/host/k93msid/v5.12.5/89ad/bin/perl" "-MExtUtils::Command::MM" "-MTest::Harness" "-e" "undef *Test::Harness::Switches; test_harness(0, 'blib/lib', 'blib/arch')" t/*.t t/*/*/*.t
#
# Versions for all modules listed in MYMETA.json (including optional ones):
#
# === Configure Requires ===
#
# Module Want Have
# ------------------- ----- -----
# ExtUtils::MakeMaker any 7.24
# File::Spec any 3.62
# POE::Test::Loops 1.360 1.360
#
# === Build Requires ===
#
# Module Want Have
# ------------------- ---- ----
# ExtUtils::MakeMaker any 7.24
#
# === Test Requires ===
#
# Module Want Have
# ------------------- ----- --------
# ExtUtils::MakeMaker any 7.24
# File::Spec any 3.62
# POE::Test::Loops 1.360 1.360
# Test::More 0.88 1.302078
#
# === Test Recommends ===
#
# Module Want Have
# ---------- -------- --------
# CPAN::Meta 2.120900 2.150010
#
# === Runtime Requires ===
#
# Module Want Have
# ----------- ----- ------
# Mojolicious 5.70 7.29
# POE 1.366 1.367
# Time::HiRes any 1.9719
#
t/00-report-prereqs.t ............................................ ok
# Testing POE 1.367, Perl 5.012005, /home/sand/src/perl/repoperls/installed-perls/host/k93msid/v5.12.5/89ad/bin/perl on linux
t/00_info.t ...................................................... ok
# Using reactor Mojo::Reactor::Poll=HASH(0x55d3af3ef718)
# Testing POE 1.367, POE::Test::Loops 1.360, Using Loop(POE::Loop::Mojo_IOLoop), Perl 5.012005, /home/sand/src/perl/repoperls/installed-perls/host/k93msid/v5.12.5/89ad/bin/perl on linux
t/30_loops/mojo_ioloop/00_info.t ................................. ok
t/30_loops/mojo_ioloop/all_errors.t .............................. skipped: most of these should move into other test files
t/30_loops/mojo_ioloop/comp_tcp.t ................................ ok
# You might see a 'disconnect' error during this test.
# It may be ignored.
t/30_loops/mojo_ioloop/comp_tcp_concurrent.t ..................... ok
t/30_loops/mojo_ioloop/connect_errors.t .......................... ok
t/30_loops/mojo_ioloop/k_alarms.t ................................ ok
t/30_loops/mojo_ioloop/k_aliases.t ............................... ok
t/30_loops/mojo_ioloop/k_detach.t ................................ ok
t/30_loops/mojo_ioloop/k_run_returns.t ........................... ok
t/30_loops/mojo_ioloop/k_selects.t ............................... ok
t/30_loops/mojo_ioloop/k_sig_child.t ............................. ok
t/30_loops/mojo_ioloop/k_signals.t ............................... ok
t/30_loops/mojo_ioloop/k_signals_rerun.t ......................... ok
t/30_loops/mojo_ioloop/sbk_signal_init.t ......................... ok
t/30_loops/mojo_ioloop/ses_nfa.t ................................. ok
# This test generates some STDERR during trace testing.
=== 7355 === 23 -> _start (from /home/sand/src/perl/repoperls/installed-perls/host/k93msid/v5.12.5/89ad/lib/site_perl/5.12.5/POE/Kernel.pm at 1497)
=== 7355 === 23 -> woot (from /home/sand/src/perl/repoperls/installed-perls/host/k93msid/v5.12.5/89ad/lib/site_perl/5.12.5/POE/Test/Loops/ses_session.pm at 691)
=== 7355 === 23 -> narf (from /home/sand/src/perl/repoperls/installed-perls/host/k93msid/v5.12.5/89ad/lib/site_perl/5.12.5/POE/Test/Loops/ses_session.pm at 692)
=== 7355 === 23 -> _stop (from /home/sand/src/perl/repoperls/installed-perls/host/k93msid/v5.12.5/89ad/lib/site_perl/5.12.5/POE/Resource/Sessions.pm at 571)
t/30_loops/mojo_ioloop/ses_session.t ............................. ok
t/30_loops/mojo_ioloop/wheel_accept.t ............................ ok
t/30_loops/mojo_ioloop/wheel_curses.t ............................ skipped: Curses not available
t/30_loops/mojo_ioloop/wheel_readline.t .......................... ok
t/30_loops/mojo_ioloop/wheel_readwrite.t ......................... ok
t/30_loops/mojo_ioloop/wheel_run.t ............................... ok
t/30_loops/mojo_ioloop/wheel_run_size.t .......................... skipped: This test requires Term::Size
t/30_loops/mojo_ioloop/wheel_sf_ipv6.t ........................... skipped: Socket::GetAddrInfo is needed for IPv6 tests
t/30_loops/mojo_ioloop/wheel_sf_tcp.t ............................ ok
t/30_loops/mojo_ioloop/wheel_sf_udp.t ............................ ok
t/30_loops/mojo_ioloop/wheel_sf_unix.t ........................... ok
t/30_loops/mojo_ioloop/wheel_tail.t .............................. ok
t/30_loops/mojo_ioloop/z_kogman_sig_order.t ...................... ok
t/30_loops/mojo_ioloop/z_leolo_wheel_run.t ....................... ok
# Using '/bin/true' as our thing to run under system()
t/30_loops/mojo_ioloop/z_merijn_sigchld_system.t ................. ok
t/30_loops/mojo_ioloop/z_rt39872_sigchld.t ....................... ok
# Parent 8064 waiting 3sec for slow systems to settle.
# sending sigusr1
# sent sigusr1
t/30_loops/mojo_ioloop/z_rt39872_sigchld_stop.t .................. ok
t/30_loops/mojo_ioloop/z_rt53302_fh_watchers.t ................... ok
t/30_loops/mojo_ioloop/z_rt54319_bazerka_followtail.t ............ ok
t/30_loops/mojo_ioloop/z_steinert_signal_integrity.t ............. ok
t/30_loops/mojo_ioloop_tester_ev/00_info.t ....................... skipped: EV module required to test Mojo::Reactor::EV backend: Can't locate EV.pm in @INC (@INC contains: /home/sand/src/perl/repoperls/installed-perls/host/k93msid/v5.12.5/89ad/lib/site_perl/5.12.5/POE/Test/Loops /tmp/loop_over_bdir-28903-6_fTxx/POE-Loop-Mojo_IOLoop-0.003-0/blib/lib /tmp/loop_over_bdir-28903-6_fTxx/POE-Loop-Mojo_IOLoop-0.003-0/blib/arch /home/sand/src/perl/repoperls/installed-perls/host/k93msid/v5.12.5/89ad/lib/site_perl/5.12.5/x86_64-linux /home/sand/src/perl/repoperls/installed-perls/host/k93msid/v5.12.5/89ad/lib/site_perl/5.12.5 /home/sand/src/perl/repoperls/installed-perls/host/k93msid/v5.12.5/89ad/lib/5.12.5/x86_64-linux /home/sand/src/perl/repoperls/installed-perls/host/k93msid/v5.12.5/89ad/lib/5.12.5 .) at t/30_loops/mojo_ioloop_tester_ev/00_info.t line 16.
t/30_loops/mojo_ioloop_tester_ev/all_errors.t .................... skipped: EV module required to test Mojo::Reactor::EV backend: Can't locate EV.pm in @INC (@INC contains: /home/sand/src/perl/repoperls/installed-perls/host/k93msid/v5.12.5/89ad/lib/site_perl/5.12.5/POE/Test/Loops /tmp/loop_over_bdir-28903-6_fTxx/POE-Loop-Mojo_IOLoop-0.003-0/blib/lib /tmp/loop_over_bdir-28903-6_fTxx/POE-Loop-Mojo_IOLoop-0.003-0/blib/arch /home/sand/src/perl/repoperls/installed-perls/host/k93msid/v5.12.5/89ad/lib/site_perl/5.12.5/x86_64-linux /home/sand/src/perl/repoperls/installed-perls/host/k93msid/v5.12.5/89ad/lib/site_perl/5.12.5 /home/sand/src/perl/repoperls/installed-perls/host/k93msid/v5.12.5/89ad/lib/5.12.5/x86_64-linux /home/sand/src/perl/repoperls/installed-perls/host/k93msid/v5.12.5/89ad/lib/5.12.5 .) at t/30_loops/mojo_ioloop_tester_ev/all_errors.t line 16.
t/30_loops/mojo_ioloop_tester_ev/comp_tcp.t ...................... skipped: EV module required to test Mojo::Reactor::EV backend: Can't locate EV.pm in @INC (@INC contains: /home/sand/src/perl/repoperls/installed-perls/host/k93msid/v5.12.5/89ad/lib/site_perl/5.12.5/POE/Test/Loops /tmp/loop_over_bdir-28903-6_fTxx/POE-Loop-Mojo_IOLoop-0.003-0/blib/lib /tmp/loop_over_bdir-28903-6_fTxx/POE-Loop-Mojo_IOLoop-0.003-0/blib/arch /home/sand/src/perl/repoperls/installed-perls/host/k93msid/v5.12.5/89ad/lib/site_perl/5.12.5/x86_64-linux /home/sand/src/perl/repoperls/installed-perls/host/k93msid/v5.12.5/89ad/lib/site_perl/5.12.5 /home/sand/src/perl/repoperls/installed-perls/host/k93msid/v5.12.5/89ad/lib/5.12.5/x86_64-linux /home/sand/src/perl/repoperls/installed-perls/host/k93msid/v5.12.5/89ad/lib/5.12.5 .) at t/30_loops/mojo_ioloop_tester_ev/comp_tcp.t line 16.
t/30_loops/mojo_ioloop_tester_ev/comp_tcp_concurrent.t ........... skipped: EV module required to test Mojo::Reactor::EV backend: Can't locate EV.pm in @INC (@INC contains: /home/sand/src/perl/repoperls/installed-perls/host/k93msid/v5.12.5/89ad/lib/site_perl/5.12.5/POE/Test/Loops /tmp/loop_over_bdir-28903-6_fTxx/POE-Loop-Mojo_IOLoop-0.003-0/blib/lib /tmp/loop_over_bdir-28903-6_fTxx/POE-Loop-Mojo_IOLoop-0.003-0/blib/arch /home/sand/src/perl/repoperls/installed-perls/host/k93msid/v5.12.5/89ad/lib/site_perl/5.12.5/x86_64-linux /home/sand/src/perl/repoperls/installed-perls/host/k93msid/v5.12.5/89ad/lib/site_perl/5.12.5 /home/sand/src/perl/repoperls/installed-perls/host/k93msid/v5.12.5/89ad/lib/5.12.5/x86_64-linux /home/sand/src/perl/repoperls/installed-perls/host/k93msid/v5.12.5/89ad/lib/5.12.5 .) at t/30_loops/mojo_ioloop_tester_ev/comp_tcp_concurrent.t line 16.
t/30_loops/mojo_ioloop_tester_ev/connect_errors.t ................ skipped: EV module required to test Mojo::Reactor::EV backend: Can't locate EV.pm in @INC (@INC contains: /home/sand/src/perl/repoperls/installed-perls/host/k93msid/v5.12.5/89ad/lib/site_perl/5.12.5/POE/Test/Loops /tmp/loop_over_bdir-28903-6_fTxx/POE-Loop-Mojo_IOLoop-0.003-0/blib/lib /tmp/loop_over_bdir-28903-6_fTxx/POE-Loop-Mojo_IOLoop-0.003-0/blib/arch /home/sand/src/perl/repoperls/installed-perls/host/k93msid/v5.12.5/89ad/lib/site_perl/5.12.5/x86_64-linux /home/sand/src/perl/repoperls/installed-perls/host/k93msid/v5.12.5/89ad/lib/site_perl/5.12.5 /home/sand/src/perl/repoperls/installed-perls/host/k93msid/v5.12.5/89ad/lib/5.12.5/x86_64-linux /home/sand/src/perl/repoperls/installed-perls/host/k93msid/v5.12.5/89ad/lib/5.12.5 .) at t/30_loops/mojo_ioloop_tester_ev/connect_errors.t line 16.
t/30_loops/mojo_ioloop_tester_ev/k_alarms.t ...................... skipped: EV module required to test Mojo::Reactor::EV backend: Can't locate EV.pm in @INC (@INC contains: /home/sand/src/perl/repoperls/installed-perls/host/k93msid/v5.12.5/89ad/lib/site_perl/5.12.5/POE/Test/Loops /tmp/loop_over_bdir-28903-6_fTxx/POE-Loop-Mojo_IOLoop-0.003-0/blib/lib /tmp/loop_over_bdir-28903-6_fTxx/POE-Loop-Mojo_IOLoop-0.003-0/blib/arch /home/sand/src/perl/repoperls/installed-perls/host/k93msid/v5.12.5/89ad/lib/site_perl/5.12.5/x86_64-linux /home/sand/src/perl/repoperls/installed-perls/host/k93msid/v5.12.5/89ad/lib/site_perl/5.12.5 /home/sand/src/perl/repoperls/installed-perls/host/k93msid/v5.12.5/89ad/lib/5.12.5/x86_64-linux /home/sand/src/perl/repoperls/installed-perls/host/k93msid/v5.12.5/89ad/lib/5.12.5 .) at t/30_loops/mojo_ioloop_tester_ev/k_alarms.t line 16.
t/30_loops/mojo_ioloop_tester_ev/k_aliases.t ..................... skipped: EV module required to test Mojo::Reactor::EV backend: Can't locate EV.pm in @INC (@INC contains: /home/sand/src/perl/repoperls/installed-perls/host/k93msid/v5.12.5/89ad/lib/site_perl/5.12.5/POE/Test/Loops /tmp/loop_over_bdir-28903-6_fTxx/POE-Loop-Mojo_IOLoop-0.003-0/blib/lib /tmp/loop_over_bdir-28903-6_fTxx/POE-Loop-Mojo_IOLoop-0.003-0/blib/arch /home/sand/src/perl/repoperls/installed-perls/host/k93msid/v5.12.5/89ad/lib/site_perl/5.12.5/x86_64-linux /home/sand/src/perl/repoperls/installed-perls/host/k93msid/v5.12.5/89ad/lib/site_perl/5.12.5 /home/sand/src/perl/repoperls/installed-perls/host/k93msid/v5.12.5/89ad/lib/5.12.5/x86_64-linux /home/sand/src/perl/repoperls/installed-perls/host/k93msid/v5.12.5/89ad/lib/5.12.5 .) at t/30_loops/mojo_ioloop_tester_ev/k_aliases.t line 16.
t/30_loops/mojo_ioloop_tester_ev/k_detach.t ...................... skipped: EV module required to test Mojo::Reactor::EV backend: Can't locate EV.pm in @INC (@INC contains: /home/sand/src/perl/repoperls/installed-perls/host/k93msid/v5.12.5/89ad/lib/site_perl/5.12.5/POE/Test/Loops /tmp/loop_over_bdir-28903-6_fTxx/POE-Loop-Mojo_IOLoop-0.003-0/blib/lib /tmp/loop_over_bdir-28903-6_fTxx/POE-Loop-Mojo_IOLoop-0.003-0/blib/arch /home/sand/src/perl/repoperls/installed-perls/host/k93msid/v5.12.5/89ad/lib/site_perl/5.12.5/x86_64-linux /home/sand/src/perl/repoperls/installed-perls/host/k93msid/v5.12.5/89ad/lib/site_perl/5.12.5 /home/sand/src/perl/repoperls/installed-perls/host/k93msid/v5.12.5/89ad/lib/5.12.5/x86_64-linux /home/sand/src/perl/repoperls/installed-perls/host/k93msid/v5.12.5/89ad/lib/5.12.5 .) at t/30_loops/mojo_ioloop_tester_ev/k_detach.t line 16.
t/30_loops/mojo_ioloop_tester_ev/k_run_returns.t ................. skipped: EV module required to test Mojo::Reactor::EV backend: Can't locate EV.pm in @INC (@INC contains: /home/sand/src/perl/repoperls/installed-perls/host/k93msid/v5.12.5/89ad/lib/site_perl/5.12.5/POE/Test/Loops /tmp/loop_over_bdir-28903-6_fTxx/POE-Loop-Mojo_IOLoop-0.003-0/blib/lib /tmp/loop_over_bdir-28903-6_fTxx/POE-Loop-Mojo_IOLoop-0.003-0/blib/arch /home/sand/src/perl/repoperls/installed-perls/host/k93msid/v5.12.5/89ad/lib/site_perl/5.12.5/x86_64-linux /home/sand/src/perl/repoperls/installed-perls/host/k93msid/v5.12.5/89ad/lib/site_perl/5.12.5 /home/sand/src/perl/repoperls/installed-perls/host/k93msid/v5.12.5/89ad/lib/5.12.5/x86_64-linux /home/sand/src/perl/repoperls/installed-perls/host/k93msid/v5.12.5/89ad/lib/5.12.5 .) at t/30_loops/mojo_ioloop_tester_ev/k_run_returns.t line 16.
t/30_loops/mojo_ioloop_tester_ev/k_selects.t ..................... skipped: EV module required to test Mojo::Reactor::EV backend: Can't locate EV.pm in @INC (@INC contains: /home/sand/src/perl/repoperls/installed-perls/host/k93msid/v5.12.5/89ad/lib/site_perl/5.12.5/POE/Test/Loops /tmp/loop_over_bdir-28903-6_fTxx/POE-Loop-Mojo_IOLoop-0.003-0/blib/lib /tmp/loop_over_bdir-28903-6_fTxx/POE-Loop-Mojo_IOLoop-0.003-0/blib/arch /home/sand/src/perl/repoperls/installed-perls/host/k93msid/v5.12.5/89ad/lib/site_perl/5.12.5/x86_64-linux /home/sand/src/perl/repoperls/installed-perls/host/k93msid/v5.12.5/89ad/lib/site_perl/5.12.5 /home/sand/src/perl/repoperls/installed-perls/host/k93msid/v5.12.5/89ad/lib/5.12.5/x86_64-linux /home/sand/src/perl/repoperls/installed-perls/host/k93msid/v5.12.5/89ad/lib/5.12.5 .) at t/30_loops/mojo_ioloop_tester_ev/k_selects.t line 16.
t/30_loops/mojo_ioloop_tester_ev/k_sig_child.t ................... skipped: EV module required to test Mojo::Reactor::EV backend: Can't locate EV.pm in @INC (@INC contains: /home/sand/src/perl/repoperls/installed-perls/host/k93msid/v5.12.5/89ad/lib/site_perl/5.12.5/POE/Test/Loops /tmp/loop_over_bdir-28903-6_fTxx/POE-Loop-Mojo_IOLoop-0.003-0/blib/lib /tmp/loop_over_bdir-28903-6_fTxx/POE-Loop-Mojo_IOLoop-0.003-0/blib/arch /home/sand/src/perl/repoperls/installed-perls/host/k93msid/v5.12.5/89ad/lib/site_perl/5.12.5/x86_64-linux /home/sand/src/perl/repoperls/installed-perls/host/k93msid/v5.12.5/89ad/lib/site_perl/5.12.5 /home/sand/src/perl/repoperls/installed-perls/host/k93msid/v5.12.5/89ad/lib/5.12.5/x86_64-linux /home/sand/src/perl/repoperls/installed-perls/host/k93msid/v5.12.5/89ad/lib/5.12.5 .) at t/30_loops/mojo_ioloop_tester_ev/k_sig_child.t line 16.
t/30_loops/mojo_ioloop_tester_ev/k_signals.t ..................... skipped: EV module required to test Mojo::Reactor::EV backend: Can't locate EV.pm in @INC (@INC contains: /home/sand/src/perl/repoperls/installed-perls/host/k93msid/v5.12.5/89ad/lib/site_perl/5.12.5/POE/Test/Loops /tmp/loop_over_bdir-28903-6_fTxx/POE-Loop-Mojo_IOLoop-0.003-0/blib/lib /tmp/loop_over_bdir-28903-6_fTxx/POE-Loop-Mojo_IOLoop-0.003-0/blib/arch /home/sand/src/perl/repoperls/installed-perls/host/k93msid/v5.12.5/89ad/lib/site_perl/5.12.5/x86_64-linux /home/sand/src/perl/repoperls/installed-perls/host/k93msid/v5.12.5/89ad/lib/site_perl/5.12.5 /home/sand/src/perl/repoperls/installed-perls/host/k93msid/v5.12.5/89ad/lib/5.12.5/x86_64-linux /home/sand/src/perl/repoperls/installed-perls/host/k93msid/v5.12.5/89ad/lib/5.12.5 .) at t/30_loops/mojo_ioloop_tester_ev/k_signals.t line 16.
t/30_loops/mojo_ioloop_tester_ev/k_signals_rerun.t ............... skipped: EV module required to test Mojo::Reactor::EV backend: Can't locate EV.pm in @INC (@INC contains: /home/sand/src/perl/repoperls/installed-perls/host/k93msid/v5.12.5/89ad/lib/site_perl/5.12.5/POE/Test/Loops /tmp/loop_over_bdir-28903-6_fTxx/POE-Loop-Mojo_IOLoop-0.003-0/blib/lib /tmp/loop_over_bdir-28903-6_fTxx/POE-Loop-Mojo_IOLoop-0.003-0/blib/arch /home/sand/src/perl/repoperls/installed-perls/host/k93msid/v5.12.5/89ad/lib/site_perl/5.12.5/x86_64-linux /home/sand/src/perl/repoperls/installed-perls/host/k93msid/v5.12.5/89ad/lib/site_perl/5.12.5 /home/sand/src/perl/repoperls/installed-perls/host/k93msid/v5.12.5/89ad/lib/5.12.5/x86_64-linux /home/sand/src/perl/repoperls/installed-perls/host/k93msid/v5.12.5/89ad/lib/5.12.5 .) at t/30_loops/mojo_ioloop_tester_ev/k_signals_rerun.t line 16.
t/30_loops/mojo_ioloop_tester_ev/sbk_signal_init.t ............... skipped: EV module required to test Mojo::Reactor::EV backend: Can't locate EV.pm in @INC (@INC contains: /home/sand/src/perl/repoperls/installed-perls/host/k93msid/v5.12.5/89ad/lib/site_perl/5.12.5/POE/Test/Loops /tmp/loop_over_bdir-28903-6_fTxx/POE-Loop-Mojo_IOLoop-0.003-0/blib/lib /tmp/loop_over_bdir-28903-6_fTxx/POE-Loop-Mojo_IOLoop-0.003-0/blib/arch /home/sand/src/perl/repoperls/installed-perls/host/k93msid/v5.12.5/89ad/lib/site_perl/5.12.5/x86_64-linux /home/sand/src/perl/repoperls/installed-perls/host/k93msid/v5.12.5/89ad/lib/site_perl/5.12.5 /home/sand/src/perl/repoperls/installed-perls/host/k93msid/v5.12.5/89ad/lib/5.12.5/x86_64-linux /home/sand/src/perl/repoperls/installed-perls/host/k93msid/v5.12.5/89ad/lib/5.12.5 .) at t/30_loops/mojo_ioloop_tester_ev/sbk_signal_init.t line 16.
t/30_loops/mojo_ioloop_tester_ev/ses_nfa.t ....................... skipped: EV module required to test Mojo::Reactor::EV backend: Can't locate EV.pm in @INC (@INC contains: /home/sand/src/perl/repoperls/installed-perls/host/k93msid/v5.12.5/89ad/lib/site_perl/5.12.5/POE/Test/Loops /tmp/loop_over_bdir-28903-6_fTxx/POE-Loop-Mojo_IOLoop-0.003-0/blib/lib /tmp/loop_over_bdir-28903-6_fTxx/POE-Loop-Mojo_IOLoop-0.003-0/blib/arch /home/sand/src/perl/repoperls/installed-perls/host/k93msid/v5.12.5/89ad/lib/site_perl/5.12.5/x86_64-linux /home/sand/src/perl/repoperls/installed-perls/host/k93msid/v5.12.5/89ad/lib/site_perl/5.12.5 /home/sand/src/perl/repoperls/installed-perls/host/k93msid/v5.12.5/89ad/lib/5.12.5/x86_64-linux /home/sand/src/perl/repoperls/installed-perls/host/k93msid/v5.12.5/89ad/lib/5.12.5 .) at t/30_loops/mojo_ioloop_tester_ev/ses_nfa.t line 16.
t/30_loops/mojo_ioloop_tester_ev/ses_session.t ................... skipped: EV module required to test Mojo::Reactor::EV backend: Can't locate EV.pm in @INC (@INC contains: /home/sand/src/perl/repoperls/installed-perls/host/k93msid/v5.12.5/89ad/lib/site_perl/5.12.5/POE/Test/Loops /tmp/loop_over_bdir-28903-6_fTxx/POE-Loop-Mojo_IOLoop-0.003-0/blib/lib /tmp/loop_over_bdir-28903-6_fTxx/POE-Loop-Mojo_IOLoop-0.003-0/blib/arch /home/sand/src/perl/repoperls/installed-perls/host/k93msid/v5.12.5/89ad/lib/site_perl/5.12.5/x86_64-linux /home/sand/src/perl/repoperls/installed-perls/host/k93msid/v5.12.5/89ad/lib/site_perl/5.12.5 /home/sand/src/perl/repoperls/installed-perls/host/k93msid/v5.12.5/89ad/lib/5.12.5/x86_64-linux /home/sand/src/perl/repoperls/installed-perls/host/k93msid/v5.12.5/89ad/lib/5.12.5 .) at t/30_loops/mojo_ioloop_tester_ev/ses_session.t line 16.
t/30_loops/mojo_ioloop_tester_ev/wheel_accept.t .................. skipped: EV module required to test Mojo::Reactor::EV backend: Can't locate EV.pm in @INC (@INC contains: /home/sand/src/perl/repoperls/installed-perls/host/k93msid/v5.12.5/89ad/lib/site_perl/5.12.5/POE/Test/Loops /tmp/loop_over_bdir-28903-6_fTxx/POE-Loop-Mojo_IOLoop-0.003-0/blib/lib /tmp/loop_over_bdir-28903-6_fTxx/POE-Loop-Mojo_IOLoop-0.003-0/blib/arch /home/sand/src/perl/repoperls/installed-perls/host/k93msid/v5.12.5/89ad/lib/site_perl/5.12.5/x86_64-linux /home/sand/src/perl/repoperls/installed-perls/host/k93msid/v5.12.5/89ad/lib/site_perl/5.12.5 /home/sand/src/perl/repoperls/installed-perls/host/k93msid/v5.12.5/89ad/lib/5.12.5/x86_64-linux /home/sand/src/perl/repoperls/installed-perls/host/k93msid/v5.12.5/89ad/lib/5.12.5 .) at t/30_loops/mojo_ioloop_tester_ev/wheel_accept.t line 16.
t/30_loops/mojo_ioloop_tester_ev/wheel_curses.t .................. skipped: EV module required to test Mojo::Reactor::EV backend: Can't locate EV.pm in @INC (@INC contains: /home/sand/src/perl/repoperls/installed-perls/host/k93msid/v5.12.5/89ad/lib/site_perl/5.12.5/POE/Test/Loops /tmp/loop_over_bdir-28903-6_fTxx/POE-Loop-Mojo_IOLoop-0.003-0/blib/lib /tmp/loop_over_bdir-28903-6_fTxx/POE-Loop-Mojo_IOLoop-0.003-0/blib/arch /home/sand/src/perl/repoperls/installed-perls/host/k93msid/v5.12.5/89ad/lib/site_perl/5.12.5/x86_64-linux /home/sand/src/perl/repoperls/installed-perls/host/k93msid/v5.12.5/89ad/lib/site_perl/5.12.5 /home/sand/src/perl/repoperls/installed-perls/host/k93msid/v5.12.5/89ad/lib/5.12.5/x86_64-linux /home/sand/src/perl/repoperls/installed-perls/host/k93msid/v5.12.5/89ad/lib/5.12.5 .) at t/30_loops/mojo_ioloop_tester_ev/wheel_curses.t line 16.
t/30_loops/mojo_ioloop_tester_ev/wheel_readline.t ................ skipped: EV module required to test Mojo::Reactor::EV backend: Can't locate EV.pm in @INC (@INC contains: /home/sand/src/perl/repoperls/installed-perls/host/k93msid/v5.12.5/89ad/lib/site_perl/5.12.5/POE/Test/Loops /tmp/loop_over_bdir-28903-6_fTxx/POE-Loop-Mojo_IOLoop-0.003-0/blib/lib /tmp/loop_over_bdir-28903-6_fTxx/POE-Loop-Mojo_IOLoop-0.003-0/blib/arch /home/sand/src/perl/repoperls/installed-perls/host/k93msid/v5.12.5/89ad/lib/site_perl/5.12.5/x86_64-linux /home/sand/src/perl/repoperls/installed-perls/host/k93msid/v5.12.5/89ad/lib/site_perl/5.12.5 /home/sand/src/perl/repoperls/installed-perls/host/k93msid/v5.12.5/89ad/lib/5.12.5/x86_64-linux /home/sand/src/perl/repoperls/installed-perls/host/k93msid/v5.12.5/89ad/lib/5.12.5 .) at t/30_loops/mojo_ioloop_tester_ev/wheel_readline.t line 16.
t/30_loops/mojo_ioloop_tester_ev/wheel_readwrite.t ............... skipped: EV module required to test Mojo::Reactor::EV backend: Can't locate EV.pm in @INC (@INC contains: /home/sand/src/perl/repoperls/installed-perls/host/k93msid/v5.12.5/89ad/lib/site_perl/5.12.5/POE/Test/Loops /tmp/loop_over_bdir-28903-6_fTxx/POE-Loop-Mojo_IOLoop-0.003-0/blib/lib /tmp/loop_over_bdir-28903-6_fTxx/POE-Loop-Mojo_IOLoop-0.003-0/blib/arch /home/sand/src/perl/repoperls/installed-perls/host/k93msid/v5.12.5/89ad/lib/site_perl/5.12.5/x86_64-linux /home/sand/src/perl/repoperls/installed-perls/host/k93msid/v5.12.5/89ad/lib/site_perl/5.12.5 /home/sand/src/perl/repoperls/installed-perls/host/k93msid/v5.12.5/89ad/lib/5.12.5/x86_64-linux /home/sand/src/perl/repoperls/installed-perls/host/k93msid/v5.12.5/89ad/lib/5.12.5 .) at t/30_loops/mojo_ioloop_tester_ev/wheel_readwrite.t line 16.
t/30_loops/mojo_ioloop_tester_ev/wheel_run.t ..................... skipped: EV module required to test Mojo::Reactor::EV backend: Can't locate EV.pm in @INC (@INC contains: /home/sand/src/perl/repoperls/installed-perls/host/k93msid/v5.12.5/89ad/lib/site_perl/5.12.5/POE/Test/Loops /tmp/loop_over_bdir-28903-6_fTxx/POE-Loop-Mojo_IOLoop-0.003-0/blib/lib /tmp/loop_over_bdir-28903-6_fTxx/POE-Loop-Mojo_IOLoop-0.003-0/blib/arch /home/sand/src/perl/repoperls/installed-perls/host/k93msid/v5.12.5/89ad/lib/site_perl/5.12.5/x86_64-linux /home/sand/src/perl/repoperls/installed-perls/host/k93msid/v5.12.5/89ad/lib/site_perl/5.12.5 /home/sand/src/perl/repoperls/installed-perls/host/k93msid/v5.12.5/89ad/lib/5.12.5/x86_64-linux /home/sand/src/perl/repoperls/installed-perls/host/k93msid/v5.12.5/89ad/lib/5.12.5 .) at t/30_loops/mojo_ioloop_tester_ev/wheel_run.t line 16.
t/30_loops/mojo_ioloop_tester_ev/wheel_run_size.t ................ skipped: EV module required to test Mojo::Reactor::EV backend: Can't locate EV.pm in @INC (@INC contains: /home/sand/src/perl/repoperls/installed-perls/host/k93msid/v5.12.5/89ad/lib/site_perl/5.12.5/POE/Test/Loops /tmp/loop_over_bdir-28903-6_fTxx/POE-Loop-Mojo_IOLoop-0.003-0/blib/lib /tmp/loop_over_bdir-28903-6_fTxx/POE-Loop-Mojo_IOLoop-0.003-0/blib/arch /home/sand/src/perl/repoperls/installed-perls/host/k93msid/v5.12.5/89ad/lib/site_perl/5.12.5/x86_64-linux /home/sand/src/perl/repoperls/installed-perls/host/k93msid/v5.12.5/89ad/lib/site_perl/5.12.5 /home/sand/src/perl/repoperls/installed-perls/host/k93msid/v5.12.5/89ad/lib/5.12.5/x86_64-linux /home/sand/src/perl/repoperls/installed-perls/host/k93msid/v5.12.5/89ad/lib/5.12.5 .) at t/30_loops/mojo_ioloop_tester_ev/wheel_run_size.t line 16.
t/30_loops/mojo_ioloop_tester_ev/wheel_sf_ipv6.t ................. skipped: EV module required to test Mojo::Reactor::EV backend: Can't locate EV.pm in @INC (@INC contains: /home/sand/src/perl/repoperls/installed-perls/host/k93msid/v5.12.5/89ad/lib/site_perl/5.12.5/POE/Test/Loops /tmp/loop_over_bdir-28903-6_fTxx/POE-Loop-Mojo_IOLoop-0.003-0/blib/lib /tmp/loop_over_bdir-28903-6_fTxx/POE-Loop-Mojo_IOLoop-0.003-0/blib/arch /home/sand/src/perl/repoperls/installed-perls/host/k93msid/v5.12.5/89ad/lib/site_perl/5.12.5/x86_64-linux /home/sand/src/perl/repoperls/installed-perls/host/k93msid/v5.12.5/89ad/lib/site_perl/5.12.5 /home/sand/src/perl/repoperls/installed-perls/host/k93msid/v5.12.5/89ad/lib/5.12.5/x86_64-linux /home/sand/src/perl/repoperls/installed-perls/host/k93msid/v5.12.5/89ad/lib/5.12.5 .) at t/30_loops/mojo_ioloop_tester_ev/wheel_sf_ipv6.t line 16.
t/30_loops/mojo_ioloop_tester_ev/wheel_sf_tcp.t .................. skipped: EV module required to test Mojo::Reactor::EV backend: Can't locate EV.pm in @INC (@INC contains: /home/sand/src/perl/repoperls/installed-perls/host/k93msid/v5.12.5/89ad/lib/site_perl/5.12.5/POE/Test/Loops /tmp/loop_over_bdir-28903-6_fTxx/POE-Loop-Mojo_IOLoop-0.003-0/blib/lib /tmp/loop_over_bdir-28903-6_fTxx/POE-Loop-Mojo_IOLoop-0.003-0/blib/arch /home/sand/src/perl/repoperls/installed-perls/host/k93msid/v5.12.5/89ad/lib/site_perl/5.12.5/x86_64-linux /home/sand/src/perl/repoperls/installed-perls/host/k93msid/v5.12.5/89ad/lib/site_perl/5.12.5 /home/sand/src/perl/repoperls/installed-perls/host/k93msid/v5.12.5/89ad/lib/5.12.5/x86_64-linux /home/sand/src/perl/repoperls/installed-perls/host/k93msid/v5.12.5/89ad/lib/5.12.5 .) at t/30_loops/mojo_ioloop_tester_ev/wheel_sf_tcp.t line 16.
t/30_loops/mojo_ioloop_tester_ev/wheel_sf_udp.t .................. skipped: EV module required to test Mojo::Reactor::EV backend: Can't locate EV.pm in @INC (@INC contains: /home/sand/src/perl/repoperls/installed-perls/host/k93msid/v5.12.5/89ad/lib/site_perl/5.12.5/POE/Test/Loops /tmp/loop_over_bdir-28903-6_fTxx/POE-Loop-Mojo_IOLoop-0.003-0/blib/lib /tmp/loop_over_bdir-28903-6_fTxx/POE-Loop-Mojo_IOLoop-0.003-0/blib/arch /home/sand/src/perl/repoperls/installed-perls/host/k93msid/v5.12.5/89ad/lib/site_perl/5.12.5/x86_64-linux /home/sand/src/perl/repoperls/installed-perls/host/k93msid/v5.12.5/89ad/lib/site_perl/5.12.5 /home/sand/src/perl/repoperls/installed-perls/host/k93msid/v5.12.5/89ad/lib/5.12.5/x86_64-linux /home/sand/src/perl/repoperls/installed-perls/host/k93msid/v5.12.5/89ad/lib/5.12.5 .) at t/30_loops/mojo_ioloop_tester_ev/wheel_sf_udp.t line 16.
t/30_loops/mojo_ioloop_tester_ev/wheel_sf_unix.t ................. skipped: EV module required to test Mojo::Reactor::EV backend: Can't locate EV.pm in @INC (@INC contains: /home/sand/src/perl/repoperls/installed-perls/host/k93msid/v5.12.5/89ad/lib/site_perl/5.12.5/POE/Test/Loops /tmp/loop_over_bdir-28903-6_fTxx/POE-Loop-Mojo_IOLoop-0.003-0/blib/lib /tmp/loop_over_bdir-28903-6_fTxx/POE-Loop-Mojo_IOLoop-0.003-0/blib/arch /home/sand/src/perl/repoperls/installed-perls/host/k93msid/v5.12.5/89ad/lib/site_perl/5.12.5/x86_64-linux /home/sand/src/perl/repoperls/installed-perls/host/k93msid/v5.12.5/89ad/lib/site_perl/5.12.5 /home/sand/src/perl/repoperls/installed-perls/host/k93msid/v5.12.5/89ad/lib/5.12.5/x86_64-linux /home/sand/src/perl/repoperls/installed-perls/host/k93msid/v5.12.5/89ad/lib/5.12.5 .) at t/30_loops/mojo_ioloop_tester_ev/wheel_sf_unix.t line 16.
t/30_loops/mojo_ioloop_tester_ev/wheel_tail.t .................... skipped: EV module required to test Mojo::Reactor::EV backend: Can't locate EV.pm in @INC (@INC contains: /home/sand/src/perl/repoperls/installed-perls/host/k93msid/v5.12.5/89ad/lib/site_perl/5.12.5/POE/Test/Loops /tmp/loop_over_bdir-28903-6_fTxx/POE-Loop-Mojo_IOLoop-0.003-0/blib/lib /tmp/loop_over_bdir-28903-6_fTxx/POE-Loop-Mojo_IOLoop-0.003-0/blib/arch /home/sand/src/perl/repoperls/installed-perls/host/k93msid/v5.12.5/89ad/lib/site_perl/5.12.5/x86_64-linux /home/sand/src/perl/repoperls/installed-perls/host/k93msid/v5.12.5/89ad/lib/site_perl/5.12.5 /home/sand/src/perl/repoperls/installed-perls/host/k93msid/v5.12.5/89ad/lib/5.12.5/x86_64-linux /home/sand/src/perl/repoperls/installed-perls/host/k93msid/v5.12.5/89ad/lib/5.12.5 .) at t/30_loops/mojo_ioloop_tester_ev/wheel_tail.t line 16.
t/30_loops/mojo_ioloop_tester_ev/z_kogman_sig_order.t ............ skipped: EV module required to test Mojo::Reactor::EV backend: Can't locate EV.pm in @INC (@INC contains: /home/sand/src/perl/repoperls/installed-perls/host/k93msid/v5.12.5/89ad/lib/site_perl/5.12.5/POE/Test/Loops /tmp/loop_over_bdir-28903-6_fTxx/POE-Loop-Mojo_IOLoop-0.003-0/blib/lib /tmp/loop_over_bdir-28903-6_fTxx/POE-Loop-Mojo_IOLoop-0.003-0/blib/arch /home/sand/src/perl/repoperls/installed-perls/host/k93msid/v5.12.5/89ad/lib/site_perl/5.12.5/x86_64-linux /home/sand/src/perl/repoperls/installed-perls/host/k93msid/v5.12.5/89ad/lib/site_perl/5.12.5 /home/sand/src/perl/repoperls/installed-perls/host/k93msid/v5.12.5/89ad/lib/5.12.5/x86_64-linux /home/sand/src/perl/repoperls/installed-perls/host/k93msid/v5.12.5/89ad/lib/5.12.5 .) at t/30_loops/mojo_ioloop_tester_ev/z_kogman_sig_order.t line 16.
t/30_loops/mojo_ioloop_tester_ev/z_leolo_wheel_run.t ............. skipped: EV module required to test Mojo::Reactor::EV backend: Can't locate EV.pm in @INC (@INC contains: /home/sand/src/perl/repoperls/installed-perls/host/k93msid/v5.12.5/89ad/lib/site_perl/5.12.5/POE/Test/Loops /tmp/loop_over_bdir-28903-6_fTxx/POE-Loop-Mojo_IOLoop-0.003-0/blib/lib /tmp/loop_over_bdir-28903-6_fTxx/POE-Loop-Mojo_IOLoop-0.003-0/blib/arch /home/sand/src/perl/repoperls/installed-perls/host/k93msid/v5.12.5/89ad/lib/site_perl/5.12.5/x86_64-linux /home/sand/src/perl/repoperls/installed-perls/host/k93msid/v5.12.5/89ad/lib/site_perl/5.12.5 /home/sand/src/perl/repoperls/installed-perls/host/k93msid/v5.12.5/89ad/lib/5.12.5/x86_64-linux /home/sand/src/perl/repoperls/installed-perls/host/k93msid/v5.12.5/89ad/lib/5.12.5 .) at t/30_loops/mojo_ioloop_tester_ev/z_leolo_wheel_run.t line 16.
t/30_loops/mojo_ioloop_tester_ev/z_merijn_sigchld_system.t ....... skipped: EV module required to test Mojo::Reactor::EV backend: Can't locate EV.pm in @INC (@INC contains: /home/sand/src/perl/repoperls/installed-perls/host/k93msid/v5.12.5/89ad/lib/site_perl/5.12.5/POE/Test/Loops /tmp/loop_over_bdir-28903-6_fTxx/POE-Loop-Mojo_IOLoop-0.003-0/blib/lib /tmp/loop_over_bdir-28903-6_fTxx/POE-Loop-Mojo_IOLoop-0.003-0/blib/arch /home/sand/src/perl/repoperls/installed-perls/host/k93msid/v5.12.5/89ad/lib/site_perl/5.12.5/x86_64-linux /home/sand/src/perl/repoperls/installed-perls/host/k93msid/v5.12.5/89ad/lib/site_perl/5.12.5 /home/sand/src/perl/repoperls/installed-perls/host/k93msid/v5.12.5/89ad/lib/5.12.5/x86_64-linux /home/sand/src/perl/repoperls/installed-perls/host/k93msid/v5.12.5/89ad/lib/5.12.5 .) at t/30_loops/mojo_ioloop_tester_ev/z_merijn_sigchld_system.t line 16.
t/30_loops/mojo_ioloop_tester_ev/z_rt39872_sigchld.t ............. skipped: EV module required to test Mojo::Reactor::EV backend: Can't locate EV.pm in @INC (@INC contains: /home/sand/src/perl/repoperls/installed-perls/host/k93msid/v5.12.5/89ad/lib/site_perl/5.12.5/POE/Test/Loops /tmp/loop_over_bdir-28903-6_fTxx/POE-Loop-Mojo_IOLoop-0.003-0/blib/lib /tmp/loop_over_bdir-28903-6_fTxx/POE-Loop-Mojo_IOLoop-0.003-0/blib/arch /home/sand/src/perl/repoperls/installed-perls/host/k93msid/v5.12.5/89ad/lib/site_perl/5.12.5/x86_64-linux /home/sand/src/perl/repoperls/installed-perls/host/k93msid/v5.12.5/89ad/lib/site_perl/5.12.5 /home/sand/src/perl/repoperls/installed-perls/host/k93msid/v5.12.5/89ad/lib/5.12.5/x86_64-linux /home/sand/src/perl/repoperls/installed-perls/host/k93msid/v5.12.5/89ad/lib/5.12.5 .) at t/30_loops/mojo_ioloop_tester_ev/z_rt39872_sigchld.t line 16.
t/30_loops/mojo_ioloop_tester_ev/z_rt39872_sigchld_stop.t ........ skipped: EV module required to test Mojo::Reactor::EV backend: Can't locate EV.pm in @INC (@INC contains: /home/sand/src/perl/repoperls/installed-perls/host/k93msid/v5.12.5/89ad/lib/site_perl/5.12.5/POE/Test/Loops /tmp/loop_over_bdir-28903-6_fTxx/POE-Loop-Mojo_IOLoop-0.003-0/blib/lib /tmp/loop_over_bdir-28903-6_fTxx/POE-Loop-Mojo_IOLoop-0.003-0/blib/arch /home/sand/src/perl/repoperls/installed-perls/host/k93msid/v5.12.5/89ad/lib/site_perl/5.12.5/x86_64-linux /home/sand/src/perl/repoperls/installed-perls/host/k93msid/v5.12.5/89ad/lib/site_perl/5.12.5 /home/sand/src/perl/repoperls/installed-perls/host/k93msid/v5.12.5/89ad/lib/5.12.5/x86_64-linux /home/sand/src/perl/repoperls/installed-perls/host/k93msid/v5.12.5/89ad/lib/5.12.5 .) at t/30_loops/mojo_ioloop_tester_ev/z_rt39872_sigchld_stop.t line 16.
t/30_loops/mojo_ioloop_tester_ev/z_rt53302_fh_watchers.t ......... skipped: EV module required to test Mojo::Reactor::EV backend: Can't locate EV.pm in @INC (@INC contains: /home/sand/src/perl/repoperls/installed-perls/host/k93msid/v5.12.5/89ad/lib/site_perl/5.12.5/POE/Test/Loops /tmp/loop_over_bdir-28903-6_fTxx/POE-Loop-Mojo_IOLoop-0.003-0/blib/lib /tmp/loop_over_bdir-28903-6_fTxx/POE-Loop-Mojo_IOLoop-0.003-0/blib/arch /home/sand/src/perl/repoperls/installed-perls/host/k93msid/v5.12.5/89ad/lib/site_perl/5.12.5/x86_64-linux /home/sand/src/perl/repoperls/installed-perls/host/k93msid/v5.12.5/89ad/lib/site_perl/5.12.5 /home/sand/src/perl/repoperls/installed-perls/host/k93msid/v5.12.5/89ad/lib/5.12.5/x86_64-linux /home/sand/src/perl/repoperls/installed-perls/host/k93msid/v5.12.5/89ad/lib/5.12.5 .) at t/30_loops/mojo_ioloop_tester_ev/z_rt53302_fh_watchers.t line 16.
t/30_loops/mojo_ioloop_tester_ev/z_rt54319_bazerka_followtail.t .. skipped: EV module required to test Mojo::Reactor::EV backend: Can't locate EV.pm in @INC (@INC contains: /home/sand/src/perl/repoperls/installed-perls/host/k93msid/v5.12.5/89ad/lib/site_perl/5.12.5/POE/Test/Loops /tmp/loop_over_bdir-28903-6_fTxx/POE-Loop-Mojo_IOLoop-0.003-0/blib/lib /tmp/loop_over_bdir-28903-6_fTxx/POE-Loop-Mojo_IOLoop-0.003-0/blib/arch /home/sand/src/perl/repoperls/installed-perls/host/k93msid/v5.12.5/89ad/lib/site_perl/5.12.5/x86_64-linux /home/sand/src/perl/repoperls/installed-perls/host/k93msid/v5.12.5/89ad/lib/site_perl/5.12.5 /home/sand/src/perl/repoperls/installed-perls/host/k93msid/v5.12.5/89ad/lib/5.12.5/x86_64-linux /home/sand/src/perl/repoperls/installed-perls/host/k93msid/v5.12.5/89ad/lib/5.12.5 .) at t/30_loops/mojo_ioloop_tester_ev/z_rt54319_bazerka_followtail.t line 16.
t/30_loops/mojo_ioloop_tester_ev/z_steinert_signal_integrity.t ... skipped: EV module required to test Mojo::Reactor::EV backend: Can't locate EV.pm in @INC (@INC contains: /home/sand/src/perl/repoperls/installed-perls/host/k93msid/v5.12.5/89ad/lib/site_perl/5.12.5/POE/Test/Loops /tmp/loop_over_bdir-28903-6_fTxx/POE-Loop-Mojo_IOLoop-0.003-0/blib/lib /tmp/loop_over_bdir-28903-6_fTxx/POE-Loop-Mojo_IOLoop-0.003-0/blib/arch /home/sand/src/perl/repoperls/installed-perls/host/k93msid/v5.12.5/89ad/lib/site_perl/5.12.5/x86_64-linux /home/sand/src/perl/repoperls/installed-perls/host/k93msid/v5.12.5/89ad/lib/site_perl/5.12.5 /home/sand/src/perl/repoperls/installed-perls/host/k93msid/v5.12.5/89ad/lib/5.12.5/x86_64-linux /home/sand/src/perl/repoperls/installed-perls/host/k93msid/v5.12.5/89ad/lib/5.12.5 .) at t/30_loops/mojo_ioloop_tester_ev/z_steinert_signal_integrity.t line 16.
All tests successful.
Files=72, Tests=487, 84 wallclock secs ( 0.14 usr 0.46 sys + 15.09 cusr 3.79 csys = 19.48 CPU)
Result: PASS
------------------------------
PREREQUISITES
------------------------------
Prerequisite modules loaded:
requires:
Module Need Have
------------------- -------- --------
Mojolicious 5.70 7.29
perl 5.010001 5.012005
POE 1.366 1.367
Time::HiRes 0 1.9719
build_requires:
Module Need Have
------------------- -------- --------
ExtUtils::MakeMaker 0 7.24
File::Spec 0 3.62
POE::Test::Loops 1.360 1.360
Test::More 0.88 1.302078
configure_requires:
Module Need Have
------------------- -------- --------
ExtUtils::MakeMaker 0 7.24
File::Spec 0 3.62
POE::Test::Loops 1.360 1.360
------------------------------
ENVIRONMENT AND OTHER CONTEXT
------------------------------
Environment variables:
AUTOMATED_TESTING = 1
LANG = en_US.UTF-8
PATH = /home/sand/bin:/usr/local/bin:/usr/bin:/bin:/usr/games:/usr/local/perl/bin:/usr/X11/bin:/sbin:/usr/sbin
PERL5LIB =
PERL5OPT =
PERL5_CPANPLUS_IS_RUNNING = 28904
PERL5_CPAN_IS_RUNNING = 28904
PERL_CANARY_STABILITY_NOPROMPT = 1
PERL_MM_USE_DEFAULT = 1
PERL_USE_UNSAFE_INC = 1
SHELL = /usr/bin/zsh
TERM = screen
Perl special variables (and OS-specific diagnostics, for MSWin32):
$^X = /home/sand/src/perl/repoperls/installed-perls/host/k93msid/v5.12.5/89ad/bin/perl
$UID/$EUID = 1005 / 1005
$GID = 1005 1005
$EGID = 1005 1005
Perl module toolchain versions installed:
Module Have
------------------- --------
CPAN 2.17
CPAN::Meta 2.150010
Cwd 3.62
ExtUtils::CBuilder 0.280224
ExtUtils::Command 7.24
ExtUtils::Install 1.55
ExtUtils::MakeMaker 7.24
ExtUtils::Manifest 1.70
ExtUtils::ParseXS 3.30
File::Spec 3.62
JSON 2.90
JSON::PP 2.27400
Module::Build 0.4220
Module::Signature 0.81
Parse::CPAN::Meta 2.150010
Test::Harness 3.38
Test::More 1.302078
YAML 1.23
YAML::Syck 1.29
version 0.9917
--
Summary of my perl5 (revision 5 version 12 subversion 5) configuration:
Derived from: 9a9cbd715960a905dcbc9166349a73a64a007e4e
Platform:
osname=linux, osvers=4.9.0-2-amd64, archname=x86_64-linux
uname='linux k93msid 4.9.0-2-amd64 #1 smp debian 4.9.13-1 (2017-02-27) x86_64 gnulinux '
config_args='-Dprefix=/home/sand/src/perl/repoperls/installed-perls/host/k93msid/v5.12.5/89ad -Dmyhostname=k93msid -Dinstallusrbinperl=n -Uversiononly -Dusedevel -des -Ui_db -Dlibswanted=cl pthread socket inet nsl gdbm dbm malloc dl ld sun m crypt sec util c cposix posix ucb BSD gdbm_compat -Uuseithreads -Uuselongdouble -DDEBUGGING=-g'
hint=recommended, useposix=true, d_sigaction=define
useithreads=undef, usemultiplicity=undef
useperlio=define, d_sfio=undef, uselargefiles=define, usesocks=undef
use64bitint=define, use64bitall=define, uselongdouble=undef
usemymalloc=n, bincompat5005=undef
Compiler:
cc='cc', ccflags ='-fno-strict-aliasing -pipe -fstack-protector -I/usr/local/include -D_LARGEFILE_SOURCE -D_FILE_OFFSET_BITS=64',
optimize='-O2 -g',
cppflags='-fno-strict-aliasing -pipe -fstack-protector -I/usr/local/include'
ccversion='', gccversion='6.3.0 20170316', gccosandvers=''
intsize=4, longsize=8, ptrsize=8, doublesize=8, byteorder=12345678
d_longlong=define, longlongsize=8, d_longdbl=define, longdblsize=16
ivtype='long', ivsize=8, nvtype='double', nvsize=8, Off_t='off_t', lseeksize=8
alignbytes=8, prototype=define
Linker and Libraries:
ld='cc', ldflags =' -fstack-protector -L/usr/local/lib'
libpth=/usr/local/lib /lib/x86_64-linux-gnu /lib/../lib /usr/lib/x86_64-linux-gnu /usr/lib/../lib /lib /usr/lib
libs=-lpthread -lnsl -ldl -lm -lcrypt -lutil -lc
perllibs=-lpthread -lnsl -ldl -lm -lcrypt -lutil -lc
libc=libc-2.24.so, so=so, useshrplib=false, libperl=libperl.a
gnulibc_version='2.24'
Dynamic Linking:
dlsrc=dl_dlopen.xs, dlext=so, d_dlsymun=undef, ccdlflags='-Wl,-E'
cccdlflags='-fPIC', lddlflags='-shared -O2 -g -L/usr/local/lib -fstack-protector'
Characteristics of this binary (from libperl):
Compile-time options: PERL_DONT_CREATE_GVSV PERL_MALLOC_WRAP PERL_USE_DEVEL
USE_64_BIT_ALL USE_64_BIT_INT USE_LARGE_FILES
USE_PERLIO USE_PERL_ATOF
Locally applied patches:
uncommitted-changes
Built under linux
Compiled at Mar 19 2017 20:56:26
%ENV:
PERL5LIB=""
PERL5OPT=""
PERL5_CPANPLUS_IS_RUNNING="28904"
PERL5_CPAN_IS_RUNNING="28904"
PERL_CANARY_STABILITY_NOPROMPT="1"
PERL_MM_USE_DEFAULT="1"
PERL_USE_UNSAFE_INC="1"
@INC:
/home/sand/src/perl/repoperls/installed-perls/host/k93msid/v5.12.5/89ad/lib/site_perl/5.12.5/x86_64-linux
/home/sand/src/perl/repoperls/installed-perls/host/k93msid/v5.12.5/89ad/lib/site_perl/5.12.5
/home/sand/src/perl/repoperls/installed-perls/host/k93msid/v5.12.5/89ad/lib/5.12.5/x86_64-linux
/home/sand/src/perl/repoperls/installed-perls/host/k93msid/v5.12.5/89ad/lib/5.12.5
.