Net-Hadoop-Oozie v0.111 Perl 5 v5.26.1 amd64-freebsd

Status
Pass
From
Slaven Rezić (SREZIC)
Dist
Net-Hadoop-Oozie v0.111
Platform
Perl 5 v5.26.1 amd64-freebsd
Date
2017-10-25 21:04:22
ID
1362033a-b9c8-11e7-b0b0-d3d32a0ebb2f
This distribution has been tested as part of the CPAN Testers
project, supporting the Perl programming language.  See
http://wiki.cpantesters.org/ for more information or email
questions to cpan-testers-discuss@perl.org


--
Dear Philippe Bruhat (BooK),

This is a computer-generated report for Net-Hadoop-Oozie-0.111
on perl 5.26.1, created by CPAN-Reporter-1.2018.

Thank you for uploading your work to CPAN.  Congratulations!
All tests were successful.

Sections of this report:

    * Tester comments
    * Program output
    * Prerequisites
    * Environment and other context

------------------------------
TESTER COMMENTS
------------------------------

Additional comments from tester:

none provided

------------------------------
PROGRAM OUTPUT
------------------------------

Output from '/usr/bin/make test':

PERL_DL_NONLAZY=1 "/usr/perl5.26.1p/bin/perl5.26.1" "-MExtUtils::Command::MM" "-MTest::Harness" "-e" "undef *Test::Harness::Switches; test_harness(0, 'blib/lib', 'blib/arch')" t/*.t
t/00-compile.t .................... ok
# 
# Versions for all modules listed in MYMETA.json (including optional ones):
# 
# === Configure Requires ===
# 
#     Module              Want Have
#     ------------------- ---- ----
#     ExtUtils::MakeMaker  any 7.24
# 
# === Build Requires ===
# 
#     Module              Want Have
#     ------------------- ---- ----
#     ExtUtils::MakeMaker  any 7.24
# 
# === Test Requires ===
# 
#     Module              Want     Have
#     ------------------- ---- --------
#     ExtUtils::MakeMaker  any     7.24
#     File::Spec           any     3.67
#     IO::Handle           any     1.36
#     IPC::Open3           any     1.20
#     Test::More           any 1.302106
#     blib                1.01     1.06
# 
# === Test Recommends ===
# 
#     Module         Want     Have
#     ---------- -------- --------
#     CPAN::Meta 2.120900 2.150010
# 
# === Runtime Requires ===
# 
#     Module                           Want       Have
#     -------------------------------- ---- ----------
#     CHI                               any       0.60
#     Carp                              any       1.42
#     Clone                             any       0.39
#     Constant::FromGlobal              any       0.09
#     Data::Dumper                      any      2.167
#     Date::Format                      any       2.24
#     Date::Parse                       any       2.30
#     Exporter                          any       5.72
#     Hash::Flatten                     any       1.19
#     JSON::XS                          any       3.04
#     LWP::Authen::Negotiate            any       0.08
#     LWP::UserAgent                    any       6.27
#     Moo                               any   2.003002
#     Moo::Role                         any   2.003002
#     Net::Hadoop::YARN                 any      0.202
#     Net::Hadoop::YARN::Roles::Common  any      0.202
#     Ref::Util                         any      0.203
#     Regexp::Common                    any 2017060201
#     Scalar::Util                      any       1.49
#     URI                               any       1.72
#     XML::Simple                       any       2.24
#     XML::Twig                         any       3.52
#     constant                          any       1.33
#     parent                            any      0.236
#     strict                            any       1.11
#     warnings                          any       1.37
# 
t/00-report-prereqs.t ............. ok
t/01-api.t ........................ ok
t/02-schedule-test-coordinator.t .. ok
t/03-job-information.t ............ ok
t/04-suspend.t .................... ok
t/05-standalone-wf.t .............. ok
t/06-rerun.t ...................... ok
t/07-kill.t ....................... ok
t/08-sla.t ........................ ok
t/09-judge.t ...................... ok
t/author-pod-syntax.t ............. skipped: these tests are for testing by the author
t/release-distmeta.t .............. skipped: these tests are for release candidate testing
All tests successful.
Files=13, Tests=26,  8 wallclock secs ( 0.07 usr  0.06 sys +  6.87 cusr  0.95 csys =  7.95 CPU)
Result: PASS

------------------------------
PREREQUISITES
------------------------------

Prerequisite modules loaded:

requires:

    Module                           Need     Have      
    -------------------------------- -------- ----------
    Carp                             0        1.42      
    CHI                              0        0.60      
    Clone                            0        0.39      
    constant                         0        1.33      
    Constant::FromGlobal             0        0.09      
    Data::Dumper                     0        2.167     
    Date::Format                     0        2.24      
    Date::Parse                      0        2.30      
    Exporter                         0        5.72      
    Hash::Flatten                    0        1.19      
    JSON::XS                         0        3.04      
    LWP::Authen::Negotiate           0        0.08      
    LWP::UserAgent                   0        6.27      
    Moo                              0        2.003002  
    Moo::Role                        0        2.003002  
    Net::Hadoop::YARN                0        0.202     
    Net::Hadoop::YARN::Roles::Common 0        0.202     
    parent                           0        0.236     
    perl                             5.010    5.026001  
    Ref::Util                        0        0.203     
    Regexp::Common                   0        2017060201
    Scalar::Util                     0        1.49      
    strict                           0        1.11      
    URI                              0        1.72      
    warnings                         0        1.37      
    XML::Simple                      0        2.24      
    XML::Twig                        0        3.52      

build_requires:

    Module                           Need     Have      
    -------------------------------- -------- ----------
    blib                             1.01     1.06      
    ExtUtils::MakeMaker              0        7.24      
    File::Spec                       0        3.67      
    IO::Handle                       0        1.36      
    IPC::Open3                       0        1.20      
    Test::More                       0        1.302106  

configure_requires:

    Module                           Need     Have      
    -------------------------------- -------- ----------
    ExtUtils::MakeMaker              0        7.24      

opt_build_requires:

    Module                           Need     Have      
    -------------------------------- -------- ----------
    CPAN::Meta                       2.120900 2.150010  


------------------------------
ENVIRONMENT AND OTHER CONTEXT
------------------------------

Environment variables:

    PATH = /usr/local/bin:/usr/bin:/bin:/usr/local/sbin:/usr/sbin:/sbin:/home/cpansand/bin/freebsd12.0:/home/cpansand/bin/sh:/home/cpansand/bin:/usr/games:/home/cpansand/devel:/usr/home/eserte/src/srezic-misc/scripts
    PERL5LIB = 
    PERL5OPT = 
    PERL5_CPANPLUS_IS_RUNNING = 68727
    PERL5_CPAN_IS_RUNNING = 68727
    PERL5_CPAN_IS_RUNNING_IN_RECURSION = 90544,68727
    PERLDOC = -MPod::Perldoc::ToTextOverstrike
    PERL_BATCH = yes
    PERL_CANARY_STABILITY_NOPROMPT = 1
    PERL_CPAN_REPORTER_CONFIG = /var/tmp/cpansmoker-1023/2017102515/cpanreporter_007_config.ini
    PERL_EXTUTILS_AUTOINSTALL = --defaultdeps
    PERL_USE_UNSAFE_INC = 1
    SHELL = /usr/local/bin/zsh
    TERM = screen
    TMPDIR = /var/tmp/cpansmoker-1023/2017102515

Perl special variables (and OS-specific diagnostics, for MSWin32):

    $^X = /usr/perl5.26.1p/bin/perl5.26.1
    $UID/$EUID = 1023 / 1023
    $GID = 1023 1023
    $EGID = 1023 1023

Perl module toolchain versions installed:

    Module              Have    
    ------------------- --------
    CPAN                2.18    
    CPAN::Meta          2.150010
    Cwd                 3.67    
    ExtUtils::CBuilder  0.280226
    ExtUtils::Command   7.24    
    ExtUtils::Install   2.04    
    ExtUtils::MakeMaker 7.24    
    ExtUtils::Manifest  1.70    
    ExtUtils::ParseXS   3.35    
    File::Spec          3.67    
    JSON                2.94    
    JSON::PP            2.94    
    Module::Build       0.4224  
    Module::Signature   0.81    
    Parse::CPAN::Meta   2.150010
    Test::Harness       3.38    
    Test::More          1.302106
    YAML                1.23    
    YAML::Syck          1.30    
    version             0.9917  


--

Summary of my perl5 (revision 5 version 26 subversion 1) configuration:
   
  Platform:
    osname=freebsd
    osvers=12.0-current
    archname=amd64-freebsd
    uname='freebsd freebsd 12.0-current freebsd 12.0-current #1 ff104cc9da3(master)-dirty: thu oct 19 23:44:51 cest 2017 root@freebsd:usrobjusrsrcsysgeneric amd64 '
    config_args='-ds -e -Dprefix=/usr/perl5.26.1p -Dcf_email=srezic@cpan.org -Doptimize=-O2 -pipe'
    hint=recommended
    useposix=true
    d_sigaction=define
    useithreads=undef
    usemultiplicity=undef
    use64bitint=define
    use64bitall=define
    uselongdouble=undef
    usemymalloc=n
    default_inc_excludes_dot=define
    bincompat5005=undef
  Compiler:
    cc='cc'
    ccflags ='-DHAS_FPSETMASK -DHAS_FLOATINGPOINT_H -fno-strict-aliasing -pipe -fstack-protector-strong -I/usr/local/include -D_FORTIFY_SOURCE=2'
    optimize='-O2 -pipe'
    cppflags='-DHAS_FPSETMASK -DHAS_FLOATINGPOINT_H -fno-strict-aliasing -pipe -fstack-protector-strong -I/usr/local/include'
    ccversion=''
    gccversion='4.2.1 Compatible FreeBSD Clang 5.0.0 (tags/RELEASE_500/final 312559)'
    gccosandvers=''
    intsize=4
    longsize=8
    ptrsize=8
    doublesize=8
    byteorder=12345678
    doublekind=3
    d_longlong=define
    longlongsize=8
    d_longdbl=define
    longdblsize=16
    longdblkind=3
    ivtype='long'
    ivsize=8
    nvtype='double'
    nvsize=8
    Off_t='off_t'
    lseeksize=8
    alignbytes=8
    prototype=define
  Linker and Libraries:
    ld='cc'
    ldflags ='-pthread -Wl,-E  -fstack-protector-strong -L/usr/local/lib'
    libpth=/usr/lib /usr/local/lib /usr/lib/clang/5.0.0/lib /usr/lib
    libs=-lpthread -lgdbm -lm -lcrypt -lutil -lc
    perllibs=-lpthread -lm -lcrypt -lutil -lc
    libc=
    so=so
    useshrplib=false
    libperl=libperl.a
    gnulibc_version=''
  Dynamic Linking:
    dlsrc=dl_dlopen.xs
    dlext=so
    d_dlsymun=undef
    ccdlflags=' '
    cccdlflags='-DPIC -fPIC'
    lddlflags='-shared  -L/usr/local/lib -fstack-protector-strong'


Characteristics of this binary (from libperl): 
  Compile-time options:
    HAS_TIMES
    PERLIO_LAYERS
    PERL_COPY_ON_WRITE
    PERL_DONT_CREATE_GVSV
    PERL_MALLOC_WRAP
    PERL_OP_PARENT
    PERL_PRESERVE_IVUV
    USE_64_BIT_ALL
    USE_64_BIT_INT
    USE_LARGE_FILES
    USE_LOCALE
    USE_LOCALE_COLLATE
    USE_LOCALE_CTYPE
    USE_LOCALE_NUMERIC
    USE_LOCALE_TIME
    USE_PERLIO
    USE_PERL_ATOF
  Built under freebsd
  Compiled at Oct 20 2017 22:57:36
  %ENV:
    PERL5LIB=""
    PERL5OPT=""
    PERL5_CPANPLUS_IS_RUNNING="68727"
    PERL5_CPAN_IS_RUNNING="68727"
    PERL5_CPAN_IS_RUNNING_IN_RECURSION="90544,68727"
    PERLDOC="-MPod::Perldoc::ToTextOverstrike"
    PERL_BATCH="yes"
    PERL_CANARY_STABILITY_NOPROMPT="1"
    PERL_CPAN_REPORTER_CONFIG="/var/tmp/cpansmoker-1023/2017102515/cpanreporter_007_config.ini"
    PERL_EXTUTILS_AUTOINSTALL="--defaultdeps"
    PERL_USE_UNSAFE_INC="1"
  @INC:
    /usr/perl5.26.1p/lib/site_perl/5.26.1/amd64-freebsd
    /usr/perl5.26.1p/lib/site_perl/5.26.1
    /usr/perl5.26.1p/lib/5.26.1/amd64-freebsd
    /usr/perl5.26.1p/lib/5.26.1
    .