Report for Catalyst-Controller-ActionRole-0.17

Back
From: metabase:user:320bfe00-2aae-11df-837a-5e0a49663a4f
Subject: PASS Catalyst-Controller-ActionRole-0.17 v5.20.0 GNU/Linux
Date: 2015-02-02T03:46:31Z

This distribution has been tested as part of the CPAN Testers
project, supporting the Perl programming language.  See
http://wiki.cpantesters.org/ for more information or email
questions to cpan-testers-discuss@perl.org


--
Dear Karen Etheridge,

This is a computer-generated report for Catalyst-Controller-ActionRole-0.17
on perl 5.20.0, created by CPAN-Reporter-1.2011.

Thank you for uploading your work to CPAN.  Congratulations!
All tests were successful.

Sections of this report:

    * Tester comments
    * Program output
    * Prerequisites
    * Environment and other context

------------------------------
TESTER COMMENTS
------------------------------

Additional comments from tester:

this report is from an automated smoke testing program
and was not reviewed by a human for accuracy

------------------------------
PROGRAM OUTPUT
------------------------------

Output from './Build test':


# Versions for all modules listed in MYMETA.json (including optional ones):
# 
# === Configure Requires ===
# 
#     Module               Want  Have
#     ------------------- ----- -----
#     Module::Build::Tiny 0.039 0.039
# 
# === Test Requires ===
# 
#     Module                 Want         Have
#     ---------------------- ---- ------------
#     Catalyst                any      5.90082
#     Catalyst::Action        any        undef
#     Catalyst::Action::REST 0.74         1.18
#     Catalyst::Test          any        undef
#     ExtUtils::MakeMaker     any      7.05_11
#     File::Spec              any         3.47
#     FindBin                 any         1.51
#     Moose::Role             any       2.1403
#     Test::More              any 1.301001_098
#     lib                     any         0.63
#     namespace::clean        any         0.25
#     parent                  any        0.228
#     strict                  any         1.08
#     warnings                any         1.23
# 
# === Test Recommends ===
# 
#     Module         Want     Have
#     ---------- -------- --------
#     CPAN::Meta 2.120900 2.143240
# 
# === Runtime Requires ===
# 
#     Module                   Want    Have
#     --------------------- ------- -------
#     Catalyst::Controller      any   undef
#     Catalyst::Runtime     5.80025 5.90082
#     Catalyst::Utils           any   undef
#     Class::Load               any    0.22
#     List::Util                any    1.41
#     Moose                     any  2.1403
#     Moose::Meta::Class        any  2.1403
#     MooseX::Types::Moose      any    0.45
#     String::RewritePrefix   0.004   0.007
#     namespace::autoclean      any    0.24
# 
t/00-report-prereqs.t ..... ok
t/action-class.t .......... ok
t/basic.t ................. ok
t/basic_rest.t ............ ok
t/execution-via-config.t .. ok
t/execution-via-does.t .... ok
All tests successful.
Files=6, Tests=44,  7 wallclock secs ( 0.03 usr  0.01 sys +  4.24 cusr  0.31 csys =  4.59 CPU)
Result: PASS

------------------------------
PREREQUISITES
------------------------------

Prerequisite modules loaded:

requires:

    Module                 Need    Have        
    ---------------------- ------- ------------
    Catalyst::Controller   0       0           
    Catalyst::Runtime      5.80025 5.90082     
    Catalyst::Utils        0       0           
    Class::Load            0       0.22        
    List::Util             0       1.41        
    Moose                  0       2.1403      
    Moose::Meta::Class     0       2.1403      
    MooseX::Types::Moose   0       0.45        
    namespace::autoclean   0       0.24        
    perl                   5.006   5.020000    
    String::RewritePrefix  0.004   0.007       

build_requires:

    Module                 Need    Have        
    ---------------------- ------- ------------
    Catalyst               0       5.90082     
    Catalyst::Action       0       0           
    Catalyst::Action::REST 0.74    1.18        
    Catalyst::Test         0       0           
    ExtUtils::MakeMaker    0       7.05_11     
    File::Spec             0       3.47        
    FindBin                0       1.51        
    lib                    0       0.63        
    Moose::Role            0       2.1403      
    namespace::clean       0       0.25        
    parent                 0       0.228       
    perl                   5.006   5.020000    
    strict                 0       1.08        
    Test::More             0       1.301001_098
    warnings               0       1.23        

configure_requires:

    Module                 Need    Have        
    ---------------------- ------- ------------
    Module::Build::Tiny    0.039   0.039       
    perl                   5.006   5.020000    


------------------------------
ENVIRONMENT AND OTHER CONTEXT
------------------------------

Environment variables:

    AUTOMATED_TESTING = 1
    LANG = en_US.UTF-8
    LANGUAGE = en_US:en
    PATH = /home/sand/bin:/usr/local/bin:/usr/bin:/bin:/usr/games:/usr/local/perl/bin:/usr/X11/bin:/sbin:/usr/sbin
    PERL5LIB = 
    PERL5OPT = 
    PERL5_CPANPLUS_IS_RUNNING = 4993
    PERL5_CPAN_IS_RUNNING = 4993
    PERL_MM_USE_DEFAULT = 1
    SHELL = /usr/bin/zsh
    TERM = screen

Perl special variables (and OS-specific diagnostics, for MSWin32):

    $^X = /home/sand/src/perl/repoperls/installed-perls/perl/v5.20.0/165a/bin/perl
    $UID/$EUID = 1005 / 1005
    $GID = 1005 1005
    $EGID = 1005 1005

Perl module toolchain versions installed:

    Module              Have        
    ------------------- ------------
    CPAN                2.05        
    CPAN::Meta          2.143240    
    Cwd                 3.47        
    ExtUtils::CBuilder  0.280220    
    ExtUtils::Command   7.05_11     
    ExtUtils::Install   1.67        
    ExtUtils::MakeMaker 7.05_11     
    ExtUtils::Manifest  1.70        
    ExtUtils::ParseXS   3.24        
    File::Spec          3.47        
    JSON                2.90        
    JSON::PP            2.27203     
    Module::Build       0.4211      
    Module::Signature   0.73        
    Parse::CPAN::Meta   1.4414      
    Test::Harness       3.35        
    Test::More          1.301001_098
    YAML                1.14        
    YAML::Syck          1.29        
    version             0.9912      


--

Summary of my perl5 (revision 5 version 20 subversion 0) configuration:
  Commit id: d7d4eceb184d8fc54797d661a6d5ff9a4a7048c3
  Platform:
    osname=linux, osvers=3.16.0-4-amd64, archname=x86_64-linux
    uname='linux k83 3.16.0-4-amd64 #1 smp debian 3.16.7-ckt2-1 (2014-12-08) x86_64 gnulinux '
    config_args='-Dprefix=/home/sand/src/perl/repoperls/installed-perls/perl/v5.20.0/165a -Dmyhostname=k83 -Dinstallusrbinperl=n -Uversiononly -Dusedevel -des -Ui_db -Uuseithreads -Uuselongdouble -DDEBUGGING=-g'
    hint=recommended, useposix=true, d_sigaction=define
    useithreads=undef, usemultiplicity=undef
    use64bitint=define, use64bitall=define, uselongdouble=undef
    usemymalloc=n, bincompat5005=undef
  Compiler:
    cc='cc', ccflags ='-fwrapv -fno-strict-aliasing -pipe -fstack-protector -I/usr/local/include -D_LARGEFILE_SOURCE -D_FILE_OFFSET_BITS=64',
    optimize='-O2 -g',
    cppflags='-fwrapv -fno-strict-aliasing -pipe -fstack-protector -I/usr/local/include'
    ccversion='', gccversion='4.9.2', gccosandvers=''
    intsize=4, longsize=8, ptrsize=8, doublesize=8, byteorder=12345678
    d_longlong=define, longlongsize=8, d_longdbl=define, longdblsize=16
    ivtype='long', ivsize=8, nvtype='double', nvsize=8, Off_t='off_t', lseeksize=8
    alignbytes=8, prototype=define
  Linker and Libraries:
    ld='cc', ldflags =' -fstack-protector -L/usr/local/lib'
    libpth=/usr/local/lib /usr/lib/gcc/x86_64-linux-gnu/4.9/include-fixed /usr/include/x86_64-linux-gnu /usr/lib /lib/x86_64-linux-gnu /lib/../lib /usr/lib/x86_64-linux-gnu /usr/lib/../lib /lib
    libs=-lnsl -lgdbm -ldb -ldl -lm -lcrypt -lutil -lc -lgdbm_compat
    perllibs=-lnsl -ldl -lm -lcrypt -lutil -lc
    libc=libc-2.19.so, so=so, useshrplib=false, libperl=libperl.a
    gnulibc_version='2.19'
  Dynamic Linking:
    dlsrc=dl_dlopen.xs, dlext=so, d_dlsymun=undef, ccdlflags='-Wl,-E'
    cccdlflags='-fPIC', lddlflags='-shared -O2 -g -L/usr/local/lib -fstack-protector'


Characteristics of this binary (from libperl): 
  Compile-time options: HAS_TIMES PERLIO_LAYERS PERL_DONT_CREATE_GVSV
                        PERL_HASH_FUNC_ONE_AT_A_TIME_HARD PERL_MALLOC_WRAP
                        PERL_NEW_COPY_ON_WRITE PERL_PRESERVE_IVUV
                        PERL_USE_DEVEL USE_64_BIT_ALL USE_64_BIT_INT
                        USE_LARGE_FILES USE_LOCALE USE_LOCALE_COLLATE
                        USE_LOCALE_CTYPE USE_LOCALE_NUMERIC USE_PERLIO
                        USE_PERL_ATOF
  Built under linux
  Compiled at Jan 10 2015 06:41:10
  %ENV:
    PERL5LIB=""
    PERL5OPT=""
    PERL5_CPANPLUS_IS_RUNNING="4993"
    PERL5_CPAN_IS_RUNNING="4993"
    PERL_MM_USE_DEFAULT="1"
  @INC:
    /home/sand/src/perl/repoperls/installed-perls/perl/v5.20.0/165a/lib/site_perl/5.20.0/x86_64-linux
    /home/sand/src/perl/repoperls/installed-perls/perl/v5.20.0/165a/lib/site_perl/5.20.0
    /home/sand/src/perl/repoperls/installed-perls/perl/v5.20.0/165a/lib/5.20.0/x86_64-linux
    /home/sand/src/perl/repoperls/installed-perls/perl/v5.20.0/165a/lib/5.20.0
    .