Back
From: metabase:user:3198cbe2-2aae-11df-837a-5e0a49663a4f
Subject: PASS Soar-WM-0.04 v5.16.1 GNU/Linux
Date: 2013-02-22T22:13:24Z
This distribution has been tested as part of the CPAN Testers
project, supporting the Perl programming language. See
http://wiki.cpantesters.org/ for more information or email
questions to cpan-testers-discuss@perl.org
--
Dear Nathan Gary Glenn,
This is a computer-generated report for Soar-WM-0.04
on perl 5.16.1, created by CPAN-Reporter-1.2006.
Thank you for uploading your work to CPAN. Congratulations!
All tests were successful.
Sections of this report:
* Tester comments
* Program output
* Prerequisites
* Environment and other context
------------------------------
TESTER COMMENTS
------------------------------
Additional comments from tester:
this report is from an automated smoke testing program
and was not reviewed by a human for accuracy
------------------------------
PROGRAM OUTPUT
------------------------------
Output from './Build test':
t/00-compile.t ................ ok
#
#
# Generated by Dist::Zilla::Plugin::ReportVersions::Tiny v1.08
# perl: 5.016001 (wanted 5.010) on linux from /home/graham/perls/perl-5.16.1-thread/bin/perl
#
# Carp => 1.26 (want any version)
# Data::Dumper => 2.139 (want any version)
# Data::Section::Simple => 0.03 (want any version)
# Exporter => 5.67 (want any version)
# File::Find => 1.20 (want any version)
# File::Spec => 3.40 (want any version)
# File::Temp => 0.22_90 (want any version)
# FindBin => 1.51 (want any version)
# Module::Build => 0.4003 (want 0.3601)
# Pod::Coverage::TrustPod => 0.100002 (want any version)
# Test::CPAN::Meta => 0.22 (want any version)
# Test::Deep => 0.11 (want any version)
# Test::More => 0.98 (want 0.88)
# Test::NoWarnings => 1.04 (want any version)
# Test::Pod => 1.46 (want 1.41)
# Test::Pod::Coverage => 1.08 (want 1.08)
# Test::Warn => 0.24 (want any version)
# autodie => 2.16 (want any version)
# base => 2.18 (want any version)
# strict => 1.07 (want any version)
# version => 0.9901 (want 0.9901)
# warnings => 1.13 (want any version)
#
# Thanks for using my code. I hope it works for you.
# If not, please try and include this output in the bug report.
# That will help me reproduce the issue and solve your problem.
#
t/000-report-versions-tiny.t .. ok
t/01-slurp.t .................. ok
t/02-wm.t ..................... ok
t/03-traversal.t .............. ok
t/04-errors.t ................. ok
All tests successful.
Files=6, Tests=34, 2 wallclock secs ( 0.06 usr 0.01 sys + 1.15 cusr 0.15 csys = 1.37 CPU)
Result: PASS
------------------------------
PREREQUISITES
------------------------------
Prerequisite modules loaded:
requires:
Module Need Have
--------------------- ------ --------
autodie 0 2.16
base 0 2.18
Carp 0 1.26
Exporter 0 5.67
perl 5.010 5.016001
strict 0 1.07
warnings 0 1.13
build_requires:
Module Need Have
--------------------- ------ --------
Data::Dumper 0 2.139
Data::Section::Simple 0 0.03
File::Find 0 1.20
File::Spec 0 3.40
File::Temp 0 0.22_90
FindBin 0 1.51
Module::Build 0.3601 0.4003
Test::Deep 0 0.110
Test::More 0.88 0.98
Test::NoWarnings 0 1.04
Test::Warn 0 0.24
configure_requires:
Module Need Have
--------------------- ------ --------
Module::Build 0.3601 0.4003
------------------------------
ENVIRONMENT AND OTHER CONTEXT
------------------------------
Environment variables:
AUTOMATED_TESTING = 1
LANG = C
PATH = /home/graham/perls/perl-5.16.1-thread/bin:/usr/local/bin:/usr/bin:/bin:/usr/local/sbin:/usr/sbin:/sbin:/usr/bin/core_perl
PERL5LIB =
PERL5OPT =
PERL5_CPANPLUS_IS_RUNNING = 11145
PERL5_CPAN_IS_RUNNING = 11145
PERL5_CPAN_IS_RUNNING_IN_RECURSION = 877,11145
PERL_CR_SMOKER_CURRENT = Task-XNLSoar-Graphing-0.03
PERL_EXTUTILS_AUTOINSTALL = --defaultdeps
PERL_MM_USE_DEFAULT = 1
SHELL = /bin/bash
TERM = xterm
Perl special variables (and OS-specific diagnostics, for MSWin32):
$^X = /home/graham/perls/perl-5.16.1-thread/bin/perl
$UID/$EUID = 1000 / 1000
$GID = 100 100
$EGID = 100 100
Perl module toolchain versions installed:
Module Have
------------------- --------
CPAN 2.00
CPAN::Meta 2.120921
Cwd 3.40
ExtUtils::CBuilder 0.280205
ExtUtils::Command 1.17
ExtUtils::Install 1.58
ExtUtils::MakeMaker 6.64
ExtUtils::Manifest 1.61
ExtUtils::ParseXS 3.18
File::Spec 3.40
JSON 2.53
JSON::PP 2.27200
Module::Build 0.4003
Module::Signature 0.70
Parse::CPAN::Meta 1.4404
Test::Harness 3.23
Test::More 0.98
YAML 0.84
YAML::Syck 1.23_01
version 0.9901
--
Summary of my perl5 (revision 5 version 16 subversion 1) configuration:
Platform:
osname=linux, osvers=3.5.6-1-arch, archname=x86_64-linux-thread-multi
uname='linux grosics 3.5.6-1-arch #1 smp preempt sun oct 7 19:30:49 cest 2012 x86_64 gnulinux '
config_args=''
hint=recommended, useposix=true, d_sigaction=define
useithreads=define, usemultiplicity=define
useperlio=define, d_sfio=undef, uselargefiles=define, usesocks=undef
use64bitint=define, use64bitall=define, uselongdouble=undef
usemymalloc=n, bincompat5005=undef
Compiler:
cc='cc', ccflags ='-D_REENTRANT -D_GNU_SOURCE -fno-strict-aliasing -pipe -fstack-protector -I/usr/local/include -D_LARGEFILE_SOURCE -D_FILE_OFFSET_BITS=64',
optimize='-O2',
cppflags='-D_REENTRANT -D_GNU_SOURCE -fno-strict-aliasing -pipe -fstack-protector -I/usr/local/include'
ccversion='', gccversion='4.7.2', gccosandvers=''
intsize=4, longsize=8, ptrsize=8, doublesize=8, byteorder=12345678
d_longlong=define, longlongsize=8, d_longdbl=define, longdblsize=16
ivtype='long', ivsize=8, nvtype='double', nvsize=8, Off_t='off_t', lseeksize=8
alignbytes=8, prototype=define
Linker and Libraries:
ld='cc', ldflags =' -fstack-protector -L/usr/local/lib'
libpth=/usr/local/lib /lib/../lib /usr/lib/../lib /lib /usr/lib
libs=-lnsl -lgdbm -ldb -ldl -lm -lcrypt -lutil -lpthread -lc -lgdbm_compat
perllibs=-lnsl -ldl -lm -lcrypt -lutil -lpthread -lc
libc=/lib/libc-2.16.so, so=so, useshrplib=false, libperl=libperl.a
gnulibc_version='2.16'
Dynamic Linking:
dlsrc=dl_dlopen.xs, dlext=so, d_dlsymun=undef, ccdlflags='-Wl,-E'
cccdlflags='-fPIC', lddlflags='-shared -O2 -L/usr/local/lib -fstack-protector'
Characteristics of this binary (from libperl):
Compile-time options: HAS_TIMES MULTIPLICITY PERLIO_LAYERS
PERL_DONT_CREATE_GVSV PERL_IMPLICIT_CONTEXT
PERL_MALLOC_WRAP PERL_PRESERVE_IVUV USE_64_BIT_ALL
USE_64_BIT_INT USE_ITHREADS USE_LARGE_FILES
USE_LOCALE USE_LOCALE_COLLATE USE_LOCALE_CTYPE
USE_LOCALE_NUMERIC USE_PERLIO USE_PERL_ATOF
USE_REENTRANT_API
Built under linux
Compiled at Oct 23 2012 11:54:06
%ENV:
PERL5LIB=""
PERL5OPT=""
PERL5_CPANPLUS_IS_RUNNING="11145"
PERL5_CPAN_IS_RUNNING="11145"
PERL5_CPAN_IS_RUNNING_IN_RECURSION="877,11145"
PERL_CR_SMOKER_CURRENT="Task-XNLSoar-Graphing-0.03"
PERL_EXTUTILS_AUTOINSTALL="--defaultdeps"
PERL_MM_USE_DEFAULT="1"
@INC:
/home/graham/perls/perl-5.16.1-thread/lib/site_perl/5.16.1/x86_64-linux-thread-multi
/home/graham/perls/perl-5.16.1-thread/lib/site_perl/5.16.1
/home/graham/perls/perl-5.16.1-thread/lib/5.16.1/x86_64-linux-thread-multi
/home/graham/perls/perl-5.16.1-thread/lib/5.16.1
.