Plack-Middleware-Security-Simple vv0.12.1 Perl 5 v5.38.2 amd64-freebsd-ld

Status
Pass
From
Slaven Rezić
Dist
Plack-Middleware-Security-Simple vv0.12.1
Platform
Perl 5 v5.38.2 amd64-freebsd-ld
Date
2025-04-14 07:28:35
ID
1331a57c-1902-11f0-9b22-5b0c6e8775ea
This distribution has been tested as part of the CPAN Testers
project, supporting the Perl programming language.  See
http://wiki.cpantesters.org/ for more information or email
questions to cpan-testers-discuss@perl.org


--
Dear Robert Rothenberg,

This is a computer-generated report for Plack-Middleware-Security-Simple-v0.12.1
on perl 5.38.2, created by CPAN-Reporter-1.2019.

Thank you for uploading your work to CPAN.  Congratulations!
All tests were successful.

Sections of this report:

    * Tester comments
    * Program output
    * Prerequisites
    * Environment and other context

------------------------------
TESTER COMMENTS
------------------------------

Additional comments from tester:

none provided

------------------------------
PROGRAM OUTPUT
------------------------------

Output from '/usr/bin/make test':

PERL_DL_NONLAZY=1 "/usr/perl5.38.2Dp/bin/perl" "-MExtUtils::Command::MM" "-MTest::Harness" "-e" "undef *Test::Harness::Switches; test_harness(0, 'blib/lib', 'blib/arch')" t/*.t
# 
# Versions for all modules listed in MYMETA.json (including optional ones):
# 
# === Configure Requires ===
# 
#     Module              Want Have
#     ------------------- ---- ----
#     ExtUtils::MakeMaker  any 7.74
# 
# === Build Requires ===
# 
#     Module              Want Have
#     ------------------- ---- ----
#     ExtUtils::MakeMaker  any 7.74
# 
# === Test Requires ===
# 
#     Module                 Want     Have
#     --------------------- ----- --------
#     File::Spec              any     3.88
#     HTTP::Exception         any  0.04007
#     HTTP::Request::Common   any     7.00
#     Log::Dispatch          2.68     2.71
#     Log::Dispatch::Array    any    1.005
#     Module::Metadata        any 1.000037
#     Plack::Builder          any    undef
#     Plack::Test             any    undef
#     Test2::V0               any 1.302210
#     Test::More              any 1.302210
#     Test::Vars            0.015    0.017
#     strict                  any     1.12
# 
# === Test Recommends ===
# 
#     Module         Want     Have
#     ---------- -------- --------
#     CPAN::Meta 2.120900 2.150010
# 
# === Runtime Requires ===
# 
#     Module                    Want       Have
#     --------------------- -------- ----------
#     Exporter::Tiny             any   1.006002
#     HTTP::Status               any       7.00
#     Hash::Match                any     v0.8.2
#     Plack::Middleware          any      undef
#     Plack::Response            any     1.0051
#     Plack::Util::Accessor      any      undef
#     Ref::Util                  any      0.204
#     Regexp::Common             any 2024080801
#     parent                     any      0.244
#     perl                  5.014000   5.038002
#     warnings                   any       1.65
# 
# === Runtime Recommends ===
# 
#     Module        Want  Have
#     ------------- ---- -----
#     Ref::Util::XS  any 0.117
# 
t/00-report-prereqs.t ....... ok
t/10-arrayref.t ............. ok
t/10-coderef.t .............. ok
t/10-Hash-Match.t ........... ok
t/10-hashref.t .............. ok
t/20-logging.t .............. ok
t/30-handler.t .............. ok
t/31-status.t ............... ok
t/40-common.t ............... ok
t/author-critic.t ........... skipped: these tests are for testing by the author
t/author-eof.t .............. skipped: these tests are for testing by the author
t/author-eol.t .............. skipped: these tests are for testing by the author
t/author-minimum-version.t .. skipped: these tests are for testing by the author
t/author-no-tabs.t .......... skipped: these tests are for testing by the author
t/author-pod-coverage.t ..... skipped: these tests are for testing by the author
t/author-pod-linkcheck.t .... skipped: these tests are for testing by the author
t/author-pod-syntax.t ....... skipped: these tests are for testing by the author
t/author-portability.t ...... skipped: these tests are for testing by the author
t/author-vars.t ............. skipped: these tests are for testing by the author
t/release-dist-manifest.t ... skipped: these tests are for release candidate testing
t/release-fixme.t ........... skipped: these tests are for release candidate testing
t/release-kwalitee.t ........ skipped: these tests are for release candidate testing
t/release-trailing-space.t .. skipped: these tests are for release candidate testing
All tests successful.
Files=23, Tests=101,  1 wallclock secs ( 0.07 usr  0.01 sys +  1.16 cusr  0.20 csys =  1.43 CPU)
Result: PASS

------------------------------
PREREQUISITES
------------------------------

Prerequisite modules loaded:

requires:

    Module                Need     Have      
    --------------------- -------- ----------
    Exporter::Tiny        0        1.006002  
    Hash::Match           0        v0.8.2    
    HTTP::Status          0        7.00      
    parent                0        0.244     
    perl                  5.014000 5.038002  
    Plack::Middleware     0        0         
    Plack::Response       0        1.0051    
    Plack::Util::Accessor 0        0         
    Ref::Util             0        0.204     
    Regexp::Common        0        2024080801
    warnings              0        1.65      

build_requires:

    Module                Need     Have      
    --------------------- -------- ----------
    ExtUtils::MakeMaker   0        7.74      
    File::Spec            0        3.88      
    HTTP::Exception       0        0.04007   
    HTTP::Request::Common 0        7.00      
    Log::Dispatch         2.68     2.71      
    Log::Dispatch::Array  0        1.005     
    Module::Metadata      0        1.000037  
    Plack::Builder        0        0         
    Plack::Test           0        0         
    strict                0        1.12      
    Test2::V0             0        1.302210  
    Test::More            0        1.302210  
    Test::Vars            0.015    0.017     

configure_requires:

    Module                Need     Have      
    --------------------- -------- ----------
    ExtUtils::MakeMaker   0        7.74      


------------------------------
ENVIRONMENT AND OTHER CONTEXT
------------------------------

Environment variables:

    PATH = /usr/local/bin:/usr/bin:/bin:/usr/local/sbin:/usr/sbin:/sbin:/home/cpansand/bin/sh:/home/cpansand/bin:/usr/games:/home/cpansand/devel:/usr/home/eserte/src/srezic-misc/scripts
    PERL5LIB = 
    PERL5OPT = 
    PERL5_CPANPLUS_IS_RUNNING = 47703
    PERL5_CPAN_IS_RUNNING = 47703
    PERL5_CPAN_IS_RUNNING_IN_RECURSION = 20682,47703
    PERL_BATCH = yes
    PERL_CANARY_STABILITY_NOPROMPT = 1
    PERL_CPAN_REPORTER_CONFIG = /var/tmp/cpansmoker-1023/2025041322/cpanreporter_000_config.ini
    PERL_EXTUTILS_AUTOINSTALL = --defaultdeps
    PERL_USE_UNSAFE_INC = 1
    SHELL = /bin/sh
    TMPDIR = /var/tmp/cpansmoker-1023/2025041322

Perl special variables (and OS-specific diagnostics, for MSWin32):

    $^X = /usr/perl5.38.2Dp/bin/perl
    $UID/$EUID = 1023 / 1023
    $GID = 1023 1023
    $EGID = 1023 1023

Perl module toolchain versions installed:

    Module              Have    
    ------------------- --------
    CPAN                2.36    
    CPAN::Meta          2.150010
    Cwd                 3.89    
    ExtUtils::CBuilder  0.280238
    ExtUtils::Command   7.74    
    ExtUtils::Install   2.22    
    ExtUtils::MakeMaker 7.74    
    ExtUtils::Manifest  1.75    
    ExtUtils::ParseXS   3.51    
    File::Spec          3.88    
    JSON                4.10    
    JSON::PP            4.16    
    Module::Build       0.4234  
    Module::Signature   n/a     
    Parse::CPAN::Meta   2.150010
    Test2               1.302210
    Test::Harness       3.50    
    Test::More          1.302210
    YAML                1.31    
    YAML::Syck          1.34    
    version             0.9929  


--

Summary of my perl5 (revision 5 version 38 subversion 2) configuration:
   
  Platform:
    osname=freebsd
    osvers=13.3-stable
    archname=amd64-freebsd-ld
    uname='freebsd cloud10.bbbike.org 13.3-stable freebsd 13.3-stable stable13-n258015-73d1f732cea1 generic amd64 '
    config_args='-ds -e -Dprefix=/usr/perl5.38.2Dp -Duselongdouble -Dcf_email=srezic@cpan.org -Doptimize=-O2 -pipe'
    hint=recommended
    useposix=true
    d_sigaction=define
    useithreads=undef
    usemultiplicity=undef
    use64bitint=define
    use64bitall=define
    uselongdouble=define
    usemymalloc=n
    default_inc_excludes_dot=define
  Compiler:
    cc='cc'
    ccflags ='-DHAS_FPSETMASK -DHAS_FLOATINGPOINT_H -fno-strict-aliasing -pipe -fstack-protector-strong -I/usr/local/include'
    optimize='-O2 -pipe'
    cppflags='-DHAS_FPSETMASK -DHAS_FLOATINGPOINT_H -fno-strict-aliasing -pipe -fstack-protector-strong -I/usr/local/include'
    ccversion=''
    gccversion='FreeBSD Clang 18.1.6 (https://github.com/llvm/llvm-project.git llvmorg-18.1.6-0-g1118c2e05e67)'
    gccosandvers=''
    intsize=4
    longsize=8
    ptrsize=8
    doublesize=8
    byteorder=12345678
    doublekind=3
    d_longlong=define
    longlongsize=8
    d_longdbl=define
    longdblsize=16
    longdblkind=3
    ivtype='long'
    ivsize=8
    nvtype='long double'
    nvsize=16
    Off_t='off_t'
    lseeksize=8
    alignbytes=16
    prototype=define
  Linker and Libraries:
    ld='cc'
    ldflags ='-pthread -Wl,-E  -fstack-protector-strong -L/usr/local/lib'
    libpth=/usr/lib /usr/local/lib /usr/lib/clang/18/lib
    libs=-lpthread -lgdbm -ldl -lm -lcrypt -lutil -lc
    perllibs=-lpthread -ldl -lm -lcrypt -lutil -lc
    libc=
    so=so
    useshrplib=false
    libperl=libperl.a
    gnulibc_version=''
  Dynamic Linking:
    dlsrc=dl_dlopen.xs
    dlext=so
    d_dlsymun=undef
    ccdlflags=' '
    cccdlflags='-DPIC -fPIC'
    lddlflags='-shared  -L/usr/local/lib -fstack-protector-strong'


Characteristics of this binary (from libperl): 
  Compile-time options:
    HAS_LONG_DOUBLE
    HAS_STRTOLD
    HAS_TIMES
    PERLIO_LAYERS
    PERL_COPY_ON_WRITE
    PERL_DONT_CREATE_GVSV
    PERL_HASH_FUNC_SIPHASH13
    PERL_HASH_USE_SBOX32
    PERL_MALLOC_WRAP
    PERL_OP_PARENT
    PERL_PRESERVE_IVUV
    PERL_USE_SAFE_PUTENV
    USE_64_BIT_ALL
    USE_64_BIT_INT
    USE_LARGE_FILES
    USE_LOCALE
    USE_LOCALE_COLLATE
    USE_LOCALE_CTYPE
    USE_LOCALE_NUMERIC
    USE_LOCALE_TIME
    USE_LONG_DOUBLE
    USE_PERLIO
    USE_PERL_ATOF
  Built under freebsd
  Compiled at Jun 25 2024 05:36:57
  %ENV:
    PERL5LIB=""
    PERL5OPT=""
    PERL5_CPANPLUS_IS_RUNNING="47703"
    PERL5_CPAN_IS_RUNNING="47703"
    PERL5_CPAN_IS_RUNNING_IN_RECURSION="20682,47703"
    PERL_BATCH="yes"
    PERL_CANARY_STABILITY_NOPROMPT="1"
    PERL_CPAN_REPORTER_CONFIG="/var/tmp/cpansmoker-1023/2025041322/cpanreporter_000_config.ini"
    PERL_EXTUTILS_AUTOINSTALL="--defaultdeps"
    PERL_USE_UNSAFE_INC="1"
  @INC:
    /usr/perl5.38.2Dp/lib/site_perl/5.38.2/amd64-freebsd-ld
    /usr/perl5.38.2Dp/lib/site_perl/5.38.2
    /usr/perl5.38.2Dp/lib/5.38.2/amd64-freebsd-ld
    /usr/perl5.38.2Dp/lib/5.38.2
    .