Astro-App-Satpass2 v0.054_01 Perl 5 v5.32.0 i686-linux-ld

Status
Pass
From
David Cantrell (DCANTRELL)
Dist
Astro-App-Satpass2 v0.054_01
Platform
Perl 5 v5.32.0 i686-linux-ld
Date
2024-12-17 01:13:07
ID
131e4310-bc14-11ef-b75e-3c27c5e8f4bb
This distribution has been tested as part of the CPAN Testers
project, supporting the Perl programming language.  See
http://wiki.cpantesters.org/ for more information or email
questions to cpan-testers-discuss@perl.org


--
Dear Tom Wyant,

This is a computer-generated report for Astro-App-Satpass2-0.054_01
on perl 5.32.0, created by CPAN-Reporter-1.2018.

Thank you for uploading your work to CPAN.  Congratulations!
All tests were successful.

Sections of this report:

    * Tester comments
    * Program output
    * Prerequisites
    * Environment and other context

------------------------------
TESTER COMMENTS
------------------------------

Additional comments from tester:

this report is from an automated smoke testing program
and was not reviewed by a human for accuracy

------------------------------
PROGRAM OUTPUT
------------------------------

Output from './Build test':

# 
# +------+----------+-----------+
# | PERL | REQUIRED | INSTALLED |
# +------+----------+-----------+
# | perl | 5.8.0    | 5.32.0    |
# +------+----------+-----------+
# +--------------------+----------+-----------+
# | CONFIGURE REQUIRES | REQUIRED | INSTALLED |
# +--------------------+----------+-----------+
# | lib                | 0        | 0.65      |
# | strict             | 0        | 1.11      |
# | warnings           | 0        | 1.47      |
# +--------------------+----------+-----------+
# +---------------------------+----------+-----------+
# | BUILD REQUIRES            | REQUIRED | INSTALLED |
# +---------------------------+----------+-----------+
# | Test2::Plugin::BailOnFail | 0        | 0.000159  |
# | Test2::Tools::Explain     | 0        | 0.02      |
# | Test2::Tools::LoadModule  | 0        | 0.008     |
# | Test2::V0                 | 0        | 0.000159  |
# +---------------------------+----------+-----------+
# +-----------------------------+----------+-----------+
# | RUNTIME REQUIRES            | REQUIRED | INSTALLED |
# +-----------------------------+----------+-----------+
# | Astro::Coord::ECI           | 0.131    | 0.132     |
# | Astro::Coord::ECI::Moon     | 0.131    | 0.132     |
# | Astro::Coord::ECI::Star     | 0.131    | 0.132     |
# | Astro::Coord::ECI::Sun      | 0.131    | 0.132     |
# | Astro::Coord::ECI::TLE      | 0.131    | 0.132     |
# | Astro::Coord::ECI::TLE::Set | 0.131    | 0.132     |
# | Astro::Coord::ECI::Utils    | 0.131    | 0.132     |
# | Attribute::Handlers         | 0        | 1.01      |
# | Carp                        | 0        | 1.50      |
# | Clone                       | 0        | 0.46      |
# | Cwd                         | 0        | 3.75      |
# | Exporter                    | 0        | 5.77      |
# | File::Glob                  | 0        | 1.33      |
# | File::HomeDir               | 0.93     | 1.006     |
# | File::Spec                  | 0        | 3.75      |
# | File::Temp                  | 0        | 0.2311    |
# | Getopt::Long                | 2.39     | 2.57      |
# | I18N::LangTags              | 0        | 0.44      |
# | I18N::LangTags::Detect      | 0        | 1.08      |
# | IO::File                    | 1.14     | 1.51      |
# | IO::Handle                  | 0        | 1.51      |
# | IPC::System::Simple         | 0        | 1.30      |
# | List::Util                  | 0        | 1.63      |
# | POSIX                       | 0        | 1.94      |
# | Scalar::Util                | 1.26     | 1.63      |
# | Template                    | 2.21     | 3.102     |
# | Template::Provider          | 2.21     | 3.100     |
# | Text::Abbrev                | 0        | 1.02      |
# | Text::ParseWords            | 0        | 3.31      |
# | Text::Wrap                  | 0        | 2023.0511 |
# | Time::Local                 | 0        | 1.35      |
# | constant                    | 0        | 1.33      |
# | lib                         | 0        | 0.65      |
# | parent                      | 0        | 0.241     |
# | strict                      | 0        | 1.11      |
# | utf8                        | 0        | 1.22      |
# | warnings                    | 0        | 1.47      |
# +-----------------------------+----------+-----------+
# +----------------------------------+----------+---------------+
# | OPTIONAL MODULES                 | REQUIRED | INSTALLED     |
# +----------------------------------+----------+---------------+
# | Astro::Coord::ECI::TLE::Iridium  | 0        | not installed |
# | Astro::SIMBAD::Client            | 0        | not installed |
# | Astro::SpaceTrack                | 0.105    | not installed |
# | Browser::Open                    | 0        | not installed |
# | Date::Manip                      | 0        | not installed |
# | DateTime                         | 0        | 1.65          |
# | DateTime::Calendar::Christian    | 0.06     | not installed |
# | DateTime::TimeZone               | 0        | 2.60          |
# | Geo::Coder::OSM                  | 0        | not installed |
# | Geo::WebService::Elevation::USGS | 0        | not installed |
# | LWP::Protocol                    | 0        | 6.72          |
# | LWP::UserAgent                   | 0        | 6.72          |
# | Term::ReadLine                   | 0        | 1.14          |
# | Time::HiRes                      | 0        | 1.9764        |
# | URI                              | 0        | 5.21          |
# +----------------------------------+----------+---------------+
t/basic.t .......................... ok
t/complete.t ....................... skipped: Term::ReadLine::Perl not available
t/format.t ......................... ok
t/format_dump.t .................... ok
t/format_template.t ................ ok
t/format_time.t .................... ok
t/format_time_datetime_cldr.t ...... ok
t/format_time_datetime_strftime.t .. ok
t/format_time_posix_strftime.t ..... ok
t/format_value.t ................... ok
t/geocode_osm.t .................... skipped: Geo::Coder::OSM not available
t/locale.t ......................... ok
t/macro_code.t ..................... ok
t/parse_time_code.t ................ ok
t/parse_time_date_manip_5.t ........ skipped: Date::Manip 5 not available
t/parse_time_date_manip_6.t ........ skipped: Date::Manip not available
t/parse_time_epoch.t ............... ok
t/parse_time_iso8601.t ............. ok
t/read_file.t ...................... ok
t/rewrite.t ........................ ok
t/tokenize.t ....................... ok
t/whole_app.t ...................... ok
All tests successful.

Test Summary Report
-------------------
t/whole_app.t                    (Wstat: 0 Tests: 270 Failed: 0)
  TODO passed:   231
Files=22, Tests=984, 128 wallclock secs ( 0.30 usr  0.07 sys + 40.94 cusr  2.00 csys = 43.31 CPU)
Result: PASS

------------------------------
PREREQUISITES
------------------------------

Prerequisite modules loaded:

requires:

    Module                      Need  Have     
    --------------------------- ----- ---------
    Astro::Coord::ECI           0.131 0.132    
    Astro::Coord::ECI::Moon     0.131 0.132    
    Astro::Coord::ECI::Star     0.131 0.132    
    Astro::Coord::ECI::Sun      0.131 0.132    
    Astro::Coord::ECI::TLE      0.131 0.132    
    Astro::Coord::ECI::TLE::Set 0.131 0.132    
    Astro::Coord::ECI::Utils    0.131 0.132    
    Attribute::Handlers         0     1.01     
    Carp                        0     1.50     
    Clone                       0     0.46     
    constant                    0     1.33     
    Cwd                         0     3.75     
    Exporter                    0     5.77     
    File::Glob                  0     1.33     
    File::HomeDir               0.93  1.006    
    File::Spec                  0     3.75     
    File::Temp                  0     0.2311   
    Getopt::Long                2.39  2.57     
    I18N::LangTags              0     0.44     
    I18N::LangTags::Detect      0     1.08     
    IO::File                    1.14  1.51     
    IO::Handle                  0     1.51     
    IPC::System::Simple         0     1.30     
    lib                         0     0.65     
    List::Util                  0     1.63     
    parent                      0     0.241    
    perl                        5.008 5.032000 
    POSIX                       0     1.94     
    Scalar::Util                1.26  1.63     
    strict                      0     1.11     
    Template                    2.21  3.102    
    Template::Provider          2.21  3.100    
    Text::Abbrev                0     1.02     
    Text::ParseWords            0     3.31     
    Text::Wrap                  0     2023.0511
    Time::Local                 0     1.35     
    utf8                        0     1.22     
    warnings                    0     1.47     

build_requires:

    Module                      Need  Have     
    --------------------------- ----- ---------
    Test2::Plugin::BailOnFail   0     0.000159 
    Test2::Tools::Explain       0     0.02     
    Test2::Tools::LoadModule    0     0.008    
    Test2::V0                   0     0.000159 

configure_requires:

    Module                      Need  Have     
    --------------------------- ----- ---------
    lib                         0     0.65     
    Module::Build               0.42  0.4234   
    strict                      0     1.11     
    warnings                    0     1.47     


------------------------------
ENVIRONMENT AND OTHER CONTEXT
------------------------------

Environment variables:

    AUTOMATED_TESTING = 1
    LANG = en_GB.UTF-8
    LANGUAGE = en_GB:en
    LC_TERMINAL = iTerm2
    LC_TERMINAL_VERSION = 3.5.10
    NONINTERACTIVE_TESTING = 1
    PATH = /home/david/.cargo/bin:/home/david/perl5/perlbrew/bin:/home/david/perl5/perlbrew/perls/perl-5.32.0/bin:/home/david/bin:/usr/local/bin:/usr/bin:/bin:/usr/local/games:/usr/games
    PERL = 5.32.0-longdouble
    PERL5LIB = 
    PERL5OPT = 
    PERL5_CPANPLUS_IS_RUNNING = 28233
    PERL5_CPAN_IS_RUNNING = 28233
    PERLBREW_HOME = /home/david/.perlbrew
    PERLBREW_MANPATH = /home/david/perl5/perlbrew/perls/perl-5.32.0/man
    PERLBREW_PATH = /home/david/perl5/perlbrew/bin:/home/david/perl5/perlbrew/perls/perl-5.32.0/bin
    PERLBREW_PERL = perl-5.32.0
    PERLBREW_ROOT = /home/david/perl5/perlbrew
    PERLBREW_SHELLRC_VERSION = 0.89
    PERLBREW_VERSION = 0.89
    PERLVER = 5.32.0-longdouble
    PERL_INLINE_DIRECTORY = /home/david/.Inline-5.32.0-longdouble
    PERL_MM_USE_DEFAULT = 1
    PERL_USE_UNSAFE_INC = 0
    SHELL = /bin/bash
    TERM = screen

Perl special variables (and OS-specific diagnostics, for MSWin32):

    $^X = /home/david/cpantesting/perl-5.32.0-longdouble/bin/perl
    $UID/$EUID = 1000 / 1000
    $GID = 1000 24 25 27 29 30 44 46 109 1000
    $EGID = 1000 24 25 27 29 30 44 46 109 1000

Perl module toolchain versions installed:

    Module              Have    
    ------------------- --------
    CPAN                2.27    
    CPAN::Meta          2.150010
    Cwd                 3.75    
    ExtUtils::CBuilder  0.280236
    ExtUtils::Command   7.70    
    ExtUtils::Install   2.22    
    ExtUtils::MakeMaker 7.70    
    ExtUtils::Manifest  1.75    
    ExtUtils::ParseXS   3.51    
    File::Spec          3.75    
    JSON                4.10    
    JSON::PP            4.16    
    Module::Build       0.4234  
    Module::Signature   n/a     
    Parse::CPAN::Meta   2.150010
    Test::Harness       3.48    
    Test::More          1.302198
    YAML                1.30    
    YAML::Syck          n/a     
    version             0.9930  


--

Summary of my perl5 (revision 5 version 32 subversion 0) configuration:
   
  Platform:
    osname=linux
    osvers=5.10.0-11-686-pae
    archname=i686-linux-ld
    uname='linux cpantesting-linux-32bit-utm 5.10.0-11-686-pae #1 smp debian 5.10.92-1 (2022-01-18) i686 gnulinux '
    config_args='-de -Dprefix=/home/david/cpantesting/perl-5.32.0-longdouble -Duselongdouble'
    hint=recommended
    useposix=true
    d_sigaction=define
    useithreads=undef
    usemultiplicity=undef
    use64bitint=undef
    use64bitall=undef
    uselongdouble=define
    usemymalloc=n
    default_inc_excludes_dot=define
    bincompat5005=undef
  Compiler:
    cc='cc'
    ccflags ='-fwrapv -fno-strict-aliasing -pipe -fstack-protector-strong -I/usr/local/include -D_LARGEFILE_SOURCE -D_FILE_OFFSET_BITS=64 -D_FORTIFY_SOURCE=2'
    optimize='-O2'
    cppflags='-fwrapv -fno-strict-aliasing -pipe -fstack-protector-strong -I/usr/local/include'
    ccversion=''
    gccversion='10.2.1 20210110'
    gccosandvers=''
    intsize=4
    longsize=4
    ptrsize=4
    doublesize=8
    byteorder=1234
    doublekind=3
    d_longlong=define
    longlongsize=8
    d_longdbl=define
    longdblsize=12
    longdblkind=3
    ivtype='long'
    ivsize=4
    nvtype='long double'
    nvsize=12
    Off_t='off_t'
    lseeksize=8
    alignbytes=4
    prototype=define
  Linker and Libraries:
    ld='cc'
    ldflags =' -fstack-protector-strong -L/usr/local/lib'
    libpth=/usr/local/lib /usr/include/i386-linux-gnu /usr/lib /lib/i386-linux-gnu /lib/../lib /usr/lib/i386-linux-gnu /usr/lib/../lib /lib /lib64 /usr/lib64
    libs=-lpthread -lnsl -ldl -lm -lcrypt -lutil -lc
    perllibs=-lpthread -lnsl -ldl -lm -lcrypt -lutil -lc
    libc=libc-2.31.so
    so=so
    useshrplib=false
    libperl=libperl.a
    gnulibc_version='2.31'
  Dynamic Linking:
    dlsrc=dl_dlopen.xs
    dlext=so
    d_dlsymun=undef
    ccdlflags='-Wl,-E'
    cccdlflags='-fPIC'
    lddlflags='-shared -O2 -L/usr/local/lib -fstack-protector-strong'


Characteristics of this binary (from libperl): 
  Compile-time options:
    HAS_TIMES
    PERLIO_LAYERS
    PERL_COPY_ON_WRITE
    PERL_DONT_CREATE_GVSV
    PERL_MALLOC_WRAP
    PERL_OP_PARENT
    PERL_PRESERVE_IVUV
    USE_LARGE_FILES
    USE_LOCALE
    USE_LOCALE_COLLATE
    USE_LOCALE_CTYPE
    USE_LOCALE_NUMERIC
    USE_LOCALE_TIME
    USE_LONG_DOUBLE
    USE_PERLIO
    USE_PERL_ATOF
  Built under linux
  Compiled at Feb  7 2022 23:46:16
  %ENV:
    PERL="5.32.0-longdouble"
    PERL5LIB=""
    PERL5OPT=""
    PERL5_CPANPLUS_IS_RUNNING="28233"
    PERL5_CPAN_IS_RUNNING="28233"
    PERLBREW_HOME="/home/david/.perlbrew"
    PERLBREW_MANPATH="/home/david/perl5/perlbrew/perls/perl-5.32.0/man"
    PERLBREW_PATH="/home/david/perl5/perlbrew/bin:/home/david/perl5/perlbrew/perls/perl-5.32.0/bin"
    PERLBREW_PERL="perl-5.32.0"
    PERLBREW_ROOT="/home/david/perl5/perlbrew"
    PERLBREW_SHELLRC_VERSION="0.89"
    PERLBREW_VERSION="0.89"
    PERLVER="5.32.0-longdouble"
    PERL_INLINE_DIRECTORY="/home/david/.Inline-5.32.0-longdouble"
    PERL_MM_USE_DEFAULT="1"
    PERL_USE_UNSAFE_INC="0"
  @INC:
    /home/david/cpantesting/perl-5.32.0-longdouble/lib/site_perl/5.32.0/i686-linux-ld
    /home/david/cpantesting/perl-5.32.0-longdouble/lib/site_perl/5.32.0
    /home/david/cpantesting/perl-5.32.0-longdouble/lib/5.32.0/i686-linux-ld
    /home/david/cpantesting/perl-5.32.0-longdouble/lib/5.32.0