Report for File-PathInfo-Ext-1.30

Back
From: metabase:user:313dc9fe-2aae-11df-837a-5e0a49663a4f
Subject: PASS File-PathInfo-Ext-1.30 v5.8.9 GNU/Linux
Date: 2010-11-07T03:57:00Z

This distribution has been tested as part of the CPAN Testers
project, supporting the Perl programming language.  See
http://wiki.cpantesters.org/ for more information or email
questions to cpan-testers-discuss@perl.org


--
Dear Leo Charre,

This is a computer-generated report for File-PathInfo-Ext-1.30
on perl 5.8.9, created by CPAN-Reporter-1.1805.

Thank you for uploading your work to CPAN.  Congratulations!
All tests were successful.

Sections of this report:

    * Tester comments
    * Program output
    * Prerequisites
    * Environment and other context

------------------------------
TESTER COMMENTS
------------------------------

Additional comments from tester:

this report is from an automated smoke testing program
and was not reviewed by a human for accuracy

------------------------------
PROGRAM OUTPUT
------------------------------

Output from '/usr/bin/make test':

PERL_DL_NONLAZY=1 /home/perl589/perl/bin/perl "-MExtUtils::Command::MM" "-e" "test_harness(0, 'blib/lib', 'blib/arch')" t/*.t


===================
PART [1], ./T/PUBLIC_HTML/DEMO

 stat key 'ctime' = '1288911918'
 stat key 'mtime' = '1288911907'
 stat key 'nlink' = '2'
 stat key 'size' = '4096'
 stat key 'blocks' = '8'
 stat key 'atime_pretty' = '2010/11/04 19:05'
 stat key 'mtime_pretty' = '2010/11/04 19:05'
 stat key 'ctime_pretty' = '2010/11/04 19:05'
 stat key 'ino' = '2246480'


===================
PART [2], ./T/PUBLIC_HTML/SEVEN.PDF

 stat key 'ctime' = '1288911918'
 stat key 'mtime' = '1179497048'
 stat key 'nlink' = '1'
 stat key 'size' = '769239'
 stat key 'blocks' = '1504'
 stat key 'atime_pretty' = '2010/11/04 19:05'
 stat key 'mtime_pretty' = '2007/05/18 10:04'
 stat key 'ctime_pretty' = '2010/11/04 19:05'
 stat key 'ino' = '2115106'


===================
PART [3], DEMO

 stat key 'ctime' = '1288911918'
 stat key 'mtime' = '1288911907'
 stat key 'nlink' = '2'
 stat key 'size' = '4096'
 stat key 'blocks' = '8'
 stat key 'atime_pretty' = '2010/11/04 19:05'
 stat key 'mtime_pretty' = '2010/11/04 19:05'
 stat key 'ctime_pretty' = '2010/11/04 19:05'
 stat key 'ino' = '2246480'


===================
PART [4], ./T/PUBLIC_HTML/DEMO/HELLOKITTY.GIF

 stat key 'ctime' = '1288911918'
 stat key 'mtime' = '1174604434'
 stat key 'nlink' = '1'
 stat key 'size' = '4099'
 stat key 'blocks' = '16'
 stat key 'atime_pretty' = '2010/11/04 19:05'
 stat key 'mtime_pretty' = '2007/03/22 19:00'
 stat key 'ctime_pretty' = '2010/11/04 19:05'
 stat key 'ino' = '2246481'


===================
PART [5], ./T/PUBLIC_HTML/DEMO/../DEMO/CIVIL.TXT

 stat key 'ctime' = '1288911918'
 stat key 'mtime' = '1174604434'
 stat key 'nlink' = '1'
 stat key 'size' = '51460'
 stat key 'blocks' = '104'
 stat key 'atime_pretty' = '2010/11/04 19:05'
 stat key 'mtime_pretty' = '2007/03/22 19:00'
 stat key 'ctime_pretty' = '2010/11/04 19:05'
 stat key 'ino' = '2246482'


===================
PART [6], DEMO/../DEMO/CIVIL.TXT

 stat key 'ctime' = '1288911918'
 stat key 'mtime' = '1174604434'
 stat key 'nlink' = '1'
 stat key 'size' = '51460'
 stat key 'blocks' = '104'
 stat key 'atime_pretty' = '2010/11/04 19:05'
 stat key 'mtime_pretty' = '2007/03/22 19:00'
 stat key 'ctime_pretty' = '2010/11/04 19:05'
 stat key 'ino' = '2246482'


===================
PART [7], DEMO/CIVIL.TXT

 stat key 'ctime' = '1288911918'
 stat key 'mtime' = '1174604434'
 stat key 'nlink' = '1'
 stat key 'size' = '51460'
 stat key 'blocks' = '104'
 stat key 'atime_pretty' = '2010/11/04 19:05'
 stat key 'mtime_pretty' = '2007/03/22 19:00'
 stat key 'ctime_pretty' = '2010/11/04 19:05'
 stat key 'ino' = '2246482'
t/0.t ................. ok
newname cannot contain slashes at lib/File/PathInfo/Ext.pm line 16
	File::PathInfo::Ext::rename('File::PathInfo::Ext=HASH(0x8f6f73c)', 'awe/gfaw/egawg/\pou*()^T)(T3wt//n23') called at t/1.t line 21
ls for [/home/perl589/.cpan/build/File-PathInfo-Ext-1.30-a4yP2T]
ls for [/home/perl589/.cpan/build/File-PathInfo-Ext-1.30-a4yP2T/tmp2]
ls for [/home/perl589/.cpan/build/File-PathInfo-Ext-1.30-a4yP2T/tmp2]
t/1.t ................. ok



 SET 2 

 # on move newloc is : /home/perl589/.cpan/build/File-PathInfo-Ext-1.30-a4yP2T/t/public_html/timp/incoming/movedme.txt

Can't move to '/home/perl589/.cpan/build/File-PathInfo-Ext-1.30-a4yP2T/t/public_html/timp/movedme.txt', destination already exists at lib/File/PathInfo/Ext.pm line 136
	File::PathInfo::Ext::move('File::PathInfo::Ext=HASH(0x8897388)', '/home/perl589/.cpan/build/File-PathInfo-Ext-1.30-a4yP2T/t/pub...') called at t/2_move.t line 92
t/2_move.t ............ ok
Can't move '/home/perl589/.cpan/build/File-PathInfo-Ext-1.30-a4yP2T/t/f1' to '/home/perl589/.cpan/build/File-PathInfo-Ext-1.30-a4yP2T/t/f2', already exists. at lib/File/PathInfo/Ext.pm line 152
	File::PathInfo::Ext::move('File::PathInfo::Ext=HASH(0x8a82e6c)', '/home/perl589/.cpan/build/File-PathInfo-Ext-1.30-a4yP2T/t/f2') called at lib/File/PathInfo/Ext.pm line 17
	File::PathInfo::Ext::rename('File::PathInfo::Ext=HASH(0x8a82e6c)', 'f2') called at t/3.t line 21
Use of uninitialized value in numeric eq (==) at t/3.t line 21.
t/3.t ................. ok

### $val: undef

### $val: 'this is'

### $val: 'this is a val for errstr'


--------------
----



--------------
----


### $val: '/home/perl589/.cpan/build/File-PathInfo-Ext-1.30-a4yP2T/t/tmp/dir/file.txt'


--------------others
----

Use of uninitialized value in concatenation (.) or string at t/4_resolve_arg_to.t line 74.
 arg './file.txt' = [/home/perl589/.cpan/build/File-PathInfo-Ext-1.30-a4yP2T/file.txt]
 err? 

 arg './' = [NO RESULT]
 err? Can't set destination to '/home/perl589/.cpan/build/File-PathInfo-Ext-1.30-a4yP2T', already exists.

 arg '.' = [NO RESULT]
 err? Can't resolve arg ..

Use of uninitialized value in concatenation (.) or string at t/4_resolve_arg_to.t line 74.
 arg './../file.txt' = [/home/perl589/.cpan/build/file.txt]
 err? 

 arg './../bogus/thing' = [NO RESULT]
 err? Can't resolve arg ../bogus/thing

 arg './t/tmp/bogusdir/' = [NO RESULT]
 err? Can't resolve arg t/tmp/bogusdir/

t/4_resolve_arg_to.t .. ok
 # NOW try to dirs



### $r: '/home/perl589/.cpan/build/File-PathInfo-Ext-1.30-a4yP2T/t/tmp/dir/filealso.txt'
t/5_copy.t ............ ok
t/99_cleanup.t ........ ok
All tests successful.
Files=7, Tests=204,  0 wallclock secs ( 0.08 usr  0.03 sys +  0.71 cusr  0.12 csys =  0.94 CPU)
Result: PASS

------------------------------
PREREQUISITES
------------------------------

Prerequisite modules loaded:

requires:

    Module              Need Have
    ------------------- ---- ----
    Carp                1    1.10
    Cwd                 3    3.31
    Digest::MD5         2    2.39
    File::Copy          2    2.13
    File::Path          1    2.08
    File::PathInfo      1.27 1.27
    File::Type          0    0.22
    Test::Simple        0    0.94
    YAML                0    0.71

configure_requires:

    Module              Need Have
    ------------------- ---- ----
    ExtUtils::MakeMaker 0    6.56


------------------------------
ENVIRONMENT AND OTHER CONTEXT
------------------------------

Environment variables:

    AUTOMATED_TESTING = 1
    LANG = en_US.UTF-8
    PATH = /usr/local/sbin:/usr/local/bin:/usr/sbin:/usr/bin:/sbin:/bin:/usr/games
    PERL5LIB = /home/perl589/.cpan/build/File-Type-0.22-Uyv0mF/blib/arch:/home/perl589/.cpan/build/File-Type-0.22-Uyv0mF/blib/lib:/home/perl589/.cpan/build/File-PathInfo-1.27-NJZEMN/blib/arch:/home/perl589/.cpan/build/File-PathInfo-1.27-NJZEMN/blib/lib:/home/perl589/.cpan/build/Smart-Comments-1.0.4-aSaLUi/blib/arch:/home/perl589/.cpan/build/Smart-Comments-1.0.4-aSaLUi/blib/lib:/home/perl589/.cpan/build/Time-Format-1.11-OX9jDC/blib/arch:/home/perl589/.cpan/build/Time-Format-1.11-OX9jDC/blib/lib
    PERL5OPT = 
    PERL5_CPANPLUS_IS_RUNNING = 31816
    PERL5_CPAN_IS_RUNNING = 31816
    PERL5_CPAN_IS_RUNNING_IN_RECURSION = 22811,31816
    PERL_CR_SMOKER_CURRENT = File-PathInfo-Ext-1.30
    PERL_EXTUTILS_AUTOINSTALL = --defaultdeps
    PERL_MM_USE_DEFAULT = 1
    SHELL = /bin/bash
    TERM = xterm

Perl special variables (and OS-specific diagnostics, for MSWin32):

    $^X = /home/perl589/perl/bin/perl
    $UID/$EUID = 1001 / 1001
    $GID = 1001 1001
    $EGID = 1001 1001

Perl module toolchain versions installed:

    Module              Have  
    ------------------- ------
    CPAN                1.9402
    Cwd                 3.31  
    ExtUtils::CBuilder  0.2703
    ExtUtils::Command   1.16  
    ExtUtils::Install   1.54  
    ExtUtils::MakeMaker 6.56  
    ExtUtils::Manifest  1.58  
    ExtUtils::ParseXS   2.2205
    File::Spec          3.31  
    Module::Build       0.3607
    Module::Signature   n/a   
    Test::Harness       3.21  
    Test::More          0.94  
    YAML                0.71  
    YAML::Syck          1.09  
    version             0.82  


--

Summary of my perl5 (revision 5 version 8 subversion 9) configuration:
  Platform:
    osname=linux, osvers=2.6.31-20-generic, archname=i686-linux-thread-multi
    uname='linux st47-laptop 2.6.31-20-generic #57-ubuntu smp mon feb 8 09:05:19 utc 2010 i686 gnulinux '
    config_args=''
    hint=recommended, useposix=true, d_sigaction=define
    usethreads=define use5005threads=undef useithreads=define usemultiplicity=define
    useperlio=define d_sfio=undef uselargefiles=define usesocks=undef
    use64bitint=undef use64bitall=undef uselongdouble=undef
    usemymalloc=n, bincompat5005=undef
  Compiler:
    cc='cc', ccflags ='-D_REENTRANT -D_GNU_SOURCE -DTHREADS_HAVE_PIDS -fno-strict-aliasing -pipe -I/usr/local/include -D_LARGEFILE_SOURCE -D_FILE_OFFSET_BITS=64',
    optimize='-O2',
    cppflags='-D_REENTRANT -D_GNU_SOURCE -DTHREADS_HAVE_PIDS -fno-strict-aliasing -pipe -I/usr/local/include'
    ccversion='', gccversion='4.4.1', gccosandvers=''
    intsize=4, longsize=4, ptrsize=4, doublesize=8, byteorder=1234
    d_longlong=define, longlongsize=8, d_longdbl=define, longdblsize=12
    ivtype='long', ivsize=4, nvtype='double', nvsize=8, Off_t='off_t', lseeksize=8
    alignbytes=4, prototype=define
  Linker and Libraries:
    ld='cc', ldflags =' -L/usr/local/lib'
    libpth=/usr/local/lib /lib /usr/lib
    libs=-lnsl -ldl -lm -lcrypt -lutil -lpthread -lc
    perllibs=-lnsl -ldl -lm -lcrypt -lutil -lpthread -lc
    libc=/lib/libc-2.10.1.so, so=so, useshrplib=false, libperl=libperl.a
    gnulibc_version='2.10.1'
  Dynamic Linking:
    dlsrc=dl_dlopen.xs, dlext=so, d_dlsymun=undef, ccdlflags='-Wl,-E'
    cccdlflags='-fPIC', lddlflags='-shared -O2 -L/usr/local/lib'


Characteristics of this binary (from libperl): 
  Compile-time options: MULTIPLICITY PERL_IMPLICIT_CONTEXT PERL_MALLOC_WRAP
                        THREADS_HAVE_PIDS USE_FAST_STDIO USE_ITHREADS
                        USE_LARGE_FILES USE_PERLIO USE_REENTRANT_API
  Built under linux
  Compiled at Mar 11 2010 22:22:38
  %ENV:
    PERL5LIB="/home/perl589/.cpan/build/File-Type-0.22-Uyv0mF/blib/arch:/home/perl589/.cpan/build/File-Type-0.22-Uyv0mF/blib/lib:/home/perl589/.cpan/build/File-PathInfo-1.27-NJZEMN/blib/arch:/home/perl589/.cpan/build/File-PathInfo-1.27-NJZEMN/blib/lib:/home/perl589/.cpan/build/Smart-Comments-1.0.4-aSaLUi/blib/arch:/home/perl589/.cpan/build/Smart-Comments-1.0.4-aSaLUi/blib/lib:/home/perl589/.cpan/build/Time-Format-1.11-OX9jDC/blib/arch:/home/perl589/.cpan/build/Time-Format-1.11-OX9jDC/blib/lib"
    PERL5OPT=""
    PERL5_CPANPLUS_IS_RUNNING="31816"
    PERL5_CPAN_IS_RUNNING="31816"
    PERL5_CPAN_IS_RUNNING_IN_RECURSION="22811,31816"
    PERL_CR_SMOKER_CURRENT="File-PathInfo-Ext-1.30"
    PERL_EXTUTILS_AUTOINSTALL="--defaultdeps"
    PERL_MM_USE_DEFAULT="1"
  @INC:
    /home/perl589/.cpan/build/File-Type-0.22-Uyv0mF/blib/arch
    /home/perl589/.cpan/build/File-Type-0.22-Uyv0mF/blib/lib
    /home/perl589/.cpan/build/File-PathInfo-1.27-NJZEMN/blib/arch
    /home/perl589/.cpan/build/File-PathInfo-1.27-NJZEMN/blib/lib
    /home/perl589/.cpan/build/Smart-Comments-1.0.4-aSaLUi/blib/arch
    /home/perl589/.cpan/build/Smart-Comments-1.0.4-aSaLUi/blib/lib
    /home/perl589/.cpan/build/Time-Format-1.11-OX9jDC/blib/arch
    /home/perl589/.cpan/build/Time-Format-1.11-OX9jDC/blib/lib
    /home/perl589/perl/lib/5.8.9/i686-linux-thread-multi
    /home/perl589/perl/lib/5.8.9
    /home/perl589/perl/lib/site_perl/5.8.9/i686-linux-thread-multi
    /home/perl589/perl/lib/site_perl/5.8.9
    .