Set-Object v1.35 Perl 5 v5.26.0 i86pc-solaris-multi
- Status
- Pass
- From
- Serguei Trouchelle (STRO)
- Dist
-
Set-Object v1.35
- Platform
- Perl 5 v5.26.0 i86pc-solaris-multi
- Date
- 2017-09-20 17:06:42
- ID
- 12f6b926-9e26-11e7-b42a-d239d0f3eea8
This distribution has been tested as part of the CPAN Testers
project, supporting the Perl programming language. See
http://wiki.cpantesters.org/ for more information or email
questions to cpan-testers-discuss@perl.org
--
Dear Reini Urban,
This is a computer-generated report for Set-Object-1.35
on perl 5.26.0, created by CPAN-Reporter-1.2018.
Thank you for uploading your work to CPAN. Congratulations!
All tests were successful.
Sections of this report:
* Tester comments
* Program output
* Prerequisites
* Environment and other context
------------------------------
TESTER COMMENTS
------------------------------
Additional comments from tester:
this report is from an automated smoke testing program
and was not reviewed by a human for accuracy
------------------------------
PROGRAM OUTPUT
------------------------------
Output from '/usr/bin/make test':
"/home/stro/perl/5.26.0m/bin/perl" -MExtUtils::Command::MM -e 'cp_nonempty' -- Object.bs blib/arch/auto/Set/Object/Object.bs 644
PERL_DL_NONLAZY=1 "/home/stro/perl/5.26.0m/bin/perl" "-MExtUtils::Command::MM" "-MTest::Harness" "-e" "undef *Test::Harness::Switches; test_harness(0, 'blib/lib', 'blib/arch')" t/ingy/arrayref.t t/misc/kwalitee.t t/misc/leaks.t t/misc/leaktrace.t t/misc/manifest.t t/misc/meta.t t/misc/more_leaks.t t/misc/perl_minimum_version.t t/misc/pod.t t/misc/pod_coverage.t t/misc/segfault.t t/misc/threads.t t/misc/undef.t t/object/abuse.t t/object/clear.t t/object/difference.t t/object/equal.t t/object/flags.t t/object/includes.t t/object/insert.t t/object/intersection.t t/object/members.t t/object/properties.t t/object/refcount.t t/object/remove.t t/object/set_subclass.t t/object/storable.t t/object/subsuper.t t/object/symmetric_difference.t t/object/union.t t/object/weakref.t t/scalar/basic.t t/scalar/basic_overload.t t/scalar/boolean.t t/scalar/clear.t t/scalar/compare.t t/scalar/custom_display.t t/scalar/difference.t t/scalar/each.t t/scalar/has.t t/scalar/intersection.t t/scalar/member.t t/scalar/misc.t t/scalar/set_set.t t/scalar/storable.t t/scalar/symmdiff.t t/scalar/union.t t/scalar/unique.t
t/ingy/arrayref.t ................ ok
t/misc/kwalitee.t ................ skipped: This test is only run for the module author
t/misc/leaks.t ................... ok
t/misc/leaktrace.t ............... ok
t/misc/manifest.t ................ skipped: Author tests not required for installation
t/misc/meta.t .................... skipped: This test is only run for the module author
t/misc/more_leaks.t .............. ok
t/misc/perl_minimum_version.t .... skipped: Author tests not required for installation
t/misc/pod.t ..................... ok
t/misc/pod_coverage.t ............ ok
t/misc/segfault.t ................ ok
t/misc/threads.t ................. skipped: threads missing
t/misc/undef.t ................... ok
t/object/abuse.t ................. ok
t/object/clear.t ................. ok
t/object/difference.t ............ ok
t/object/equal.t ................. ok
t/object/flags.t ................. ok
t/object/includes.t .............. ok
t/object/insert.t ................ ok
t/object/intersection.t .......... ok
t/object/members.t ............... ok
t/object/properties.t ............ ok
t/object/refcount.t .............. ok
t/object/remove.t ................ ok
t/object/set_subclass.t .......... ok
t/object/storable.t .............. ok
t/object/subsuper.t .............. ok
t/object/symmetric_difference.t .. ok
t/object/union.t ................. ok
t/object/weakref.t ............... ok
t/scalar/basic.t ................. ok
t/scalar/basic_overload.t ........ ok
t/scalar/boolean.t ............... ok
t/scalar/clear.t ................. ok
t/scalar/compare.t ............... ok
t/scalar/custom_display.t ........ ok
t/scalar/difference.t ............ ok
t/scalar/each.t .................. skipped: TO-DO
t/scalar/has.t ................... ok
t/scalar/intersection.t .......... ok
t/scalar/member.t ................ ok
t/scalar/misc.t .................. ok
t/scalar/set_set.t ............... ok
t/scalar/storable.t .............. ok
t/scalar/symmdiff.t .............. ok
t/scalar/union.t ................. ok
t/scalar/unique.t ................ ok
All tests successful.
Files=48, Tests=458, 5 wallclock secs ( 0.15 usr 0.10 sys + 2.09 cusr 0.33 csys = 2.67 CPU)
Result: PASS
------------------------------
PREREQUISITES
------------------------------
Prerequisite modules loaded:
requires:
Module Need Have
------------------- ---- --------
Scalar::Util 0 1.46_02
Test::More 0 1.302096
build_requires:
Module Need Have
------------------- ---- --------
ExtUtils::MakeMaker 0 7.24
configure_requires:
Module Need Have
------------------- ---- --------
ExtUtils::MakeMaker 0 7.24
opt_requires:
Module Need Have
------------------- ---- --------
Moose 0 2.2006
Test::LeakTrace 0 0.16
------------------------------
ENVIRONMENT AND OTHER CONTEXT
------------------------------
Environment variables:
AUTOMATED_TESTING = 1
LANG = en_US.UTF-8
PATH = /usr/gnu/bin:/usr/bin:/usr/sbin:/sbin:/usr/sfw/bin:
PERL5LIB =
PERL5OPT =
PERL5_CPANPLUS_IS_RUNNING = 1140
PERL5_CPAN_IS_RUNNING = 1140
PERL5_CPAN_IS_RUNNING_IN_RECURSION = 24542,1140
PERL_CR_SMOKER_CURRENT = Net-Amazon-DynamoDB-Marshaler-0.06
PERL_EXTUTILS_AUTOINSTALL = --defaultdeps
PERL_MM_USE_DEFAULT = 1
PERL_USE_UNSAFE_INC = 1
SHELL = /bin/bash
TERM = xterm-256color
Perl special variables (and OS-specific diagnostics, for MSWin32):
$^X = /home/stro/perl/5.26.0m/bin/perl
$UID/$EUID = 101 / 101
$GID = 10 10
$EGID = 10 10
Perl module toolchain versions installed:
Module Have
------------------- ----------
CPAN 2.18
CPAN::Meta 2.150010
Cwd 3.67
ExtUtils::CBuilder 0.280225
ExtUtils::Command 7.24
ExtUtils::Install 2.04
ExtUtils::MakeMaker 7.24
ExtUtils::Manifest 1.70
ExtUtils::ParseXS 3.34
File::Spec 3.67
JSON 2.94
JSON::PP 2.27400_02
Module::Build 0.4224
Module::Signature n/a
Parse::CPAN::Meta 2.150010
Test::Harness 3.38
Test::More 1.302096
YAML 1.23
YAML::Syck 1.30
version 0.9917
--
Summary of my perl5 (revision 5 version 26 subversion 0) configuration:
Platform:
osname=solaris
osvers=2.11
archname=i86pc-solaris-multi
uname='sunos vm-openindiana-001 5.11 illumos-ed992b0aac i86pc i386 i86pc solaris '
config_args=''
hint=recommended
useposix=true
d_sigaction=define
useithreads=undef
usemultiplicity=define
use64bitint=undef
use64bitall=undef
uselongdouble=undef
usemymalloc=n
default_inc_excludes_dot=define
bincompat5005=undef
Compiler:
cc='/opt/SUNWspro/bin/cc'
ccflags ='-I/usr/gnu/include -D_LARGEFILE_SOURCE -D_FILE_OFFSET_BITS=64 -DPERL_USE_SAFE_PUTENV'
optimize='-O'
cppflags='-I/usr/gnu/include'
ccversion='Sun C 5.10 SunOS_i386 2009/06/03'
gccversion=''
gccosandvers=''
intsize=4
longsize=4
ptrsize=4
doublesize=8
byteorder=1234
doublekind=3
d_longlong=define
longlongsize=8
d_longdbl=define
longdblsize=12
longdblkind=3
ivtype='long'
ivsize=4
nvtype='double'
nvsize=8
Off_t='off_t'
lseeksize=8
alignbytes=4
prototype=define
Linker and Libraries:
ld='/opt/SUNWspro/bin/cc'
ldflags =' -L/usr/lib -L/usr/ccs/lib -L/opt/sunstudio12.1/prod/lib -L/lib -L/usr/gnu/lib '
libpth=/usr/lib /usr/ccs/lib /opt/sunstudio12.1/prod/lib /lib /usr/gnu/lib
libs=-lpthread -lsocket -lnsl -lgdbm -ldb -ldl -lm -lc
perllibs=-lpthread -lsocket -lnsl -ldl -lm -lc
libc=/lib/libc.so
so=so
useshrplib=true
libperl=libperl.so
gnulibc_version=''
Dynamic Linking:
dlsrc=dl_dlopen.xs
dlext=so
d_dlsymun=undef
ccdlflags=' -R /home/stro/perl/5.26.0m/lib/5.26.0/i86pc-solaris-multi/CORE'
cccdlflags='-KPIC'
lddlflags='-G -L/usr/lib -L/usr/ccs/lib -L/opt/sunstudio12.1/prod/lib -L/lib -L/usr/gnu/lib'
Characteristics of this binary (from libperl):
Compile-time options:
HAS_TIMES
MULTIPLICITY
PERLIO_LAYERS
PERL_COPY_ON_WRITE
PERL_DONT_CREATE_GVSV
PERL_HASH_FUNC_ONE_AT_A_TIME_HARD
PERL_IMPLICIT_CONTEXT
PERL_MALLOC_WRAP
PERL_OP_PARENT
PERL_PRESERVE_IVUV
PERL_USE_SAFE_PUTENV
USE_LARGE_FILES
USE_LOCALE
USE_LOCALE_COLLATE
USE_LOCALE_CTYPE
USE_LOCALE_NUMERIC
USE_LOCALE_TIME
USE_PERLIO
USE_PERL_ATOF
Built under solaris
Compiled at Sep 17 2017 23:16:30
%ENV:
PERL5LIB=""
PERL5OPT=""
PERL5_CPANPLUS_IS_RUNNING="1140"
PERL5_CPAN_IS_RUNNING="1140"
PERL5_CPAN_IS_RUNNING_IN_RECURSION="24542,1140"
PERL_CR_SMOKER_CURRENT="Net-Amazon-DynamoDB-Marshaler-0.06"
PERL_EXTUTILS_AUTOINSTALL="--defaultdeps"
PERL_MM_USE_DEFAULT="1"
PERL_USE_UNSAFE_INC="1"
@INC:
/home/stro/perl/5.26.0m/lib/site_perl/5.26.0/i86pc-solaris-multi
/home/stro/perl/5.26.0m/lib/site_perl/5.26.0
/home/stro/perl/5.26.0m/lib/5.26.0/i86pc-solaris-multi
/home/stro/perl/5.26.0m/lib/5.26.0
.