Report for Path-IsDev-1.000000

Back
From: metabase:user:1ddc8d29-6fcf-1022-a1fb-81b119aec2a9
Subject: PASS Path-IsDev-1.000000 v5.16.3 
Date: 2013-10-29T07:21:54Z

This distribution has been tested as part of the CPAN Testers
project, supporting the Perl programming language.  See
http://wiki.cpantesters.org/ for more information or email
questions to cpan-testers-discuss@perl.org


--
Dear KENTNL,

This is a computer-generated report for Path-IsDev-1.000000
on perl 5.16.3, created by App::cpanminus::reporter 0.10 (1.6005).

Thank you for uploading your work to CPAN.  Congratulations!
All tests were successful.

Sections of this report:

    * Tester comments
    * Program output
    * Prerequisites
    * Environment and other context

------------------------------
TESTER COMMENTS
------------------------------

Additional comments from tester:

none provided

------------------------------
PROGRAM OUTPUT
------------------------------

Output from '':

Building and testing Path-IsDev-1.000000
Building Path-IsDev
t/00-compile.t ..................... ok
# 
# 
# Generated by Dist::Zilla::Plugin::ReportVersions::Tiny v1.10
# perl: 5.016003 (wanted 5.006) on MSWin32 from C:\strawberry\perl\bin\perl.exe
# 
# Carp                                          => 1.26       (want any version)
# Class::Tiny                                   => 0.011      (want 0.010)  
# File::HomeDir                                 => 1.00       (want any version)
# File::Spec                                    => 3.40       (want any version)
# File::Temp                                    => 0.2304     (want any version)
# FindBin                                       => 1.51       (want any version)
# IO::Handle                                    => 1.33       (want any version)
# IPC::Open3                                    => 1.12       (want any version)
# Module::Build                                 => 0.4007     (want 0.4007) 
# Module::Runtime                               => 0.013      (want any version)
# Path::Tiny                                    => 0.044      (want any version)
# Role::Tiny                                    => 1.002005   (want any version)
# Role::Tiny::With                              => <undef>    (want any version)
# Scalar::Util                                  => 1.27       (want any version)
# Sub::Exporter                                 => 0.985      (want any version)
# Test::Fatal                                   => 0.010      (want any version)
# Test::More                                    => 0.99       (want 0.99)   
# strict                                        => 1.07       (want any version)
# warnings                                      => 1.13       (want any version)
# 
# Thanks for using my code.  I hope it works for you.
# If not, please try and include this output in the bug report.
# That will help me reproduce the issue and solve your problem.
# 
t/000-report-versions-tiny.t ....... ok
t/Path-IsDev-Object/_matches.t ..... ok
    # $path_isdev_source = C:/DOCUME~1/Yashin/.cpanm/work/1383030271.5728/Path-IsDev-1.000000
    # $corpus_Changes_dir = C:/DOCUME~1/Yashin/.cpanm/work/1383030271.5728/Path-IsDev-1.000000/corpus/Changelog
    # $corpus_Changes_dir/../ = C:/DOCUME~1/Yashin/.cpanm/work/1383030271.5728/Path-IsDev-1.000000/corpus
t/Path-IsDev-Object/basic.t ........ ok
t/Path-IsDev/is_dev/Changelog.t .... ok
t/Path-IsDev/is_dev/DZil.t ......... ok
t/Path-IsDev/is_dev/DevDir.t ....... ok
t/Path-IsDev/is_dev/META.t ......... ok
t/Path-IsDev/is_dev/MYMETA.t ....... ok
t/Path-IsDev/is_dev/MakeMaker.t .... ok
t/Path-IsDev/is_dev/ModuleBuild.t .. ok
t/Path-IsDev/is_dev/TestDir.t ...... ok
t/basic.t .......................... ok
All tests successful.
Files=13, Tests=64,  8 wallclock secs ( 0.11 usr +  0.06 sys =  0.17 CPU)
Result: PASS

------------------------------
PREREQUISITES
------------------------------

Prerequisite modules loaded:

    No requirements found

------------------------------
ENVIRONMENT AND OTHER CONTEXT
------------------------------

Environment variables:

    COMSPEC = C:\WINDOWS\system32\cmd.exe
    NUMBER_OF_PROCESSORS = 2
    PATH = C:\Program Files\NVIDIA Corporation\PhysX\Common;C:\WINDOWS\system32;C:\WINDOWS\System32\wbem;C:\Program Files\QuickTime\QTSystem\;C:\strawberry\c\bin;C:\strawberry\perl\site\bin;C:\strawberry\perl\bin;;c:\program files\intel\servermanagement\bin;
    PROCESSOR_IDENTIFIER = x86 Family 6 Model 23 Stepping 6, GenuineIntel
    TEMP = C:\WINDOWS\TEMP
    TERM = dumb

Perl special variables (and OS-specific diagnostics, for MSWin32):

    EGID = 0
    EUID = 0
    EXECUTABLE_NAME = C:\strawberry\perl\bin\perl.exe
    GID = 0
    UID = 0
    Win32::FsType = NTFS
    Win32::GetOSName = WinXP/.Net
    Win32::GetOSVersion = Service Pack 3, 5, 1, 2600, 2, 3, 0, 256, 1
    Win32::IsAdminUser = 1

Perl module toolchain versions installed:

    Module              Have    
    ------------------- --------
    CPAN                1.9800  
    CPAN::Meta          2.120921
    Cwd                 3.40    
    ExtUtils::CBuilder  0.280206
    ExtUtils::Command   1.17    
    ExtUtils::Install   1.58    
    ExtUtils::MakeMaker 6.64    
    ExtUtils::Manifest  1.61    
    ExtUtils::ParseXS   3.18    
    File::Spec          3.40    
    JSON                2.53    
    JSON::PP            2.27200 
    Module::Build       0.4007  
    Module::Signature   0.70    
    Parse::CPAN::Meta   1.4404  
    Test::Harness       3.26    
    Test::More          0.99    
    YAML                0.84    
    YAML::Syck          1.24    
    version             0.9902  


--

Summary of my perl5 (revision 5 version 16 subversion 3) configuration:
   
  Platform:
    osname=MSWin32, osvers=4.0, archname=MSWin32-x86-multi-thread
    uname='Win32 strawberry-perl 5.16.3.1 #1 Tue Mar 12 13:55:20 2013 i386'
    config_args='undef'
    hint=recommended, useposix=true, d_sigaction=undef
    useithreads=define, usemultiplicity=define
    useperlio=define, d_sfio=undef, uselargefiles=define, usesocks=undef
    use64bitint=undef, use64bitall=undef, uselongdouble=undef
    usemymalloc=n, bincompat5005=undef
  Compiler:
    cc='gcc', ccflags =' -s -O2 -DWIN32  -DPERL_TEXTMODE_SCRIPTS -DPERL_IMPLICIT_CONTEXT -DPERL_IMPLICIT_SYS -fno-strict-aliasing -mms-bitfields',
    optimize='-s -O2',
    cppflags='-DWIN32'
    ccversion='', gccversion='4.6.3', gccosandvers=''
    intsize=4, longsize=4, ptrsize=4, doublesize=8, byteorder=1234
    d_longlong=undef, longlongsize=8, d_longdbl=define, longdblsize=12
    ivtype='long', ivsize=4, nvtype='double', nvsize=8, Off_t='long long', lseeksize=8
    alignbytes=8, prototype=define
  Linker and Libraries:
    ld='g++', ldflags ='-s -L"C:\strawberry\perl\lib\CORE" -L"C:\strawberry\c\lib"'
    libpth=C:\strawberry\c\lib C:\strawberry\c\i686-w64-mingw32\lib
    libs=-lmoldname -lkernel32 -luser32 -lgdi32 -lwinspool -lcomdlg32 -ladvapi32 -lshell32 -lole32 -loleaut32 -lnetapi32 -luuid -lws2_32 -lmpr -lwinmm -lversion -lodbc32 -lodbccp32 -lcomctl32
    perllibs=-lmoldname -lkernel32 -luser32 -lgdi32 -lwinspool -lcomdlg32 -ladvapi32 -lshell32 -lole32 -loleaut32 -lnetapi32 -luuid -lws2_32 -lmpr -lwinmm -lversion -lodbc32 -lodbccp32 -lcomctl32
    libc=, so=dll, useshrplib=true, libperl=libperl516.a
    gnulibc_version=''
  Dynamic Linking:
    dlsrc=dl_win32.xs, dlext=dll, d_dlsymun=undef, ccdlflags=' '
    cccdlflags=' ', lddlflags='-mdll -s -L"C:\strawberry\perl\lib\CORE" -L"C:\strawberry\c\lib"'


Characteristics of this binary (from libperl): 
  Compile-time options: HAS_TIMES HAVE_INTERP_INTERN MULTIPLICITY
                        PERLIO_LAYERS PERL_DONT_CREATE_GVSV
                        PERL_IMPLICIT_CONTEXT PERL_IMPLICIT_SYS
                        PERL_MALLOC_WRAP PERL_PRESERVE_IVUV PL_OP_SLAB_ALLOC
                        USE_ITHREADS USE_LARGE_FILES USE_LOCALE
                        USE_LOCALE_COLLATE USE_LOCALE_CTYPE
                        USE_LOCALE_NUMERIC USE_PERLIO USE_PERL_ATOF
  Built under MSWin32
  Compiled at Mar 12 2013 14:01:07
  @INC:
    C:/strawberry/perl/site/lib/MSWin32-x86-multi-thread
    C:/strawberry/perl/site/lib
    C:/strawberry/perl/vendor/lib
    C:/strawberry/perl/lib
    .