Log-Handler v0.90 Perl 5 v5.32.0 darwin-2level

Status
Pass
From
Nigel Horne
Dist
Log-Handler v0.90
Platform
Perl 5 v5.32.0 darwin-2level
Date
2020-07-13 12:19:17
ID
1284d2d2-c503-11ea-99fb-32b2feb986a7
This distribution has been tested as part of the CPAN Testers
project, supporting the Perl programming language.  See
http://wiki.cpantesters.org/ for more information or email
questions to cpan-testers-discuss@perl.org


--
Dear Jonny Schulz,

This is a computer-generated report for Log-Handler-0.90
on perl 5.32.0, created by CPAN-Reporter-1.2018.

Thank you for uploading your work to CPAN.  Congratulations!
All tests were successful.

Sections of this report:

    * Tester comments
    * Program output
    * Prerequisites
    * Environment and other context

------------------------------
TESTER COMMENTS
------------------------------

Additional comments from tester:

none provided

------------------------------
PROGRAM OUTPUT
------------------------------

Output from './Build test':

t/000-use.t ...................... ok
t/010-handler.t .................. ok
t/011-handler-set-pattern.t ...... ok
t/012-handler-message-pattern.t .. ok
t/013-handler-priority.t ......... ok
t/001-pod.t ...................... ok
t/015-handler-filter-caller.t .... ok
t/014-handler-reload.t ........... ok
t/015-handler-filter-message.t ... ok
t/002-pod-coverage.t ............. ok
t/016-handler-alias.t ............ ok
t/017-handler-special-levels.t ... ok
t/018-handler-logger.t ........... ok
t/019-handler-setlevel.t ......... ok
t/030-output-file.t .............. ok
t/020-output-forward.t ........... ok
t/045-output-sendmail.t .......... ok
t/060-output-socket.t ............ skipped: Set $ENV{LOG_HANDLER_SOCK_TEST} to 1 to enable this test
t/050-output-dbi.t ............... ok
t/090-test-undef.t ............... ok
t/100-config.t ................... ok
t/040-output-email.t ............. ok
All tests successful.
Files=22, Tests=201,  0 wallclock secs ( 0.06 usr  0.03 sys +  1.42 cusr  0.21 csys =  1.72 CPU)
Result: PASS

------------------------------
PREREQUISITES
------------------------------

Prerequisite modules loaded:

requires:

    Module             Need Have    
    ------------------ ---- --------
    Carp               0    1.50    
    Data::Dumper       0    2.174   
    Fcntl              0    1.13    
    File::Spec         0    3.78    
    Params::Validate   0    1.29    
    POSIX              0    1.94    
    Sys::Hostname      0    1.23    
    Test::More         0    1.302175
    Time::HiRes        0    1.9764  
    UNIVERSAL          0    1.13    

configure_requires:

    Module             Need Have    
    ------------------ ---- --------
    Module::Build      0.42 0.4231  

opt_requires:

    Module             Need Have    
    ------------------ ---- --------
    Config::General    0    2.63    
    Config::Properties 0    1.80    
    DBI                0    1.643   
    Email::Date        0    1.104   
    IO::Socket         0    1.43    
    Net::SMTP          0    3.11    
    YAML               0    1.30    


------------------------------
ENVIRONMENT AND OTHER CONTEXT
------------------------------

Environment variables:

    HARNESS_OPTIONS = j6:c
    LANG = en_US.UTF-8
    LC_TERMINAL = iTerm2
    LC_TERMINAL_VERSION = 3.3.12
    LDFLAGS = -L/usr/local/opt/openssl@1.1/lib:/usr/local/opt/python@3.8/lib
    NONINTERACTIVE_TESTING = 1
    PATH = /Users/nhorne/perl5/perlbrew/bin:/Users/nhorne/perl5/perlbrew/perls/perl-5.32.0/bin:/Users/nhorne/perl5/perlbrew/bin:/Users/nhorne/perl5/perlbrew/perls/perl-5.32.0/bin:/Users/nhorne/bin:/usr/local/opt/openssl@1.1/bin:/usr/local/opt/python@3.8/bin:/usr/local/bin:/usr/bin:/bin:/usr/sbin:/sbin
    PERL5LIB = 
    PERL5OPT = 
    PERL5_CPANPLUS_IS_RUNNING = 7259
    PERL5_CPAN_IS_RUNNING = 7259
    PERLBREW_HOME = /Users/nhorne/.perlbrew
    PERLBREW_LIB = 
    PERLBREW_MANPATH = /Users/nhorne/perl5/perlbrew/perls/perl-5.32.0/man
    PERLBREW_PATH = /Users/nhorne/perl5/perlbrew/bin:/Users/nhorne/perl5/perlbrew/perls/perl-5.32.0/bin
    PERLBREW_PERL = perl-5.32.0
    PERLBREW_ROOT = /Users/nhorne/perl5/perlbrew
    PERLBREW_SHELLRC_VERSION = 0.88
    PERLBREW_VERSION = 0.88
    PERL_LOCAL_LIB_ROOT = 
    PERL_MM_USE_DEFAULT = 1
    PERL_USE_UNSAFE_INC = 1
    SHELL = /bin/bash
    TERM = xterm-256color
    TMPDIR = /var/folders/rb/cnysxwf16zq1n94dyy56v2q00000gp/T/
    VERSIONER_PERL_PREFER_32_BIT = no
    VERSIONER_PERL_VERSION = 5.18

Perl special variables (and OS-specific diagnostics, for MSWin32):

    $^X = /Users/nhorne/perl5/perlbrew/perls/perl-5.32.0/bin/perl
    $UID/$EUID = 502 / 502
    $GID = 20 20 12 61 79 80 81 98 702 701 33 100 204 250 395 398 399
    $EGID = 20 20 12 61 79 80 81 98 702 701 33 100 204 250 395 398 399

Perl module toolchain versions installed:

    Module              Have    
    ------------------- --------
    CPAN                2.28    
    CPAN::Meta          2.150010
    Cwd                 3.78    
    ExtUtils::CBuilder  0.280234
    ExtUtils::Command   7.46    
    ExtUtils::Install   2.16    
    ExtUtils::MakeMaker 7.46    
    ExtUtils::Manifest  1.72    
    ExtUtils::ParseXS   3.40    
    File::Spec          3.78    
    JSON                4.02    
    JSON::PP            4.05    
    Module::Build       0.4231  
    Module::Signature   n/a     
    Parse::CPAN::Meta   2.150010
    Test::Harness       3.42    
    Test::More          1.302175
    YAML                1.30    
    YAML::Syck          1.32    
    version             0.9924  


--

Summary of my perl5 (revision 5 version 32 subversion 0) configuration:
   
  Platform:
    osname=darwin
    osvers=18.7.0
    archname=darwin-2level
    uname='darwin gslal032003003 18.7.0 darwin kernel version 18.7.0: mon apr 27 20:09:39 pdt 2020; root:xnu-4903.278.35~1release_x86_64 x86_64 '
    config_args='-de -Dprefix=/Users/nhorne/perl5/perlbrew/perls/perl-5.32.0 -Aeval:scriptdir=/Users/nhorne/perl5/perlbrew/perls/perl-5.32.0/bin'
    hint=recommended
    useposix=true
    d_sigaction=define
    useithreads=undef
    usemultiplicity=undef
    use64bitint=define
    use64bitall=define
    uselongdouble=undef
    usemymalloc=n
    default_inc_excludes_dot=define
    bincompat5005=undef
  Compiler:
    cc='cc'
    ccflags ='-fno-common -DPERL_DARWIN -mmacosx-version-min=10.14 -fno-strict-aliasing -pipe -fstack-protector-strong -I/usr/local/include -DPERL_USE_SAFE_PUTENV'
    optimize='-O3'
    cppflags='-fno-common -DPERL_DARWIN -mmacosx-version-min=10.14 -fno-strict-aliasing -pipe -fstack-protector-strong -I/usr/local/include'
    ccversion=''
    gccversion='4.2.1 Compatible Apple LLVM 10.0.1 (clang-1001.0.46.4)'
    gccosandvers=''
    intsize=4
    longsize=8
    ptrsize=8
    doublesize=8
    byteorder=12345678
    doublekind=3
    d_longlong=define
    longlongsize=8
    d_longdbl=define
    longdblsize=16
    longdblkind=3
    ivtype='long'
    ivsize=8
    nvtype='double'
    nvsize=8
    Off_t='off_t'
    lseeksize=8
    alignbytes=8
    prototype=define
  Linker and Libraries:
    ld='cc'
    ldflags =' -mmacosx-version-min=10.14 -fstack-protector-strong -L/usr/local/lib'
    libpth=/usr/local/lib /Library/Developer/CommandLineTools/usr/lib/clang/10.0.1/lib /Library/Developer/CommandLineTools/usr/lib /Library/Developer/CommandLineTools/SDKs/MacOSX10.14.sdk/usr/lib /usr/lib
    libs=-lpthread -lgdbm -ldbm -ldl -lm -lutil -lc
    perllibs=-lpthread -ldl -lm -lutil -lc
    libc=
    so=dylib
    useshrplib=false
    libperl=libperl.a
    gnulibc_version=''
  Dynamic Linking:
    dlsrc=dl_dlopen.xs
    dlext=bundle
    d_dlsymun=undef
    ccdlflags=' '
    cccdlflags=' '
    lddlflags=' -mmacosx-version-min=10.14 -bundle -undefined dynamic_lookup -L/usr/local/lib -fstack-protector-strong'


Characteristics of this binary (from libperl): 
  Compile-time options:
    HAS_TIMES
    PERLIO_LAYERS
    PERL_COPY_ON_WRITE
    PERL_DONT_CREATE_GVSV
    PERL_MALLOC_WRAP
    PERL_OP_PARENT
    PERL_PRESERVE_IVUV
    PERL_USE_SAFE_PUTENV
    USE_64_BIT_ALL
    USE_64_BIT_INT
    USE_LARGE_FILES
    USE_LOCALE
    USE_LOCALE_COLLATE
    USE_LOCALE_CTYPE
    USE_LOCALE_NUMERIC
    USE_LOCALE_TIME
    USE_PERLIO
    USE_PERL_ATOF
  Built under darwin
  Compiled at Jun 29 2020 07:58:42
  %ENV:
    PERL5LIB=""
    PERL5OPT=""
    PERL5_CPANPLUS_IS_RUNNING="7259"
    PERL5_CPAN_IS_RUNNING="7259"
    PERLBREW_HOME="/Users/nhorne/.perlbrew"
    PERLBREW_LIB=""
    PERLBREW_MANPATH="/Users/nhorne/perl5/perlbrew/perls/perl-5.32.0/man"
    PERLBREW_PATH="/Users/nhorne/perl5/perlbrew/bin:/Users/nhorne/perl5/perlbrew/perls/perl-5.32.0/bin"
    PERLBREW_PERL="perl-5.32.0"
    PERLBREW_ROOT="/Users/nhorne/perl5/perlbrew"
    PERLBREW_SHELLRC_VERSION="0.88"
    PERLBREW_VERSION="0.88"
    PERL_LOCAL_LIB_ROOT=""
    PERL_MM_USE_DEFAULT="1"
    PERL_USE_UNSAFE_INC="1"
  @INC:
    /Users/nhorne/perl5/perlbrew/perls/perl-5.32.0/lib/site_perl/5.32.0/darwin-2level
    /Users/nhorne/perl5/perlbrew/perls/perl-5.32.0/lib/site_perl/5.32.0
    /Users/nhorne/perl5/perlbrew/perls/perl-5.32.0/lib/5.32.0/darwin-2level
    /Users/nhorne/perl5/perlbrew/perls/perl-5.32.0/lib/5.32.0
    .