Report for PDF-ReportWriter-1.5

Back
From: metabase:user:d2c9f356-b46f-11df-9a90-20a83c0b7757
Subject: PASS PDF-ReportWriter-1.5 v5.12.2 SunOS/Solaris
Date: 2010-11-07T11:13:39Z

This distribution has been tested as part of the CPAN Testers
project, supporting the Perl programming language.  See
http://wiki.cpantesters.org/ for more information or email
questions to cpan-testers-discuss@perl.org


--
Dear Daniel Kasak,

This is a computer-generated report for PDF-ReportWriter-1.5
on perl 5.12.2, created by CPAN-Reporter-1.1803.

Thank you for uploading your work to CPAN.  Congratulations!
All tests were successful.

Sections of this report:

    * Tester comments
    * Program output
    * Prerequisites
    * Environment and other context

------------------------------
TESTER COMMENTS
------------------------------

Additional comments from tester:

this report is from an automated smoke testing program
and was not reviewed by a human for accuracy

------------------------------
PROGRAM OUTPUT
------------------------------

Output from '/usr/bin/make test':

PERL_DL_NONLAZY=1 /export/home/cpant3/perl5/bin/perl5.12.2 "-MExtUtils::Command::MM" "-e" "test_harness(0, 'blib/lib', 'blib/arch')" t/*.t
t/000_load.t ......... ok
# $rp=undef
# $rp=PDF::ReportWriter::Report=HASH(0x82abba0)
Warning: <field> element has no '_' key attribute at /export/home/cpant3/.cpan/build/PDF-ReportWriter-1.5-qUERAA/blib/lib/PDF/ReportWriter/Report.pm line 98
Warning: <group> element has no '_' key attribute at /export/home/cpant3/.cpan/build/PDF-ReportWriter-1.5-qUERAA/blib/lib/PDF/ReportWriter/Report.pm line 98
# $VAR1 = {
#           'data' => {
#                     'fields' => [
#                                 {
#                                   'header_colour' => 'white',
#                                   'index' => '0',
#                                   'align' => 'left',
#                                   'percent' => '20',
#                                   'font_size' => '12',
#                                   'label' => 'item'
#                                 },
#                                 {
#                                   'header_colour' => 'white',
#                                   'index' => '1',
#                                   'align' => 'left',
#                                   'percent' => '20',
#                                   'font_size' => '12',
#                                   'label' => 'date'
#                                 }
#                               ],
#                     'page' => {
#                               'footer' => [
#                                           {
#                                             'y' => '200',
#                                             'index' => '0',
#                                             'colour' => 'red',
#                                             'percent' => '20',
#                                             'text' => 'My Cell 1',
#                                             'background' => {
#                                                             'colour' => 'grey',
#                                                             'shape' => 'box'
#                                                           },
#                                             'x' => '500'
#                                           },
#                                           {
#                                             'y' => '100',
#                                             'index' => '1',
#                                             'colour' => 'yellow',
#                                             'percent' => '20',
#                                             'text' => 'My Cell 2',
#                                             'background' => {
#                                                             'colour' => 'green',
#                                                             'shape' => 'box'
#                                                           },
#                                             'x' => '200'
#                                           }
#                                         ],
#                               'header' => [
#                                             {}
#                                           ]
#                             },
#                     'groups' => [
#                                   {
#                                     'aggregate_source' => '0',
#                                     'name' => 'GrandTotals',
#                                     'data_column' => '1'
#                                   },
#                                   {
#                                     'aggregate_source' => '0',
#                                     'name' => 'ItemTotals',
#                                     'data_column' => '1'
#                                   }
#                                 ],
#                     'cell_borders' => '1',
#                     'max_font_size' => '12'
#                   },
#           'definition' => {
#                             'y_margin' => '20',
#                             'template' => 'mytemplate.pdf',
#                             'default_font_size' => '10',
#                             'destination' => 'myreport.pdf',
#                             'default_font' => 'Helvetica',
#                             'orientation' => 'landscape',
#                             'file' => 'basic.xml',
#                             'name' => 'basic',
#                             'font' => [
#                                       'Helvetica',
#                                       'Courier'
#                                     ],
#                             'x_margin' => '20',
#                             'debug' => '0',
#                             'paper' => 'A4'
#                           }
#         };
Warning: <field> element has no '_' key attribute at /export/home/cpant3/.cpan/build/PDF-ReportWriter-1.5-qUERAA/blib/lib/PDF/ReportWriter/Report.pm line 98
Warning: <group> element has no '_' key attribute at /export/home/cpant3/.cpan/build/PDF-ReportWriter-1.5-qUERAA/blib/lib/PDF/ReportWriter/Report.pm line 98
# $VAR1 = {
#           'data' => {
#                     'fields' => [
#                                 {
#                                   'header_colour' => 'white',
#                                   'index' => '0',
#                                   'align' => 'left',
#                                   'percent' => '20',
#                                   'font_size' => '12',
#                                   'label' => 'item'
#                                 },
#                                 {
#                                   'header_colour' => 'white',
#                                   'index' => '1',
#                                   'align' => 'left',
#                                   'percent' => '20',
#                                   'font_size' => '12',
#                                   'label' => 'date'
#                                 }
#                               ],
#                     'page' => {
#                               'footer' => [
#                                           {
#                                             'y' => '200',
#                                             'index' => '0',
#                                             'colour' => 'red',
#                                             'percent' => '20',
#                                             'text' => 'My Cell 1',
#                                             'background' => {
#                                                             'colour' => 'grey',
#                                                             'shape' => 'box'
#                                                           },
#                                             'x' => '500'
#                                           },
#                                           {
#                                             'y' => '100',
#                                             'index' => '1',
#                                             'colour' => 'yellow',
#                                             'percent' => '20',
#                                             'text' => 'My Cell 2',
#                                             'background' => {
#                                                             'colour' => 'green',
#                                                             'shape' => 'box'
#                                                           },
#                                             'x' => '200'
#                                           }
#                                         ],
#                               'header' => [
#                                             {}
#                                           ]
#                             },
#                     'groups' => [
#                                   {
#                                     'aggregate_source' => '0',
#                                     'name' => 'GrandTotals',
#                                     'data_column' => '1'
#                                   },
#                                   {
#                                     'aggregate_source' => '0',
#                                     'name' => 'SubTotals',
#                                     'data_column' => '1'
#                                   }
#                                 ],
#                     'cell_borders' => '1',
#                     'max_font_size' => '12'
#                   },
#           'definition' => {
#                             'info' => {
#                                       'ModDate' => '2006-03-13',
#                                       'Subject' => 'A sample report',
#                                       'CreationDate' => '2006-03-13',
#                                       'Creator' => 'PDF::ReportWriter',
#                                       'Title' => 'The sample report title',
#                                       'Keywords' => 'Bla Bla Bla',
#                                       'Author' => 'Cosimo Streppone'
#                                     },
#                             'y_margin' => '20',
#                             'template' => 'mytemplate.pdf',
#                             'default_font_size' => '10',
#                             'destination' => 'myreport.pdf',
#                             'default_font' => 'Helvetica',
#                             'orientation' => 'landscape',
#                             'name' => 'sample',
#                             'font' => [
#                                       'Helvetica',
#                                       'Courier'
#                                     ],
#                             'x_margin' => '20',
#                             'debug' => '0',
#                             'url' => 'sample.xml',
#                             'paper' => 'A4'
#                           }
#         };
# $VAR1 = {
#           'data' => {
#                     'page' => {
#                               'header' => [
#                                             {}
#                                           ],
#                               'footer' => [
#                                           {
#                                             'y' => '200',
#                                             'index' => '0',
#                                             'text' => 'My Cell 1',
#                                             'percent' => '20',
#                                             'colour' => 'red',
#                                             'background' => {
#                                                             'colour' => 'grey',
#                                                             'shape' => 'box'
#                                                           },
#                                             'x' => '500'
#                                           },
#                                           {
#                                             'y' => '100',
#                                             'index' => '1',
#                                             'text' => 'My Cell 2',
#                                             'percent' => '20',
#                                             'colour' => 'yellow',
#                                             'background' => {
#                                                             'colour' => 'green',
#                                                             'shape' => 'box'
#                                                           },
#                                             'x' => '200'
#                                           }
#                                         ]
#                             },
#                     'fields' => [
#                                 {
#                                   'header_colour' => 'white',
#                                   'index' => '0',
#                                   'align' => 'left',
#                                   'percent' => '20',
#                                   'font_size' => '12',
#                                   'label' => 'item'
#                                 },
#                                 {
#                                   'header_colour' => 'white',
#                                   'index' => '1',
#                                   'align' => 'left',
#                                   'percent' => '20',
#                                   'font_size' => '12',
#                                   'label' => 'date'
#                                 }
#                               ],
#                     'groups' => [
#                                   {
#                                     'name' => 'GrandTotals',
#                                     'aggregate_source' => '0',
#                                     'data_column' => '1'
#                                   },
#                                   {
#                                     'name' => 'SubTotals',
#                                     'aggregate_source' => '0',
#                                     'data_column' => '1'
#                                   }
#                                 ],
#                     'cell_borders' => '1',
#                     'max_font_size' => '12'
#                   },
#           'definition' => {
#                             'info' => {
#                                       'ModDate' => '2006-03-13',
#                                       'Subject' => 'A sample report',
#                                       'CreationDate' => '2006-03-13',
#                                       'Creator' => 'PDF::ReportWriter',
#                                       'Author' => 'Cosimo Streppone',
#                                       'Keywords' => 'Bla Bla Bla',
#                                       'Title' => 'The sample report title'
#                                     },
#                             'y_margin' => '20',
#                             'template' => 'mytemplate.pdf',
#                             'destination' => 'myreport.pdf',
#                             'default_font_size' => '10',
#                             'name' => 'sample',
#                             'orientation' => 'landscape',
#                             'default_font' => 'Helvetica',
#                             'font' => [
#                                       'Helvetica',
#                                       'Courier'
#                                     ],
#                             'x_margin' => '20',
#                             'url' => 'sample.xml',
#                             'debug' => '0',
#                             'paper' => 'A4'
#                           }
#         };
# $VAR1 = {
#           'data' => {
#                     'groups' => []
#                   },
#           'definition' => {
#                             'file' => 'empty.xml',
#                             'name' => 'empty',
#                             'font' => [
#                                         undef
#                                       ]
#                           }
#         };
t/010_report.t ....... ok
# $rp=PDF::ReportWriter::Report=HASH(0x8173dd8)
# $VAR1 = bless( {
#                  'report' => './t/reports/datasources.xml',
#                  '_config' => {
#                                 'data' => {
#                                           'fields' => [
#                                                         {
#                                                           'header_colour' => 'white',
#                                                           'index' => '0',
#                                                           'align' => 'left',
#                                                           'percent' => '20',
#                                                           'font_size' => '12',
#                                                           'label' => 'item'
#                                                         }
#                                                       ],
#                                           'page' => {
#                                                     'footer' => [
#                                                                   {}
#                                                                 ],
#                                                     'header' => [
#                                                                   {}
#                                                                 ]
#                                                   },
#                                           'groups' => [
#                                                         {}
#                                                       ],
#                                           'datasource' => [
#                                                           {
#                                                             'sql' => 'SELECT docnum,docdate,docstate FROM documents WHERE docnum = ? LIMIT 1',
#                                                             'name' => 'master',
#                                                             'type' => 'DBI'
#                                                           },
#                                                           {
#                                                             'sql' => 'SELECT * FROM documents WHERE docnum = ?',
#                                                             'name' => 'detail',
#                                                             'type' => 'DBI'
#                                                           }
#                                                         ]
#                                         },
#                                 'definition' => {
#                                                   'destination' => 'myreport.pdf',
#                                                   'file' => 'datasources.xml',
#                                                   'name' => 'datasources',
#                                                   'font' => [
#                                                               undef
#                                                             ],
#                                                   'paper' => 'A4'
#                                                 }
#                               }
#                }, 'PDF::ReportWriter::Report' );
t/011_datasources.t .. ok
t/020_cell.t ......... ok
All tests successful.
Files=4, Tests=30,  2 wallclock secs ( 0.03 usr  0.02 sys +  1.42 cusr  0.32 csys =  1.79 CPU)
Result: PASS

------------------------------
PREREQUISITES
------------------------------

Prerequisite modules loaded:

requires:

    Module      Need Have 
    ----------- ---- -----
    Image::Size 2    3.230
    PDF::API2   0.3  2.015
    XML::Simple 0    2.18 


------------------------------
ENVIRONMENT AND OTHER CONTEXT
------------------------------

Environment variables:

    AUTOMATED_TESTING = 1
    LANG = en_US.UTF-8
    PATH = /export/home/cpant3/perl5/bin:/usr/bin
    PERL5LIB = /export/home/cpant3/.cpan/build/Image-Size-3.230-LhCGsQ/blib/arch:/export/home/cpant3/.cpan/build/Image-Size-3.230-LhCGsQ/blib/lib:/export/home/cpant3/.cpan/build/PDF-API2-0.73-kNGN0y/blib/arch:/export/home/cpant3/.cpan/build/PDF-API2-0.73-kNGN0y/blib/lib
    PERL5OPT = 
    PERL5_CPANPLUS_IS_RUNNING = 24328
    PERL5_CPAN_IS_RUNNING = 24328
    PERL5_CPAN_IS_RUNNING_IN_RECURSION = 252,24328
    PERL_CR_SMOKER_CURRENT = PDF-ReportWriter-1.5
    PERL_CR_SMOKER_RUNONCE = 1
    PERL_EXTUTILS_AUTOINSTALL = --defaultdeps
    PERL_MM_USE_DEFAULT = 1
    SHELL = /bin/bash
    TERM = xterm

Perl special variables (and OS-specific diagnostics, for MSWin32):

    $^X = /export/home/cpant3/perl5/bin/perl5.12.2
    $UID/$EUID = 103 / 103
    $GID = 1 1
    $EGID = 1 1

Perl module toolchain versions installed:

    Module              Have   
    ------------------- -------
    CPAN                1.94_56
    Cwd                 3.33   
    ExtUtils::CBuilder  0.2703 
    ExtUtils::Command   1.16   
    ExtUtils::Install   1.55   
    ExtUtils::MakeMaker 6.56   
    ExtUtils::Manifest  1.58   
    ExtUtils::ParseXS   2.2206 
    File::Spec          3.33   
    Module::Build       0.3607 
    Module::Signature   n/a    
    Test::Harness       3.22   
    Test::More          0.96   
    YAML                0.72   
    YAML::Syck          1.15   
    version             0.85   


--

Summary of my perl5 (revision 5 version 12 subversion 2) configuration:
   
  Platform:
    osname=solaris, osvers=2.11, archname=i86pc-solaris-64int
    uname='sunos open-solaris-noc 5.11 snv_95 i86pc i386 i86pc '
    config_args='-Dcc=gcc -Dprefix=~/perl5 -Duse64bitint -Dusedevel -d'
    hint=recommended, useposix=true, d_sigaction=define
    useithreads=undef, usemultiplicity=undef
    useperlio=define, d_sfio=undef, uselargefiles=define, usesocks=undef
    use64bitint=define, use64bitall=undef, uselongdouble=undef
    usemymalloc=n, bincompat5005=undef
  Compiler:
    cc='gcc', ccflags ='-DPTR_IS_LONG -fno-strict-aliasing -pipe -D_LARGEFILE_SOURCE -D_FILE_OFFSET_BITS=64 -DPERL_USE_SAFE_PUTENV',
    optimize='-O',
    cppflags='-DPTR_IS_LONG -fno-strict-aliasing -pipe'
    ccversion='', gccversion='3.4.3 (csl-sol210-3_4-20050802)', gccosandvers='solaris2.11'
    intsize=4, longsize=4, ptrsize=4, doublesize=8, byteorder=12345678
    d_longlong=define, longlongsize=8, d_longdbl=define, longdblsize=12
    ivtype='long long', ivsize=8, nvtype='double', nvsize=8, Off_t='off_t', lseeksize=8
    alignbytes=4, prototype=define
  Linker and Libraries:
    ld='gcc', ldflags =' '
    libpth=/usr/lib /usr/ccs/lib
    libs=-lsocket -lnsl -ldl -lm -lc
    perllibs=-lsocket -lnsl -ldl -lm -lc
    libc=/lib/libc.so, so=so, useshrplib=false, libperl=libperl.a
    gnulibc_version=''
  Dynamic Linking:
    dlsrc=dl_dlopen.xs, dlext=so, d_dlsymun=undef, ccdlflags=' '
    cccdlflags='-fPIC', lddlflags='-G'


Characteristics of this binary (from libperl): 
  Compile-time options: PERL_DONT_CREATE_GVSV PERL_MALLOC_WRAP PERL_USE_DEVEL
                        PERL_USE_SAFE_PUTENV USE_64_BIT_INT USE_LARGE_FILES
                        USE_PERLIO USE_PERL_ATOF
  Built under solaris
  Compiled at Sep 26 2010 12:56:09
  %ENV:
    PERL5LIB="/export/home/cpant3/.cpan/build/Image-Size-3.230-LhCGsQ/blib/arch:/export/home/cpant3/.cpan/build/Image-Size-3.230-LhCGsQ/blib/lib:/export/home/cpant3/.cpan/build/PDF-API2-0.73-kNGN0y/blib/arch:/export/home/cpant3/.cpan/build/PDF-API2-0.73-kNGN0y/blib/lib"
    PERL5OPT=""
    PERL5_CPANPLUS_IS_RUNNING="24328"
    PERL5_CPAN_IS_RUNNING="24328"
    PERL5_CPAN_IS_RUNNING_IN_RECURSION="252,24328"
    PERL_CR_SMOKER_CURRENT="PDF-ReportWriter-1.5"
    PERL_CR_SMOKER_RUNONCE="1"
    PERL_EXTUTILS_AUTOINSTALL="--defaultdeps"
    PERL_MM_USE_DEFAULT="1"
  @INC:
    /export/home/cpant3/.cpan/build/Image-Size-3.230-LhCGsQ/blib/arch
    /export/home/cpant3/.cpan/build/Image-Size-3.230-LhCGsQ/blib/lib
    /export/home/cpant3/.cpan/build/PDF-API2-0.73-kNGN0y/blib/arch
    /export/home/cpant3/.cpan/build/PDF-API2-0.73-kNGN0y/blib/lib
    /export/home/cpant3/perl5/lib/site_perl/5.12.2/i86pc-solaris-64int
    /export/home/cpant3/perl5/lib/site_perl/5.12.2
    /export/home/cpant3/perl5/lib/5.12.2/i86pc-solaris-64int
    /export/home/cpant3/perl5/lib/5.12.2
    /export/home/cpant3/perl5/lib/site_perl
    .