Report for Pinto-Server-0.50

Back
From: metabase:user:510d494e-cacf-11e1-aa53-54daee4a0299
Subject: PASS Pinto-Server-0.50 v5.16.0 GNU/Linux
Date: 2012-09-20T17:53:23Z

This distribution has been tested as part of the CPAN Testers
project, supporting the Perl programming language.  See
http://wiki.cpantesters.org/ for more information or email
questions to cpan-testers-discuss@perl.org


--
Dear Jeffrey Ryan Thalhammer,

This is a computer-generated report for Pinto-Server-0.50
on perl 5.16.0, created by CPAN-Reporter-1.2006.

Thank you for uploading your work to CPAN.  Congratulations!
All tests were successful.

Sections of this report:

    * Tester comments
    * Program output
    * Prerequisites
    * Environment and other context

------------------------------
TESTER COMMENTS
------------------------------

Additional comments from tester:

none provided

------------------------------
PROGRAM OUTPUT
------------------------------

Output from './Build test':

t/00-compile.t ......... ok
t/00-report-prereqs.t .. skipped: $ENV{AUTOMATED_TESTING} not set
t/01-functional.t ...... ok
t/02-authentication.t .. ok
All tests successful.
Files=4, Tests=72, 12 wallclock secs ( 0.05 usr  0.01 sys +  8.40 cusr  0.36 csys =  8.82 CPU)
Result: PASS

------------------------------
PREREQUISITES
------------------------------

Prerequisite modules loaded:

requires:

    Module                         Need   Have    
    ------------------------------ ------ --------
    Authen::Simple::Passwd         0      0.6     
    Carp                           0      1.26    
    Class::Load                    0      0.19    
    File::Copy                     0      2.23    
    File::Temp                     0      0.22    
    File::Which                    0      1.09    
    Getopt::Long                   0      2.38    
    IO::Handle::Util               0      0.01    
    IO::Interactive                0      0.0.6   
    IO::Pipe                       0      1.15    
    IPC::Run                       0      0.92    
    JSON                           0      2.53    
    List::MoreUtils                0      0.33    
    Log::Dispatch::Handle          0      2.32    
    Moose                          0      2.0603  
    MooseX::ClassAttribute         0      0.26    
    MooseX::Types::Moose           0      0.35    
    Path::Class                    0      0.26    
    perl                           5.006  5.016000
    Pinto                          0.052  0.052   
    Pinto::Constants               0      0.047   
    Pinto::Result                  0      0.052   
    Pinto::Tester                  0      0.052   
    Pinto::Types                   0      0.047   
    Plack::Middleware::Auth::Basic 0      0       
    Plack::MIME                    0      0       
    Plack::Request                 0      1.0001  
    Plack::Response                0      1.0001  
    Plack::Runner                  0      0       
    Pod::Usage                     0      1.51    
    POSIX                          0      1.30    
    Proc::Fork                     0      0.71    
    Router::Simple                 0      0.09    
    Scalar::Util                   0      1.25    
    strict                         0      1.07    
    Test::TCP                      0      1.17    
    Try::Tiny                      0      0.11    
    warnings                       0      1.13    

build_requires:

    Module                         Need   Have    
    ------------------------------ ------ --------
    Apache::Htpasswd               0      1.8     
    ExtUtils::MakeMaker            0      6.63_02 
    File::Find                     0      1.20    
    File::Spec::Functions          0      3.39_02 
    HTTP::Request                  0      6.00    
    HTTP::Request::Common          0      6.03    
    List::Util                     0      1.25    
    Module::Build                  0.3601 0.4002  
    PerlIO::gzip                   0      0.18    
    Pinto::Tester::Util            0      0.052   
    Plack::Test                    0      0       
    Test::More                     0      0.98    

configure_requires:

    Module                         Need   Have    
    ------------------------------ ------ --------
    Module::Build                  0.3601 0.4002  


------------------------------
ENVIRONMENT AND OTHER CONTEXT
------------------------------

Environment variables:

    LANG = en_US.UTF-8
    MANPATH_WITHOUT_PERLBREW = 
    PATH = /home/tjc/perl5/perlbrew/bin:/home/tjc/perl5/perlbrew/perls/perl-5.16.0/bin:/usr/lib/ccache:/usr/local/bin:/usr/bin:/bin:/usr/local/sbin:/usr/sbin:/sbin:/usr/local/bin:/home/tjc/bin:/home/tjc/.local/bin:/home/tjc/bin:/usr/local/bin:/home/tjc/bin
    PATH_WITHOUT_PERLBREW = /usr/lib/ccache:/usr/local/bin:/usr/bin:/bin:/usr/local/sbin:/usr/sbin:/sbin:/usr/local/bin:/home/tjc/bin:/home/tjc/.local/bin:/home/tjc/bin:/usr/local/bin:/home/tjc/bin
    PERL5LIB = 
    PERL5OPT = 
    PERL5_CPANPLUS_IS_RUNNING = 2065
    PERL5_CPAN_IS_RUNNING = 2065
    PERLBREW_BASHRC_VERSION = 0.41
    PERLBREW_HOME = /home/tjc/.perlbrew
    PERLBREW_MANPATH = /home/tjc/perl5/perlbrew/perls/perl-5.16.0/man
    PERLBREW_PATH = /home/tjc/perl5/perlbrew/bin:/home/tjc/perl5/perlbrew/perls/perl-5.16.0/bin
    PERLBREW_PERL = perl-5.16.0
    PERLBREW_ROOT = /home/tjc/perl5/perlbrew
    PERLBREW_VERSION = 0.41
    SHELL = /bin/bash
    TERM = xterm

Perl special variables (and OS-specific diagnostics, for MSWin32):

    $^X = /home/tjc/perl5/perlbrew/perls/perl-5.16.0/bin/perl
    $UID/$EUID = 1000 / 1000
    $GID = 1000 10 1000
    $EGID = 1000 10 1000

Perl module toolchain versions installed:

    Module              Have    
    ------------------- --------
    CPAN                1.9800  
    CPAN::Meta          2.120921
    Cwd                 3.39_02 
    ExtUtils::CBuilder  0.280206
    ExtUtils::Command   1.17    
    ExtUtils::Install   1.58    
    ExtUtils::MakeMaker 6.63_02 
    ExtUtils::Manifest  1.61    
    ExtUtils::ParseXS   3.16    
    File::Spec          3.39_02 
    JSON                2.53    
    JSON::PP            2.27200 
    Module::Build       0.4002  
    Module::Signature   n/a     
    Parse::CPAN::Meta   1.4404  
    Test::Harness       3.23    
    Test::More          0.98    
    YAML                0.84    
    YAML::Syck          1.20    
    version             0.99    


--

Summary of my perl5 (revision 5 version 16 subversion 0) configuration:
   
  Platform:
    osname=linux, osvers=3.3.5-2.fc16.i686, archname=i686-linux
    uname='linux tjc004 3.3.5-2.fc16.i686 #1 smp tue may 8 12:04:02 utc 2012 i686 i686 i386 gnulinux '
    config_args='-de -Dprefix=/home/tjc/perl5/perlbrew/perls/perl-5.16.0'
    hint=recommended, useposix=true, d_sigaction=define
    useithreads=undef, usemultiplicity=undef
    useperlio=define, d_sfio=undef, uselargefiles=define, usesocks=undef
    use64bitint=undef, use64bitall=undef, uselongdouble=undef
    usemymalloc=n, bincompat5005=undef
  Compiler:
    cc='cc', ccflags ='-fno-strict-aliasing -pipe -fstack-protector -I/usr/local/include -D_LARGEFILE_SOURCE -D_FILE_OFFSET_BITS=64',
    optimize='-O2',
    cppflags='-fno-strict-aliasing -pipe -fstack-protector -I/usr/local/include'
    ccversion='', gccversion='4.6.3 20120306 (Red Hat 4.6.3-2)', gccosandvers=''
    intsize=4, longsize=4, ptrsize=4, doublesize=8, byteorder=1234
    d_longlong=define, longlongsize=8, d_longdbl=define, longdblsize=12
    ivtype='long', ivsize=4, nvtype='double', nvsize=8, Off_t='off_t', lseeksize=8
    alignbytes=4, prototype=define
  Linker and Libraries:
    ld='cc', ldflags =' -fstack-protector -L/usr/local/lib'
    libpth=/usr/local/lib /lib /usr/lib
    libs=-lnsl -ldl -lm -lcrypt -lutil -lc
    perllibs=-lnsl -ldl -lm -lcrypt -lutil -lc
    libc=/lib/libc-2.14.90.so, so=so, useshrplib=false, libperl=libperl.a
    gnulibc_version='2.14.90'
  Dynamic Linking:
    dlsrc=dl_dlopen.xs, dlext=so, d_dlsymun=undef, ccdlflags='-Wl,-E'
    cccdlflags='-fPIC', lddlflags='-shared -O2 -L/usr/local/lib -fstack-protector'


Characteristics of this binary (from libperl): 
  Compile-time options: HAS_TIMES PERLIO_LAYERS PERL_DONT_CREATE_GVSV
                        PERL_MALLOC_WRAP PERL_PRESERVE_IVUV USE_LARGE_FILES
                        USE_LOCALE USE_LOCALE_COLLATE USE_LOCALE_CTYPE
                        USE_LOCALE_NUMERIC USE_PERLIO USE_PERL_ATOF
  Built under linux
  Compiled at May 24 2012 23:51:40
  %ENV:
    PERL5LIB=""
    PERL5OPT=""
    PERL5_CPANPLUS_IS_RUNNING="2065"
    PERL5_CPAN_IS_RUNNING="2065"
    PERLBREW_BASHRC_VERSION="0.41"
    PERLBREW_HOME="/home/tjc/.perlbrew"
    PERLBREW_MANPATH="/home/tjc/perl5/perlbrew/perls/perl-5.16.0/man"
    PERLBREW_PATH="/home/tjc/perl5/perlbrew/bin:/home/tjc/perl5/perlbrew/perls/perl-5.16.0/bin"
    PERLBREW_PERL="perl-5.16.0"
    PERLBREW_ROOT="/home/tjc/perl5/perlbrew"
    PERLBREW_VERSION="0.41"
  @INC:
    /home/tjc/perl5/perlbrew/perls/perl-5.16.0/lib/site_perl/5.16.0/i686-linux
    /home/tjc/perl5/perlbrew/perls/perl-5.16.0/lib/site_perl/5.16.0
    /home/tjc/perl5/perlbrew/perls/perl-5.16.0/lib/5.16.0/i686-linux
    /home/tjc/perl5/perlbrew/perls/perl-5.16.0/lib/5.16.0
    .