Reaction v0.002005 Perl 5 v5.12.5 x86_64-linux
- Status
- Pass
- From
- Slaven Rezić
- Dist
-
Reaction v0.002005
- Platform
- Perl 5 v5.12.5 x86_64-linux
- Date
- 2022-03-05 12:09:13
- ID
- 12314056-9c7d-11ec-a76b-05271f24ea8f
This distribution has been tested as part of the CPAN Testers
project, supporting the Perl programming language. See
http://wiki.cpantesters.org/ for more information or email
questions to cpan-testers-discuss@perl.org
--
Dear Justin Hunter,
This is a computer-generated report for Reaction-0.002005
on perl 5.12.5, created by CPAN-Reporter-1.2018.
Thank you for uploading your work to CPAN. Congratulations!
All tests were successful.
Sections of this report:
* Tester comments
* Program output
* Prerequisites
* Environment and other context
------------------------------
TESTER COMMENTS
------------------------------
Additional comments from tester:
none provided
------------------------------
PROGRAM OUTPUT
------------------------------
Output from '/usr/bin/make test':
PERL_DL_NONLAZY=1 "/opt/perl-5.12.5/bin/perl" "-MExtUtils::Command::MM" "-MTest::Harness" "-e" "undef *Test::Harness::Switches; test_harness(0, 'inc', 'blib/lib', 'blib/arch')" t/00componentui_compiles.t t/01app.t t/04load_all.t t/05reflect_attr_from.t t/im_dbic.t t/ui_focus_stack.t t/ui_view.t t/ui_viewport.t t/uncheck_bool_field.t
Class::MOP::load_class is deprecated at /opt/perl-5.12.5/lib/site_perl/5.12.5/x86_64-linux/Class/MOP.pm line 69.
Class::MOP::load_class("ComponentUI::TestModel") called at /home/cpansand/.cpan/build/2022030511/Reaction-0.002005-2/blib/lib/Catalyst/Model/Reaction/InterfaceModel/DBIC.pm line 24
Catalyst::Model::Reaction::InterfaceModel::DBIC::COMPONENT("ComponentUI::Model::TestModel", "ComponentUI", HASH(0x558843b8d788)) called at /opt/perl-5.12.5/lib/site_perl/5.12.5/Catalyst.pm line 3234
eval {...} called at /opt/perl-5.12.5/lib/site_perl/5.12.5/Catalyst.pm line 3235
Catalyst::setup_component("ComponentUI", "ComponentUI::Model::TestModel") called at /opt/perl-5.12.5/lib/site_perl/5.12.5/Catalyst.pm line 3212
Catalyst::__ANON__() called at /opt/perl-5.12.5/lib/site_perl/5.12.5/Catalyst.pm line 3058
Catalyst::setup_components("ComponentUI") called at /opt/perl-5.12.5/lib/site_perl/5.12.5/Catalyst.pm line 1431
Catalyst::setup("ComponentUI") called at /home/cpansand/.cpan/build/2022030511/Reaction-0.002005-2/blib/lib/ComponentUI.pm line 32
require ComponentUI.pm called at t/00componentui_compiles.t line 7
main::BEGIN() called at /home/cpansand/.cpan/build/2022030511/Reaction-0.002005-2/blib/lib/ComponentUI.pm line 0
eval {...} called at /home/cpansand/.cpan/build/2022030511/Reaction-0.002005-2/blib/lib/ComponentUI.pm line 0
eval 'package main;
BEGIN { ${^WARNING_BITS} = $args[-1] if defined $args[-1] }
#line 7 t/00componentui_compiles.t
use ComponentUI @{$args[0]};
1;
;' called at /opt/perl-5.12.5/lib/site_perl/5.12.5/Test/More.pm line 1034
Test::More::_eval("package main;\x{a}BEGIN { \${^WARNING_BITS} = \$args[-1] if defined"..., ARRAY(0x558841cc0e08), "UUUUUUUUUUUU\x{5}") called at /opt/perl-5.12.5/lib/site_perl/5.12.5/Test/More.pm line 1009
Test::More::use_ok("ComponentUI") called at t/00componentui_compiles.t line 7
Class::MOP::load_class is deprecated at /opt/perl-5.12.5/lib/site_perl/5.12.5/x86_64-linux/Class/MOP.pm line 69.
Class::MOP::load_class("Reaction::InterfaceModel::Object") called at /home/cpansand/.cpan/build/2022030511/Reaction-0.002005-2/blib/lib/Reaction/InterfaceModel/Reflector/DBIC.pm line 149
Reaction::InterfaceModel::Reflector::DBIC::reflect_schema(Reaction::InterfaceModel::Reflector::DBIC=HASH(0x5588470ba6e0), "model_class", "ComponentUI::TestModel", "schema_class", "RTest::TestDB", "sources", ARRAY(0x5588470fb0a8)) called at /home/cpansand/.cpan/build/2022030511/Reaction-0.002005-2/blib/lib/ComponentUI/TestModel.pm line 10
require ComponentUI/TestModel.pm called at /opt/perl-5.12.5/lib/site_perl/5.12.5/Module/Runtime.pm line 314
Module::Runtime::require_module("ComponentUI::TestModel") called at /opt/perl-5.12.5/lib/site_perl/5.12.5/Class/Load.pm line 174
Class::Load::try {...} () called at /opt/perl-5.12.5/lib/site_perl/5.12.5/Try/Tiny.pm line 97
eval {...} called at /opt/perl-5.12.5/lib/site_perl/5.12.5/Try/Tiny.pm line 93
Try::Tiny::try(CODE(0x55884676b050), Try::Tiny::Catch=REF(0x558846c722a0)) called at /opt/perl-5.12.5/lib/site_perl/5.12.5/Class/Load.pm line 180
Class::Load::try_load_class("ComponentUI::TestModel", undef) called at /opt/perl-5.12.5/lib/site_perl/5.12.5/Class/Load.pm line 35
Class::Load::load_class("ComponentUI::TestModel") called at /home/cpansand/.cpan/build/2022030511/Reaction-0.002005-2/blib/lib/Catalyst/Model/Reaction/InterfaceModel/DBIC.pm line 24
Catalyst::Model::Reaction::InterfaceModel::DBIC::COMPONENT("ComponentUI::Model::TestModel", "ComponentUI", HASH(0x558843b8d788)) called at /opt/perl-5.12.5/lib/site_perl/5.12.5/Catalyst.pm line 3234
eval {...} called at /opt/perl-5.12.5/lib/site_perl/5.12.5/Catalyst.pm line 3235
Catalyst::setup_component("ComponentUI", "ComponentUI::Model::TestModel") called at /opt/perl-5.12.5/lib/site_perl/5.12.5/Catalyst.pm line 3212
Catalyst::__ANON__() called at /opt/perl-5.12.5/lib/site_perl/5.12.5/Catalyst.pm line 3058
Catalyst::setup_components("ComponentUI") called at /opt/perl-5.12.5/lib/site_perl/5.12.5/Catalyst.pm line 1431
Catalyst::setup("ComponentUI") called at /home/cpansand/.cpan/build/2022030511/Reaction-0.002005-2/blib/lib/ComponentUI.pm line 32
require ComponentUI.pm called at t/00componentui_compiles.t line 7
main::BEGIN() called at /home/cpansand/.cpan/build/2022030511/Reaction-0.002005-2/blib/lib/ComponentUI/TestModel.pm line 0
eval {...} called at /home/cpansand/.cpan/build/2022030511/Reaction-0.002005-2/blib/lib/ComponentUI/TestModel.pm line 0
eval 'package main;
BEGIN { ${^WARNING_BITS} = $args[-1] if defined $args[-1] }
#line 7 t/00componentui_compiles.t
use ComponentUI @{$args[0]};
1;
;' called at /opt/perl-5.12.5/lib/site_perl/5.12.5/Test/More.pm line 1034
Test::More::_eval("package main;\x{a}BEGIN { \${^WARNING_BITS} = \$args[-1] if defined"..., ARRAY(0x558841cc0e08), "UUUUUUUUUUUU\x{5}") called at /opt/perl-5.12.5/lib/site_perl/5.12.5/Test/More.pm line 1009
Test::More::use_ok("ComponentUI") called at t/00componentui_compiles.t line 7
Class::MOP::load_class is deprecated at /opt/perl-5.12.5/lib/site_perl/5.12.5/x86_64-linux/Class/MOP.pm line 69.
Class::MOP::load_class("Reaction::InterfaceModel::Object") called at /home/cpansand/.cpan/build/2022030511/Reaction-0.002005-2/blib/lib/Reaction/Class.pm line 123
Reaction::Class::do_class_sub("Reaction::Class", "ComponentUI::TestModel::Foo", "ComponentUI::TestModel::Foo", "is", "Reaction::InterfaceModel::Object", "which", CODE(0x55884740a3f0)) called at /home/cpansand/.cpan/build/2022030511/Reaction-0.002005-2/blib/lib/Reaction/Class.pm line 86
Reaction::Class::("ComponentUI::TestModel::Foo", "is", "Reaction::InterfaceModel::Object", "which", CODE(0x55884740a3f0)) called at /home/cpansand/.cpan/build/2022030511/Reaction-0.002005-2/blib/lib/ComponentUI/TestModel/Foo.pm line 8
require ComponentUI/TestModel/Foo.pm called at /opt/perl-5.12.5/lib/site_perl/5.12.5/Module/Runtime.pm line 314
Module::Runtime::require_module("ComponentUI::TestModel::Foo") called at /opt/perl-5.12.5/lib/site_perl/5.12.5/Class/Load.pm line 174
Class::Load::try {...} () called at /opt/perl-5.12.5/lib/site_perl/5.12.5/Try/Tiny.pm line 97
eval {...} called at /opt/perl-5.12.5/lib/site_perl/5.12.5/Try/Tiny.pm line 93
Try::Tiny::try(CODE(0x5588473515a0), Try::Tiny::Catch=REF(0x55884740a708)) called at /opt/perl-5.12.5/lib/site_perl/5.12.5/Class/Load.pm line 180
Class::Load::try_load_class("ComponentUI::TestModel::Foo", undef) called at /opt/perl-5.12.5/lib/site_perl/5.12.5/Class/Load.pm line 35
Class::Load::load_class("ComponentUI::TestModel::Foo") called at /home/cpansand/.cpan/build/2022030511/Reaction-0.002005-2/blib/lib/Reaction/InterfaceModel/Reflector/DBIC.pm line 892
eval {...} called at /home/cpansand/.cpan/build/2022030511/Reaction-0.002005-2/blib/lib/Reaction/InterfaceModel/Reflector/DBIC.pm line 892
Reaction::InterfaceModel::Reflector::DBIC::_maybe_load_class(Reaction::InterfaceModel::Reflector::DBIC=HASH(0x5588470ba6e0), "ComponentUI::TestModel::Foo") called at /home/cpansand/.cpan/build/2022030511/Reaction-0.002005-2/blib/lib/Reaction/InterfaceModel/Reflector/DBIC.pm line 876
Reaction::InterfaceModel::Reflector::DBIC::_load_or_create(Reaction::InterfaceModel::Reflector::DBIC=HASH(0x5588470ba6e0), "ComponentUI::TestModel::Foo", "superclasses", ARRAY(0x5588473f8a10)) called at /home/cpansand/.cpan/build/2022030511/Reaction-0.002005-2/blib/lib/Reaction/InterfaceModel/Reflector/DBIC.pm line 448
Reaction::InterfaceModel::Reflector::DBIC::reflect_source_object(Reaction::InterfaceModel::Reflector::DBIC=HASH(0x5588470ba6e0), "schema_class", "RTest::TestDB", "source_name", "Foo", "source_class", "RTest::TestDB::Foo", "parent_class", ...) called at /home/cpansand/.cpan/build/2022030511/Reaction-0.002005-2/blib/lib/Reaction/InterfaceModel/Reflector/DBIC.pm line 323
Reaction::InterfaceModel::Reflector::DBIC::reflect_source(Reaction::InterfaceModel::Reflector::DBIC=HASH(0x5588470ba6e0), "source_name", "Foo", "parent_class", "ComponentUI::TestModel", "schema_class", "RTest::TestDB", "source_class", ...) called at /home/cpansand/.cpan/build/2022030511/Reaction-0.002005-2/blib/lib/Reaction/InterfaceModel/Reflector/DBIC.pm line 185
Reaction::InterfaceModel::Reflector::DBIC::reflect_schema(Reaction::InterfaceModel::Reflector::DBIC=HASH(0x5588470ba6e0), "model_class", "ComponentUI::TestModel", "schema_class", "RTest::TestDB", "sources", ARRAY(0x5588470fb0a8)) called at /home/cpansand/.cpan/build/2022030511/Reaction-0.002005-2/blib/lib/ComponentUI/TestModel.pm line 10
require ComponentUI/TestModel.pm called at /opt/perl-5.12.5/lib/site_perl/5.12.5/Module/Runtime.pm line 314
Module::Runtime::require_module("ComponentUI::TestModel") called at /opt/perl-5.12.5/lib/site_perl/5.12.5/Class/Load.pm line 174
Class::Load::try {...} () called at /opt/perl-5.12.5/lib/site_perl/5.12.5/Try/Tiny.pm line 97
eval {...} called at /opt/perl-5.12.5/lib/site_perl/5.12.5/Try/Tiny.pm line 93
Try::Tiny::try(CODE(0x55884676b050), Try::Tiny::Catch=REF(0x558846c722a0)) called at /opt/perl-5.12.5/lib/site_perl/5.12.5/Class/Load.pm line 180
Class::Load::try_load_class("ComponentUI::TestModel", undef) called at /opt/perl-5.12.5/lib/site_perl/5.12.5/Class/Load.pm line 35
Class::Load::load_class("ComponentUI::TestModel") called at /home/cpansand/.cpan/build/2022030511/Reaction-0.002005-2/blib/lib/Catalyst/Model/Reaction/InterfaceModel/DBIC.pm line 24
Catalyst::Model::Reaction::InterfaceModel::DBIC::COMPONENT("ComponentUI::Model::TestModel", "ComponentUI", HASH(0x558843b8d788)) called at /opt/perl-5.12.5/lib/site_perl/5.12.5/Catalyst.pm line 3234
eval {...} called at /opt/perl-5.12.5/lib/site_perl/5.12.5/Catalyst.pm line 3235
Catalyst::setup_component("ComponentUI", "ComponentUI::Model::TestModel") called at /opt/perl-5.12.5/lib/site_perl/5.12.5/Catalyst.pm line 3212
Catalyst::__ANON__() called at /opt/perl-5.12.5/lib/site_perl/5.12.5/Catalyst.pm line 3058
Catalyst::setup_components("ComponentUI") called at /opt/perl-5.12.5/lib/site_perl/5.12.5/Catalyst.pm line 1431
Catalyst::setup("ComponentUI") called at /home/cpansand/.cpan/build/2022030511/Reaction-0.002005-2/blib/lib/ComponentUI.pm line 32
require ComponentUI.pm called at t/00componentui_compiles.t line 7
main::BEGIN() called at /home/cpansand/.cpan/build/2022030511/Reaction-0.002005-2/blib/lib/ComponentUI/TestModel/Foo.pm line 0
eval {...} called at /home/cpansand/.cpan/build/2022030511/Reaction-0.002005-2/blib/lib/ComponentUI/TestModel/Foo.pm line 0
eval 'package main;
BEGIN { ${^WARNING_BITS} = $args[-1] if defined $args[-1] }
#line 7 t/00componentui_compiles.t
use ComponentUI @{$args[0]};
1;
;' called at /opt/perl-5.12.5/lib/site_perl/5.12.5/Test/More.pm line 1034
Test::More::_eval("package main;\x{a}BEGIN { \${^WARNING_BITS} = \$args[-1] if defined"..., ARRAY(0x558841cc0e08), "UUUUUUUUUUUU\x{5}") called at /opt/perl-5.12.5/lib/site_perl/5.12.5/Test/More.pm line 1009
Test::More::use_ok("ComponentUI") called at t/00componentui_compiles.t line 7
t/00componentui_compiles.t .. ok
Class::MOP::load_class is deprecated at /opt/perl-5.12.5/lib/site_perl/5.12.5/x86_64-linux/Class/MOP.pm line 69.
Class::MOP::load_class("ComponentUI::TestModel") called at /home/cpansand/.cpan/build/2022030511/Reaction-0.002005-2/blib/lib/Catalyst/Model/Reaction/InterfaceModel/DBIC.pm line 24
Catalyst::Model::Reaction::InterfaceModel::DBIC::COMPONENT("ComponentUI::Model::TestModel", "ComponentUI", HASH(0x561435dceb20)) called at /opt/perl-5.12.5/lib/site_perl/5.12.5/Catalyst.pm line 3234
eval {...} called at /opt/perl-5.12.5/lib/site_perl/5.12.5/Catalyst.pm line 3235
Catalyst::setup_component("ComponentUI", "ComponentUI::Model::TestModel") called at /opt/perl-5.12.5/lib/site_perl/5.12.5/Catalyst.pm line 3212
Catalyst::__ANON__() called at /opt/perl-5.12.5/lib/site_perl/5.12.5/Catalyst.pm line 3058
Catalyst::setup_components("ComponentUI") called at /opt/perl-5.12.5/lib/site_perl/5.12.5/Catalyst.pm line 1431
Catalyst::setup("ComponentUI") called at /home/cpansand/.cpan/build/2022030511/Reaction-0.002005-2/blib/lib/ComponentUI.pm line 32
require ComponentUI.pm called at /opt/perl-5.12.5/lib/site_perl/5.12.5/Module/Runtime.pm line 314
Module::Runtime::require_module("ComponentUI") called at /opt/perl-5.12.5/lib/site_perl/5.12.5/Class/Load.pm line 174
Class::Load::try {...} () called at /opt/perl-5.12.5/lib/site_perl/5.12.5/Try/Tiny.pm line 97
eval {...} called at /opt/perl-5.12.5/lib/site_perl/5.12.5/Try/Tiny.pm line 93
Try::Tiny::try(CODE(0x5614349910b0), Try::Tiny::Catch=REF(0x561434990e40)) called at /opt/perl-5.12.5/lib/site_perl/5.12.5/Class/Load.pm line 180
Class::Load::try_load_class("ComponentUI", undef) called at /opt/perl-5.12.5/lib/site_perl/5.12.5/Class/Load.pm line 35
Class::Load::load_class("ComponentUI") called at /opt/perl-5.12.5/lib/site_perl/5.12.5/Catalyst/Test.pm line 29
Catalyst::Test::_build_request_export("Catalyst::Test", HASH(0x561434d130e8)) called at /opt/perl-5.12.5/lib/site_perl/5.12.5/Catalyst/Test.pm line 92
Catalyst::Test::__ANON__("Catalyst::Test", "all", HASH(0x561434d130a0), HASH(0x561434cf6038)) called at /opt/perl-5.12.5/lib/site_perl/5.12.5/Sub/Exporter.pm line 492
Sub::Exporter::_expand_group("Catalyst::Test", HASH(0x561434d0c050), ARRAY(0x561434cf6020), HASH(0x561434cf6038), HASH(0x561434d13118), HASH(0x561433ec3210)) called at /opt/perl-5.12.5/lib/site_perl/5.12.5/Sub/Exporter.pm line 423
Sub::Exporter::_expand_groups("Catalyst::Test", HASH(0x561434d0c050), ARRAY(0x561434d0c2c0), HASH(0x561434cf6038)) called at /opt/perl-5.12.5/lib/site_perl/5.12.5/Sub/Exporter.pm line 741
Sub::Exporter::__ANON__("Catalyst::Test", "-all", HASH(0x561433a8d308)) called at /opt/perl-5.12.5/lib/site_perl/5.12.5/Catalyst/Test.pm line 155
Catalyst::Test::import("Catalyst::Test", "ComponentUI") called at t/01app.t line 7
main::BEGIN() called at /home/cpansand/.cpan/build/2022030511/Reaction-0.002005-2/blib/lib/ComponentUI.pm line 0
eval {...} called at /home/cpansand/.cpan/build/2022030511/Reaction-0.002005-2/blib/lib/ComponentUI.pm line 0
eval 'package main;
BEGIN { ${^WARNING_BITS} = $args[-1] if defined $args[-1] }
#line 7 t/01app.t
use Catalyst::Test @{$args[0]};
1;
;' called at /opt/perl-5.12.5/lib/site_perl/5.12.5/Test/More.pm line 1034
Test::More::_eval("package main;\x{a}BEGIN { \${^WARNING_BITS} = \$args[-1] if defined"..., ARRAY(0x561433e91d18), "UUUUUUUUUUUU\x{5}") called at /opt/perl-5.12.5/lib/site_perl/5.12.5/Test/More.pm line 1009
Test::More::use_ok("Catalyst::Test", "ComponentUI") called at t/01app.t line 7
main::BEGIN() called at /home/cpansand/.cpan/build/2022030511/Reaction-0.002005-2/blib/lib/ComponentUI.pm line 0
eval {...} called at /home/cpansand/.cpan/build/2022030511/Reaction-0.002005-2/blib/lib/ComponentUI.pm line 0
Class::MOP::load_class is deprecated at /opt/perl-5.12.5/lib/site_perl/5.12.5/x86_64-linux/Class/MOP.pm line 69.
Class::MOP::load_class("Reaction::InterfaceModel::Object") called at /home/cpansand/.cpan/build/2022030511/Reaction-0.002005-2/blib/lib/Reaction/InterfaceModel/Reflector/DBIC.pm line 149
Reaction::InterfaceModel::Reflector::DBIC::reflect_schema(Reaction::InterfaceModel::Reflector::DBIC=HASH(0x5614392b85c8), "model_class", "ComponentUI::TestModel", "schema_class", "RTest::TestDB", "sources", ARRAY(0x5614392f7760)) called at /home/cpansand/.cpan/build/2022030511/Reaction-0.002005-2/blib/lib/ComponentUI/TestModel.pm line 10
require ComponentUI/TestModel.pm called at /opt/perl-5.12.5/lib/site_perl/5.12.5/Module/Runtime.pm line 314
Module::Runtime::require_module("ComponentUI::TestModel") called at /opt/perl-5.12.5/lib/site_perl/5.12.5/Class/Load.pm line 174
Class::Load::try {...} () called at /opt/perl-5.12.5/lib/site_perl/5.12.5/Try/Tiny.pm line 97
eval {...} called at /opt/perl-5.12.5/lib/site_perl/5.12.5/Try/Tiny.pm line 93
Try::Tiny::try(CODE(0x5614389c4430), Try::Tiny::Catch=REF(0x561438e70030)) called at /opt/perl-5.12.5/lib/site_perl/5.12.5/Class/Load.pm line 180
Class::Load::try_load_class("ComponentUI::TestModel", undef) called at /opt/perl-5.12.5/lib/site_perl/5.12.5/Class/Load.pm line 35
Class::Load::load_class("ComponentUI::TestModel") called at /home/cpansand/.cpan/build/2022030511/Reaction-0.002005-2/blib/lib/Catalyst/Model/Reaction/InterfaceModel/DBIC.pm line 24
Catalyst::Model::Reaction::InterfaceModel::DBIC::COMPONENT("ComponentUI::Model::TestModel", "ComponentUI", HASH(0x561435dceb20)) called at /opt/perl-5.12.5/lib/site_perl/5.12.5/Catalyst.pm line 3234
eval {...} called at /opt/perl-5.12.5/lib/site_perl/5.12.5/Catalyst.pm line 3235
Catalyst::setup_component("ComponentUI", "ComponentUI::Model::TestModel") called at /opt/perl-5.12.5/lib/site_perl/5.12.5/Catalyst.pm line 3212
Catalyst::__ANON__() called at /opt/perl-5.12.5/lib/site_perl/5.12.5/Catalyst.pm line 3058
Catalyst::setup_components("ComponentUI") called at /opt/perl-5.12.5/lib/site_perl/5.12.5/Catalyst.pm line 1431
Catalyst::setup("ComponentUI") called at /home/cpansand/.cpan/build/2022030511/Reaction-0.002005-2/blib/lib/ComponentUI.pm line 32
require ComponentUI.pm called at /opt/perl-5.12.5/lib/site_perl/5.12.5/Module/Runtime.pm line 314
Module::Runtime::require_module("ComponentUI") called at /opt/perl-5.12.5/lib/site_perl/5.12.5/Class/Load.pm line 174
Class::Load::try {...} () called at /opt/perl-5.12.5/lib/site_perl/5.12.5/Try/Tiny.pm line 97
eval {...} called at /opt/perl-5.12.5/lib/site_perl/5.12.5/Try/Tiny.pm line 93
Try::Tiny::try(CODE(0x5614349910b0), Try::Tiny::Catch=REF(0x561434990e40)) called at /opt/perl-5.12.5/lib/site_perl/5.12.5/Class/Load.pm line 180
Class::Load::try_load_class("ComponentUI", undef) called at /opt/perl-5.12.5/lib/site_perl/5.12.5/Class/Load.pm line 35
Class::Load::load_class("ComponentUI") called at /opt/perl-5.12.5/lib/site_perl/5.12.5/Catalyst/Test.pm line 29
Catalyst::Test::_build_request_export("Catalyst::Test", HASH(0x561434d130e8)) called at /opt/perl-5.12.5/lib/site_perl/5.12.5/Catalyst/Test.pm line 92
Catalyst::Test::__ANON__("Catalyst::Test", "all", HASH(0x561434d130a0), HASH(0x561434cf6038)) called at /opt/perl-5.12.5/lib/site_perl/5.12.5/Sub/Exporter.pm line 492
Sub::Exporter::_expand_group("Catalyst::Test", HASH(0x561434d0c050), ARRAY(0x561434cf6020), HASH(0x561434cf6038), HASH(0x561434d13118), HASH(0x561433ec3210)) called at /opt/perl-5.12.5/lib/site_perl/5.12.5/Sub/Exporter.pm line 423
Sub::Exporter::_expand_groups("Catalyst::Test", HASH(0x561434d0c050), ARRAY(0x561434d0c2c0), HASH(0x561434cf6038)) called at /opt/perl-5.12.5/lib/site_perl/5.12.5/Sub/Exporter.pm line 741
Sub::Exporter::__ANON__("Catalyst::Test", "-all", HASH(0x561433a8d308)) called at /opt/perl-5.12.5/lib/site_perl/5.12.5/Catalyst/Test.pm line 155
Catalyst::Test::import("Catalyst::Test", "ComponentUI") called at t/01app.t line 7
main::BEGIN() called at /home/cpansand/.cpan/build/2022030511/Reaction-0.002005-2/blib/lib/ComponentUI/TestModel.pm line 0
eval {...} called at /home/cpansand/.cpan/build/2022030511/Reaction-0.002005-2/blib/lib/ComponentUI/TestModel.pm line 0
eval 'package main;
BEGIN { ${^WARNING_BITS} = $args[-1] if defined $args[-1] }
#line 7 t/01app.t
use Catalyst::Test @{$args[0]};
1;
;' called at /opt/perl-5.12.5/lib/site_perl/5.12.5/Test/More.pm line 1034
Test::More::_eval("package main;\x{a}BEGIN { \${^WARNING_BITS} = \$args[-1] if defined"..., ARRAY(0x561433e91d18), "UUUUUUUUUUUU\x{5}") called at /opt/perl-5.12.5/lib/site_perl/5.12.5/Test/More.pm line 1009
Test::More::use_ok("Catalyst::Test", "ComponentUI") called at t/01app.t line 7
main::BEGIN() called at /home/cpansand/.cpan/build/2022030511/Reaction-0.002005-2/blib/lib/ComponentUI/TestModel.pm line 0
eval {...} called at /home/cpansand/.cpan/build/2022030511/Reaction-0.002005-2/blib/lib/ComponentUI/TestModel.pm line 0
Class::MOP::load_class is deprecated at /opt/perl-5.12.5/lib/site_perl/5.12.5/x86_64-linux/Class/MOP.pm line 69.
Class::MOP::load_class("Reaction::InterfaceModel::Object") called at /home/cpansand/.cpan/build/2022030511/Reaction-0.002005-2/blib/lib/Reaction/Class.pm line 123
Reaction::Class::do_class_sub("Reaction::Class", "ComponentUI::TestModel::Foo", "ComponentUI::TestModel::Foo", "is", "Reaction::InterfaceModel::Object", "which", CODE(0x561439607ed8)) called at /home/cpansand/.cpan/build/2022030511/Reaction-0.002005-2/blib/lib/Reaction/Class.pm line 86
Reaction::Class::("ComponentUI::TestModel::Foo", "is", "Reaction::InterfaceModel::Object", "which", CODE(0x561439607ed8)) called at /home/cpansand/.cpan/build/2022030511/Reaction-0.002005-2/blib/lib/ComponentUI/TestModel/Foo.pm line 8
require ComponentUI/TestModel/Foo.pm called at /opt/perl-5.12.5/lib/site_perl/5.12.5/Module/Runtime.pm line 314
Module::Runtime::require_module("ComponentUI::TestModel::Foo") called at /opt/perl-5.12.5/lib/site_perl/5.12.5/Class/Load.pm line 174
Class::Load::try {...} () called at /opt/perl-5.12.5/lib/site_perl/5.12.5/Try/Tiny.pm line 97
eval {...} called at /opt/perl-5.12.5/lib/site_perl/5.12.5/Try/Tiny.pm line 93
Try::Tiny::try(CODE(0x56143954e4d8), Try::Tiny::Catch=REF(0x5614396081f0)) called at /opt/perl-5.12.5/lib/site_perl/5.12.5/Class/Load.pm line 180
Class::Load::try_load_class("ComponentUI::TestModel::Foo", undef) called at /opt/perl-5.12.5/lib/site_perl/5.12.5/Class/Load.pm line 35
Class::Load::load_class("ComponentUI::TestModel::Foo") called at /home/cpansand/.cpan/build/2022030511/Reaction-0.002005-2/blib/lib/Reaction/InterfaceModel/Reflector/DBIC.pm line 892
eval {...} called at /home/cpansand/.cpan/build/2022030511/Reaction-0.002005-2/blib/lib/Reaction/InterfaceModel/Reflector/DBIC.pm line 892
Reaction::InterfaceModel::Reflector::DBIC::_maybe_load_class(Reaction::InterfaceModel::Reflector::DBIC=HASH(0x5614392b85c8), "ComponentUI::TestModel::Foo") called at /home/cpansand/.cpan/build/2022030511/Reaction-0.002005-2/blib/lib/Reaction/InterfaceModel/Reflector/DBIC.pm line 876
Reaction::InterfaceModel::Reflector::DBIC::_load_or_create(Reaction::InterfaceModel::Reflector::DBIC=HASH(0x5614392b85c8), "ComponentUI::TestModel::Foo", "superclasses", ARRAY(0x5614395f6588)) called at /home/cpansand/.cpan/build/2022030511/Reaction-0.002005-2/blib/lib/Reaction/InterfaceModel/Reflector/DBIC.pm line 448
Reaction::InterfaceModel::Reflector::DBIC::reflect_source_object(Reaction::InterfaceModel::Reflector::DBIC=HASH(0x5614392b85c8), "schema_class", "RTest::TestDB", "source_name", "Foo", "source_class", "RTest::TestDB::Foo", "parent_class", ...) called at /home/cpansand/.cpan/build/2022030511/Reaction-0.002005-2/blib/lib/Reaction/InterfaceModel/Reflector/DBIC.pm line 323
Reaction::InterfaceModel::Reflector::DBIC::reflect_source(Reaction::InterfaceModel::Reflector::DBIC=HASH(0x5614392b85c8), "source_name", "Foo", "parent_class", "ComponentUI::TestModel", "schema_class", "RTest::TestDB", "source_class", ...) called at /home/cpansand/.cpan/build/2022030511/Reaction-0.002005-2/blib/lib/Reaction/InterfaceModel/Reflector/DBIC.pm line 185
Reaction::InterfaceModel::Reflector::DBIC::reflect_schema(Reaction::InterfaceModel::Reflector::DBIC=HASH(0x5614392b85c8), "model_class", "ComponentUI::TestModel", "schema_class", "RTest::TestDB", "sources", ARRAY(0x5614392f7760)) called at /home/cpansand/.cpan/build/2022030511/Reaction-0.002005-2/blib/lib/ComponentUI/TestModel.pm line 10
require ComponentUI/TestModel.pm called at /opt/perl-5.12.5/lib/site_perl/5.12.5/Module/Runtime.pm line 314
Module::Runtime::require_module("ComponentUI::TestModel") called at /opt/perl-5.12.5/lib/site_perl/5.12.5/Class/Load.pm line 174
Class::Load::try {...} () called at /opt/perl-5.12.5/lib/site_perl/5.12.5/Try/Tiny.pm line 97
eval {...} called at /opt/perl-5.12.5/lib/site_perl/5.12.5/Try/Tiny.pm line 93
Try::Tiny::try(CODE(0x5614389c4430), Try::Tiny::Catch=REF(0x561438e70030)) called at /opt/perl-5.12.5/lib/site_perl/5.12.5/Class/Load.pm line 180
Class::Load::try_load_class("ComponentUI::TestModel", undef) called at /opt/perl-5.12.5/lib/site_perl/5.12.5/Class/Load.pm line 35
Class::Load::load_class("ComponentUI::TestModel") called at /home/cpansand/.cpan/build/2022030511/Reaction-0.002005-2/blib/lib/Catalyst/Model/Reaction/InterfaceModel/DBIC.pm line 24
Catalyst::Model::Reaction::InterfaceModel::DBIC::COMPONENT("ComponentUI::Model::TestModel", "ComponentUI", HASH(0x561435dceb20)) called at /opt/perl-5.12.5/lib/site_perl/5.12.5/Catalyst.pm line 3234
eval {...} called at /opt/perl-5.12.5/lib/site_perl/5.12.5/Catalyst.pm line 3235
Catalyst::setup_component("ComponentUI", "ComponentUI::Model::TestModel") called at /opt/perl-5.12.5/lib/site_perl/5.12.5/Catalyst.pm line 3212
Catalyst::__ANON__() called at /opt/perl-5.12.5/lib/site_perl/5.12.5/Catalyst.pm line 3058
Catalyst::setup_components("ComponentUI") called at /opt/perl-5.12.5/lib/site_perl/5.12.5/Catalyst.pm line 1431
Catalyst::setup("ComponentUI") called at /home/cpansand/.cpan/build/2022030511/Reaction-0.002005-2/blib/lib/ComponentUI.pm line 32
require ComponentUI.pm called at /opt/perl-5.12.5/lib/site_perl/5.12.5/Module/Runtime.pm line 314
Module::Runtime::require_module("ComponentUI") called at /opt/perl-5.12.5/lib/site_perl/5.12.5/Class/Load.pm line 174
Class::Load::try {...} () called at /opt/perl-5.12.5/lib/site_perl/5.12.5/Try/Tiny.pm line 97
eval {...} called at /opt/perl-5.12.5/lib/site_perl/5.12.5/Try/Tiny.pm line 93
Try::Tiny::try(CODE(0x5614349910b0), Try::Tiny::Catch=REF(0x561434990e40)) called at /opt/perl-5.12.5/lib/site_perl/5.12.5/Class/Load.pm line 180
Class::Load::try_load_class("ComponentUI", undef) called at /opt/perl-5.12.5/lib/site_perl/5.12.5/Class/Load.pm line 35
Class::Load::load_class("ComponentUI") called at /opt/perl-5.12.5/lib/site_perl/5.12.5/Catalyst/Test.pm line 29
Catalyst::Test::_build_request_export("Catalyst::Test", HASH(0x561434d130e8)) called at /opt/perl-5.12.5/lib/site_perl/5.12.5/Catalyst/Test.pm line 92
Catalyst::Test::__ANON__("Catalyst::Test", "all", HASH(0x561434d130a0), HASH(0x561434cf6038)) called at /opt/perl-5.12.5/lib/site_perl/5.12.5/Sub/Exporter.pm line 492
Sub::Exporter::_expand_group("Catalyst::Test", HASH(0x561434d0c050), ARRAY(0x561434cf6020), HASH(0x561434cf6038), HASH(0x561434d13118), HASH(0x561433ec3210)) called at /opt/perl-5.12.5/lib/site_perl/5.12.5/Sub/Exporter.pm line 423
Sub::Exporter::_expand_groups("Catalyst::Test", HASH(0x561434d0c050), ARRAY(0x561434d0c2c0), HASH(0x561434cf6038)) called at /opt/perl-5.12.5/lib/site_perl/5.12.5/Sub/Exporter.pm line 741
Sub::Exporter::__ANON__("Catalyst::Test", "-all", HASH(0x561433a8d308)) called at /opt/perl-5.12.5/lib/site_perl/5.12.5/Catalyst/Test.pm line 155
Catalyst::Test::import("Catalyst::Test", "ComponentUI") called at t/01app.t line 7
main::BEGIN() called at /home/cpansand/.cpan/build/2022030511/Reaction-0.002005-2/blib/lib/ComponentUI/TestModel/Foo.pm line 0
eval {...} called at /home/cpansand/.cpan/build/2022030511/Reaction-0.002005-2/blib/lib/ComponentUI/TestModel/Foo.pm line 0
eval 'package main;
BEGIN { ${^WARNING_BITS} = $args[-1] if defined $args[-1] }
#line 7 t/01app.t
use Catalyst::Test @{$args[0]};
1;
;' called at /opt/perl-5.12.5/lib/site_perl/5.12.5/Test/More.pm line 1034
Test::More::_eval("package main;\x{a}BEGIN { \${^WARNING_BITS} = \$args[-1] if defined"..., ARRAY(0x561433e91d18), "UUUUUUUUUUUU\x{5}") called at /opt/perl-5.12.5/lib/site_perl/5.12.5/Test/More.pm line 1009
Test::More::use_ok("Catalyst::Test", "ComponentUI") called at t/01app.t line 7
main::BEGIN() called at /home/cpansand/.cpan/build/2022030511/Reaction-0.002005-2/blib/lib/ComponentUI/TestModel/Foo.pm line 0
eval {...} called at /home/cpansand/.cpan/build/2022030511/Reaction-0.002005-2/blib/lib/ComponentUI/TestModel/Foo.pm line 0
Class::MOP::load_class is deprecated at /opt/perl-5.12.5/lib/site_perl/5.12.5/x86_64-linux/Class/MOP.pm line 69.
Class::MOP::load_class("ComponentUI::RenderingContext::Site") called at /home/cpansand/.cpan/build/2022030511/Reaction-0.002005-2/blib/lib/Reaction/UI/View.pm line 125
eval {...} called at /home/cpansand/.cpan/build/2022030511/Reaction-0.002005-2/blib/lib/Reaction/UI/View.pm line 125
Reaction::UI::View::find_related_class(ComponentUI::View::Site=HASH(0x561438953518), "RenderingContext") called at /home/cpansand/.cpan/build/2022030511/Reaction-0.002005-2/blib/lib/Reaction/UI/View.pm line 43
Reaction::UI::View::_build_rendering_context_class(ComponentUI::View::Site=HASH(0x561438953518)) called at reader Reaction::UI::View::rendering_context_class (defined at /home/cpansand/.cpan/build/2022030511/Reaction-0.002005-2/blib/lib/Reaction/UI/View.pm line 29) line 7
Reaction::UI::View::rendering_context_class(ComponentUI::View::Site=HASH(0x561438953518)) called at /home/cpansand/.cpan/build/2022030511/Reaction-0.002005-2/blib/lib/Reaction/UI/View.pm line 134
Reaction::UI::View::create_rendering_context(ComponentUI::View::Site=HASH(0x561438953518)) called at /home/cpansand/.cpan/build/2022030511/Reaction-0.002005-2/blib/lib/Reaction/UI/View.pm line 60
Reaction::UI::View::render_window(ComponentUI::View::Site=HASH(0x561438953518), Reaction::UI::Window=HASH(0x7f4ebf0a8450)) called at /home/cpansand/.cpan/build/2022030511/Reaction-0.002005-2/blib/lib/Reaction/UI/Window.pm line 74
Reaction::UI::Window::flush_view(Reaction::UI::Window=HASH(0x7f4ebf0a8450)) called at /home/cpansand/.cpan/build/2022030511/Reaction-0.002005-2/blib/lib/Reaction/UI/Window.pm line 36
Reaction::UI::Window::flush(Reaction::UI::Window=HASH(0x7f4ebf0a8450)) called at /home/cpansand/.cpan/build/2022030511/Reaction-0.002005-2/blib/lib/Reaction/UI/Controller/Root.pm line 38
Reaction::UI::Controller::Root::end(ComponentUI::Controller::Root=HASH(0x7f4ebf0a5a38), ComponentUI=HASH(0x7f4ebf0a4bc8)) called at /opt/perl-5.12.5/lib/site_perl/5.12.5/Catalyst/Action.pm line 358
Catalyst::Action::execute(Catalyst::Action=HASH(0x561439855190), ComponentUI::Controller::Root=HASH(0x7f4ebf0a5a38), ComponentUI=HASH(0x7f4ebf0a4bc8)) called at /opt/perl-5.12.5/lib/site_perl/5.12.5/Catalyst.pm line 2060
eval {...} called at /opt/perl-5.12.5/lib/site_perl/5.12.5/Catalyst.pm line 2060
Catalyst::execute(ComponentUI=HASH(0x7f4ebf0a4bc8), "ComponentUI::Controller::Root", Catalyst::Action=HASH(0x561439855190)) called at /opt/perl-5.12.5/lib/site_perl/5.12.5/Catalyst/Action.pm line 353
Catalyst::Action::dispatch(Catalyst::Action=HASH(0x561439855190), ComponentUI=HASH(0x7f4ebf0a4bc8)) called at /opt/perl-5.12.5/lib/site_perl/5.12.5/Catalyst/Controller.pm line 188
Catalyst::Controller::_END(ComponentUI::Controller::Root=HASH(0x7f4ebf0a5a38), ComponentUI=HASH(0x7f4ebf0a4bc8)) called at /opt/perl-5.12.5/lib/site_perl/5.12.5/Catalyst/Action.pm line 358
Catalyst::Action::execute(Catalyst::Action=HASH(0x56143984aaa8), ComponentUI::Controller::Root=HASH(0x7f4ebf0a5a38), ComponentUI=HASH(0x7f4ebf0a4bc8)) called at /opt/perl-5.12.5/lib/site_perl/5.12.5/Catalyst.pm line 2060
eval {...} called at /opt/perl-5.12.5/lib/site_perl/5.12.5/Catalyst.pm line 2060
Catalyst::execute(ComponentUI=HASH(0x7f4ebf0a4bc8), "ComponentUI::Controller::Root", Catalyst::Action=HASH(0x56143984aaa8)) called at /opt/perl-5.12.5/lib/site_perl/5.12.5/Catalyst/Action.pm line 353
Catalyst::Action::dispatch(Catalyst::Action=HASH(0x56143984aaa8), ComponentUI=HASH(0x7f4ebf0a4bc8)) called at /opt/perl-5.12.5/lib/site_perl/5.12.5/Catalyst/Dispatcher.pm line 261
Catalyst::Dispatcher::_do_forward(Catalyst::Dispatcher=HASH(0x561435364b58), "forward", ComponentUI=HASH(0x7f4ebf0a4bc8), "_END") called at /opt/perl-5.12.5/lib/site_perl/5.12.5/Catalyst/Dispatcher.pm line 241
Catalyst::Dispatcher::forward(Catalyst::Dispatcher=HASH(0x561435364b58), ComponentUI=HASH(0x7f4ebf0a4bc8), "_END") called at /opt/perl-5.12.5/lib/site_perl/5.12.5/Catalyst.pm line 482
Catalyst::forward(ComponentUI=HASH(0x7f4ebf0a4bc8), "_END") called at /opt/perl-5.12.5/lib/site_perl/5.12.5/Catalyst/Controller.pm line 137
Catalyst::Controller::_DISPATCH(ComponentUI::Controller::Root=HASH(0x7f4ebf0a5a38), ComponentUI=HASH(0x7f4ebf0a4bc8)) called at /opt/perl-5.12.5/lib/site_perl/5.12.5/Catalyst/Action.pm line 358
Catalyst::Action::execute(Catalyst::Action=HASH(0x561439877fc0), ComponentUI::Controller::Root=HASH(0x7f4ebf0a5a38), ComponentUI=HASH(0x7f4ebf0a4bc8)) called at /opt/perl-5.12.5/lib/site_perl/5.12.5/Catalyst.pm line 2060
eval {...} called at /opt/perl-5.12.5/lib/site_perl/5.12.5/Catalyst.pm line 2060
Catalyst::execute(ComponentUI=HASH(0x7f4ebf0a4bc8), "ComponentUI::Controller::Root", Catalyst::Action=HASH(0x561439877fc0)) called at /opt/perl-5.12.5/lib/site_perl/5.12.5/Catalyst/Action.pm line 353
Catalyst::Action::dispatch(Catalyst::Action=HASH(0x561439877fc0), ComponentUI=HASH(0x7f4ebf0a4bc8)) called at /opt/perl-5.12.5/lib/site_perl/5.12.5/Catalyst/Dispatcher.pm line 261
Catalyst::Dispatcher::_do_forward(Catalyst::Dispatcher=HASH(0x561435364b58), "forward", ComponentUI=HASH(0x7f4ebf0a4bc8), "//_DISPATCH") called at /opt/perl-5.12.5/lib/site_perl/5.12.5/Catalyst/Dispatcher.pm line 241
Catalyst::Dispatcher::forward(Catalyst::Dispatcher=HASH(0x561435364b58), ComponentUI=HASH(0x7f4ebf0a4bc8), "//_DISPATCH") called at /opt/perl-5.12.5/lib/site_perl/5.12.5/Catalyst.pm line 482
Catalyst::forward(ComponentUI=HASH(0x7f4ebf0a4bc8), "//_DISPATCH") called at /opt/perl-5.12.5/lib/site_perl/5.12.5/Catalyst/Dispatcher.pm line 106
Catalyst::Dispatcher::dispatch(Catalyst::Dispatcher=HASH(0x561435364b58), ComponentUI=HASH(0x7f4ebf0a4bc8)) called at /opt/perl-5.12.5/lib/site_perl/5.12.5/Catalyst.pm line 2006
Catalyst::dispatch(ComponentUI=HASH(0x7f4ebf0a4bc8)) called at /opt/perl-5.12.5/lib/site_perl/5.12.5/Catalyst/Plugin/Static/Simple.pm line 85
Class::MOP::Class:::around(CODE(0x5614357721d8), ComponentUI=HASH(0x7f4ebf0a4bc8)) called at /opt/perl-5.12.5/lib/site_perl/5.12.5/x86_64-linux/Class/MOP/Method/Wrapped.pm line 166
ComponentUI::_wrapped_dispatch(ComponentUI=HASH(0x7f4ebf0a4bc8)) called at /opt/perl-5.12.5/lib/site_perl/5.12.5/x86_64-linux/Class/MOP/Method/Wrapped.pm line 97
ComponentUI::dispatch(ComponentUI=HASH(0x7f4ebf0a4bc8)) called at /opt/perl-5.12.5/lib/site_perl/5.12.5/Catalyst.pm line 2412
Catalyst::try {...} () called at /opt/perl-5.12.5/lib/site_perl/5.12.5/Try/Tiny.pm line 102
eval {...} called at /opt/perl-5.12.5/lib/site_perl/5.12.5/Try/Tiny.pm line 93
Try::Tiny::try(CODE(0x7f4ebf0a44d8), Try::Tiny::Catch=REF(0x7f4ebf0a42f8)) called at /opt/perl-5.12.5/lib/site_perl/5.12.5/Catalyst.pm line 2421
Catalyst::handle_request("ComponentUI", "env", HASH(0x7f4ebf0a2798), "response_cb", CODE(0x7f4ebf0a4358)) called at /opt/perl-5.12.5/lib/site_perl/5.12.5/Catalyst/Engine.pm line 807
Catalyst::Engine::__ANON__(CODE(0x7f4ebf0a4358)) called at /opt/perl-5.12.5/lib/site_perl/5.12.5/Plack/Middleware/HTTPExceptions.pm line 32
Plack::Middleware::HTTPExceptions::try {...} () called at /opt/perl-5.12.5/lib/site_perl/5.12.5/Try/Tiny.pm line 102
eval {...} called at /opt/perl-5.12.5/lib/site_perl/5.12.5/Try/Tiny.pm line 93
Try::Tiny::try(CODE(0x7f4ebf0a4118), Try::Tiny::Catch=REF(0x7f4ebf0a3338)) called at /opt/perl-5.12.5/lib/site_perl/5.12.5/Plack/Middleware/HTTPExceptions.pm line 41
Plack::Middleware::HTTPExceptions::__ANON__(CODE(0x7f4ebf0a3fc8)) called at /opt/perl-5.12.5/lib/site_perl/5.12.5/Plack/Util.pm line 339
Plack::Util::__ANON__(CODE(0x7f4ebf0a3e78)) called at /opt/perl-5.12.5/lib/site_perl/5.12.5/Plack/Util.pm line 339
Plack::Util::__ANON__(CODE(0x7f4ebf0a3d28)) called at /opt/perl-5.12.5/lib/site_perl/5.12.5/Plack/Util.pm line 339
Plack::Util::__ANON__(CODE(0x7f4ebf0a3c80)) called at /opt/perl-5.12.5/lib/site_perl/5.12.5/HTTP/Message/PSGI.pm line 100
HTTP::Message::PSGI::res_from_psgi(CODE(0x7f4ebf0a3188)) called at /opt/perl-5.12.5/lib/site_perl/5.12.5/HTTP/Message/PSGI.pm line 157
HTTP::Response::from_psgi("HTTP::Response", CODE(0x7f4ebf0a3188)) called at /opt/perl-5.12.5/lib/site_perl/5.12.5/Plack/Test/MockHTTP.pm line 24
Plack::Test::MockHTTP::try {...} () called at /opt/perl-5.12.5/lib/site_perl/5.12.5/Try/Tiny.pm line 97
eval {...} called at /opt/perl-5.12.5/lib/site_perl/5.12.5/Try/Tiny.pm line 93
Try::Tiny::try(CODE(0x561433ec2bb0), Try::Tiny::Catch=REF(0x561439909628)) called at /opt/perl-5.12.5/lib/site_perl/5.12.5/Plack/Test/MockHTTP.pm line 27
Plack::Test::MockHTTP::request(Plack::Test::MockHTTP=HASH(0x7f4ebf09a368), HTTP::Request=HASH(0x7f4ebf099dc8)) called at /opt/perl-5.12.5/lib/site_perl/5.12.5/Plack/Test.pm line 38
Plack::Test::__ANON__(HTTP::Request=HASH(0x7f4ebf099dc8)) called at /opt/perl-5.12.5/lib/site_perl/5.12.5/Catalyst/Test.pm line 290
Catalyst::Test::__ANON__(CODE(0x7f4ebf09a1e8)) called at /opt/perl-5.12.5/lib/site_perl/5.12.5/Plack/Test.pm line 38
Plack::Test::test_psgi("app", CODE(0x7f4ebf099588), "mangle_response", CODE(0x561434d00f80), "app", CODE(0x7f4ebf099f00), "client", CODE(0x7f4ebf099fd8)) called at /opt/perl-5.12.5/lib/site_perl/5.12.5/Catalyst/Test.pm line 293
Catalyst::Test::_request(HASH(0x7f4ebf0994b0), "/") called at /opt/perl-5.12.5/lib/site_perl/5.12.5/Catalyst/Test.pm line 336
Catalyst::Test::_local_request("ComponentUI", "/") called at /opt/perl-5.12.5/lib/site_perl/5.12.5/Catalyst/Test.pm line 32
Catalyst::Test::__ANON__("/") called at t/01app.t line 10
Class::MOP::is_class_loaded is deprecated at /opt/perl-5.12.5/lib/site_perl/5.12.5/x86_64-linux/Class/MOP.pm line 87.
Class::MOP::is_class_loaded("ComponentUI::UI::Widget::SiteLayout") called at /home/cpansand/.cpan/build/2022030511/Reaction-0.002005-2/blib/lib/Reaction/UI/Skin.pm line 178
Reaction::UI::Skin::widget_class_for(Reaction::UI::Skin=HASH(0x7f4ebf0b2e60), Reaction::UI::LayoutSet::TT=HASH(0x7f4ebf0ba6a8)) called at /home/cpansand/.cpan/build/2022030511/Reaction-0.002005-2/blib/lib/Reaction/UI/LayoutSet.pm line 28
Reaction::UI::LayoutSet::BUILD(Reaction::UI::LayoutSet::TT=HASH(0x7f4ebf0ba6a8), HASH(0x7f4ebf0ba618)) called at constructor Reaction::UI::LayoutSet::TT::new (defined at /home/cpansand/.cpan/build/2022030511/Reaction-0.002005-2/blib/lib/Reaction/UI/LayoutSet/TT.pm line 43) line 80
Reaction::UI::LayoutSet::TT::new("Reaction::UI::LayoutSet::TT", "name", "site_layout", "skin", Reaction::UI::Skin=HASH(0x7f4ebf0b2e60), "tt_object", Template=HASH(0x561439733280), "source_file", ...) called at /home/cpansand/.cpan/build/2022030511/Reaction-0.002005-2/blib/lib/Reaction/UI/Skin.pm line 114
Reaction::UI::Skin::_create_layout_set(Reaction::UI::Skin=HASH(0x7f4ebf0b2e60), "site_layout", ARRAY(0x7f4ebf0b5d88), Reaction::UI::Skin=HASH(0x7f4ebf0b2e60)) called at /home/cpansand/.cpan/build/2022030511/Reaction-0.002005-2/blib/lib/Reaction/UI/Skin.pm line 110
Reaction::UI::Skin::create_layout_set(Reaction::UI::Skin=HASH(0x7f4ebf0b2e60), "site_layout") called at /home/cpansand/.cpan/build/2022030511/Reaction-0.002005-2/blib/lib/Reaction/UI/LayoutSet.pm line 83
Reaction::UI::LayoutSet::_load_file(Reaction::UI::LayoutSet::TT=HASH(0x7f4ebf0b8d10), Path::Class::File=HASH(0x7f4ebf0b1b40), HASH(0x7f4ebf0b6fd0)) called at /home/cpansand/.cpan/build/2022030511/Reaction-0.002005-2/blib/lib/Reaction/UI/LayoutSet.pm line 27
Reaction::UI::LayoutSet::BUILD(Reaction::UI::LayoutSet::TT=HASH(0x7f4ebf0b8d10), HASH(0x7f4ebf0b6fd0)) called at constructor Reaction::UI::LayoutSet::TT::new (defined at /home/cpansand/.cpan/build/2022030511/Reaction-0.002005-2/blib/lib/Reaction/UI/LayoutSet/TT.pm line 43) line 80
Reaction::UI::LayoutSet::TT::new("Reaction::UI::LayoutSet::TT", "name", "site_layout", "skin", Reaction::UI::Skin=HASH(0x561433ec3018), "next_skin", Reaction::UI::Skin=HASH(0x7f4ebf0b2e60), "tt_object", ...) called at /home/cpansand/.cpan/build/2022030511/Reaction-0.002005-2/blib/lib/Reaction/UI/Skin.pm line 114
Reaction::UI::Skin::_create_layout_set(Reaction::UI::Skin=HASH(0x561433ec3018), "site_layout", ARRAY(0x7f4ebf0a9428), Reaction::UI::Skin=HASH(0x561433ec3018)) called at /home/cpansand/.cpan/build/2022030511/Reaction-0.002005-2/blib/lib/Reaction/UI/Skin.pm line 110
Reaction::UI::Skin::create_layout_set(Reaction::UI::Skin=HASH(0x561433ec3018), "site_layout") called at /home/cpansand/.cpan/build/2022030511/Reaction-0.002005-2/blib/lib/Reaction/UI/LayoutSet.pm line 83
Reaction::UI::LayoutSet::_load_file(Reaction::UI::LayoutSet::TT=HASH(0x7f4ebf0abeb8), Path::Class::File=HASH(0x7f4ebf0a94b8), HASH(0x7f4ebf0b09d0)) called at /home/cpansand/.cpan/build/2022030511/Reaction-0.002005-2/blib/lib/Reaction/UI/LayoutSet.pm line 27
Reaction::UI::LayoutSet::BUILD(Reaction::UI::LayoutSet::TT=HASH(0x7f4ebf0abeb8), HASH(0x7f4ebf0b09d0)) called at constructor Reaction::UI::LayoutSet::TT::new (defined at /home/cpansand/.cpan/build/2022030511/Reaction-0.002005-2/blib/lib/Reaction/UI/LayoutSet/TT.pm line 43) line 80
Reaction::UI::LayoutSet::TT::new("Reaction::UI::LayoutSet::TT", "name", "site_layout", "skin", Reaction::UI::Skin=HASH(0x7f4ebf0a90b0), "next_skin", Reaction::UI::Skin=HASH(0x561433ec3018), "tt_object", ...) called at /home/cpansand/.cpan/build/2022030511/Reaction-0.002005-2/blib/lib/Reaction/UI/Skin.pm line 114
Reaction::UI::Skin::_create_layout_set(Reaction::UI::Skin=HASH(0x7f4ebf0a90b0), "site_layout", ARRAY(0x7f4ebf0a8d38), Reaction::UI::Skin=HASH(0x7f4ebf0a90b0)) called at /home/cpansand/.cpan/build/2022030511/Reaction-0.002005-2/blib/lib/Reaction/UI/Skin.pm line 110
Reaction::UI::Skin::create_layout_set(Reaction::UI::Skin=HASH(0x7f4ebf0a90b0), "site_layout") called at inline delegation in Reaction::UI::View for skin->create_layout_set (attribute declared in /home/cpansand/.cpan/build/2022030511/Reaction-0.002005-2/blib/lib/Reaction/UI/View.pm at line 22) line 18
Reaction::UI::View::create_layout_set(ComponentUI::View::Site=HASH(0x561438953518), "site_layout") called at /home/cpansand/.cpan/build/2022030511/Reaction-0.002005-2/blib/lib/Reaction/UI/View.pm line 99
Reaction::UI::View::layout_set_for(ComponentUI::View::Site=HASH(0x561438953518), Reaction::UI::ViewPort::SiteLayout=HASH(0x7f4ebf0a8a98)) called at /home/cpansand/.cpan/build/2022030511/Reaction-0.002005-2/blib/lib/Reaction/UI/View.pm line 78
Reaction::UI::View::render_viewport_args(ComponentUI::View::Site=HASH(0x561438953518), Reaction::UI::ViewPort::SiteLayout=HASH(0x7f4ebf0a8a98)) called at /home/cpansand/.cpan/build/2022030511/Reaction-0.002005-2/blib/lib/Reaction/UI/View.pm line 61
Reaction::UI::View::render_window(ComponentUI::View::Site=HASH(0x561438953518), Reaction::UI::Window=HASH(0x7f4ebf0a8450)) called at /home/cpansand/.cpan/build/2022030511/Reaction-0.002005-2/blib/lib/Reaction/UI/Window.pm line 74
Reaction::UI::Window::flush_view(Reaction::UI::Window=HASH(0x7f4ebf0a8450)) called at /home/cpansand/.cpan/build/2022030511/Reaction-0.002005-2/blib/lib/Reaction/UI/Window.pm line 36
Reaction::UI::Window::flush(Reaction::UI::Window=HASH(0x7f4ebf0a8450)) called at /home/cpansand/.cpan/build/2022030511/Reaction-0.002005-2/blib/lib/Reaction/UI/Controller/Root.pm line 38
Reaction::UI::Controller::Root::end(ComponentUI::Controller::Root=HASH(0x7f4ebf0a5a38), ComponentUI=HASH(0x7f4ebf0a4bc8)) called at /opt/perl-5.12.5/lib/site_perl/5.12.5/Catalyst/Action.pm line 358
Catalyst::Action::execute(Catalyst::Action=HASH(0x561439855190), ComponentUI::Controller::Root=HASH(0x7f4ebf0a5a38), ComponentUI=HASH(0x7f4ebf0a4bc8)) called at /opt/perl-5.12.5/lib/site_perl/5.12.5/Catalyst.pm line 2060
eval {...} called at /opt/perl-5.12.5/lib/site_perl/5.12.5/Catalyst.pm line 2060
Catalyst::execute(ComponentUI=HASH(0x7f4ebf0a4bc8), "ComponentUI::Controller::Root", Catalyst::Action=HASH(0x561439855190)) called at /opt/perl-5.12.5/lib/site_perl/5.12.5/Catalyst/Action.pm line 353
Catalyst::Action::dispatch(Catalyst::Action=HASH(0x561439855190), ComponentUI=HASH(0x7f4ebf0a4bc8)) called at /opt/perl-5.12.5/lib/site_perl/5.12.5/Catalyst/Controller.pm line 188
Catalyst::Controller::_END(ComponentUI::Controller::Root=HASH(0x7f4ebf0a5a38), ComponentUI=HASH(0x7f4ebf0a4bc8)) called at /opt/perl-5.12.5/lib/site_perl/5.12.5/Catalyst/Action.pm line 358
Catalyst::Action::execute(Catalyst::Action=HASH(0x56143984aaa8), ComponentUI::Controller::Root=HASH(0x7f4ebf0a5a38), ComponentUI=HASH(0x7f4ebf0a4bc8)) called at /opt/perl-5.12.5/lib/site_perl/5.12.5/Catalyst.pm line 2060
eval {...} called at /opt/perl-5.12.5/lib/site_perl/5.12.5/Catalyst.pm line 2060
Catalyst::execute(ComponentUI=HASH(0x7f4ebf0a4bc8), "ComponentUI::Controller::Root", Catalyst::Action=HASH(0x56143984aaa8)) called at /opt/perl-5.12.5/lib/site_perl/5.12.5/Catalyst/Action.pm line 353
Catalyst::Action::dispatch(Catalyst::Action=HASH(0x56143984aaa8), ComponentUI=HASH(0x7f4ebf0a4bc8)) called at /opt/perl-5.12.5/lib/site_perl/5.12.5/Catalyst/Dispatcher.pm line 261
Catalyst::Dispatcher::_do_forward(Catalyst::Dispatcher=HASH(0x561435364b58), "forward", ComponentUI=HASH(0x7f4ebf0a4bc8), "_END") called at /opt/perl-5.12.5/lib/site_perl/5.12.5/Catalyst/Dispatcher.pm line 241
Catalyst::Dispatcher::forward(Catalyst::Dispatcher=HASH(0x561435364b58), ComponentUI=HASH(0x7f4ebf0a4bc8), "_END") called at /opt/perl-5.12.5/lib/site_perl/5.12.5/Catalyst.pm line 482
Catalyst::forward(ComponentUI=HASH(0x7f4ebf0a4bc8), "_END") called at /opt/perl-5.12.5/lib/site_perl/5.12.5/Catalyst/Controller.pm line 137
Catalyst::Controller::_DISPATCH(ComponentUI::Controller::Root=HASH(0x7f4ebf0a5a38), ComponentUI=HASH(0x7f4ebf0a4bc8)) called at /opt/perl-5.12.5/lib/site_perl/5.12.5/Catalyst/Action.pm line 358
Catalyst::Action::execute(Catalyst::Action=HASH(0x561439877fc0), ComponentUI::Controller::Root=HASH(0x7f4ebf0a5a38), ComponentUI=HASH(0x7f4ebf0a4bc8)) called at /opt/perl-5.12.5/lib/site_perl/5.12.5/Catalyst.pm line 2060
eval {...} called at /opt/perl-5.12.5/lib/site_perl/5.12.5/Catalyst.pm line 2060
Catalyst::execute(ComponentUI=HASH(0x7f4ebf0a4bc8), "ComponentUI::Controller::Root", Catalyst::Action=HASH(0x561439877fc0)) called at /opt/perl-5.12.5/lib/site_perl/5.12.5/Catalyst/Action.pm line 353
Catalyst::Action::dispatch(Catalyst::Action=HASH(0x561439877fc0), ComponentUI=HASH(0x7f4ebf0a4bc8)) called at /opt/perl-5.12.5/lib/site_perl/5.12.5/Catalyst/Dispatcher.pm line 261
Catalyst::Dispatcher::_do_forward(Catalyst::Dispatcher=HASH(0x561435364b58), "forward", ComponentUI=HASH(0x7f4ebf0a4bc8), "//_DISPATCH") called at /opt/perl-5.12.5/lib/site_perl/5.12.5/Catalyst/Dispatcher.pm line 241
Catalyst::Dispatcher::forward(Catalyst::Dispatcher=HASH(0x561435364b58), ComponentUI=HASH(0x7f4ebf0a4bc8), "//_DISPATCH") called at /opt/perl-5.12.5/lib/site_perl/5.12.5/Catalyst.pm line 482
Catalyst::forward(ComponentUI=HASH(0x7f4ebf0a4bc8), "//_DISPATCH") called at /opt/perl-5.12.5/lib/site_perl/5.12.5/Catalyst/Dispatcher.pm line 106
Catalyst::Dispatcher::dispatch(Catalyst::Dispatcher=HASH(0x561435364b58), ComponentUI=HASH(0x7f4ebf0a4bc8)) called at /opt/perl-5.12.5/lib/site_perl/5.12.5/Catalyst.pm line 2006
Catalyst::dispatch(ComponentUI=HASH(0x7f4ebf0a4bc8)) called at /opt/perl-5.12.5/lib/site_perl/5.12.5/Catalyst/Plugin/Static/Simple.pm line 85
Class::MOP::Class:::around(CODE(0x5614357721d8), ComponentUI=HASH(0x7f4ebf0a4bc8)) called at /opt/perl-5.12.5/lib/site_perl/5.12.5/x86_64-linux/Class/MOP/Method/Wrapped.pm line 166
ComponentUI::_wrapped_dispatch(ComponentUI=HASH(0x7f4ebf0a4bc8)) called at /opt/perl-5.12.5/lib/site_perl/5.12.5/x86_64-linux/Class/MOP/Method/Wrapped.pm line 97
ComponentUI::dispatch(ComponentUI=HASH(0x7f4ebf0a4bc8)) called at /opt/perl-5.12.5/lib/site_perl/5.12.5/Catalyst.pm line 2412
Catalyst::try {...} () called at /opt/perl-5.12.5/lib/site_perl/5.12.5/Try/Tiny.pm line 102
eval {...} called at /opt/perl-5.12.5/lib/site_perl/5.12.5/Try/Tiny.pm line 93
Try::Tiny::try(CODE(0x7f4ebf0a44d8), Try::Tiny::Catch=REF(0x7f4ebf0a42f8)) called at /opt/perl-5.12.5/lib/site_perl/5.12.5/Catalyst.pm line 2421
Catalyst::handle_request("ComponentUI", "env", HASH(0x7f4ebf0a2798), "response_cb", CODE(0x7f4ebf0a4358)) called at /opt/perl-5.12.5/lib/site_perl/5.12.5/Catalyst/Engine.pm line 807
Catalyst::Engine::__ANON__(CODE(0x7f4ebf0a4358)) called at /opt/perl-5.12.5/lib/site_perl/5.12.5/Plack/Middleware/HTTPExceptions.pm line 32
Plack::Middleware::HTTPExceptions::try {...} () called at /opt/perl-5.12.5/lib/site_perl/5.12.5/Try/Tiny.pm line 102
eval {...} called at /opt/perl-5.12.5/lib/site_perl/5.12.5/Try/Tiny.pm line 93
Try::Tiny::try(CODE(0x7f4ebf0a4118), Try::Tiny::Catch=REF(0x7f4ebf0a3338)) called at /opt/perl-5.12.5/lib/site_perl/5.12.5/Plack/Middleware/HTTPExceptions.pm line 41
Plack::Middleware::HTTPExceptions::__ANON__(CODE(0x7f4ebf0a3fc8)) called at /opt/perl-5.12.5/lib/site_perl/5.12.5/Plack/Util.pm line 339
Plack::Util::__ANON__(CODE(0x7f4ebf0a3e78)) called at /opt/perl-5.12.5/lib/site_perl/5.12.5/Plack/Util.pm line 339
Plack::Util::__ANON__(CODE(0x7f4ebf0a3d28)) called at /opt/perl-5.12.5/lib/site_perl/5.12.5/Plack/Util.pm line 339
Plack::Util::__ANON__(CODE(0x7f4ebf0a3c80)) called at /opt/perl-5.12.5/lib/site_perl/5.12.5/HTTP/Message/PSGI.pm line 100
HTTP::Message::PSGI::res_from_psgi(CODE(0x7f4ebf0a3188)) called at /opt/perl-5.12.5/lib/site_perl/5.12.5/HTTP/Message/PSGI.pm line 157
HTTP::Response::from_psgi("HTTP::Response", CODE(0x7f4ebf0a3188)) called at /opt/perl-5.12.5/lib/site_perl/5.12.5/Plack/Test/MockHTTP.pm line 24
Plack::Test::MockHTTP::try {...} () called at /opt/perl-5.12.5/lib/site_perl/5.12.5/Try/Tiny.pm line 97
eval {...} called at /opt/perl-5.12.5/lib/site_perl/5.12.5/Try/Tiny.pm line 93
Try::Tiny::try(CODE(0x561433ec2bb0), Try::Tiny::Catch=REF(0x561439909628)) called at /opt/perl-5.12.5/lib/site_perl/5.12.5/Plack/Test/MockHTTP.pm line 27
Plack::Test::MockHTTP::request(Plack::Test::MockHTTP=HASH(0x7f4ebf09a368), HTTP::Request=HASH(0x7f4ebf099dc8)) called at /opt/perl-5.12.5/lib/site_perl/5.12.5/Plack/Test.pm line 38
Plack::Test::__ANON__(HTTP::Request=HASH(0x7f4ebf099dc8)) called at /opt/perl-5.12.5/lib/site_perl/5.12.5/Catalyst/Test.pm line 290
Catalyst::Test::__ANON__(CODE(0x7f4ebf09a1e8)) called at /opt/perl-5.12.5/lib/site_perl/5.12.5/Plack/Test.pm line 38
Plack::Test::test_psgi("app", CODE(0x7f4ebf099588), "mangle_response", CODE(0x561434d00f80), "app", CODE(0x7f4ebf099f00), "client", CODE(0x7f4ebf099fd8)) called at /opt/perl-5.12.5/lib/site_perl/5.12.5/Catalyst/Test.pm line 293
Catalyst::Test::_request(HASH(0x7f4ebf0994b0), "/") called at /opt/perl-5.12.5/lib/site_perl/5.12.5/Catalyst/Test.pm line 336
Catalyst::Test::_local_request("ComponentUI", "/") called at /opt/perl-5.12.5/lib/site_perl/5.12.5/Catalyst/Test.pm line 32
Catalyst::Test::__ANON__("/") called at t/01app.t line 10
Class::MOP::load_class is deprecated at /opt/perl-5.12.5/lib/site_perl/5.12.5/x86_64-linux/Class/MOP.pm line 69.
Class::MOP::load_class("Reaction::UI::Widget::SiteLayout") called at /home/cpansand/.cpan/build/2022030511/Reaction-0.002005-2/blib/lib/Reaction/UI/Skin.pm line 181
eval {...} called at /home/cpansand/.cpan/build/2022030511/Reaction-0.002005-2/blib/lib/Reaction/UI/Skin.pm line 181
Reaction::UI::Skin::widget_class_for(Reaction::UI::Skin=HASH(0x7f4ebf0b2e60), Reaction::UI::LayoutSet::TT=HASH(0x7f4ebf0ba6a8)) called at /home/cpansand/.cpan/build/2022030511/Reaction-0.002005-2/blib/lib/Reaction/UI/LayoutSet.pm line 28
Reaction::UI::LayoutSet::BUILD(Reaction::UI::LayoutSet::TT=HASH(0x7f4ebf0ba6a8), HASH(0x7f4ebf0ba618)) called at constructor Reaction::UI::LayoutSet::TT::new (defined at /home/cpansand/.cpan/build/2022030511/Reaction-0.002005-2/blib/lib/Reaction/UI/LayoutSet/TT.pm line 43) line 80
Reaction::UI::LayoutSet::TT::new("Reaction::UI::LayoutSet::TT", "name", "site_layout", "skin", Reaction::UI::Skin=HASH(0x7f4ebf0b2e60), "tt_object", Template=HASH(0x561439733280), "source_file", ...) called at /home/cpansand/.cpan/build/2022030511/Reaction-0.002005-2/blib/lib/Reaction/UI/Skin.pm line 114
Reaction::UI::Skin::_create_layout_set(Reaction::UI::Skin=HASH(0x7f4ebf0b2e60), "site_layout", ARRAY(0x7f4ebf0b5d88), Reaction::UI::Skin=HASH(0x7f4ebf0b2e60)) called at /home/cpansand/.cpan/build/2022030511/Reaction-0.002005-2/blib/lib/Reaction/UI/Skin.pm line 110
Reaction::UI::Skin::create_layout_set(Reaction::UI::Skin=HASH(0x7f4ebf0b2e60), "site_layout") called at /home/cpansand/.cpan/build/2022030511/Reaction-0.002005-2/blib/lib/Reaction/UI/LayoutSet.pm line 83
Reaction::UI::LayoutSet::_load_file(Reaction::UI::LayoutSet::TT=HASH(0x7f4ebf0b8d10), Path::Class::File=HASH(0x7f4ebf0b1b40), HASH(0x7f4ebf0b6fd0)) called at /home/cpansand/.cpan/build/2022030511/Reaction-0.002005-2/blib/lib/Reaction/UI/LayoutSet.pm line 27
Reaction::UI::LayoutSet::BUILD(Reaction::UI::LayoutSet::TT=HASH(0x7f4ebf0b8d10), HASH(0x7f4ebf0b6fd0)) called at constructor Reaction::UI::LayoutSet::TT::new (defined at /home/cpansand/.cpan/build/2022030511/Reaction-0.002005-2/blib/lib/Reaction/UI/LayoutSet/TT.pm line 43) line 80
Reaction::UI::LayoutSet::TT::new("Reaction::UI::LayoutSet::TT", "name", "site_layout", "skin", Reaction::UI::Skin=HASH(0x561433ec3018), "next_skin", Reaction::UI::Skin=HASH(0x7f4ebf0b2e60), "tt_object", ...) called at /home/cpansand/.cpan/build/2022030511/Reaction-0.002005-2/blib/lib/Reaction/UI/Skin.pm line 114
Reaction::UI::Skin::_create_layout_set(Reaction::UI::Skin=HASH(0x561433ec3018), "site_layout", ARRAY(0x7f4ebf0a9428), Reaction::UI::Skin=HASH(0x561433ec3018)) called at /home/cpansand/.cpan/build/2022030511/Reaction-0.002005-2/blib/lib/Reaction/UI/Skin.pm line 110
Reaction::UI::Skin::create_layout_set(Reaction::UI::Skin=HASH(0x561433ec3018), "site_layout") called at /home/cpansand/.cpan/build/2022030511/Reaction-0.002005-2/blib/lib/Reaction/UI/LayoutSet.pm line 83
Reaction::UI::LayoutSet::_load_file(Reaction::UI::LayoutSet::TT=HASH(0x7f4ebf0abeb8), Path::Class::File=HASH(0x7f4ebf0a94b8), HASH(0x7f4ebf0b09d0)) called at /home/cpansand/.cpan/build/2022030511/Reaction-0.002005-2/blib/lib/Reaction/UI/LayoutSet.pm line 27
Reaction::UI::LayoutSet::BUILD(Reaction::UI::LayoutSet::TT=HASH(0x7f4ebf0abeb8), HASH(0x7f4ebf0b09d0)) called at constructor Reaction::UI::LayoutSet::TT::new (defined at /home/cpansand/.cpan/build/2022030511/Reaction-0.002005-2/blib/lib/Reaction/UI/LayoutSet/TT.pm line 43) line 80
Reaction::UI::LayoutSet::TT::new("Reaction::UI::LayoutSet::TT", "name", "site_layout", "skin", Reaction::UI::Skin=HASH(0x7f4ebf0a90b0), "next_skin", Reaction::UI::Skin=HASH(0x561433ec3018), "tt_object", ...) called at /home/cpansand/.cpan/build/2022030511/Reaction-0.002005-2/blib/lib/Reaction/UI/Skin.pm line 114
Reaction::UI::Skin::_create_layout_set(Reaction::UI::Skin=HASH(0x7f4ebf0a90b0), "site_layout", ARRAY(0x7f4ebf0a8d38), Reaction::UI::Skin=HASH(0x7f4ebf0a90b0)) called at /home/cpansand/.cpan/build/2022030511/Reaction-0.002005-2/blib/lib/Reaction/UI/Skin.pm line 110
Reaction::UI::Skin::create_layout_set(Reaction::UI::Skin=HASH(0x7f4ebf0a90b0), "site_layout") called at inline delegation in Reaction::UI::View for skin->create_layout_set (attribute declared in /home/cpansand/.cpan/build/2022030511/Reaction-0.002005-2/blib/lib/Reaction/UI/View.pm at line 22) line 18
Reaction::UI::View::create_layout_set(ComponentUI::View::Site=HASH(0x561438953518), "site_layout") called at /home/cpansand/.cpan/build/2022030511/Reaction-0.002005-2/blib/lib/Reaction/UI/View.pm line 99
Reaction::UI::View::layout_set_for(ComponentUI::View::Site=HASH(0x561438953518), Reaction::UI::ViewPort::SiteLayout=HASH(0x7f4ebf0a8a98)) called at /home/cpansand/.cpan/build/2022030511/Reaction-0.002005-2/blib/lib/Reaction/UI/View.pm line 78
Reaction::UI::View::render_viewport_args(ComponentUI::View::Site=HASH(0x561438953518), Reaction::UI::ViewPort::SiteLayout=HASH(0x7f4ebf0a8a98)) called at /home/cpansand/.cpan/build/2022030511/Reaction-0.002005-2/blib/lib/Reaction/UI/View.pm line 61
Reaction::UI::View::render_window(ComponentUI::View::Site=HASH(0x561438953518), Reaction::UI::Window=HASH(0x7f4ebf0a8450)) called at /home/cpansand/.cpan/build/2022030511/Reaction-0.002005-2/blib/lib/Reaction/UI/Window.pm line 74
Reaction::UI::Window::flush_view(Reaction::UI::Window=HASH(0x7f4ebf0a8450)) called at /home/cpansand/.cpan/build/2022030511/Reaction-0.002005-2/blib/lib/Reaction/UI/Window.pm line 36
Reaction::UI::Window::flush(Reaction::UI::Window=HASH(0x7f4ebf0a8450)) called at /home/cpansand/.cpan/build/2022030511/Reaction-0.002005-2/blib/lib/Reaction/UI/Controller/Root.pm line 38
Reaction::UI::Controller::Root::end(ComponentUI::Controller::Root=HASH(0x7f4ebf0a5a38), ComponentUI=HASH(0x7f4ebf0a4bc8)) called at /opt/perl-5.12.5/lib/site_perl/5.12.5/Catalyst/Action.pm line 358
Catalyst::Action::execute(Catalyst::Action=HASH(0x561439855190), ComponentUI::Controller::Root=HASH(0x7f4ebf0a5a38), ComponentUI=HASH(0x7f4ebf0a4bc8)) called at /opt/perl-5.12.5/lib/site_perl/5.12.5/Catalyst.pm line 2060
eval {...} called at /opt/perl-5.12.5/lib/site_perl/5.12.5/Catalyst.pm line 2060
Catalyst::execute(ComponentUI=HASH(0x7f4ebf0a4bc8), "ComponentUI::Controller::Root", Catalyst::Action=HASH(0x561439855190)) called at /opt/perl-5.12.5/lib/site_perl/5.12.5/Catalyst/Action.pm line 353
Catalyst::Action::dispatch(Catalyst::Action=HASH(0x561439855190), ComponentUI=HASH(0x7f4ebf0a4bc8)) called at /opt/perl-5.12.5/lib/site_perl/5.12.5/Catalyst/Controller.pm line 188
Catalyst::Controller::_END(ComponentUI::Controller::Root=HASH(0x7f4ebf0a5a38), ComponentUI=HASH(0x7f4ebf0a4bc8)) called at /opt/perl-5.12.5/lib/site_perl/5.12.5/Catalyst/Action.pm line 358
Catalyst::Action::execute(Catalyst::Action=HASH(0x56143984aaa8), ComponentUI::Controller::Root=HASH(0x7f4ebf0a5a38), ComponentUI=HASH(0x7f4ebf0a4bc8)) called at /opt/perl-5.12.5/lib/site_perl/5.12.5/Catalyst.pm line 2060
eval {...} called at /opt/perl-5.12.5/lib/site_perl/5.12.5/Catalyst.pm line 2060
Catalyst::execute(ComponentUI=HASH(0x7f4ebf0a4bc8), "ComponentUI::Controller::Root", Catalyst::Action=HASH(0x56143984aaa8)) called at /opt/perl-5.12.5/lib/site_perl/5.12.5/Catalyst/Action.pm line 353
Catalyst::Action::dispatch(Catalyst::Action=HASH(0x56143984aaa8), ComponentUI=HASH(0x7f4ebf0a4bc8)) called at /opt/perl-5.12.5/lib/site_perl/5.12.5/Catalyst/Dispatcher.pm line 261
Catalyst::Dispatcher::_do_forward(Catalyst::Dispatcher=HASH(0x561435364b58), "forward", ComponentUI=HASH(0x7f4ebf0a4bc8), "_END") called at /opt/perl-5.12.5/lib/site_perl/5.12.5/Catalyst/Dispatcher.pm line 241
Catalyst::Dispatcher::forward(Catalyst::Dispatcher=HASH(0x561435364b58), ComponentUI=HASH(0x7f4ebf0a4bc8), "_END") called at /opt/perl-5.12.5/lib/site_perl/5.12.5/Catalyst.pm line 482
Catalyst::forward(ComponentUI=HASH(0x7f4ebf0a4bc8), "_END") called at /opt/perl-5.12.5/lib/site_perl/5.12.5/Catalyst/Controller.pm line 137
Catalyst::Controller::_DISPATCH(ComponentUI::Controller::Root=HASH(0x7f4ebf0a5a38), ComponentUI=HASH(0x7f4ebf0a4bc8)) called at /opt/perl-5.12.5/lib/site_perl/5.12.5/Catalyst/Action.pm line 358
Catalyst::Action::execute(Catalyst::Action=HASH(0x561439877fc0), ComponentUI::Controller::Root=HASH(0x7f4ebf0a5a38), ComponentUI=HASH(0x7f4ebf0a4bc8)) called at /opt/perl-5.12.5/lib/site_perl/5.12.5/Catalyst.pm line 2060
eval {...} called at /opt/perl-5.12.5/lib/site_perl/5.12.5/Catalyst.pm line 2060
Catalyst::execute(ComponentUI=HASH(0x7f4ebf0a4bc8), "ComponentUI::Controller::Root", Catalyst::Action=HASH(0x561439877fc0)) called at /opt/perl-5.12.5/lib/site_perl/5.12.5/Catalyst/Action.pm line 353
Catalyst::Action::dispatch(Catalyst::Action=HASH(0x561439877fc0), ComponentUI=HASH(0x7f4ebf0a4bc8)) called at /opt/perl-5.12.5/lib/site_perl/5.12.5/Catalyst/Dispatcher.pm line 261
Catalyst::Dispatcher::_do_forward(Catalyst::Dispatcher=HASH(0x561435364b58), "forward", ComponentUI=HASH(0x7f4ebf0a4bc8), "//_DISPATCH") called at /opt/perl-5.12.5/lib/site_perl/5.12.5/Catalyst/Dispatcher.pm line 241
Catalyst::Dispatcher::forward(Catalyst::Dispatcher=HASH(0x561435364b58), ComponentUI=HASH(0x7f4ebf0a4bc8), "//_DISPATCH") called at /opt/perl-5.12.5/lib/site_perl/5.12.5/Catalyst.pm line 482
Catalyst::forward(ComponentUI=HASH(0x7f4ebf0a4bc8), "//_DISPATCH") called at /opt/perl-5.12.5/lib/site_perl/5.12.5/Catalyst/Dispatcher.pm line 106
Catalyst::Dispatcher::dispatch(Catalyst::Dispatcher=HASH(0x561435364b58), ComponentUI=HASH(0x7f4ebf0a4bc8)) called at /opt/perl-5.12.5/lib/site_perl/5.12.5/Catalyst.pm line 2006
Catalyst::dispatch(ComponentUI=HASH(0x7f4ebf0a4bc8)) called at /opt/perl-5.12.5/lib/site_perl/5.12.5/Catalyst/Plugin/Static/Simple.pm line 85
Class::MOP::Class:::around(CODE(0x5614357721d8), ComponentUI=HASH(0x7f4ebf0a4bc8)) called at /opt/perl-5.12.5/lib/site_perl/5.12.5/x86_64-linux/Class/MOP/Method/Wrapped.pm line 166
ComponentUI::_wrapped_dispatch(ComponentUI=HASH(0x7f4ebf0a4bc8)) called at /opt/perl-5.12.5/lib/site_perl/5.12.5/x86_64-linux/Class/MOP/Method/Wrapped.pm line 97
ComponentUI::dispatch(ComponentUI=HASH(0x7f4ebf0a4bc8)) called at /opt/perl-5.12.5/lib/site_perl/5.12.5/Catalyst.pm line 2412
Catalyst::try {...} () called at /opt/perl-5.12.5/lib/site_perl/5.12.5/Try/Tiny.pm line 102
eval {...} called at /opt/perl-5.12.5/lib/site_perl/5.12.5/Try/Tiny.pm line 93
Try::Tiny::try(CODE(0x7f4ebf0a44d8), Try::Tiny::Catch=REF(0x7f4ebf0a42f8)) called at /opt/perl-5.12.5/lib/site_perl/5.12.5/Catalyst.pm line 2421
Catalyst::handle_request("ComponentUI", "env", HASH(0x7f4ebf0a2798), "response_cb", CODE(0x7f4ebf0a4358)) called at /opt/perl-5.12.5/lib/site_perl/5.12.5/Catalyst/Engine.pm line 807
Catalyst::Engine::__ANON__(CODE(0x7f4ebf0a4358)) called at /opt/perl-5.12.5/lib/site_perl/5.12.5/Plack/Middleware/HTTPExceptions.pm line 32
Plack::Middleware::HTTPExceptions::try {...} () called at /opt/perl-5.12.5/lib/site_perl/5.12.5/Try/Tiny.pm line 102
eval {...} called at /opt/perl-5.12.5/lib/site_perl/5.12.5/Try/Tiny.pm line 93
Try::Tiny::try(CODE(0x7f4ebf0a4118), Try::Tiny::Catch=REF(0x7f4ebf0a3338)) called at /opt/perl-5.12.5/lib/site_perl/5.12.5/Plack/Middleware/HTTPExceptions.pm line 41
Plack::Middleware::HTTPExceptions::__ANON__(CODE(0x7f4ebf0a3fc8)) called at /opt/perl-5.12.5/lib/site_perl/5.12.5/Plack/Util.pm line 339
Plack::Util::__ANON__(CODE(0x7f4ebf0a3e78)) called at /opt/perl-5.12.5/lib/site_perl/5.12.5/Plack/Util.pm line 339
Plack::Util::__ANON__(CODE(0x7f4ebf0a3d28)) called at /opt/perl-5.12.5/lib/site_perl/5.12.5/Plack/Util.pm line 339
Plack::Util::__ANON__(CODE(0x7f4ebf0a3c80)) called at /opt/perl-5.12.5/lib/site_perl/5.12.5/HTTP/Message/PSGI.pm line 100
HTTP::Message::PSGI::res_from_psgi(CODE(0x7f4ebf0a3188)) called at /opt/perl-5.12.5/lib/site_perl/5.12.5/HTTP/Message/PSGI.pm line 157
HTTP::Response::from_psgi("HTTP::Response", CODE(0x7f4ebf0a3188)) called at /opt/perl-5.12.5/lib/site_perl/5.12.5/Plack/Test/MockHTTP.pm line 24
Plack::Test::MockHTTP::try {...} () called at /opt/perl-5.12.5/lib/site_perl/5.12.5/Try/Tiny.pm line 97
eval {...} called at /opt/perl-5.12.5/lib/site_perl/5.12.5/Try/Tiny.pm line 93
Try::Tiny::try(CODE(0x561433ec2bb0), Try::Tiny::Catch=REF(0x561439909628)) called at /opt/perl-5.12.5/lib/site_perl/5.12.5/Plack/Test/MockHTTP.pm line 27
Plack::Test::MockHTTP::request(Plack::Test::MockHTTP=HASH(0x7f4ebf09a368), HTTP::Request=HASH(0x7f4ebf099dc8)) called at /opt/perl-5.12.5/lib/site_perl/5.12.5/Plack/Test.pm line 38
Plack::Test::__ANON__(HTTP::Request=HASH(0x7f4ebf099dc8)) called at /opt/perl-5.12.5/lib/site_perl/5.12.5/Catalyst/Test.pm line 290
Catalyst::Test::__ANON__(CODE(0x7f4ebf09a1e8)) called at /opt/perl-5.12.5/lib/site_perl/5.12.5/Plack/Test.pm line 38
Plack::Test::test_psgi("app", CODE(0x7f4ebf099588), "mangle_response", CODE(0x561434d00f80), "app", CODE(0x7f4ebf099f00), "client", CODE(0x7f4ebf099fd8)) called at /opt/perl-5.12.5/lib/site_perl/5.12.5/Catalyst/Test.pm line 293
Catalyst::Test::_request(HASH(0x7f4ebf0994b0), "/") called at /opt/perl-5.12.5/lib/site_perl/5.12.5/Catalyst/Test.pm line 336
Catalyst::Test::_local_request("ComponentUI", "/") called at /opt/perl-5.12.5/lib/site_perl/5.12.5/Catalyst/Test.pm line 32
Catalyst::Test::__ANON__("/") called at t/01app.t line 10
[debug] remote
t/01app.t ................... ok
t/04load_all.t .............. ok
t/05reflect_attr_from.t ..... ok
Class::MOP::load_class is deprecated at /opt/perl-5.12.5/lib/site_perl/5.12.5/x86_64-linux/Class/MOP.pm line 69.
Class::MOP::load_class("Reaction::InterfaceModel::Object") called at /home/cpansand/.cpan/build/2022030511/Reaction-0.002005-2/blib/lib/Reaction/InterfaceModel/Reflector/DBIC.pm line 149
Reaction::InterfaceModel::Reflector::DBIC::reflect_schema(Reaction::InterfaceModel::Reflector::DBIC=HASH(0x55dc1fdca098), "model_class", "ComponentUI::TestModel", "schema_class", "RTest::TestDB", "sources", ARRAY(0x55dc200d5fd0)) called at /home/cpansand/.cpan/build/2022030511/Reaction-0.002005-2/blib/lib/ComponentUI/TestModel.pm line 10
require ComponentUI/TestModel.pm called at t/lib/RTest/InterfaceModel/Reflector/DBIC.pm line 6
RTest::InterfaceModel::Reflector::DBIC::BEGIN() called at /home/cpansand/.cpan/build/2022030511/Reaction-0.002005-2/blib/lib/ComponentUI/TestModel.pm line 0
eval {...} called at /home/cpansand/.cpan/build/2022030511/Reaction-0.002005-2/blib/lib/ComponentUI/TestModel.pm line 0
require RTest/InterfaceModel/Reflector/DBIC.pm called at t/im_dbic.t line 7
main::BEGIN() called at /home/cpansand/.cpan/build/2022030511/Reaction-0.002005-2/blib/lib/ComponentUI/TestModel.pm line 0
eval {...} called at /home/cpansand/.cpan/build/2022030511/Reaction-0.002005-2/blib/lib/ComponentUI/TestModel.pm line 0
Class::MOP::load_class is deprecated at /opt/perl-5.12.5/lib/site_perl/5.12.5/x86_64-linux/Class/MOP.pm line 69.
Class::MOP::load_class("Reaction::InterfaceModel::Object") called at /home/cpansand/.cpan/build/2022030511/Reaction-0.002005-2/blib/lib/Reaction/Class.pm line 123
Reaction::Class::do_class_sub("Reaction::Class", "ComponentUI::TestModel::Foo", "ComponentUI::TestModel::Foo", "is", "Reaction::InterfaceModel::Object", "which", CODE(0x55dc211558f0)) called at /home/cpansand/.cpan/build/2022030511/Reaction-0.002005-2/blib/lib/Reaction/Class.pm line 86
Reaction::Class::("ComponentUI::TestModel::Foo", "is", "Reaction::InterfaceModel::Object", "which", CODE(0x55dc211558f0)) called at /home/cpansand/.cpan/build/2022030511/Reaction-0.002005-2/blib/lib/ComponentUI/TestModel/Foo.pm line 8
require ComponentUI/TestModel/Foo.pm called at /opt/perl-5.12.5/lib/site_perl/5.12.5/Module/Runtime.pm line 314
Module::Runtime::require_module("ComponentUI::TestModel::Foo") called at /opt/perl-5.12.5/lib/site_perl/5.12.5/Class/Load.pm line 174
Class::Load::try {...} () called at /opt/perl-5.12.5/lib/site_perl/5.12.5/Try/Tiny.pm line 97
eval {...} called at /opt/perl-5.12.5/lib/site_perl/5.12.5/Try/Tiny.pm line 93
Try::Tiny::try(CODE(0x55dc2109f600), Try::Tiny::Catch=REF(0x55dc21155848)) called at /opt/perl-5.12.5/lib/site_perl/5.12.5/Class/Load.pm line 180
Class::Load::try_load_class("ComponentUI::TestModel::Foo", undef) called at /opt/perl-5.12.5/lib/site_perl/5.12.5/Class/Load.pm line 35
Class::Load::load_class("ComponentUI::TestModel::Foo") called at /home/cpansand/.cpan/build/2022030511/Reaction-0.002005-2/blib/lib/Reaction/InterfaceModel/Reflector/DBIC.pm line 892
eval {...} called at /home/cpansand/.cpan/build/2022030511/Reaction-0.002005-2/blib/lib/Reaction/InterfaceModel/Reflector/DBIC.pm line 892
Reaction::InterfaceModel::Reflector::DBIC::_maybe_load_class(Reaction::InterfaceModel::Reflector::DBIC=HASH(0x55dc1fdca098), "ComponentUI::TestModel::Foo") called at /home/cpansand/.cpan/build/2022030511/Reaction-0.002005-2/blib/lib/Reaction/InterfaceModel/Reflector/DBIC.pm line 876
Reaction::InterfaceModel::Reflector::DBIC::_load_or_create(Reaction::InterfaceModel::Reflector::DBIC=HASH(0x55dc1fdca098), "ComponentUI::TestModel::Foo", "superclasses", ARRAY(0x55dc2112aad0)) called at /home/cpansand/.cpan/build/2022030511/Reaction-0.002005-2/blib/lib/Reaction/InterfaceModel/Reflector/DBIC.pm line 448
Reaction::InterfaceModel::Reflector::DBIC::reflect_source_object(Reaction::InterfaceModel::Reflector::DBIC=HASH(0x55dc1fdca098), "schema_class", "RTest::TestDB", "source_name", "Foo", "source_class", "RTest::TestDB::Foo", "parent_class", ...) called at /home/cpansand/.cpan/build/2022030511/Reaction-0.002005-2/blib/lib/Reaction/InterfaceModel/Reflector/DBIC.pm line 323
Reaction::InterfaceModel::Reflector::DBIC::reflect_source(Reaction::InterfaceModel::Reflector::DBIC=HASH(0x55dc1fdca098), "source_name", "Foo", "parent_class", "ComponentUI::TestModel", "schema_class", "RTest::TestDB", "source_class", ...) called at /home/cpansand/.cpan/build/2022030511/Reaction-0.002005-2/blib/lib/Reaction/InterfaceModel/Reflector/DBIC.pm line 185
Reaction::InterfaceModel::Reflector::DBIC::reflect_schema(Reaction::InterfaceModel::Reflector::DBIC=HASH(0x55dc1fdca098), "model_class", "ComponentUI::TestModel", "schema_class", "RTest::TestDB", "sources", ARRAY(0x55dc200d5fd0)) called at /home/cpansand/.cpan/build/2022030511/Reaction-0.002005-2/blib/lib/ComponentUI/TestModel.pm line 10
require ComponentUI/TestModel.pm called at t/lib/RTest/InterfaceModel/Reflector/DBIC.pm line 6
RTest::InterfaceModel::Reflector::DBIC::BEGIN() called at /home/cpansand/.cpan/build/2022030511/Reaction-0.002005-2/blib/lib/ComponentUI/TestModel/Foo.pm line 0
eval {...} called at /home/cpansand/.cpan/build/2022030511/Reaction-0.002005-2/blib/lib/ComponentUI/TestModel/Foo.pm line 0
require RTest/InterfaceModel/Reflector/DBIC.pm called at t/im_dbic.t line 7
main::BEGIN() called at /home/cpansand/.cpan/build/2022030511/Reaction-0.002005-2/blib/lib/ComponentUI/TestModel/Foo.pm line 0
eval {...} called at /home/cpansand/.cpan/build/2022030511/Reaction-0.002005-2/blib/lib/ComponentUI/TestModel/Foo.pm line 0
Class::MOP::is_class_loaded is deprecated at /opt/perl-5.12.5/lib/site_perl/5.12.5/x86_64-linux/Class/MOP.pm line 87.
Class::MOP::is_class_loaded("RTest::TestIM::Foo") called at t/lib/RTest/InterfaceModel/Reflector/DBIC.pm line 74
RTest::InterfaceModel::Reflector::DBIC::test_reflect_schema(RTest::InterfaceModel::Reflector::DBIC=HASH(0x55dc21311408)) called at /opt/perl-5.12.5/lib/site_perl/5.12.5/Test/Class.pm line 293
Test::Class::try {...} () called at /opt/perl-5.12.5/lib/site_perl/5.12.5/Try/Tiny.pm line 97
eval {...} called at /opt/perl-5.12.5/lib/site_perl/5.12.5/Try/Tiny.pm line 93
Try::Tiny::try(CODE(0x55dc22398918), Try::Tiny::Catch=REF(0x55dc2237c1b0)) called at /opt/perl-5.12.5/lib/site_perl/5.12.5/Test/Class.pm line 293
Test::Class::_run_method(RTest::InterfaceModel::Reflector::DBIC=HASH(0x55dc21311408), "test_reflect_schema", ARRAY(0x55dc1ea8a9f8)) called at /opt/perl-5.12.5/lib/site_perl/5.12.5/Test/Class.pm line 402
Test::Class::runtests("Test::Class", RTest::InterfaceModel::Reflector::DBIC=HASH(0x55dc21311408)) called at t/im_dbic.t line 10
t/im_dbic.t ................. ok
t/ui_focus_stack.t .......... ok
t/ui_view.t ................. ok
t/ui_viewport.t ............. ok
Class::MOP::load_class is deprecated at /opt/perl-5.12.5/lib/site_perl/5.12.5/x86_64-linux/Class/MOP.pm line 69.
Class::MOP::load_class("ComponentUI::TestModel") called at /home/cpansand/.cpan/build/2022030511/Reaction-0.002005-2/blib/lib/Catalyst/Model/Reaction/InterfaceModel/DBIC.pm line 24
Catalyst::Model::Reaction::InterfaceModel::DBIC::COMPONENT("ComponentUI::Model::TestModel", "ComponentUI", HASH(0x55fa923af668)) called at /opt/perl-5.12.5/lib/site_perl/5.12.5/Catalyst.pm line 3234
eval {...} called at /opt/perl-5.12.5/lib/site_perl/5.12.5/Catalyst.pm line 3235
Catalyst::setup_component("ComponentUI", "ComponentUI::Model::TestModel") called at /opt/perl-5.12.5/lib/site_perl/5.12.5/Catalyst.pm line 3212
Catalyst::__ANON__() called at /opt/perl-5.12.5/lib/site_perl/5.12.5/Catalyst.pm line 3058
Catalyst::setup_components("ComponentUI") called at /opt/perl-5.12.5/lib/site_perl/5.12.5/Catalyst.pm line 1431
Catalyst::setup("ComponentUI") called at /home/cpansand/.cpan/build/2022030511/Reaction-0.002005-2/blib/lib/ComponentUI.pm line 32
require ComponentUI.pm called at /opt/perl-5.12.5/lib/site_perl/5.12.5/Module/Runtime.pm line 314
Module::Runtime::require_module("ComponentUI") called at /opt/perl-5.12.5/lib/site_perl/5.12.5/Class/Load.pm line 174
Class::Load::try {...} () called at /opt/perl-5.12.5/lib/site_perl/5.12.5/Try/Tiny.pm line 97
eval {...} called at /opt/perl-5.12.5/lib/site_perl/5.12.5/Try/Tiny.pm line 93
Try::Tiny::try(CODE(0x55fa913b36d0), Try::Tiny::Catch=REF(0x55fa913c5c80)) called at /opt/perl-5.12.5/lib/site_perl/5.12.5/Class/Load.pm line 180
Class::Load::try_load_class("ComponentUI", undef) called at /opt/perl-5.12.5/lib/site_perl/5.12.5/Class/Load.pm line 35
Class::Load::load_class("ComponentUI") called at /home/cpansand/.cpan/build/2022030511/Test-WWW-Mechanize-Catalyst-0.62-2/blib/lib/Test/WWW/Mechanize/Catalyst.pm line 245
Test::WWW::Mechanize::Catalyst::import("Test::WWW::Mechanize::Catalyst", "ComponentUI") called at t/uncheck_bool_field.t line 6
main::BEGIN() called at /home/cpansand/.cpan/build/2022030511/Reaction-0.002005-2/blib/lib/ComponentUI.pm line 0
eval {...} called at /home/cpansand/.cpan/build/2022030511/Reaction-0.002005-2/blib/lib/ComponentUI.pm line 0
Class::MOP::load_class is deprecated at /opt/perl-5.12.5/lib/site_perl/5.12.5/x86_64-linux/Class/MOP.pm line 69.
Class::MOP::load_class("Reaction::InterfaceModel::Object") called at /home/cpansand/.cpan/build/2022030511/Reaction-0.002005-2/blib/lib/Reaction/InterfaceModel/Reflector/DBIC.pm line 149
Reaction::InterfaceModel::Reflector::DBIC::reflect_schema(Reaction::InterfaceModel::Reflector::DBIC=HASH(0x55fa95881250), "model_class", "ComponentUI::TestModel", "schema_class", "RTest::TestDB", "sources", ARRAY(0x55fa957ef2c8)) called at /home/cpansand/.cpan/build/2022030511/Reaction-0.002005-2/blib/lib/ComponentUI/TestModel.pm line 10
require ComponentUI/TestModel.pm called at /opt/perl-5.12.5/lib/site_perl/5.12.5/Module/Runtime.pm line 314
Module::Runtime::require_module("ComponentUI::TestModel") called at /opt/perl-5.12.5/lib/site_perl/5.12.5/Class/Load.pm line 174
Class::Load::try {...} () called at /opt/perl-5.12.5/lib/site_perl/5.12.5/Try/Tiny.pm line 97
eval {...} called at /opt/perl-5.12.5/lib/site_perl/5.12.5/Try/Tiny.pm line 93
Try::Tiny::try(CODE(0x55fa94f77d00), Try::Tiny::Catch=REF(0x55fa9543a950)) called at /opt/perl-5.12.5/lib/site_perl/5.12.5/Class/Load.pm line 180
Class::Load::try_load_class("ComponentUI::TestModel", undef) called at /opt/perl-5.12.5/lib/site_perl/5.12.5/Class/Load.pm line 35
Class::Load::load_class("ComponentUI::TestModel") called at /home/cpansand/.cpan/build/2022030511/Reaction-0.002005-2/blib/lib/Catalyst/Model/Reaction/InterfaceModel/DBIC.pm line 24
Catalyst::Model::Reaction::InterfaceModel::DBIC::COMPONENT("ComponentUI::Model::TestModel", "ComponentUI", HASH(0x55fa923af668)) called at /opt/perl-5.12.5/lib/site_perl/5.12.5/Catalyst.pm line 3234
eval {...} called at /opt/perl-5.12.5/lib/site_perl/5.12.5/Catalyst.pm line 3235
Catalyst::setup_component("ComponentUI", "ComponentUI::Model::TestModel") called at /opt/perl-5.12.5/lib/site_perl/5.12.5/Catalyst.pm line 3212
Catalyst::__ANON__() called at /opt/perl-5.12.5/lib/site_perl/5.12.5/Catalyst.pm line 3058
Catalyst::setup_components("ComponentUI") called at /opt/perl-5.12.5/lib/site_perl/5.12.5/Catalyst.pm line 1431
Catalyst::setup("ComponentUI") called at /home/cpansand/.cpan/build/2022030511/Reaction-0.002005-2/blib/lib/ComponentUI.pm line 32
require ComponentUI.pm called at /opt/perl-5.12.5/lib/site_perl/5.12.5/Module/Runtime.pm line 314
Module::Runtime::require_module("ComponentUI") called at /opt/perl-5.12.5/lib/site_perl/5.12.5/Class/Load.pm line 174
Class::Load::try {...} () called at /opt/perl-5.12.5/lib/site_perl/5.12.5/Try/Tiny.pm line 97
eval {...} called at /opt/perl-5.12.5/lib/site_perl/5.12.5/Try/Tiny.pm line 93
Try::Tiny::try(CODE(0x55fa913b36d0), Try::Tiny::Catch=REF(0x55fa913c5c80)) called at /opt/perl-5.12.5/lib/site_perl/5.12.5/Class/Load.pm line 180
Class::Load::try_load_class("ComponentUI", undef) called at /opt/perl-5.12.5/lib/site_perl/5.12.5/Class/Load.pm line 35
Class::Load::load_class("ComponentUI") called at /home/cpansand/.cpan/build/2022030511/Test-WWW-Mechanize-Catalyst-0.62-2/blib/lib/Test/WWW/Mechanize/Catalyst.pm line 245
Test::WWW::Mechanize::Catalyst::import("Test::WWW::Mechanize::Catalyst", "ComponentUI") called at t/uncheck_bool_field.t line 6
main::BEGIN() called at /home/cpansand/.cpan/build/2022030511/Reaction-0.002005-2/blib/lib/ComponentUI/TestModel.pm line 0
eval {...} called at /home/cpansand/.cpan/build/2022030511/Reaction-0.002005-2/blib/lib/ComponentUI/TestModel.pm line 0
Class::MOP::load_class is deprecated at /opt/perl-5.12.5/lib/site_perl/5.12.5/x86_64-linux/Class/MOP.pm line 69.
Class::MOP::load_class("Reaction::InterfaceModel::Object") called at /home/cpansand/.cpan/build/2022030511/Reaction-0.002005-2/blib/lib/Reaction/Class.pm line 123
Reaction::Class::do_class_sub("Reaction::Class", "ComponentUI::TestModel::Foo", "ComponentUI::TestModel::Foo", "is", "Reaction::InterfaceModel::Object", "which", CODE(0x55fa95bd41c8)) called at /home/cpansand/.cpan/build/2022030511/Reaction-0.002005-2/blib/lib/Reaction/Class.pm line 86
Reaction::Class::("ComponentUI::TestModel::Foo", "is", "Reaction::InterfaceModel::Object", "which", CODE(0x55fa95bd41c8)) called at /home/cpansand/.cpan/build/2022030511/Reaction-0.002005-2/blib/lib/ComponentUI/TestModel/Foo.pm line 8
require ComponentUI/TestModel/Foo.pm called at /opt/perl-5.12.5/lib/site_perl/5.12.5/Module/Runtime.pm line 314
Module::Runtime::require_module("ComponentUI::TestModel::Foo") called at /opt/perl-5.12.5/lib/site_perl/5.12.5/Class/Load.pm line 174
Class::Load::try {...} () called at /opt/perl-5.12.5/lib/site_perl/5.12.5/Try/Tiny.pm line 97
eval {...} called at /opt/perl-5.12.5/lib/site_perl/5.12.5/Try/Tiny.pm line 93
Try::Tiny::try(CODE(0x55fa95b23140), Try::Tiny::Catch=REF(0x55fa95bd44e0)) called at /opt/perl-5.12.5/lib/site_perl/5.12.5/Class/Load.pm line 180
Class::Load::try_load_class("ComponentUI::TestModel::Foo", undef) called at /opt/perl-5.12.5/lib/site_perl/5.12.5/Class/Load.pm line 35
Class::Load::load_class("ComponentUI::TestModel::Foo") called at /home/cpansand/.cpan/build/2022030511/Reaction-0.002005-2/blib/lib/Reaction/InterfaceModel/Reflector/DBIC.pm line 892
eval {...} called at /home/cpansand/.cpan/build/2022030511/Reaction-0.002005-2/blib/lib/Reaction/InterfaceModel/Reflector/DBIC.pm line 892
Reaction::InterfaceModel::Reflector::DBIC::_maybe_load_class(Reaction::InterfaceModel::Reflector::DBIC=HASH(0x55fa95881250), "ComponentUI::TestModel::Foo") called at /home/cpansand/.cpan/build/2022030511/Reaction-0.002005-2/blib/lib/Reaction/InterfaceModel/Reflector/DBIC.pm line 876
Reaction::InterfaceModel::Reflector::DBIC::_load_or_create(Reaction::InterfaceModel::Reflector::DBIC=HASH(0x55fa95881250), "ComponentUI::TestModel::Foo", "superclasses", ARRAY(0x55fa95bc3948)) called at /home/cpansand/.cpan/build/2022030511/Reaction-0.002005-2/blib/lib/Reaction/InterfaceModel/Reflector/DBIC.pm line 448
Reaction::InterfaceModel::Reflector::DBIC::reflect_source_object(Reaction::InterfaceModel::Reflector::DBIC=HASH(0x55fa95881250), "schema_class", "RTest::TestDB", "source_name", "Foo", "source_class", "RTest::TestDB::Foo", "parent_class", ...) called at /home/cpansand/.cpan/build/2022030511/Reaction-0.002005-2/blib/lib/Reaction/InterfaceModel/Reflector/DBIC.pm line 323
Reaction::InterfaceModel::Reflector::DBIC::reflect_source(Reaction::InterfaceModel::Reflector::DBIC=HASH(0x55fa95881250), "source_name", "Foo", "parent_class", "ComponentUI::TestModel", "schema_class", "RTest::TestDB", "source_class", ...) called at /home/cpansand/.cpan/build/2022030511/Reaction-0.002005-2/blib/lib/Reaction/InterfaceModel/Reflector/DBIC.pm line 185
Reaction::InterfaceModel::Reflector::DBIC::reflect_schema(Reaction::InterfaceModel::Reflector::DBIC=HASH(0x55fa95881250), "model_class", "ComponentUI::TestModel", "schema_class", "RTest::TestDB", "sources", ARRAY(0x55fa957ef2c8)) called at /home/cpansand/.cpan/build/2022030511/Reaction-0.002005-2/blib/lib/ComponentUI/TestModel.pm line 10
require ComponentUI/TestModel.pm called at /opt/perl-5.12.5/lib/site_perl/5.12.5/Module/Runtime.pm line 314
Module::Runtime::require_module("ComponentUI::TestModel") called at /opt/perl-5.12.5/lib/site_perl/5.12.5/Class/Load.pm line 174
Class::Load::try {...} () called at /opt/perl-5.12.5/lib/site_perl/5.12.5/Try/Tiny.pm line 97
eval {...} called at /opt/perl-5.12.5/lib/site_perl/5.12.5/Try/Tiny.pm line 93
Try::Tiny::try(CODE(0x55fa94f77d00), Try::Tiny::Catch=REF(0x55fa9543a950)) called at /opt/perl-5.12.5/lib/site_perl/5.12.5/Class/Load.pm line 180
Class::Load::try_load_class("ComponentUI::TestModel", undef) called at /opt/perl-5.12.5/lib/site_perl/5.12.5/Class/Load.pm line 35
Class::Load::load_class("ComponentUI::TestModel") called at /home/cpansand/.cpan/build/2022030511/Reaction-0.002005-2/blib/lib/Catalyst/Model/Reaction/InterfaceModel/DBIC.pm line 24
Catalyst::Model::Reaction::InterfaceModel::DBIC::COMPONENT("ComponentUI::Model::TestModel", "ComponentUI", HASH(0x55fa923af668)) called at /opt/perl-5.12.5/lib/site_perl/5.12.5/Catalyst.pm line 3234
eval {...} called at /opt/perl-5.12.5/lib/site_perl/5.12.5/Catalyst.pm line 3235
Catalyst::setup_component("ComponentUI", "ComponentUI::Model::TestModel") called at /opt/perl-5.12.5/lib/site_perl/5.12.5/Catalyst.pm line 3212
Catalyst::__ANON__() called at /opt/perl-5.12.5/lib/site_perl/5.12.5/Catalyst.pm line 3058
Catalyst::setup_components("ComponentUI") called at /opt/perl-5.12.5/lib/site_perl/5.12.5/Catalyst.pm line 1431
Catalyst::setup("ComponentUI") called at /home/cpansand/.cpan/build/2022030511/Reaction-0.002005-2/blib/lib/ComponentUI.pm line 32
require ComponentUI.pm called at /opt/perl-5.12.5/lib/site_perl/5.12.5/Module/Runtime.pm line 314
Module::Runtime::require_module("ComponentUI") called at /opt/perl-5.12.5/lib/site_perl/5.12.5/Class/Load.pm line 174
Class::Load::try {...} () called at /opt/perl-5.12.5/lib/site_perl/5.12.5/Try/Tiny.pm line 97
eval {...} called at /opt/perl-5.12.5/lib/site_perl/5.12.5/Try/Tiny.pm line 93
Try::Tiny::try(CODE(0x55fa913b36d0), Try::Tiny::Catch=REF(0x55fa913c5c80)) called at /opt/perl-5.12.5/lib/site_perl/5.12.5/Class/Load.pm line 180
Class::Load::try_load_class("ComponentUI", undef) called at /opt/perl-5.12.5/lib/site_perl/5.12.5/Class/Load.pm line 35
Class::Load::load_class("ComponentUI") called at /home/cpansand/.cpan/build/2022030511/Test-WWW-Mechanize-Catalyst-0.62-2/blib/lib/Test/WWW/Mechanize/Catalyst.pm line 245
Test::WWW::Mechanize::Catalyst::import("Test::WWW::Mechanize::Catalyst", "ComponentUI") called at t/uncheck_bool_field.t line 6
main::BEGIN() called at /home/cpansand/.cpan/build/2022030511/Reaction-0.002005-2/blib/lib/ComponentUI/TestModel/Foo.pm line 0
eval {...} called at /home/cpansand/.cpan/build/2022030511/Reaction-0.002005-2/blib/lib/ComponentUI/TestModel/Foo.pm line 0
Class::MOP::load_class is deprecated at /opt/perl-5.12.5/lib/site_perl/5.12.5/x86_64-linux/Class/MOP.pm line 69.
Class::MOP::load_class("ComponentUI::RenderingContext::Site") called at /home/cpansand/.cpan/build/2022030511/Reaction-0.002005-2/blib/lib/Reaction/UI/View.pm line 125
eval {...} called at /home/cpansand/.cpan/build/2022030511/Reaction-0.002005-2/blib/lib/Reaction/UI/View.pm line 125
Reaction::UI::View::find_related_class(ComponentUI::View::Site=HASH(0x55fa94f1ec50), "RenderingContext") called at /home/cpansand/.cpan/build/2022030511/Reaction-0.002005-2/blib/lib/Reaction/UI/View.pm line 43
Reaction::UI::View::_build_rendering_context_class(ComponentUI::View::Site=HASH(0x55fa94f1ec50)) called at reader Reaction::UI::View::rendering_context_class (defined at /home/cpansand/.cpan/build/2022030511/Reaction-0.002005-2/blib/lib/Reaction/UI/View.pm line 29) line 7
Reaction::UI::View::rendering_context_class(ComponentUI::View::Site=HASH(0x55fa94f1ec50)) called at /home/cpansand/.cpan/build/2022030511/Reaction-0.002005-2/blib/lib/Reaction/UI/View.pm line 134
Reaction::UI::View::create_rendering_context(ComponentUI::View::Site=HASH(0x55fa94f1ec50)) called at /home/cpansand/.cpan/build/2022030511/Reaction-0.002005-2/blib/lib/Reaction/UI/View.pm line 60
Reaction::UI::View::render_window(ComponentUI::View::Site=HASH(0x55fa94f1ec50), Reaction::UI::Window=HASH(0x7faafb041248)) called at /home/cpansand/.cpan/build/2022030511/Reaction-0.002005-2/blib/lib/Reaction/UI/Window.pm line 74
Reaction::UI::Window::flush_view(Reaction::UI::Window=HASH(0x7faafb041248)) called at /home/cpansand/.cpan/build/2022030511/Reaction-0.002005-2/blib/lib/Reaction/UI/Window.pm line 36
Reaction::UI::Window::flush(Reaction::UI::Window=HASH(0x7faafb041248)) called at /home/cpansand/.cpan/build/2022030511/Reaction-0.002005-2/blib/lib/Reaction/UI/Controller/Root.pm line 38
Reaction::UI::Controller::Root::end(ComponentUI::Controller::Root=HASH(0x7faafb041398), ComponentUI=HASH(0x7faafb03ba10)) called at /opt/perl-5.12.5/lib/site_perl/5.12.5/Catalyst/Action.pm line 358
Catalyst::Action::execute(Catalyst::Action=HASH(0x55fa95e1f2d0), ComponentUI::Controller::Root=HASH(0x7faafb041398), ComponentUI=HASH(0x7faafb03ba10)) called at /opt/perl-5.12.5/lib/site_perl/5.12.5/Catalyst.pm line 2060
eval {...} called at /opt/perl-5.12.5/lib/site_perl/5.12.5/Catalyst.pm line 2060
Catalyst::execute(ComponentUI=HASH(0x7faafb03ba10), "ComponentUI::Controller::Root", Catalyst::Action=HASH(0x55fa95e1f2d0)) called at /opt/perl-5.12.5/lib/site_perl/5.12.5/Catalyst/Action.pm line 353
Catalyst::Action::dispatch(Catalyst::Action=HASH(0x55fa95e1f2d0), ComponentUI=HASH(0x7faafb03ba10)) called at /opt/perl-5.12.5/lib/site_perl/5.12.5/Catalyst/Controller.pm line 188
Catalyst::Controller::_END(ComponentUI::Controller::TestModel::Baz=HASH(0x7faafb03c220), ComponentUI=HASH(0x7faafb03ba10)) called at /opt/perl-5.12.5/lib/site_perl/5.12.5/Catalyst/Action.pm line 358
Catalyst::Action::execute(Catalyst::Action=HASH(0x55fa95ed8b58), ComponentUI::Controller::TestModel::Baz=HASH(0x7faafb03c220), ComponentUI=HASH(0x7faafb03ba10)) called at /opt/perl-5.12.5/lib/site_perl/5.12.5/Catalyst.pm line 2060
eval {...} called at /opt/perl-5.12.5/lib/site_perl/5.12.5/Catalyst.pm line 2060
Catalyst::execute(ComponentUI=HASH(0x7faafb03ba10), "ComponentUI::Controller::TestModel::Baz", Catalyst::Action=HASH(0x55fa95ed8b58)) called at /opt/perl-5.12.5/lib/site_perl/5.12.5/Catalyst/Action.pm line 353
Catalyst::Action::dispatch(Catalyst::Action=HASH(0x55fa95ed8b58), ComponentUI=HASH(0x7faafb03ba10)) called at /opt/perl-5.12.5/lib/site_perl/5.12.5/Catalyst/Dispatcher.pm line 261
Catalyst::Dispatcher::_do_forward(Catalyst::Dispatcher=HASH(0x55fa919c59b0), "forward", ComponentUI=HASH(0x7faafb03ba10), "_END") called at /opt/perl-5.12.5/lib/site_perl/5.12.5/Catalyst/Dispatcher.pm line 241
Catalyst::Dispatcher::forward(Catalyst::Dispatcher=HASH(0x55fa919c59b0), ComponentUI=HASH(0x7faafb03ba10), "_END") called at /opt/perl-5.12.5/lib/site_perl/5.12.5/Catalyst.pm line 482
Catalyst::forward(ComponentUI=HASH(0x7faafb03ba10), "_END") called at /opt/perl-5.12.5/lib/site_perl/5.12.5/Catalyst/Controller.pm line 137
Catalyst::Controller::_DISPATCH(ComponentUI::Controller::TestModel::Baz=HASH(0x7faafb03c220), ComponentUI=HASH(0x7faafb03ba10)) called at /opt/perl-5.12.5/lib/site_perl/5.12.5/Catalyst/Action.pm line 358
Catalyst::Action::execute(Catalyst::Action=HASH(0x55fa95ed89a8), ComponentUI::Controller::TestModel::Baz=HASH(0x7faafb03c220), ComponentUI=HASH(0x7faafb03ba10)) called at /opt/perl-5.12.5/lib/site_perl/5.12.5/Catalyst.pm line 2060
eval {...} called at /opt/perl-5.12.5/lib/site_perl/5.12.5/Catalyst.pm line 2060
Catalyst::execute(ComponentUI=HASH(0x7faafb03ba10), "ComponentUI::Controller::TestModel::Baz", Catalyst::Action=HASH(0x55fa95ed89a8)) called at /opt/perl-5.12.5/lib/site_perl/5.12.5/Catalyst/Action.pm line 353
Catalyst::Action::dispatch(Catalyst::Action=HASH(0x55fa95ed89a8), ComponentUI=HASH(0x7faafb03ba10)) called at /opt/perl-5.12.5/lib/site_perl/5.12.5/Catalyst/Dispatcher.pm line 261
Catalyst::Dispatcher::_do_forward(Catalyst::Dispatcher=HASH(0x55fa919c59b0), "forward", ComponentUI=HASH(0x7faafb03ba10), "/testmodel/baz/_DISPATCH") called at /opt/perl-5.12.5/lib/site_perl/5.12.5/Catalyst/Dispatcher.pm line 241
Catalyst::Dispatcher::forward(Catalyst::Dispatcher=HASH(0x55fa919c59b0), ComponentUI=HASH(0x7faafb03ba10), "/testmodel/baz/_DISPATCH") called at /opt/perl-5.12.5/lib/site_perl/5.12.5/Catalyst.pm line 482
Catalyst::forward(ComponentUI=HASH(0x7faafb03ba10), "/testmodel/baz/_DISPATCH") called at /opt/perl-5.12.5/lib/site_perl/5.12.5/Catalyst/Dispatcher.pm line 106
Catalyst::Dispatcher::dispatch(Catalyst::Dispatcher=HASH(0x55fa919c59b0), ComponentUI=HASH(0x7faafb03ba10)) called at /opt/perl-5.12.5/lib/site_perl/5.12.5/Catalyst.pm line 2006
Catalyst::dispatch(ComponentUI=HASH(0x7faafb03ba10)) called at /opt/perl-5.12.5/lib/site_perl/5.12.5/Catalyst/Plugin/Static/Simple.pm line 85
Class::MOP::Class:::around(CODE(0x55fa91d70038), ComponentUI=HASH(0x7faafb03ba10)) called at /opt/perl-5.12.5/lib/site_perl/5.12.5/x86_64-linux/Class/MOP/Method/Wrapped.pm line 166
ComponentUI::_wrapped_dispatch(ComponentUI=HASH(0x7faafb03ba10)) called at /opt/perl-5.12.5/lib/site_perl/5.12.5/x86_64-linux/Class/MOP/Method/Wrapped.pm line 97
ComponentUI::dispatch(ComponentUI=HASH(0x7faafb03ba10)) called at /opt/perl-5.12.5/lib/site_perl/5.12.5/Catalyst.pm line 2412
Catalyst::try {...} () called at /opt/perl-5.12.5/lib/site_perl/5.12.5/Try/Tiny.pm line 102
eval {...} called at /opt/perl-5.12.5/lib/site_perl/5.12.5/Try/Tiny.pm line 93
Try::Tiny::try(CODE(0x7faafb03b320), Try::Tiny::Catch=REF(0x7faafb03b140)) called at /opt/perl-5.12.5/lib/site_perl/5.12.5/Catalyst.pm line 2421
Catalyst::handle_request("ComponentUI", "env", HASH(0x7faafb0395b0), "response_cb", CODE(0x7faafb03b1a0)) called at /opt/perl-5.12.5/lib/site_perl/5.12.5/Catalyst/Engine.pm line 807
Catalyst::Engine::__ANON__(CODE(0x7faafb03b1a0)) called at /opt/perl-5.12.5/lib/site_perl/5.12.5/Plack/Middleware/HTTPExceptions.pm line 32
Plack::Middleware::HTTPExceptions::try {...} () called at /opt/perl-5.12.5/lib/site_perl/5.12.5/Try/Tiny.pm line 102
eval {...} called at /opt/perl-5.12.5/lib/site_perl/5.12.5/Try/Tiny.pm line 93
Try::Tiny::try(CODE(0x7faafb03af60), Try::Tiny::Catch=REF(0x7faafb03a180)) called at /opt/perl-5.12.5/lib/site_perl/5.12.5/Plack/Middleware/HTTPExceptions.pm line 41
Plack::Middleware::HTTPExceptions::__ANON__(CODE(0x7faafb03ae10)) called at /opt/perl-5.12.5/lib/site_perl/5.12.5/Plack/Util.pm line 339
Plack::Util::__ANON__(CODE(0x7faafb03acc0)) called at /opt/perl-5.12.5/lib/site_perl/5.12.5/Plack/Util.pm line 339
Plack::Util::__ANON__(CODE(0x7faafb03ab70)) called at /opt/perl-5.12.5/lib/site_perl/5.12.5/Plack/Util.pm line 339
Plack::Util::__ANON__(CODE(0x7faafb03aac8)) called at /opt/perl-5.12.5/lib/site_perl/5.12.5/HTTP/Message/PSGI.pm line 100
HTTP::Message::PSGI::res_from_psgi(CODE(0x7faafb039fd0)) called at /opt/perl-5.12.5/lib/site_perl/5.12.5/HTTP/Message/PSGI.pm line 157
HTTP::Response::from_psgi("HTTP::Response", CODE(0x7faafb039fd0)) called at /opt/perl-5.12.5/lib/site_perl/5.12.5/Plack/Test/MockHTTP.pm line 24
Plack::Test::MockHTTP::try {...} () called at /opt/perl-5.12.5/lib/site_perl/5.12.5/Try/Tiny.pm line 97
eval {...} called at /opt/perl-5.12.5/lib/site_perl/5.12.5/Try/Tiny.pm line 93
Try::Tiny::try(CODE(0x7faafb0353c8), Try::Tiny::Catch=REF(0x55fa95ed3758)) called at /opt/perl-5.12.5/lib/site_perl/5.12.5/Plack/Test/MockHTTP.pm line 27
Plack::Test::MockHTTP::request(Plack::Test::MockHTTP=HASH(0x7faafb035140), HTTP::Request=HASH(0x7faafb02f548)) called at /opt/perl-5.12.5/lib/site_perl/5.12.5/Plack/Test.pm line 38
Plack::Test::__ANON__(HTTP::Request=HASH(0x7faafb02f548)) called at /opt/perl-5.12.5/lib/site_perl/5.12.5/Catalyst/Test.pm line 290
Catalyst::Test::__ANON__(CODE(0x7faafb034fc0)) called at /opt/perl-5.12.5/lib/site_perl/5.12.5/Plack/Test.pm line 38
Plack::Test::test_psgi("app", CODE(0x7faafb034a50), "mangle_response", CODE(0x55fa913aa680), "app", CODE(0x7faafb034cd8), "client", CODE(0x7faafb034db0)) called at /opt/perl-5.12.5/lib/site_perl/5.12.5/Catalyst/Test.pm line 293
Catalyst::Test::_request(HASH(0x7faafb034978), HTTP::Request=HASH(0x7faafb02f548)) called at /opt/perl-5.12.5/lib/site_perl/5.12.5/Catalyst/Test.pm line 336
Catalyst::Test::_local_request("ComponentUI", HTTP::Request=HASH(0x7faafb02f548)) called at /home/cpansand/.cpan/build/2022030511/Test-WWW-Mechanize-Catalyst-0.62-2/blib/lib/Test/WWW/Mechanize/Catalyst.pm line 174
Test::WWW::Mechanize::Catalyst::_do_catalyst_request(Test::WWW::Mechanize::Catalyst=HASH(0x7faafb01ef70), HTTP::Request=HASH(0x7faafb02f548)) called at /home/cpansand/.cpan/build/2022030511/Test-WWW-Mechanize-Catalyst-0.62-2/blib/lib/Test/WWW/Mechanize/Catalyst.pm line 78
Test::WWW::Mechanize::Catalyst::_make_request(Test::WWW::Mechanize::Catalyst=HASH(0x7faafb01ef70), HTTP::Request=HASH(0x7faafb02f548)) called at /opt/perl-5.12.5/lib/site_perl/5.12.5/WWW/Mechanize.pm line 1333
WWW::Mechanize::request(Test::WWW::Mechanize::Catalyst=HASH(0x7faafb01ef70), HTTP::Request=HASH(0x7faafb02f548)) called at /opt/perl-5.12.5/lib/site_perl/5.12.5/LWP/UserAgent.pm line 445
LWP::UserAgent::get(Test::WWW::Mechanize::Catalyst=HASH(0x7faafb01ef70), "http://localhost/testmodel/baz/id/1/update") called at /opt/perl-5.12.5/lib/site_perl/5.12.5/WWW/Mechanize.pm line 124
WWW::Mechanize::get(Test::WWW::Mechanize::Catalyst=HASH(0x7faafb01ef70), "http://localhost/testmodel/baz/id/1/update") called at /opt/perl-5.12.5/lib/site_perl/5.12.5/Test/WWW/Mechanize.pm line 179
Test::WWW::Mechanize::get_ok(Test::WWW::Mechanize::Catalyst=HASH(0x7faafb01ef70), "http://localhost/testmodel/baz/id/1/update") called at t/uncheck_bool_field.t line 9
Class::MOP::is_class_loaded is deprecated at /opt/perl-5.12.5/lib/site_perl/5.12.5/x86_64-linux/Class/MOP.pm line 87.
Class::MOP::is_class_loaded("ComponentUI::UI::Widget::SiteLayout") called at /home/cpansand/.cpan/build/2022030511/Reaction-0.002005-2/blib/lib/Reaction/UI/Skin.pm line 178
Reaction::UI::Skin::widget_class_for(Reaction::UI::Skin=HASH(0x55fa964220e0), Reaction::UI::LayoutSet::TT=HASH(0x55fa96428868)) called at /home/cpansand/.cpan/build/2022030511/Reaction-0.002005-2/blib/lib/Reaction/UI/LayoutSet.pm line 28
Reaction::UI::LayoutSet::BUILD(Reaction::UI::LayoutSet::TT=HASH(0x55fa96428868), HASH(0x55fa964287d8)) called at constructor Reaction::UI::LayoutSet::TT::new (defined at /home/cpansand/.cpan/build/2022030511/Reaction-0.002005-2/blib/lib/Reaction/UI/LayoutSet/TT.pm line 43) line 80
Reaction::UI::LayoutSet::TT::new("Reaction::UI::LayoutSet::TT", "name", "site_layout", "skin", Reaction::UI::Skin=HASH(0x55fa964220e0), "tt_object", Template=HASH(0x55fa95cfdd70), "source_file", ...) called at /home/cpansand/.cpan/build/2022030511/Reaction-0.002005-2/blib/lib/Reaction/UI/Skin.pm line 114
Reaction::UI::Skin::_create_layout_set(Reaction::UI::Skin=HASH(0x55fa964220e0), "site_layout", ARRAY(0x55fa9642cc10), Reaction::UI::Skin=HASH(0x55fa964220e0)) called at /home/cpansand/.cpan/build/2022030511/Reaction-0.002005-2/blib/lib/Reaction/UI/Skin.pm line 110
Reaction::UI::Skin::create_layout_set(Reaction::UI::Skin=HASH(0x55fa964220e0), "site_layout") called at /home/cpansand/.cpan/build/2022030511/Reaction-0.002005-2/blib/lib/Reaction/UI/LayoutSet.pm line 83
Reaction::UI::LayoutSet::_load_file(Reaction::UI::LayoutSet::TT=HASH(0x55fa964422c0), Path::Class::File=HASH(0x55fa9641ef48), HASH(0x55fa96434e80)) called at /home/cpansand/.cpan/build/2022030511/Reaction-0.002005-2/blib/lib/Reaction/UI/LayoutSet.pm line 27
Reaction::UI::LayoutSet::BUILD(Reaction::UI::LayoutSet::TT=HASH(0x55fa964422c0), HASH(0x55fa96434e80)) called at constructor Reaction::UI::LayoutSet::TT::new (defined at /home/cpansand/.cpan/build/2022030511/Reaction-0.002005-2/blib/lib/Reaction/UI/LayoutSet/TT.pm line 43) line 80
Reaction::UI::LayoutSet::TT::new("Reaction::UI::LayoutSet::TT", "name", "site_layout", "skin", Reaction::UI::Skin=HASH(0x55fa963ea4c0), "next_skin", Reaction::UI::Skin=HASH(0x55fa964220e0), "tt_object", ...) called at /home/cpansand/.cpan/build/2022030511/Reaction-0.002005-2/blib/lib/Reaction/UI/Skin.pm line 114
Reaction::UI::Skin::_create_layout_set(Reaction::UI::Skin=HASH(0x55fa963ea4c0), "site_layout", ARRAY(0x55fa9577d378), Reaction::UI::Skin=HASH(0x55fa963ea4c0)) called at /home/cpansand/.cpan/build/2022030511/Reaction-0.002005-2/blib/lib/Reaction/UI/Skin.pm line 110
Reaction::UI::Skin::create_layout_set(Reaction::UI::Skin=HASH(0x55fa963ea4c0), "site_layout") called at /home/cpansand/.cpan/build/2022030511/Reaction-0.002005-2/blib/lib/Reaction/UI/LayoutSet.pm line 83
Reaction::UI::LayoutSet::_load_file(Reaction::UI::LayoutSet::TT=HASH(0x55fa963da598), Path::Class::File=HASH(0x55fa9577d318), HASH(0x55fa963f0a50)) called at /home/cpansand/.cpan/build/2022030511/Reaction-0.002005-2/blib/lib/Reaction/UI/LayoutSet.pm line 27
Reaction::UI::LayoutSet::BUILD(Reaction::UI::LayoutSet::TT=HASH(0x55fa963da598), HASH(0x55fa963f0a50)) called at constructor Reaction::UI::LayoutSet::TT::new (defined at /home/cpansand/.cpan/build/2022030511/Reaction-0.002005-2/blib/lib/Reaction/UI/LayoutSet/TT.pm line 43) line 80
Reaction::UI::LayoutSet::TT::new("Reaction::UI::LayoutSet::TT", "name", "site_layout", "skin", Reaction::UI::Skin=HASH(0x55fa95785560), "next_skin", Reaction::UI::Skin=HASH(0x55fa963ea4c0), "tt_object", ...) called at /home/cpansand/.cpan/build/2022030511/Reaction-0.002005-2/blib/lib/Reaction/UI/Skin.pm line 114
Reaction::UI::Skin::_create_layout_set(Reaction::UI::Skin=HASH(0x55fa95785560), "site_layout", ARRAY(0x55fa963d7ad8), Reaction::UI::Skin=HASH(0x55fa95785560)) called at /home/cpansand/.cpan/build/2022030511/Reaction-0.002005-2/blib/lib/Reaction/UI/Skin.pm line 110
Reaction::UI::Skin::create_layout_set(Reaction::UI::Skin=HASH(0x55fa95785560), "site_layout") called at inline delegation in Reaction::UI::View for skin->create_layout_set (attribute declared in /home/cpansand/.cpan/build/2022030511/Reaction-0.002005-2/blib/lib/Reaction/UI/View.pm at line 22) line 18
Reaction::UI::View::create_layout_set(ComponentUI::View::Site=HASH(0x55fa94f1ec50), "site_layout") called at /home/cpansand/.cpan/build/2022030511/Reaction-0.002005-2/blib/lib/Reaction/UI/View.pm line 99
Reaction::UI::View::layout_set_for(ComponentUI::View::Site=HASH(0x55fa94f1ec50), Reaction::UI::ViewPort::SiteLayout=HASH(0x7faafb0416e0)) called at /home/cpansand/.cpan/build/2022030511/Reaction-0.002005-2/blib/lib/Reaction/UI/View.pm line 78
Reaction::UI::View::render_viewport_args(ComponentUI::View::Site=HASH(0x55fa94f1ec50), Reaction::UI::ViewPort::SiteLayout=HASH(0x7faafb0416e0)) called at /home/cpansand/.cpan/build/2022030511/Reaction-0.002005-2/blib/lib/Reaction/UI/View.pm line 61
Reaction::UI::View::render_window(ComponentUI::View::Site=HASH(0x55fa94f1ec50), Reaction::UI::Window=HASH(0x7faafb041248)) called at /home/cpansand/.cpan/build/2022030511/Reaction-0.002005-2/blib/lib/Reaction/UI/Window.pm line 74
Reaction::UI::Window::flush_view(Reaction::UI::Window=HASH(0x7faafb041248)) called at /home/cpansand/.cpan/build/2022030511/Reaction-0.002005-2/blib/lib/Reaction/UI/Window.pm line 36
Reaction::UI::Window::flush(Reaction::UI::Window=HASH(0x7faafb041248)) called at /home/cpansand/.cpan/build/2022030511/Reaction-0.002005-2/blib/lib/Reaction/UI/Controller/Root.pm line 38
Reaction::UI::Controller::Root::end(ComponentUI::Controller::Root=HASH(0x7faafb041398), ComponentUI=HASH(0x7faafb03ba10)) called at /opt/perl-5.12.5/lib/site_perl/5.12.5/Catalyst/Action.pm line 358
Catalyst::Action::execute(Catalyst::Action=HASH(0x55fa95e1f2d0), ComponentUI::Controller::Root=HASH(0x7faafb041398), ComponentUI=HASH(0x7faafb03ba10)) called at /opt/perl-5.12.5/lib/site_perl/5.12.5/Catalyst.pm line 2060
eval {...} called at /opt/perl-5.12.5/lib/site_perl/5.12.5/Catalyst.pm line 2060
Catalyst::execute(ComponentUI=HASH(0x7faafb03ba10), "ComponentUI::Controller::Root", Catalyst::Action=HASH(0x55fa95e1f2d0)) called at /opt/perl-5.12.5/lib/site_perl/5.12.5/Catalyst/Action.pm line 353
Catalyst::Action::dispatch(Catalyst::Action=HASH(0x55fa95e1f2d0), ComponentUI=HASH(0x7faafb03ba10)) called at /opt/perl-5.12.5/lib/site_perl/5.12.5/Catalyst/Controller.pm line 188
Catalyst::Controller::_END(ComponentUI::Controller::TestModel::Baz=HASH(0x7faafb03c220), ComponentUI=HASH(0x7faafb03ba10)) called at /opt/perl-5.12.5/lib/site_perl/5.12.5/Catalyst/Action.pm line 358
Catalyst::Action::execute(Catalyst::Action=HASH(0x55fa95ed8b58), ComponentUI::Controller::TestModel::Baz=HASH(0x7faafb03c220), ComponentUI=HASH(0x7faafb03ba10)) called at /opt/perl-5.12.5/lib/site_perl/5.12.5/Catalyst.pm line 2060
eval {...} called at /opt/perl-5.12.5/lib/site_perl/5.12.5/Catalyst.pm line 2060
Catalyst::execute(ComponentUI=HASH(0x7faafb03ba10), "ComponentUI::Controller::TestModel::Baz", Catalyst::Action=HASH(0x55fa95ed8b58)) called at /opt/perl-5.12.5/lib/site_perl/5.12.5/Catalyst/Action.pm line 353
Catalyst::Action::dispatch(Catalyst::Action=HASH(0x55fa95ed8b58), ComponentUI=HASH(0x7faafb03ba10)) called at /opt/perl-5.12.5/lib/site_perl/5.12.5/Catalyst/Dispatcher.pm line 261
Catalyst::Dispatcher::_do_forward(Catalyst::Dispatcher=HASH(0x55fa919c59b0), "forward", ComponentUI=HASH(0x7faafb03ba10), "_END") called at /opt/perl-5.12.5/lib/site_perl/5.12.5/Catalyst/Dispatcher.pm line 241
Catalyst::Dispatcher::forward(Catalyst::Dispatcher=HASH(0x55fa919c59b0), ComponentUI=HASH(0x7faafb03ba10), "_END") called at /opt/perl-5.12.5/lib/site_perl/5.12.5/Catalyst.pm line 482
Catalyst::forward(ComponentUI=HASH(0x7faafb03ba10), "_END") called at /opt/perl-5.12.5/lib/site_perl/5.12.5/Catalyst/Controller.pm line 137
Catalyst::Controller::_DISPATCH(ComponentUI::Controller::TestModel::Baz=HASH(0x7faafb03c220), ComponentUI=HASH(0x7faafb03ba10)) called at /opt/perl-5.12.5/lib/site_perl/5.12.5/Catalyst/Action.pm line 358
Catalyst::Action::execute(Catalyst::Action=HASH(0x55fa95ed89a8), ComponentUI::Controller::TestModel::Baz=HASH(0x7faafb03c220), ComponentUI=HASH(0x7faafb03ba10)) called at /opt/perl-5.12.5/lib/site_perl/5.12.5/Catalyst.pm line 2060
eval {...} called at /opt/perl-5.12.5/lib/site_perl/5.12.5/Catalyst.pm line 2060
Catalyst::execute(ComponentUI=HASH(0x7faafb03ba10), "ComponentUI::Controller::TestModel::Baz", Catalyst::Action=HASH(0x55fa95ed89a8)) called at /opt/perl-5.12.5/lib/site_perl/5.12.5/Catalyst/Action.pm line 353
Catalyst::Action::dispatch(Catalyst::Action=HASH(0x55fa95ed89a8), ComponentUI=HASH(0x7faafb03ba10)) called at /opt/perl-5.12.5/lib/site_perl/5.12.5/Catalyst/Dispatcher.pm line 261
Catalyst::Dispatcher::_do_forward(Catalyst::Dispatcher=HASH(0x55fa919c59b0), "forward", ComponentUI=HASH(0x7faafb03ba10), "/testmodel/baz/_DISPATCH") called at /opt/perl-5.12.5/lib/site_perl/5.12.5/Catalyst/Dispatcher.pm line 241
Catalyst::Dispatcher::forward(Catalyst::Dispatcher=HASH(0x55fa919c59b0), ComponentUI=HASH(0x7faafb03ba10), "/testmodel/baz/_DISPATCH") called at /opt/perl-5.12.5/lib/site_perl/5.12.5/Catalyst.pm line 482
Catalyst::forward(ComponentUI=HASH(0x7faafb03ba10), "/testmodel/baz/_DISPATCH") called at /opt/perl-5.12.5/lib/site_perl/5.12.5/Catalyst/Dispatcher.pm line 106
Catalyst::Dispatcher::dispatch(Catalyst::Dispatcher=HASH(0x55fa919c59b0), ComponentUI=HASH(0x7faafb03ba10)) called at /opt/perl-5.12.5/lib/site_perl/5.12.5/Catalyst.pm line 2006
Catalyst::dispatch(ComponentUI=HASH(0x7faafb03ba10)) called at /opt/perl-5.12.5/lib/site_perl/5.12.5/Catalyst/Plugin/Static/Simple.pm line 85
Class::MOP::Class:::around(CODE(0x55fa91d70038), ComponentUI=HASH(0x7faafb03ba10)) called at /opt/perl-5.12.5/lib/site_perl/5.12.5/x86_64-linux/Class/MOP/Method/Wrapped.pm line 166
ComponentUI::_wrapped_dispatch(ComponentUI=HASH(0x7faafb03ba10)) called at /opt/perl-5.12.5/lib/site_perl/5.12.5/x86_64-linux/Class/MOP/Method/Wrapped.pm line 97
ComponentUI::dispatch(ComponentUI=HASH(0x7faafb03ba10)) called at /opt/perl-5.12.5/lib/site_perl/5.12.5/Catalyst.pm line 2412
Catalyst::try {...} () called at /opt/perl-5.12.5/lib/site_perl/5.12.5/Try/Tiny.pm line 102
eval {...} called at /opt/perl-5.12.5/lib/site_perl/5.12.5/Try/Tiny.pm line 93
Try::Tiny::try(CODE(0x7faafb03b320), Try::Tiny::Catch=REF(0x7faafb03b140)) called at /opt/perl-5.12.5/lib/site_perl/5.12.5/Catalyst.pm line 2421
Catalyst::handle_request("ComponentUI", "env", HASH(0x7faafb0395b0), "response_cb", CODE(0x7faafb03b1a0)) called at /opt/perl-5.12.5/lib/site_perl/5.12.5/Catalyst/Engine.pm line 807
Catalyst::Engine::__ANON__(CODE(0x7faafb03b1a0)) called at /opt/perl-5.12.5/lib/site_perl/5.12.5/Plack/Middleware/HTTPExceptions.pm line 32
Plack::Middleware::HTTPExceptions::try {...} () called at /opt/perl-5.12.5/lib/site_perl/5.12.5/Try/Tiny.pm line 102
eval {...} called at /opt/perl-5.12.5/lib/site_perl/5.12.5/Try/Tiny.pm line 93
Try::Tiny::try(CODE(0x7faafb03af60), Try::Tiny::Catch=REF(0x7faafb03a180)) called at /opt/perl-5.12.5/lib/site_perl/5.12.5/Plack/Middleware/HTTPExceptions.pm line 41
Plack::Middleware::HTTPExceptions::__ANON__(CODE(0x7faafb03ae10)) called at /opt/perl-5.12.5/lib/site_perl/5.12.5/Plack/Util.pm line 339
Plack::Util::__ANON__(CODE(0x7faafb03acc0)) called at /opt/perl-5.12.5/lib/site_perl/5.12.5/Plack/Util.pm line 339
Plack::Util::__ANON__(CODE(0x7faafb03ab70)) called at /opt/perl-5.12.5/lib/site_perl/5.12.5/Plack/Util.pm line 339
Plack::Util::__ANON__(CODE(0x7faafb03aac8)) called at /opt/perl-5.12.5/lib/site_perl/5.12.5/HTTP/Message/PSGI.pm line 100
HTTP::Message::PSGI::res_from_psgi(CODE(0x7faafb039fd0)) called at /opt/perl-5.12.5/lib/site_perl/5.12.5/HTTP/Message/PSGI.pm line 157
HTTP::Response::from_psgi("HTTP::Response", CODE(0x7faafb039fd0)) called at /opt/perl-5.12.5/lib/site_perl/5.12.5/Plack/Test/MockHTTP.pm line 24
Plack::Test::MockHTTP::try {...} () called at /opt/perl-5.12.5/lib/site_perl/5.12.5/Try/Tiny.pm line 97
eval {...} called at /opt/perl-5.12.5/lib/site_perl/5.12.5/Try/Tiny.pm line 93
Try::Tiny::try(CODE(0x7faafb0353c8), Try::Tiny::Catch=REF(0x55fa95ed3758)) called at /opt/perl-5.12.5/lib/site_perl/5.12.5/Plack/Test/MockHTTP.pm line 27
Plack::Test::MockHTTP::request(Plack::Test::MockHTTP=HASH(0x7faafb035140), HTTP::Request=HASH(0x7faafb02f548)) called at /opt/perl-5.12.5/lib/site_perl/5.12.5/Plack/Test.pm line 38
Plack::Test::__ANON__(HTTP::Request=HASH(0x7faafb02f548)) called at /opt/perl-5.12.5/lib/site_perl/5.12.5/Catalyst/Test.pm line 290
Catalyst::Test::__ANON__(CODE(0x7faafb034fc0)) called at /opt/perl-5.12.5/lib/site_perl/5.12.5/Plack/Test.pm line 38
Plack::Test::test_psgi("app", CODE(0x7faafb034a50), "mangle_response", CODE(0x55fa913aa680), "app", CODE(0x7faafb034cd8), "client", CODE(0x7faafb034db0)) called at /opt/perl-5.12.5/lib/site_perl/5.12.5/Catalyst/Test.pm line 293
Catalyst::Test::_request(HASH(0x7faafb034978), HTTP::Request=HASH(0x7faafb02f548)) called at /opt/perl-5.12.5/lib/site_perl/5.12.5/Catalyst/Test.pm line 336
Catalyst::Test::_local_request("ComponentUI", HTTP::Request=HASH(0x7faafb02f548)) called at /home/cpansand/.cpan/build/2022030511/Test-WWW-Mechanize-Catalyst-0.62-2/blib/lib/Test/WWW/Mechanize/Catalyst.pm line 174
Test::WWW::Mechanize::Catalyst::_do_catalyst_request(Test::WWW::Mechanize::Catalyst=HASH(0x7faafb01ef70), HTTP::Request=HASH(0x7faafb02f548)) called at /home/cpansand/.cpan/build/2022030511/Test-WWW-Mechanize-Catalyst-0.62-2/blib/lib/Test/WWW/Mechanize/Catalyst.pm line 78
Test::WWW::Mechanize::Catalyst::_make_request(Test::WWW::Mechanize::Catalyst=HASH(0x7faafb01ef70), HTTP::Request=HASH(0x7faafb02f548)) called at /opt/perl-5.12.5/lib/site_perl/5.12.5/WWW/Mechanize.pm line 1333
WWW::Mechanize::request(Test::WWW::Mechanize::Catalyst=HASH(0x7faafb01ef70), HTTP::Request=HASH(0x7faafb02f548)) called at /opt/perl-5.12.5/lib/site_perl/5.12.5/LWP/UserAgent.pm line 445
LWP::UserAgent::get(Test::WWW::Mechanize::Catalyst=HASH(0x7faafb01ef70), "http://localhost/testmodel/baz/id/1/update") called at /opt/perl-5.12.5/lib/site_perl/5.12.5/WWW/Mechanize.pm line 124
WWW::Mechanize::get(Test::WWW::Mechanize::Catalyst=HASH(0x7faafb01ef70), "http://localhost/testmodel/baz/id/1/update") called at /opt/perl-5.12.5/lib/site_perl/5.12.5/Test/WWW/Mechanize.pm line 179
Test::WWW::Mechanize::get_ok(Test::WWW::Mechanize::Catalyst=HASH(0x7faafb01ef70), "http://localhost/testmodel/baz/id/1/update") called at t/uncheck_bool_field.t line 9
Class::MOP::load_class is deprecated at /opt/perl-5.12.5/lib/site_perl/5.12.5/x86_64-linux/Class/MOP.pm line 69.
Class::MOP::load_class("Reaction::UI::Widget::SiteLayout") called at /home/cpansand/.cpan/build/2022030511/Reaction-0.002005-2/blib/lib/Reaction/UI/Skin.pm line 181
eval {...} called at /home/cpansand/.cpan/build/2022030511/Reaction-0.002005-2/blib/lib/Reaction/UI/Skin.pm line 181
Reaction::UI::Skin::widget_class_for(Reaction::UI::Skin=HASH(0x55fa964220e0), Reaction::UI::LayoutSet::TT=HASH(0x55fa96428868)) called at /home/cpansand/.cpan/build/2022030511/Reaction-0.002005-2/blib/lib/Reaction/UI/LayoutSet.pm line 28
Reaction::UI::LayoutSet::BUILD(Reaction::UI::LayoutSet::TT=HASH(0x55fa96428868), HASH(0x55fa964287d8)) called at constructor Reaction::UI::LayoutSet::TT::new (defined at /home/cpansand/.cpan/build/2022030511/Reaction-0.002005-2/blib/lib/Reaction/UI/LayoutSet/TT.pm line 43) line 80
Reaction::UI::LayoutSet::TT::new("Reaction::UI::LayoutSet::TT", "name", "site_layout", "skin", Reaction::UI::Skin=HASH(0x55fa964220e0), "tt_object", Template=HASH(0x55fa95cfdd70), "source_file", ...) called at /home/cpansand/.cpan/build/2022030511/Reaction-0.002005-2/blib/lib/Reaction/UI/Skin.pm line 114
Reaction::UI::Skin::_create_layout_set(Reaction::UI::Skin=HASH(0x55fa964220e0), "site_layout", ARRAY(0x55fa9642cc10), Reaction::UI::Skin=HASH(0x55fa964220e0)) called at /home/cpansand/.cpan/build/2022030511/Reaction-0.002005-2/blib/lib/Reaction/UI/Skin.pm line 110
Reaction::UI::Skin::create_layout_set(Reaction::UI::Skin=HASH(0x55fa964220e0), "site_layout") called at /home/cpansand/.cpan/build/2022030511/Reaction-0.002005-2/blib/lib/Reaction/UI/LayoutSet.pm line 83
Reaction::UI::LayoutSet::_load_file(Reaction::UI::LayoutSet::TT=HASH(0x55fa964422c0), Path::Class::File=HASH(0x55fa9641ef48), HASH(0x55fa96434e80)) called at /home/cpansand/.cpan/build/2022030511/Reaction-0.002005-2/blib/lib/Reaction/UI/LayoutSet.pm line 27
Reaction::UI::LayoutSet::BUILD(Reaction::UI::LayoutSet::TT=HASH(0x55fa964422c0), HASH(0x55fa96434e80)) called at constructor Reaction::UI::LayoutSet::TT::new (defined at /home/cpansand/.cpan/build/2022030511/Reaction-0.002005-2/blib/lib/Reaction/UI/LayoutSet/TT.pm line 43) line 80
Reaction::UI::LayoutSet::TT::new("Reaction::UI::LayoutSet::TT", "name", "site_layout", "skin", Reaction::UI::Skin=HASH(0x55fa963ea4c0), "next_skin", Reaction::UI::Skin=HASH(0x55fa964220e0), "tt_object", ...) called at /home/cpansand/.cpan/build/2022030511/Reaction-0.002005-2/blib/lib/Reaction/UI/Skin.pm line 114
Reaction::UI::Skin::_create_layout_set(Reaction::UI::Skin=HASH(0x55fa963ea4c0), "site_layout", ARRAY(0x55fa9577d378), Reaction::UI::Skin=HASH(0x55fa963ea4c0)) called at /home/cpansand/.cpan/build/2022030511/Reaction-0.002005-2/blib/lib/Reaction/UI/Skin.pm line 110
Reaction::UI::Skin::create_layout_set(Reaction::UI::Skin=HASH(0x55fa963ea4c0), "site_layout") called at /home/cpansand/.cpan/build/2022030511/Reaction-0.002005-2/blib/lib/Reaction/UI/LayoutSet.pm line 83
Reaction::UI::LayoutSet::_load_file(Reaction::UI::LayoutSet::TT=HASH(0x55fa963da598), Path::Class::File=HASH(0x55fa9577d318), HASH(0x55fa963f0a50)) called at /home/cpansand/.cpan/build/2022030511/Reaction-0.002005-2/blib/lib/Reaction/UI/LayoutSet.pm line 27
Reaction::UI::LayoutSet::BUILD(Reaction::UI::LayoutSet::TT=HASH(0x55fa963da598), HASH(0x55fa963f0a50)) called at constructor Reaction::UI::LayoutSet::TT::new (defined at /home/cpansand/.cpan/build/2022030511/Reaction-0.002005-2/blib/lib/Reaction/UI/LayoutSet/TT.pm line 43) line 80
Reaction::UI::LayoutSet::TT::new("Reaction::UI::LayoutSet::TT", "name", "site_layout", "skin", Reaction::UI::Skin=HASH(0x55fa95785560), "next_skin", Reaction::UI::Skin=HASH(0x55fa963ea4c0), "tt_object", ...) called at /home/cpansand/.cpan/build/2022030511/Reaction-0.002005-2/blib/lib/Reaction/UI/Skin.pm line 114
Reaction::UI::Skin::_create_layout_set(Reaction::UI::Skin=HASH(0x55fa95785560), "site_layout", ARRAY(0x55fa963d7ad8), Reaction::UI::Skin=HASH(0x55fa95785560)) called at /home/cpansand/.cpan/build/2022030511/Reaction-0.002005-2/blib/lib/Reaction/UI/Skin.pm line 110
Reaction::UI::Skin::create_layout_set(Reaction::UI::Skin=HASH(0x55fa95785560), "site_layout") called at inline delegation in Reaction::UI::View for skin->create_layout_set (attribute declared in /home/cpansand/.cpan/build/2022030511/Reaction-0.002005-2/blib/lib/Reaction/UI/View.pm at line 22) line 18
Reaction::UI::View::create_layout_set(ComponentUI::View::Site=HASH(0x55fa94f1ec50), "site_layout") called at /home/cpansand/.cpan/build/2022030511/Reaction-0.002005-2/blib/lib/Reaction/UI/View.pm line 99
Reaction::UI::View::layout_set_for(ComponentUI::View::Site=HASH(0x55fa94f1ec50), Reaction::UI::ViewPort::SiteLayout=HASH(0x7faafb0416e0)) called at /home/cpansand/.cpan/build/2022030511/Reaction-0.002005-2/blib/lib/Reaction/UI/View.pm line 78
Reaction::UI::View::render_viewport_args(ComponentUI::View::Site=HASH(0x55fa94f1ec50), Reaction::UI::ViewPort::SiteLayout=HASH(0x7faafb0416e0)) called at /home/cpansand/.cpan/build/2022030511/Reaction-0.002005-2/blib/lib/Reaction/UI/View.pm line 61
Reaction::UI::View::render_window(ComponentUI::View::Site=HASH(0x55fa94f1ec50), Reaction::UI::Window=HASH(0x7faafb041248)) called at /home/cpansand/.cpan/build/2022030511/Reaction-0.002005-2/blib/lib/Reaction/UI/Window.pm line 74
Reaction::UI::Window::flush_view(Reaction::UI::Window=HASH(0x7faafb041248)) called at /home/cpansand/.cpan/build/2022030511/Reaction-0.002005-2/blib/lib/Reaction/UI/Window.pm line 36
Reaction::UI::Window::flush(Reaction::UI::Window=HASH(0x7faafb041248)) called at /home/cpansand/.cpan/build/2022030511/Reaction-0.002005-2/blib/lib/Reaction/UI/Controller/Root.pm line 38
Reaction::UI::Controller::Root::end(ComponentUI::Controller::Root=HASH(0x7faafb041398), ComponentUI=HASH(0x7faafb03ba10)) called at /opt/perl-5.12.5/lib/site_perl/5.12.5/Catalyst/Action.pm line 358
Catalyst::Action::execute(Catalyst::Action=HASH(0x55fa95e1f2d0), ComponentUI::Controller::Root=HASH(0x7faafb041398), ComponentUI=HASH(0x7faafb03ba10)) called at /opt/perl-5.12.5/lib/site_perl/5.12.5/Catalyst.pm line 2060
eval {...} called at /opt/perl-5.12.5/lib/site_perl/5.12.5/Catalyst.pm line 2060
Catalyst::execute(ComponentUI=HASH(0x7faafb03ba10), "ComponentUI::Controller::Root", Catalyst::Action=HASH(0x55fa95e1f2d0)) called at /opt/perl-5.12.5/lib/site_perl/5.12.5/Catalyst/Action.pm line 353
Catalyst::Action::dispatch(Catalyst::Action=HASH(0x55fa95e1f2d0), ComponentUI=HASH(0x7faafb03ba10)) called at /opt/perl-5.12.5/lib/site_perl/5.12.5/Catalyst/Controller.pm line 188
Catalyst::Controller::_END(ComponentUI::Controller::TestModel::Baz=HASH(0x7faafb03c220), ComponentUI=HASH(0x7faafb03ba10)) called at /opt/perl-5.12.5/lib/site_perl/5.12.5/Catalyst/Action.pm line 358
Catalyst::Action::execute(Catalyst::Action=HASH(0x55fa95ed8b58), ComponentUI::Controller::TestModel::Baz=HASH(0x7faafb03c220), ComponentUI=HASH(0x7faafb03ba10)) called at /opt/perl-5.12.5/lib/site_perl/5.12.5/Catalyst.pm line 2060
eval {...} called at /opt/perl-5.12.5/lib/site_perl/5.12.5/Catalyst.pm line 2060
Catalyst::execute(ComponentUI=HASH(0x7faafb03ba10), "ComponentUI::Controller::TestModel::Baz", Catalyst::Action=HASH(0x55fa95ed8b58)) called at /opt/perl-5.12.5/lib/site_perl/5.12.5/Catalyst/Action.pm line 353
Catalyst::Action::dispatch(Catalyst::Action=HASH(0x55fa95ed8b58), ComponentUI=HASH(0x7faafb03ba10)) called at /opt/perl-5.12.5/lib/site_perl/5.12.5/Catalyst/Dispatcher.pm line 261
Catalyst::Dispatcher::_do_forward(Catalyst::Dispatcher=HASH(0x55fa919c59b0), "forward", ComponentUI=HASH(0x7faafb03ba10), "_END") called at /opt/perl-5.12.5/lib/site_perl/5.12.5/Catalyst/Dispatcher.pm line 241
Catalyst::Dispatcher::forward(Catalyst::Dispatcher=HASH(0x55fa919c59b0), ComponentUI=HASH(0x7faafb03ba10), "_END") called at /opt/perl-5.12.5/lib/site_perl/5.12.5/Catalyst.pm line 482
Catalyst::forward(ComponentUI=HASH(0x7faafb03ba10), "_END") called at /opt/perl-5.12.5/lib/site_perl/5.12.5/Catalyst/Controller.pm line 137
Catalyst::Controller::_DISPATCH(ComponentUI::Controller::TestModel::Baz=HASH(0x7faafb03c220), ComponentUI=HASH(0x7faafb03ba10)) called at /opt/perl-5.12.5/lib/site_perl/5.12.5/Catalyst/Action.pm line 358
Catalyst::Action::execute(Catalyst::Action=HASH(0x55fa95ed89a8), ComponentUI::Controller::TestModel::Baz=HASH(0x7faafb03c220), ComponentUI=HASH(0x7faafb03ba10)) called at /opt/perl-5.12.5/lib/site_perl/5.12.5/Catalyst.pm line 2060
eval {...} called at /opt/perl-5.12.5/lib/site_perl/5.12.5/Catalyst.pm line 2060
Catalyst::execute(ComponentUI=HASH(0x7faafb03ba10), "ComponentUI::Controller::TestModel::Baz", Catalyst::Action=HASH(0x55fa95ed89a8)) called at /opt/perl-5.12.5/lib/site_perl/5.12.5/Catalyst/Action.pm line 353
Catalyst::Action::dispatch(Catalyst::Action=HASH(0x55fa95ed89a8), ComponentUI=HASH(0x7faafb03ba10)) called at /opt/perl-5.12.5/lib/site_perl/5.12.5/Catalyst/Dispatcher.pm line 261
Catalyst::Dispatcher::_do_forward(Catalyst::Dispatcher=HASH(0x55fa919c59b0), "forward", ComponentUI=HASH(0x7faafb03ba10), "/testmodel/baz/_DISPATCH") called at /opt/perl-5.12.5/lib/site_perl/5.12.5/Catalyst/Dispatcher.pm line 241
Catalyst::Dispatcher::forward(Catalyst::Dispatcher=HASH(0x55fa919c59b0), ComponentUI=HASH(0x7faafb03ba10), "/testmodel/baz/_DISPATCH") called at /opt/perl-5.12.5/lib/site_perl/5.12.5/Catalyst.pm line 482
Catalyst::forward(ComponentUI=HASH(0x7faafb03ba10), "/testmodel/baz/_DISPATCH") called at /opt/perl-5.12.5/lib/site_perl/5.12.5/Catalyst/Dispatcher.pm line 106
Catalyst::Dispatcher::dispatch(Catalyst::Dispatcher=HASH(0x55fa919c59b0), ComponentUI=HASH(0x7faafb03ba10)) called at /opt/perl-5.12.5/lib/site_perl/5.12.5/Catalyst.pm line 2006
Catalyst::dispatch(ComponentUI=HASH(0x7faafb03ba10)) called at /opt/perl-5.12.5/lib/site_perl/5.12.5/Catalyst/Plugin/Static/Simple.pm line 85
Class::MOP::Class:::around(CODE(0x55fa91d70038), ComponentUI=HASH(0x7faafb03ba10)) called at /opt/perl-5.12.5/lib/site_perl/5.12.5/x86_64-linux/Class/MOP/Method/Wrapped.pm line 166
ComponentUI::_wrapped_dispatch(ComponentUI=HASH(0x7faafb03ba10)) called at /opt/perl-5.12.5/lib/site_perl/5.12.5/x86_64-linux/Class/MOP/Method/Wrapped.pm line 97
ComponentUI::dispatch(ComponentUI=HASH(0x7faafb03ba10)) called at /opt/perl-5.12.5/lib/site_perl/5.12.5/Catalyst.pm line 2412
Catalyst::try {...} () called at /opt/perl-5.12.5/lib/site_perl/5.12.5/Try/Tiny.pm line 102
eval {...} called at /opt/perl-5.12.5/lib/site_perl/5.12.5/Try/Tiny.pm line 93
Try::Tiny::try(CODE(0x7faafb03b320), Try::Tiny::Catch=REF(0x7faafb03b140)) called at /opt/perl-5.12.5/lib/site_perl/5.12.5/Catalyst.pm line 2421
Catalyst::handle_request("ComponentUI", "env", HASH(0x7faafb0395b0), "response_cb", CODE(0x7faafb03b1a0)) called at /opt/perl-5.12.5/lib/site_perl/5.12.5/Catalyst/Engine.pm line 807
Catalyst::Engine::__ANON__(CODE(0x7faafb03b1a0)) called at /opt/perl-5.12.5/lib/site_perl/5.12.5/Plack/Middleware/HTTPExceptions.pm line 32
Plack::Middleware::HTTPExceptions::try {...} () called at /opt/perl-5.12.5/lib/site_perl/5.12.5/Try/Tiny.pm line 102
eval {...} called at /opt/perl-5.12.5/lib/site_perl/5.12.5/Try/Tiny.pm line 93
Try::Tiny::try(CODE(0x7faafb03af60), Try::Tiny::Catch=REF(0x7faafb03a180)) called at /opt/perl-5.12.5/lib/site_perl/5.12.5/Plack/Middleware/HTTPExceptions.pm line 41
Plack::Middleware::HTTPExceptions::__ANON__(CODE(0x7faafb03ae10)) called at /opt/perl-5.12.5/lib/site_perl/5.12.5/Plack/Util.pm line 339
Plack::Util::__ANON__(CODE(0x7faafb03acc0)) called at /opt/perl-5.12.5/lib/site_perl/5.12.5/Plack/Util.pm line 339
Plack::Util::__ANON__(CODE(0x7faafb03ab70)) called at /opt/perl-5.12.5/lib/site_perl/5.12.5/Plack/Util.pm line 339
Plack::Util::__ANON__(CODE(0x7faafb03aac8)) called at /opt/perl-5.12.5/lib/site_perl/5.12.5/HTTP/Message/PSGI.pm line 100
HTTP::Message::PSGI::res_from_psgi(CODE(0x7faafb039fd0)) called at /opt/perl-5.12.5/lib/site_perl/5.12.5/HTTP/Message/PSGI.pm line 157
HTTP::Response::from_psgi("HTTP::Response", CODE(0x7faafb039fd0)) called at /opt/perl-5.12.5/lib/site_perl/5.12.5/Plack/Test/MockHTTP.pm line 24
Plack::Test::MockHTTP::try {...} () called at /opt/perl-5.12.5/lib/site_perl/5.12.5/Try/Tiny.pm line 97
eval {...} called at /opt/perl-5.12.5/lib/site_perl/5.12.5/Try/Tiny.pm line 93
Try::Tiny::try(CODE(0x7faafb0353c8), Try::Tiny::Catch=REF(0x55fa95ed3758)) called at /opt/perl-5.12.5/lib/site_perl/5.12.5/Plack/Test/MockHTTP.pm line 27
Plack::Test::MockHTTP::request(Plack::Test::MockHTTP=HASH(0x7faafb035140), HTTP::Request=HASH(0x7faafb02f548)) called at /opt/perl-5.12.5/lib/site_perl/5.12.5/Plack/Test.pm line 38
Plack::Test::__ANON__(HTTP::Request=HASH(0x7faafb02f548)) called at /opt/perl-5.12.5/lib/site_perl/5.12.5/Catalyst/Test.pm line 290
Catalyst::Test::__ANON__(CODE(0x7faafb034fc0)) called at /opt/perl-5.12.5/lib/site_perl/5.12.5/Plack/Test.pm line 38
Plack::Test::test_psgi("app", CODE(0x7faafb034a50), "mangle_response", CODE(0x55fa913aa680), "app", CODE(0x7faafb034cd8), "client", CODE(0x7faafb034db0)) called at /opt/perl-5.12.5/lib/site_perl/5.12.5/Catalyst/Test.pm line 293
Catalyst::Test::_request(HASH(0x7faafb034978), HTTP::Request=HASH(0x7faafb02f548)) called at /opt/perl-5.12.5/lib/site_perl/5.12.5/Catalyst/Test.pm line 336
Catalyst::Test::_local_request("ComponentUI", HTTP::Request=HASH(0x7faafb02f548)) called at /home/cpansand/.cpan/build/2022030511/Test-WWW-Mechanize-Catalyst-0.62-2/blib/lib/Test/WWW/Mechanize/Catalyst.pm line 174
Test::WWW::Mechanize::Catalyst::_do_catalyst_request(Test::WWW::Mechanize::Catalyst=HASH(0x7faafb01ef70), HTTP::Request=HASH(0x7faafb02f548)) called at /home/cpansand/.cpan/build/2022030511/Test-WWW-Mechanize-Catalyst-0.62-2/blib/lib/Test/WWW/Mechanize/Catalyst.pm line 78
Test::WWW::Mechanize::Catalyst::_make_request(Test::WWW::Mechanize::Catalyst=HASH(0x7faafb01ef70), HTTP::Request=HASH(0x7faafb02f548)) called at /opt/perl-5.12.5/lib/site_perl/5.12.5/WWW/Mechanize.pm line 1333
WWW::Mechanize::request(Test::WWW::Mechanize::Catalyst=HASH(0x7faafb01ef70), HTTP::Request=HASH(0x7faafb02f548)) called at /opt/perl-5.12.5/lib/site_perl/5.12.5/LWP/UserAgent.pm line 445
LWP::UserAgent::get(Test::WWW::Mechanize::Catalyst=HASH(0x7faafb01ef70), "http://localhost/testmodel/baz/id/1/update") called at /opt/perl-5.12.5/lib/site_perl/5.12.5/WWW/Mechanize.pm line 124
WWW::Mechanize::get(Test::WWW::Mechanize::Catalyst=HASH(0x7faafb01ef70), "http://localhost/testmodel/baz/id/1/update") called at /opt/perl-5.12.5/lib/site_perl/5.12.5/Test/WWW/Mechanize.pm line 179
Test::WWW::Mechanize::get_ok(Test::WWW::Mechanize::Catalyst=HASH(0x7faafb01ef70), "http://localhost/testmodel/baz/id/1/update") called at t/uncheck_bool_field.t line 9
t/uncheck_bool_field.t ...... ok
All tests successful.
Files=9, Tests=604, 11 wallclock secs ( 0.07 usr 0.00 sys + 11.02 cusr 0.58 csys = 11.67 CPU)
Result: PASS
------------------------------
PREREQUISITES
------------------------------
Prerequisite modules loaded:
requires:
Module Need Have
--------------------------------------- --------- --------
aliased 0.22 0.34
Catalyst 5.80002 5.90128
Catalyst::Component::ACCEPT_CONTEXT 0.05 0.07
Catalyst::Component::InstancePerContext 0.001001 0.001001
Catalyst::Model::DBIC::Schema 0.23 0.65
Catalyst::Plugin::ConfigLoader 0.23 0.35
Catalyst::Plugin::I18N 0.09 0.10
Catalyst::Plugin::Static::Simple 0.21 0.37
Catalyst::View::TT 0.29 0.45
Class::MOP 0.81 2.2201
Config::General 2.42 2.63
Crypt::Eksblowfish::Bcrypt 0.005 0.009
DateTime 0.47 1.57
DateTime::Event::Recurrence 0.16 0.19
DateTime::Span 0 0.3900
DBIx::Class 0.08100 0.082842
DBIx::Class::IntrospectableM2M 0.001001 0.001002
Devel::Declare 0.005000 0.006022
Email::Valid 0.181 1.202
ExtUtils::MakeMaker 6.11 7.64
File::ShareDir 1.00 1.118
File::Spec 3.29 3.75
JSON 0 4.03
metaclass 0.81 2.2201
Method::Signatures::Simple 0.03 1.07
Moose 0.74 2.2201
MooseX::MethodAttributes 0.18 0.32
MooseX::Role::Parameterized 0.24 1.11
MooseX::Types 0.10 0.50
MooseX::Types::Common 0.001000 0.001014
MooseX::Types::DateTime 0.03 0.13
MooseX::Types::URI 0.02 0.09
namespace::clean 0.11 0.27
Path::Class::Dir 0 0.37
Path::Class::File 0 0.37
perl 5.008001 5.012005
Scalar::Util 1.19 1.60
signatures 0.05 0.14
SQL::Translator 0.11002 1.62
Sub::Exporter 0.982 0.988
Sub::Name 0.04 0.26
Template 2.20 3.010
Test::Class 0.31 0.52
Test::Memory::Cycle 1.04 1.06
Test::WWW::Mechanize::Catalyst 0.51 0.62
Time::ParseDate 2006.0814 2015.103
URI 1.37 5.09
build_requires:
Module Need Have
--------------------------------------- --------- --------
ExtUtils::MakeMaker 6.42 7.64
SQL::Translator 0.11002 1.62
Test::Class 0.31 0.52
Test::Memory::Cycle 1.04 1.06
Test::WWW::Mechanize::Catalyst 0.51 0.62
configure_requires:
Module Need Have
--------------------------------------- --------- --------
ExtUtils::MakeMaker 6.42 7.64
------------------------------
ENVIRONMENT AND OTHER CONTEXT
------------------------------
Environment variables:
LANG = en_US.UTF-8
PATH = /usr/local/bin:/usr/bin:/bin:/usr/local/sbin:/usr/sbin:/sbin:/home/cpansand/bin/linux-gnu:/home/cpansand/bin/sh:/home/cpansand/bin:/usr/games:/home/cpansand/devel:/home/eserte/src/srezic-misc/scripts
PERL5LIB = /home/cpansand/.cpan/build/2022030511/signatures-0.14-2/blib/arch:/home/cpansand/.cpan/build/2022030511/signatures-0.14-2/blib/lib:/home/cpansand/.cpan/build/2022030511/B-Hooks-Parser-0.21-1/blib/arch:/home/cpansand/.cpan/build/2022030511/B-Hooks-Parser-0.21-1/blib/lib:/home/cpansand/.cpan/build/2022030511/Test-WWW-Mechanize-Catalyst-0.62-2/blib/arch:/home/cpansand/.cpan/build/2022030511/Test-WWW-Mechanize-Catalyst-0.62-2/blib/lib:/home/cpansand/.cpan/build/2022030511/Method-Signatures-Simple-1.07-2/blib/arch:/home/cpansand/.cpan/build/2022030511/Method-Signatures-Simple-1.07-2/blib/lib:/home/cpansand/.cpan/build/2022030511/DBIx-Class-IntrospectableM2M-0.001002-2/blib/arch:/home/cpansand/.cpan/build/2022030511/DBIx-Class-IntrospectableM2M-0.001002-2/blib/lib:/home/cpansand/.cpan/build/2022030511/Catalyst-Plugin-I18N-0.10-2/blib/arch:/home/cpansand/.cpan/build/2022030511/Catalyst-Plugin-I18N-0.10-2/blib/lib:/home/cpansand/.cpan/build/2022030511/Locale-Maketext-Lexicon-1.00-0/blib/arch:/home/cpansand/.cpan/build/2022030511/Locale-Maketext-Lexicon-1.00-0/blib/lib:/home/cpansand/.cpan/build/2022030511/Locale-Maketext-1.29-0/blib/arch:/home/cpansand/.cpan/build/2022030511/Locale-Maketext-1.29-0/blib/lib:/home/cpansand/.cpan/build/2022030511/Catalyst-Component-ACCEPT_CONTEXT-0.07-2/blib/arch:/home/cpansand/.cpan/build/2022030511/Catalyst-Component-ACCEPT_CONTEXT-0.07-2/blib/lib
PERL5OPT =
PERL5_CPANPLUS_IS_RUNNING = 14279
PERL5_CPAN_IS_RUNNING = 14279
PERL5_CPAN_IS_RUNNING_IN_RECURSION = 7480,14279
PERLDOC = -MPod::Perldoc::ToTextOverstrike
PERL_BATCH = yes
PERL_CANARY_STABILITY_NOPROMPT = 1
PERL_CPAN_REPORTER_CONFIG = /var/tmp/cpansmoker-1023/2022030511/cpanreporter_000_config.ini
PERL_EXTUTILS_AUTOINSTALL = --defaultdeps
PERL_USE_UNSAFE_INC = 1
SHELL = /usr/bin/zsh
TERM = screen
TMPDIR = /var/tmp/cpansmoker-1023/2022030511
Perl special variables (and OS-specific diagnostics, for MSWin32):
$^X = /opt/perl-5.12.5/bin/perl
$UID/$EUID = 1023 / 1023
$GID = 1023 1023
$EGID = 1023 1023
Perl module toolchain versions installed:
Module Have
------------------- --------
CPAN 2.29
CPAN::Meta 2.150010
Cwd 3.75
ExtUtils::CBuilder 0.280236
ExtUtils::Command 7.64
ExtUtils::Install 2.20
ExtUtils::MakeMaker 7.64
ExtUtils::Manifest 1.70
ExtUtils::ParseXS 3.35
File::Spec 3.75
JSON 4.03
JSON::PP 4.06
Module::Build 0.4231
Module::Signature 0.88
Parse::CPAN::Meta 2.150010
Test::Harness 3.42
Test::More 1.302190
YAML 1.30
YAML::Syck 1.34
version 0.9929
--
Summary of my perl5 (revision 5 version 12 subversion 5) configuration:
Platform:
osname=linux, osvers=4.9.0-16-amd64, archname=x86_64-linux
uname='linux cloud11.bbbike.org 4.9.0-16-amd64 #1 smp debian 4.9.272-2 (2021-07-19) x86_64 gnulinux '
config_args='-ds -e -Dprefix=/opt/perl-5.12.5 -Dcf_email=srezic@cpan.org'
hint=recommended, useposix=true, d_sigaction=define
useithreads=undef, usemultiplicity=undef
useperlio=define, d_sfio=undef, uselargefiles=define, usesocks=undef
use64bitint=define, use64bitall=define, uselongdouble=undef
usemymalloc=n, bincompat5005=undef
Compiler:
cc='cc', ccflags ='-fwrapv -fno-strict-aliasing -pipe -fstack-protector -I/usr/local/include -D_LARGEFILE_SOURCE -D_FILE_OFFSET_BITS=64',
optimize='-O2',
cppflags='-fwrapv -fno-strict-aliasing -pipe -fstack-protector -I/usr/local/include'
ccversion='', gccversion='6.3.0 20170516', gccosandvers=''
intsize=4, longsize=8, ptrsize=8, doublesize=8, byteorder=12345678
d_longlong=define, longlongsize=8, d_longdbl=define, longdblsize=16
ivtype='long', ivsize=8, nvtype='double', nvsize=8, Off_t='off_t', lseeksize=8
alignbytes=8, prototype=define
Linker and Libraries:
ld='cc', ldflags =' -fstack-protector -L/usr/local/lib'
libpth=/usr/local/lib /lib/x86_64-linux-gnu /lib/../lib /usr/lib/x86_64-linux-gnu /usr/lib/../lib /lib /usr/lib
libs=-lnsl -ldb -ldl -lm -lcrypt -lutil -lc
perllibs=-lnsl -ldl -lm -lcrypt -lutil -lc
libc=libc-2.24.so, so=so, useshrplib=false, libperl=libperl.a
gnulibc_version='2.24'
Dynamic Linking:
dlsrc=dl_dlopen.xs, dlext=so, d_dlsymun=undef, ccdlflags='-Wl,-E'
cccdlflags='-fPIC', lddlflags='-shared -O2 -L/usr/local/lib -fstack-protector'
Characteristics of this binary (from libperl):
Compile-time options: PERL_DONT_CREATE_GVSV PERL_MALLOC_WRAP USE_64_BIT_ALL
USE_64_BIT_INT USE_LARGE_FILES USE_PERLIO
USE_PERL_ATOF
Locally applied patches:
Devel::PatchPerl 2.08
Built under linux
Compiled at Sep 5 2021 12:37:59
%ENV:
PERL5LIB="/home/cpansand/.cpan/build/2022030511/signatures-0.14-2/blib/arch:/home/cpansand/.cpan/build/2022030511/signatures-0.14-2/blib/lib:/home/cpansand/.cpan/build/2022030511/B-Hooks-Parser-0.21-1/blib/arch:/home/cpansand/.cpan/build/2022030511/B-Hooks-Parser-0.21-1/blib/lib:/home/cpansand/.cpan/build/2022030511/Test-WWW-Mechanize-Catalyst-0.62-2/blib/arch:/home/cpansand/.cpan/build/2022030511/Test-WWW-Mechanize-Catalyst-0.62-2/blib/lib:/home/cpansand/.cpan/build/2022030511/Method-Signatures-Simple-1.07-2/blib/arch:/home/cpansand/.cpan/build/2022030511/Method-Signatures-Simple-1.07-2/blib/lib:/home/cpansand/.cpan/build/2022030511/DBIx-Class-IntrospectableM2M-0.001002-2/blib/arch:/home/cpansand/.cpan/build/2022030511/DBIx-Class-IntrospectableM2M-0.001002-2/blib/lib:/home/cpansand/.cpan/build/2022030511/Catalyst-Plugin-I18N-0.10-2/blib/arch:/home/cpansand/.cpan/build/2022030511/Catalyst-Plugin-I18N-0.10-2/blib/lib:/home/cpansand/.cpan/build/2022030511/Locale-Maketext-Lexicon-1.00-0/blib/arch:/home/cpansand/.cpan/build/2022030511/Locale-Maketext-Lexicon-1.00-0/blib/lib:/home/cpansand/.cpan/build/2022030511/Locale-Maketext-1.29-0/blib/arch:/home/cpansand/.cpan/build/2022030511/Locale-Maketext-1.29-0/blib/lib:/home/cpansand/.cpan/build/2022030511/Catalyst-Component-ACCEPT_CONTEXT-0.07-2/blib/arch:/home/cpansand/.cpan/build/2022030511/Catalyst-Component-ACCEPT_CONTEXT-0.07-2/blib/lib"
PERL5OPT=""
PERL5_CPANPLUS_IS_RUNNING="14279"
PERL5_CPAN_IS_RUNNING="14279"
PERL5_CPAN_IS_RUNNING_IN_RECURSION="7480,14279"
PERLDOC="-MPod::Perldoc::ToTextOverstrike"
PERL_BATCH="yes"
PERL_CANARY_STABILITY_NOPROMPT="1"
PERL_CPAN_REPORTER_CONFIG="/var/tmp/cpansmoker-1023/2022030511/cpanreporter_000_config.ini"
PERL_EXTUTILS_AUTOINSTALL="--defaultdeps"
PERL_USE_UNSAFE_INC="1"
@INC:
/home/cpansand/.cpan/build/2022030511/signatures-0.14-2/blib/arch
/home/cpansand/.cpan/build/2022030511/signatures-0.14-2/blib/lib
/home/cpansand/.cpan/build/2022030511/B-Hooks-Parser-0.21-1/blib/arch
/home/cpansand/.cpan/build/2022030511/B-Hooks-Parser-0.21-1/blib/lib
/home/cpansand/.cpan/build/2022030511/Test-WWW-Mechanize-Catalyst-0.62-2/blib/arch
/home/cpansand/.cpan/build/2022030511/Test-WWW-Mechanize-Catalyst-0.62-2/blib/lib
/home/cpansand/.cpan/build/2022030511/Method-Signatures-Simple-1.07-2/blib/arch
/home/cpansand/.cpan/build/2022030511/Method-Signatures-Simple-1.07-2/blib/lib
/home/cpansand/.cpan/build/2022030511/DBIx-Class-IntrospectableM2M-0.001002-2/blib/arch
/home/cpansand/.cpan/build/2022030511/DBIx-Class-IntrospectableM2M-0.001002-2/blib/lib
/home/cpansand/.cpan/build/2022030511/Catalyst-Plugin-I18N-0.10-2/blib/arch
/home/cpansand/.cpan/build/2022030511/Catalyst-Plugin-I18N-0.10-2/blib/lib
/home/cpansand/.cpan/build/2022030511/Locale-Maketext-Lexicon-1.00-0/blib/arch
/home/cpansand/.cpan/build/2022030511/Locale-Maketext-Lexicon-1.00-0/blib/lib
/home/cpansand/.cpan/build/2022030511/Locale-Maketext-1.29-0/blib/arch
/home/cpansand/.cpan/build/2022030511/Locale-Maketext-1.29-0/blib/lib
/home/cpansand/.cpan/build/2022030511/Catalyst-Component-ACCEPT_CONTEXT-0.07-2/blib/arch
/home/cpansand/.cpan/build/2022030511/Catalyst-Component-ACCEPT_CONTEXT-0.07-2/blib/lib
/opt/perl-5.12.5/lib/site_perl/5.12.5/x86_64-linux
/opt/perl-5.12.5/lib/site_perl/5.12.5
/opt/perl-5.12.5/lib/5.12.5/x86_64-linux
/opt/perl-5.12.5/lib/5.12.5
.