HTML-Formatter v2.16 Perl 5 v5.26.1 amd64-freebsd
- Status
- Pass
- From
- Slaven Rezić (SREZIC)
- Dist
-
HTML-Formatter v2.16
- Platform
- Perl 5 v5.26.1 amd64-freebsd
- Date
- 2017-12-15 00:37:03
- ID
- 1224b51e-e130-11e7-840e-9b19d374d166
This distribution has been tested as part of the CPAN Testers
project, supporting the Perl programming language. See
http://wiki.cpantesters.org/ for more information or email
questions to cpan-testers-discuss@perl.org
--
Dear Nigel Metheringham,
This is a computer-generated report for HTML-Formatter-2.16
on perl 5.26.1, created by CPAN-Reporter-1.2018.
Thank you for uploading your work to CPAN. Congratulations!
All tests were successful.
Sections of this report:
* Tester comments
* Program output
* Prerequisites
* Environment and other context
------------------------------
TESTER COMMENTS
------------------------------
Additional comments from tester:
none provided
------------------------------
PROGRAM OUTPUT
------------------------------
Output from '/usr/bin/make test':
PERL_DL_NONLAZY=1 "/usr/perl5.26.1p/bin/perl5.26.1" "-MExtUtils::Command::MM" "-MTest::Harness" "-e" "undef *Test::Harness::Switches; test_harness(0, 'blib/lib', 'blib/arch')" t/*.t
t/00-compile.t ............... ok
#
# Versions for all modules listed in MYMETA.json (including optional ones):
#
# === Configure Requires ===
#
# Module Want Have
# ------------------- ---- ----
# ExtUtils::MakeMaker any 7.30
#
# === Build Requires ===
#
# Module Want Have
# ------------------- ---- ----
# ExtUtils::MakeMaker any 7.30
#
# === Test Requires ===
#
# Module Want Have
# ------------------- ---- --------
# ExtUtils::MakeMaker any 7.30
# File::Slurper any 0.010
# File::Spec any 3.67
# FindBin any 1.51
# IO::Handle any 1.36
# IPC::Open3 any 1.20
# Test::More 0.96 1.302113
# Test::Warnings any 0.026
# blib 1.01 1.06
# bytes any 1.05
# lib any 0.64
#
# === Test Recommends ===
#
# Module Want Have
# ---------- -------- --------
# CPAN::Meta 2.120900 2.150010
#
# === Runtime Requires ===
#
# Module Want Have
# ----------------------------------- ---- -----
# Carp any 1.42
# Data::Dumper any 2.167
# Encode any 2.88
# Font::Metrics::Courier any undef
# Font::Metrics::CourierBold any undef
# Font::Metrics::CourierBoldOblique any undef
# Font::Metrics::CourierOblique any undef
# Font::Metrics::Helvetica any undef
# Font::Metrics::HelveticaBold any undef
# Font::Metrics::HelveticaBoldOblique any undef
# Font::Metrics::HelveticaOblique any undef
# Font::Metrics::TimesBold any undef
# Font::Metrics::TimesBoldItalic any undef
# Font::Metrics::TimesItalic any undef
# Font::Metrics::TimesRoman any undef
# HTML::Element 3.15 5.07
# HTML::TreeBuilder any 5.07
# IO::File any 1.16
# base any 2.26
# integer any 1.01
# parent any 0.236
# strict any 1.11
# utf8 any 1.19
# warnings any 1.37
#
t/00-report-prereqs.t ........ ok
t/01_ps.t .................... ok
t/02_rtf.t ................... ok
t/03_text.t .................. ok
t/04_md.t .................... ok
t/author-critic.t ............ skipped: these tests are for testing by the author
t/author-eol.t ............... skipped: these tests are for testing by the author
t/author-no-tabs.t ........... skipped: these tests are for testing by the author
t/author-pod-spell.t ......... skipped: these tests are for testing by the author
t/author-pod-syntax.t ........ skipped: these tests are for testing by the author
t/author-portability.t ....... skipped: these tests are for testing by the author
t/author-synopsis.t .......... skipped: these tests are for testing by the author
t/release-dist-manifest.t .... skipped: these tests are for release candidate testing
t/release-distmeta.t ......... skipped: these tests are for release candidate testing
t/release-has-version.t ...... skipped: these tests are for release candidate testing
t/release-minimum-version.t .. skipped: these tests are for release candidate testing
t/release-unused-vars.t ...... skipped: these tests are for release candidate testing
t/rt111783.t ................. ok
t/rt69426.t .................. ok
All tests successful.
Files=20, Tests=94, 2 wallclock secs ( 0.05 usr 0.02 sys + 0.80 cusr 0.23 csys = 1.09 CPU)
Result: PASS
------------------------------
PREREQUISITES
------------------------------
Prerequisite modules loaded:
requires:
Module Need Have
----------------------------------- ----- --------
base 0 2.26
Carp 0 1.42
Data::Dumper 0 2.167
Encode 0 2.88
Font::Metrics::Courier 0 0
Font::Metrics::CourierBold 0 0
Font::Metrics::CourierBoldOblique 0 0
Font::Metrics::CourierOblique 0 0
Font::Metrics::Helvetica 0 0
Font::Metrics::HelveticaBold 0 0
Font::Metrics::HelveticaBoldOblique 0 0
Font::Metrics::HelveticaOblique 0 0
Font::Metrics::TimesBold 0 0
Font::Metrics::TimesBoldItalic 0 0
Font::Metrics::TimesItalic 0 0
Font::Metrics::TimesRoman 0 0
HTML::Element 3.15 5.07
HTML::TreeBuilder 0 5.07
integer 0 1.01
IO::File 0 1.16
parent 0 0.236
perl 5.008 5.026001
strict 0 1.11
utf8 0 1.19
warnings 0 1.37
build_requires:
Module Need Have
----------------------------------- ----- --------
blib 1.01 1.06
bytes 0 1.05
ExtUtils::MakeMaker 0 7.30
File::Slurper 0 0.010
File::Spec 0 3.67
FindBin 0 1.51
IO::Handle 0 1.36
IPC::Open3 0 1.20
lib 0 0.64
Test::More 0.96 1.302113
Test::Warnings 0 0.026
configure_requires:
Module Need Have
----------------------------------- ----- --------
ExtUtils::MakeMaker 0 7.30
------------------------------
ENVIRONMENT AND OTHER CONTEXT
------------------------------
Environment variables:
PATH = /usr/local/bin:/usr/bin:/bin:/usr/local/sbin:/usr/sbin:/sbin:/home/cpansand/bin/freebsd11.0:/home/cpansand/bin/sh:/home/cpansand/bin:/usr/games:/home/cpansand/devel:/home/eserte/src/srezic-misc/scripts
PERL5LIB = /home/cpansand/.cpan/build/2017121506/Font-AFM-1.20-0/blib/arch:/home/cpansand/.cpan/build/2017121506/Font-AFM-1.20-0/blib/lib:/home/cpansand/.cpan/build/2017121506/DateTime-Format-MySQL-0.06-0/blib/arch:/home/cpansand/.cpan/build/2017121506/DateTime-Format-MySQL-0.06-0/blib/lib
PERL5OPT =
PERL5_CPANPLUS_IS_RUNNING = 44555
PERL5_CPAN_IS_RUNNING = 44555
PERL5_CPAN_IS_RUNNING_IN_RECURSION = 44522,44555
PERLDOC = -MPod::Perldoc::ToTextOverstrike
PERL_BATCH = yes
PERL_CANARY_STABILITY_NOPROMPT = 1
PERL_CPAN_REPORTER_CONFIG = /var/tmp/cpansmoker-1023/2017121506/cpanreporter_000_config.ini
PERL_EXTUTILS_AUTOINSTALL = --defaultdeps
PERL_USE_UNSAFE_INC = 1
SHELL = /usr/local/bin/zsh
TERM = screen
TMPDIR = /var/tmp/cpansmoker-1023/2017121506
Perl special variables (and OS-specific diagnostics, for MSWin32):
$^X = /usr/perl5.26.1p/bin/perl5.26.1
$UID/$EUID = 1023 / 1023
$GID = 1023 1023
$EGID = 1023 1023
Perl module toolchain versions installed:
Module Have
------------------- --------
CPAN 2.18
CPAN::Meta 2.150010
Cwd 3.67
ExtUtils::CBuilder 0.280230
ExtUtils::Command 7.30
ExtUtils::Install 2.06
ExtUtils::MakeMaker 7.30
ExtUtils::Manifest 1.70
ExtUtils::ParseXS 3.34
File::Spec 3.67
JSON 2.94
JSON::PP 2.94
Module::Build 0.4224
Module::Signature n/a
Parse::CPAN::Meta 2.150010
Test::Harness 3.38
Test::More 1.302113
YAML 1.23
YAML::Syck 1.30
version 0.9917
--
Summary of my perl5 (revision 5 version 26 subversion 1) configuration:
Platform:
osname=freebsd
osvers=11.1-release-p2
archname=amd64-freebsd
uname='freebsd ali2.bbbike.org 11.1-release-p2 freebsd 11.1-release-p2 #0 r313908+e96f1f21705(releng11.1)-dirty: thu oct 19 12:14:33 utc 2017 root@ali2.bbbike.org:usrobjhomeprojectsfreebsdsysgeneric amd64 '
config_args='-ds -e -Dprefix=/usr/perl5.26.1p -Dcf_email=srezic@cpan.org -Doptimize=-O2 -pipe'
hint=recommended
useposix=true
d_sigaction=define
useithreads=undef
usemultiplicity=undef
use64bitint=define
use64bitall=define
uselongdouble=undef
usemymalloc=n
default_inc_excludes_dot=define
bincompat5005=undef
Compiler:
cc='cc'
ccflags ='-DHAS_FPSETMASK -DHAS_FLOATINGPOINT_H -fno-strict-aliasing -pipe -fstack-protector-strong -I/usr/local/include -D_FORTIFY_SOURCE=2'
optimize='-O2 -pipe'
cppflags='-DHAS_FPSETMASK -DHAS_FLOATINGPOINT_H -fno-strict-aliasing -pipe -fstack-protector-strong -I/usr/local/include'
ccversion=''
gccversion='4.2.1 Compatible FreeBSD Clang 4.0.0 (tags/RELEASE_400/final 297347)'
gccosandvers=''
intsize=4
longsize=8
ptrsize=8
doublesize=8
byteorder=12345678
doublekind=3
d_longlong=define
longlongsize=8
d_longdbl=define
longdblsize=16
longdblkind=3
ivtype='long'
ivsize=8
nvtype='double'
nvsize=8
Off_t='off_t'
lseeksize=8
alignbytes=8
prototype=define
Linker and Libraries:
ld='cc'
ldflags ='-pthread -Wl,-E -fstack-protector-strong -L/usr/local/lib'
libpth=/usr/lib /usr/local/lib /usr/bin/../lib/clang/4.0.0/lib /usr/lib
libs=-lpthread -lgdbm -lm -lcrypt -lutil -lc
perllibs=-lpthread -lm -lcrypt -lutil -lc
libc=
so=so
useshrplib=false
libperl=libperl.a
gnulibc_version=''
Dynamic Linking:
dlsrc=dl_dlopen.xs
dlext=so
d_dlsymun=undef
ccdlflags=' '
cccdlflags='-DPIC -fPIC'
lddlflags='-shared -L/usr/local/lib -fstack-protector-strong'
Characteristics of this binary (from libperl):
Compile-time options:
HAS_TIMES
PERLIO_LAYERS
PERL_COPY_ON_WRITE
PERL_DONT_CREATE_GVSV
PERL_MALLOC_WRAP
PERL_OP_PARENT
PERL_PRESERVE_IVUV
USE_64_BIT_ALL
USE_64_BIT_INT
USE_LARGE_FILES
USE_LOCALE
USE_LOCALE_COLLATE
USE_LOCALE_CTYPE
USE_LOCALE_NUMERIC
USE_LOCALE_TIME
USE_PERLIO
USE_PERL_ATOF
Built under freebsd
Compiled at Oct 28 2017 07:46:07
%ENV:
PERL5LIB="/home/cpansand/.cpan/build/2017121506/Font-AFM-1.20-0/blib/arch:/home/cpansand/.cpan/build/2017121506/Font-AFM-1.20-0/blib/lib:/home/cpansand/.cpan/build/2017121506/DateTime-Format-MySQL-0.06-0/blib/arch:/home/cpansand/.cpan/build/2017121506/DateTime-Format-MySQL-0.06-0/blib/lib"
PERL5OPT=""
PERL5_CPANPLUS_IS_RUNNING="44555"
PERL5_CPAN_IS_RUNNING="44555"
PERL5_CPAN_IS_RUNNING_IN_RECURSION="44522,44555"
PERLDOC="-MPod::Perldoc::ToTextOverstrike"
PERL_BATCH="yes"
PERL_CANARY_STABILITY_NOPROMPT="1"
PERL_CPAN_REPORTER_CONFIG="/var/tmp/cpansmoker-1023/2017121506/cpanreporter_000_config.ini"
PERL_EXTUTILS_AUTOINSTALL="--defaultdeps"
PERL_USE_UNSAFE_INC="1"
@INC:
/home/cpansand/.cpan/build/2017121506/Font-AFM-1.20-0/blib/arch
/home/cpansand/.cpan/build/2017121506/Font-AFM-1.20-0/blib/lib
/home/cpansand/.cpan/build/2017121506/DateTime-Format-MySQL-0.06-0/blib/arch
/home/cpansand/.cpan/build/2017121506/DateTime-Format-MySQL-0.06-0/blib/lib
/usr/perl5.26.1p/lib/site_perl/5.26.1/amd64-freebsd
/usr/perl5.26.1p/lib/site_perl/5.26.1
/usr/perl5.26.1p/lib/5.26.1/amd64-freebsd
/usr/perl5.26.1p/lib/5.26.1
.