Alien-TidyHTML5 vv0.3.5 Perl 5 v5.41.13 x86_64-linux
- Status
- Pass
- From
- Carlos Guevara
- Dist
-
Alien-TidyHTML5 vv0.3.5
- Platform
- Perl 5 v5.41.13 x86_64-linux
- Date
- 2025-05-06 01:26:01
- ID
- 11f8c0fa-2a19-11f0-9ca4-c958c0fa2c54
This distribution has been tested as part of the CPAN Testers
project, supporting the Perl programming language. See
http://wiki.cpantesters.org/ for more information or email
questions to cpan-testers-discuss@perl.org
--
Dear Robert Rothenberg,
This is a computer-generated report for Alien-TidyHTML5-v0.3.5
on perl 5.41.13, created by CPAN-Reporter-1.2020.
Thank you for uploading your work to CPAN. Congratulations!
All tests were successful.
Sections of this report:
* Tester comments
* Program output
* Prerequisites
* Environment and other context
------------------------------
TESTER COMMENTS
------------------------------
Additional comments from tester:
this report is from an automated smoke testing program
and was not reviewed by a human for accuracy
------------------------------
PROGRAM OUTPUT
------------------------------
Output from '/usr/bin/make test':
"/home/cpan/bin/perl/bin/perl5.41.13" -MAlien::Build::MM=cmd -e test
Alien::Build::Plugin::PkgConfig::Negotiate> Using PkgConfig plugin: PkgConfig::CommandLine
PERL_DL_NONLAZY=1 "/home/cpan/bin/perl/bin/perl5.41.13" "-MExtUtils::Command::MM" "-MTest::Harness" "-e" "undef *Test::Harness::Switches; test_harness(0, 'blib/lib', 'blib/arch')" t/*.t
#
# Versions for all modules listed in MYMETA.json (including optional ones):
#
# === Configure Requires ===
#
# Module Want Have
# ---------------------------------- ---- ----
# Alien::Build 1.40 2.84
# Alien::Build::MM 0.32 2.84
# Alien::Build::Plugin::Build::CMake 0.99 2.84
# ExtUtils::MakeMaker 6.52 7.74
#
# === Build Requires ===
#
# Module Want Have
# ------------------- ----- --------
# Alien::Build 0.32 2.84
# Alien::Build::MM 0.32 2.84
# Alien::cmake3 0.02 0.09
# Archive::Tar any 3.04
# Config any 5.041013
# ExtUtils::MakeMaker 6.52 7.74
# HTTP::Tiny 0.044 0.090
# IO::Socket::SSL 1.56 2.089
# IO::Zlib any 1.15
# Mojo::DOM any undef
# Mojolicious 7.00 9.39
# Mozilla::CA any 20250202
# Net::SSLeay 1.49 1.94
# Sort::Versions any 1.62
# URI any 5.31
# URI::Escape any 5.31
#
# === Test Requires ===
#
# Module Want Have
# ---------------- ---- --------
# File::Spec any 3.94
# Module::Metadata any 1.000038
# Test2::V0 any 1.302211
# Test::Alien any 2.84
# Test::More any 1.302211
#
# === Test Recommends ===
#
# Module Want Have
# ---------- -------- --------
# CPAN::Meta 2.120900 2.150010
#
# === Runtime Requires ===
#
# Module Want Have
# ------------- ---- ----
# Alien::Base any 2.84
# Alien::Build 0.25 2.84
# Alien::cmake3 any 0.09
# base any 2.27
# strict any 1.14
# warnings any 1.74
#
t/00-report-prereqs.t ........ ok
t/01-tidy.t .................. ok
t/author-clean-namespaces.t .. skipped: these tests are for testing by the author
t/author-eof.t ............... skipped: these tests are for testing by the author
t/author-eol.t ............... skipped: these tests are for testing by the author
t/author-minimum-version.t ... skipped: these tests are for testing by the author
t/author-no-tabs.t ........... skipped: these tests are for testing by the author
t/author-pod-coverage.t ...... skipped: these tests are for testing by the author
t/author-pod-syntax.t ........ skipped: these tests are for testing by the author
t/author-portability.t ....... skipped: these tests are for testing by the author
t/release-check-manifest.t ... skipped: these tests are for release candidate testing
t/release-trailing-space.t ... skipped: these tests are for release candidate testing
All tests successful.
Files=12, Tests=6, 1 wallclock secs ( 0.03 usr 0.00 sys + 0.24 cusr 0.01 csys = 0.28 CPU)
Result: PASS
------------------------------
PREREQUISITES
------------------------------
Prerequisite modules loaded:
requires:
Module Need Have
---------------------------------- -------- --------
Alien::Base 0 2.84
Alien::Build 0.25 2.84
Alien::cmake3 0 0.09
base 0 2.27
perl 5.008000 5.041013
strict 0 1.14
warnings 0 1.74
build_requires:
Module Need Have
---------------------------------- -------- --------
Alien::Build 0.32 2.84
Alien::Build::MM 0.32 2.84
Alien::cmake3 0.02 0.09
Archive::Tar 0 3.04
Config 0 5.041013
ExtUtils::MakeMaker 6.52 7.74
File::Spec 0 3.94
HTTP::Tiny 0.044 0.090
IO::Socket::SSL 1.56 2.089
IO::Zlib 0 1.15
Module::Metadata 0 1.000038
Mojo::DOM 0 0
Mojolicious 7.00 9.39
Mozilla::CA 0 20250202
Net::SSLeay 1.49 1.94
Sort::Versions 0 1.62
Test2::V0 0 1.302211
Test::Alien 0 2.84
Test::More 0 1.302211
URI 0 5.31
URI::Escape 0 5.31
configure_requires:
Module Need Have
---------------------------------- -------- --------
Alien::Build 1.40 2.84
Alien::Build::MM 0.32 2.84
Alien::Build::Plugin::Build::CMake 0.99 2.84
ExtUtils::MakeMaker 6.52 7.74
opt_build_requires:
Module Need Have
---------------------------------- -------- --------
CPAN::Meta 2.120900 2.150010
------------------------------
ENVIRONMENT AND OTHER CONTEXT
------------------------------
Environment variables:
AUTOMATED_TESTING = 1
DATE_MANIP_TEST_DM5 = 1
LANG = C.UTF-8
LC_COLLATE = C
NONINTERACTIVE_TESTING = 1
NO_NETWORK_TESTING = 1
PATH = /home/cpan/bin/perl/bin:/usr/local/sbin:/usr/local/bin:/usr/sbin:/usr/bin:/sbin:/bin
PERL5LIB =
PERL5OPT =
PERL5_CPANPLUS_IS_RUNNING = 13108
PERL5_CPAN_IS_RUNNING = 13108
PERL_MM_USE_DEFAULT = 1
PERL_USE_UNSAFE_INC = 1
SHELL = /bin/bash
TERM = screen
Perl special variables (and OS-specific diagnostics, for MSWin32):
$^X = /home/cpan/bin/perl/bin/perl5.41.13
$UID/$EUID = 1001 / 1001
$GID = 1001 1001
$EGID = 1001 1001
Perl module toolchain versions installed:
Module Have
------------------- --------
CPAN 2.38
CPAN::Meta 2.150010
Cwd 3.94
ExtUtils::CBuilder 0.280241
ExtUtils::Command 7.74
ExtUtils::Install 2.22
ExtUtils::MakeMaker 7.74
ExtUtils::Manifest 1.75
ExtUtils::ParseXS 3.57
File::Spec 3.94
JSON 4.10
JSON::PP 4.16
Module::Build 0.4234
Module::Signature n/a
Parse::CPAN::Meta 2.150010
Test2 1.302211
Test::Harness 3.50
Test::More 1.302211
YAML 1.31
YAML::Syck 1.34
version 0.9933
--
Summary of my perl5 (revision 5 version 41 subversion 13) configuration:
Commit id: 29cc8053c53cd1d31c48caef82b715a48368374d
Platform:
osname=linux
osvers=6.12.26-0-lts
archname=x86_64-linux
uname='linux cjg-alpine3 6.12.26-0-lts #1-alpine smp preempt_dynamic 2025-05-02 11:51:41 x86_64 linux '
config_args='-des -Dprefix=/home/cpan/bin/perl -Dscriptdir=/home/cpan/bin/perl/bin -Dusedevel -Duse64bitall'
hint=recommended
useposix=true
d_sigaction=define
useithreads=undef
usemultiplicity=undef
use64bitint=define
use64bitall=define
uselongdouble=undef
usemymalloc=n
default_inc_excludes_dot=define
Compiler:
cc='cc'
ccflags ='-D_GNU_SOURCE -fwrapv -fno-strict-aliasing -pipe -fstack-protector-strong -D_LARGEFILE_SOURCE -D_FILE_OFFSET_BITS=64'
optimize='-O2'
cppflags='-D_GNU_SOURCE -fwrapv -fno-strict-aliasing -pipe -fstack-protector-strong'
ccversion=''
gccversion='14.2.0'
gccosandvers=''
intsize=4
longsize=8
ptrsize=8
doublesize=8
byteorder=12345678
doublekind=3
d_longlong=define
longlongsize=8
d_longdbl=define
longdblsize=16
longdblkind=3
ivtype='long'
ivsize=8
nvtype='double'
nvsize=8
Off_t='off_t'
lseeksize=8
alignbytes=8
prototype=define
Linker and Libraries:
ld='cc'
ldflags =' -fstack-protector-strong -L/usr/local/lib'
libpth=/usr/lib /usr/local/lib /lib
libs=-lpthread -lgdbm -ldb -ldl -lm -lcrypt -lutil -lc -lgdbm_compat
perllibs=-lpthread -ldl -lm -lcrypt -lutil -lc
libc=/usr/lib/libc.a
so=so
useshrplib=false
libperl=libperl.a
gnulibc_version=''
Dynamic Linking:
dlsrc=dl_dlopen.xs
dlext=so
d_dlsymun=undef
ccdlflags='-Wl,-E'
cccdlflags='-fPIC'
lddlflags='-shared -O2 -L/usr/local/lib -fstack-protector-strong'
Characteristics of this binary (from libperl):
Compile-time options:
HAS_LONG_DOUBLE
HAS_STRTOLD
HAS_TIMES
PERLIO_LAYERS
PERL_COPY_ON_WRITE
PERL_DONT_CREATE_GVSV
PERL_HASH_FUNC_SIPHASH13
PERL_HASH_USE_SBOX32
PERL_MALLOC_WRAP
PERL_OP_PARENT
PERL_PRESERVE_IVUV
PERL_USE_DEVEL
PERL_USE_SAFE_PUTENV
USE_64_BIT_ALL
USE_64_BIT_INT
USE_LARGE_FILES
USE_LOCALE
USE_LOCALE_COLLATE
USE_LOCALE_CTYPE
USE_LOCALE_NUMERIC
USE_LOCALE_TIME
USE_PERLIO
USE_PERL_ATOF
Built under linux
Compiled at May 5 2025 13:42:56
%ENV:
PERL5LIB=""
PERL5OPT=""
PERL5_CPANPLUS_IS_RUNNING="13108"
PERL5_CPAN_IS_RUNNING="13108"
PERL_MM_USE_DEFAULT="1"
PERL_USE_UNSAFE_INC="1"
@INC:
/home/cpan/bin/perl/lib/site_perl/5.41.13/x86_64-linux
/home/cpan/bin/perl/lib/site_perl/5.41.13
/home/cpan/bin/perl/lib/5.41.13/x86_64-linux
/home/cpan/bin/perl/lib/5.41.13
.