MooseX-ConfigFromFile v0.14 Perl 5 v5.26.2 amd64-freebsd
- Status
- Pass
- From
- Slaven Rezić (SREZIC)
- Dist
-
MooseX-ConfigFromFile v0.14
- Platform
- Perl 5 v5.26.2 amd64-freebsd
- Date
- 2018-04-25 23:40:43
- ID
- 11d906fe-48e2-11e8-b799-d7848d20c9d8
This distribution has been tested as part of the CPAN Testers
project, supporting the Perl programming language. See
http://wiki.cpantesters.org/ for more information or email
questions to cpan-testers-discuss@perl.org
--
Dear Karen Etheridge,
This is a computer-generated report for MooseX-ConfigFromFile-0.14
on perl 5.26.2, created by CPAN-Reporter-1.2018.
Thank you for uploading your work to CPAN. Congratulations!
All tests were successful.
Sections of this report:
* Tester comments
* Program output
* Prerequisites
* Environment and other context
------------------------------
TESTER COMMENTS
------------------------------
Additional comments from tester:
none provided
------------------------------
PROGRAM OUTPUT
------------------------------
Output from './Build test':
#
# Versions for all modules listed in MYMETA.json (including optional ones):
#
# === Configure Requires ===
#
# Module Want Have
# ------------------- ----- -----
# Module::Build::Tiny 0.007 0.039
#
# === Test Requires ===
#
# Module Want Have
# --------------------- ---- --------
# ExtUtils::MakeMaker any 7.24
# File::Spec any 3.67
# Moose any 2.2010
# Scalar::Util any 1.50
# Test::Deep any 1.128
# Test::Fatal any 0.014
# Test::More 0.88 1.302136
# Test::Requires any 0.10
# Test::Without::Module any 0.20
# if any 0.0606
# strict any 1.11
#
# === Test Recommends ===
#
# Module Want Have
# -------------- -------- --------
# CPAN::Meta 2.120900 2.150010
# MooseX::Getopt any 0.71
#
# === Runtime Requires ===
#
# Module Want Have
# ------------------------- ----- ------
# Carp any 1.42
# Moose::Role any 2.2010
# MooseX::Types::Moose any 0.50
# MooseX::Types::Path::Tiny 0.005 0.012
# namespace::autoclean any 0.28
# warnings any 1.37
#
# === Other Modules ===
#
# Module Have
# ------------- ----
# Pod::Coverage 0.23
#
t/00-report-prereqs.t .... ok
t/01use.t ................ ok
t/02subclass.t ........... ok
t/03configfile_method.t .. ok
t/04a_getopt.t ........... ok
t/04b_getopt.t ........... ok
t/05_default_sub.t ....... ok
t/zzz-check-breaks.t ..... ok
All tests successful.
Files=8, Tests=63, 4 wallclock secs ( 0.05 usr 0.02 sys + 3.21 cusr 0.53 csys = 3.80 CPU)
Result: PASS
------------------------------
PREREQUISITES
------------------------------
Prerequisite modules loaded:
requires:
Module Need Have
------------------------- ----- --------
Carp 0 1.42
Moose::Role 0 2.2010
MooseX::Types::Moose 0 0.50
MooseX::Types::Path::Tiny 0.005 0.012
namespace::autoclean 0 0.28
perl 5.006 5.026002
warnings 0 1.37
build_requires:
Module Need Have
------------------------- ----- --------
ExtUtils::MakeMaker 0 7.24
File::Spec 0 3.67
if 0 0.0606
Moose 0 2.2010
perl 5.006 5.026002
Scalar::Util 0 1.50
strict 0 1.11
Test::Deep 0 1.128
Test::Fatal 0 0.014
Test::More 0.88 1.302136
Test::Requires 0 0.10
Test::Without::Module 0 0.20
configure_requires:
Module Need Have
------------------------- ----- --------
Module::Build::Tiny 0.007 0.039
perl 5.006 5.026002
------------------------------
ENVIRONMENT AND OTHER CONTEXT
------------------------------
Environment variables:
PATH = /usr/local/bin:/usr/bin:/bin:/usr/local/sbin:/usr/sbin:/sbin:/home/cpansand/bin/sh:/home/cpansand/bin:/usr/games:/home/cpansand/devel:/home/eserte/src/srezic-misc/scripts
PERL5LIB = /home/cpansand/.cpan/build/2018042606/MooseX-Types-Path-Tiny-0.012-0/blib/arch:/home/cpansand/.cpan/build/2018042606/MooseX-Types-Path-Tiny-0.012-0/blib/lib:/home/cpansand/.cpan/build/2018042606/MooseX-Types-Stringlike-0.003-0/blib/arch:/home/cpansand/.cpan/build/2018042606/MooseX-Types-Stringlike-0.003-0/blib/lib:/home/cpansand/.cpan/build/2018042606/Dist-Zilla-Plugin-MungeFile-0.009-0/blib/arch:/home/cpansand/.cpan/build/2018042606/Dist-Zilla-Plugin-MungeFile-0.009-0/blib/lib:/home/cpansand/.cpan/build/2018042606/MooseX-SlurpyConstructor-1.30-0/blib/arch:/home/cpansand/.cpan/build/2018042606/MooseX-SlurpyConstructor-1.30-0/blib/lib
PERL5OPT =
PERL5_CPANPLUS_IS_RUNNING = 56503
PERL5_CPAN_IS_RUNNING = 56503
PERL5_CPAN_IS_RUNNING_IN_RECURSION = 56470,56503
PERL_BATCH = yes
PERL_CANARY_STABILITY_NOPROMPT = 1
PERL_CPAN_REPORTER_CONFIG = /var/tmp/cpansmoker-1023/2018042606/cpanreporter_001_config.ini
PERL_EXTUTILS_AUTOINSTALL = --defaultdeps
PERL_USE_UNSAFE_INC = 1
SHELL = /bin/sh
TMPDIR = /var/tmp/cpansmoker-1023/2018042606
Perl special variables (and OS-specific diagnostics, for MSWin32):
$^X = /usr/perl5.26.2p/bin/perl5.26.2
$UID/$EUID = 1023 / 1023
$GID = 1023 1023
$EGID = 1023 1023
Perl module toolchain versions installed:
Module Have
------------------- ----------
CPAN 2.18
CPAN::Meta 2.150010
Cwd 3.67
ExtUtils::CBuilder 0.280225
ExtUtils::Command 7.24
ExtUtils::Install 2.04
ExtUtils::MakeMaker 7.24
ExtUtils::Manifest 1.70
ExtUtils::ParseXS 3.34
File::Spec 3.67
JSON 2.97001
JSON::PP 2.27400_02
Module::Build 0.4224
Module::Signature n/a
Parse::CPAN::Meta 2.150010
Test::Harness 3.38
Test::More 1.302136
YAML 1.24
YAML::Syck 1.30
version 0.9917
--
Summary of my perl5 (revision 5 version 26 subversion 2) configuration:
Platform:
osname=freebsd
osvers=11.1-release-p8
archname=amd64-freebsd
uname='freebsd ali2.bbbike.org 11.1-release-p8 freebsd 11.1-release-p8 #0: tue mar 13 17:07:05 utc 2018 root@amd64-builder.daemonology.net:usrobjusrsrcsysgeneric amd64 '
config_args='-ds -e -Dprefix=/usr/perl5.26.2p -Dcf_email=srezic@cpan.org -Doptimize=-O2 -pipe'
hint=recommended
useposix=true
d_sigaction=define
useithreads=undef
usemultiplicity=undef
use64bitint=define
use64bitall=define
uselongdouble=undef
usemymalloc=n
default_inc_excludes_dot=define
bincompat5005=undef
Compiler:
cc='cc'
ccflags ='-DHAS_FPSETMASK -DHAS_FLOATINGPOINT_H -fno-strict-aliasing -pipe -fstack-protector-strong -I/usr/local/include -D_FORTIFY_SOURCE=2'
optimize='-O2 -pipe'
cppflags='-DHAS_FPSETMASK -DHAS_FLOATINGPOINT_H -fno-strict-aliasing -pipe -fstack-protector-strong -I/usr/local/include'
ccversion=''
gccversion='4.2.1 Compatible FreeBSD Clang 4.0.0 (tags/RELEASE_400/final 297347)'
gccosandvers=''
intsize=4
longsize=8
ptrsize=8
doublesize=8
byteorder=12345678
doublekind=3
d_longlong=define
longlongsize=8
d_longdbl=define
longdblsize=16
longdblkind=3
ivtype='long'
ivsize=8
nvtype='double'
nvsize=8
Off_t='off_t'
lseeksize=8
alignbytes=8
prototype=define
Linker and Libraries:
ld='cc'
ldflags ='-pthread -Wl,-E -fstack-protector-strong -L/usr/local/lib'
libpth=/usr/lib /usr/local/lib /usr/bin/../lib/clang/4.0.0/lib /usr/lib
libs=-lpthread -lgdbm -lm -lcrypt -lutil -lc
perllibs=-lpthread -lm -lcrypt -lutil -lc
libc=
so=so
useshrplib=false
libperl=libperl.a
gnulibc_version=''
Dynamic Linking:
dlsrc=dl_dlopen.xs
dlext=so
d_dlsymun=undef
ccdlflags=' '
cccdlflags='-DPIC -fPIC'
lddlflags='-shared -L/usr/local/lib -fstack-protector-strong'
Characteristics of this binary (from libperl):
Compile-time options:
HAS_TIMES
PERLIO_LAYERS
PERL_COPY_ON_WRITE
PERL_DONT_CREATE_GVSV
PERL_MALLOC_WRAP
PERL_OP_PARENT
PERL_PRESERVE_IVUV
USE_64_BIT_ALL
USE_64_BIT_INT
USE_LARGE_FILES
USE_LOCALE
USE_LOCALE_COLLATE
USE_LOCALE_CTYPE
USE_LOCALE_NUMERIC
USE_LOCALE_TIME
USE_PERLIO
USE_PERL_ATOF
Built under freebsd
Compiled at Apr 18 2018 05:47:17
%ENV:
PERL5LIB="/home/cpansand/.cpan/build/2018042606/MooseX-Types-Path-Tiny-0.012-0/blib/arch:/home/cpansand/.cpan/build/2018042606/MooseX-Types-Path-Tiny-0.012-0/blib/lib:/home/cpansand/.cpan/build/2018042606/MooseX-Types-Stringlike-0.003-0/blib/arch:/home/cpansand/.cpan/build/2018042606/MooseX-Types-Stringlike-0.003-0/blib/lib:/home/cpansand/.cpan/build/2018042606/Dist-Zilla-Plugin-MungeFile-0.009-0/blib/arch:/home/cpansand/.cpan/build/2018042606/Dist-Zilla-Plugin-MungeFile-0.009-0/blib/lib:/home/cpansand/.cpan/build/2018042606/MooseX-SlurpyConstructor-1.30-0/blib/arch:/home/cpansand/.cpan/build/2018042606/MooseX-SlurpyConstructor-1.30-0/blib/lib"
PERL5OPT=""
PERL5_CPANPLUS_IS_RUNNING="56503"
PERL5_CPAN_IS_RUNNING="56503"
PERL5_CPAN_IS_RUNNING_IN_RECURSION="56470,56503"
PERL_BATCH="yes"
PERL_CANARY_STABILITY_NOPROMPT="1"
PERL_CPAN_REPORTER_CONFIG="/var/tmp/cpansmoker-1023/2018042606/cpanreporter_001_config.ini"
PERL_EXTUTILS_AUTOINSTALL="--defaultdeps"
PERL_USE_UNSAFE_INC="1"
@INC:
/home/cpansand/.cpan/build/2018042606/MooseX-Types-Path-Tiny-0.012-0/blib/arch
/home/cpansand/.cpan/build/2018042606/MooseX-Types-Path-Tiny-0.012-0/blib/lib
/home/cpansand/.cpan/build/2018042606/MooseX-Types-Stringlike-0.003-0/blib/arch
/home/cpansand/.cpan/build/2018042606/MooseX-Types-Stringlike-0.003-0/blib/lib
/home/cpansand/.cpan/build/2018042606/Dist-Zilla-Plugin-MungeFile-0.009-0/blib/arch
/home/cpansand/.cpan/build/2018042606/Dist-Zilla-Plugin-MungeFile-0.009-0/blib/lib
/home/cpansand/.cpan/build/2018042606/MooseX-SlurpyConstructor-1.30-0/blib/arch
/home/cpansand/.cpan/build/2018042606/MooseX-SlurpyConstructor-1.30-0/blib/lib
/usr/perl5.26.2p/lib/site_perl/5.26.2/amd64-freebsd
/usr/perl5.26.2p/lib/site_perl/5.26.2
/usr/perl5.26.2p/lib/5.26.2/amd64-freebsd
/usr/perl5.26.2p/lib/5.26.2
.