Report for HTTP-MobileAttribute-0.23

Back
From: metabase:user:e3434da8-b236-11df-85ca-0247c6d74bde
Subject: PASS HTTP-MobileAttribute-0.23 v5.14.0 GNU/Linux
Date: 2011-08-07T03:41:01Z

This distribution has been tested as part of the CPAN Testers
project, supporting the Perl programming language.  See
http://wiki.cpantesters.org/ for more information or email
questions to cpan-testers-discuss@perl.org


--
Dear Tokuhiro Matsuno,

This is a computer-generated report for HTTP-MobileAttribute-0.23
on perl 5.14.0, created by CPAN-Reporter-1.1902.

Thank you for uploading your work to CPAN.  Congratulations!
All tests were successful.

Sections of this report:

    * Tester comments
    * Program output
    * Prerequisites
    * Environment and other context

------------------------------
TESTER COMMENTS
------------------------------

Additional comments from tester:

this report is from an automated smoke testing program
and was not reviewed by a human for accuracy

------------------------------
PROGRAM OUTPUT
------------------------------

Output from '/usr/bin/make test':

PERL_DL_NONLAZY=1 /home/perl5140/testing/perl-5.14.0/bin/perl5.14.0 "-MExtUtils::Command::MM" "-e" "test_harness(0, 'inc', 'blib/lib', 'blib/arch')" t/*.t t/Plugins/*.t t/*/*/*.t
t/00_compile.t .............................. ok
t/01_carrier_detect.t ....................... ok
t/01_request.t .............................. ok
t/02_docomo.t ............................... ok
t/03_j_phone.t .............................. ok
t/04_ezweb.t ................................ ok
t/06_nonmobile.t ............................ ok
t/07_airh.t ................................. ok
t/09_vodafone_3gc.t ......................... ok
t/10_softbank.t ............................. ok
t/11_softbank_base.t ........................ ok
t/12_no_match.t ............................. ok
t/Plugins/CIDR-base.t ....................... skipped: Net::CIDR::MobileJP is not installed.
t/Plugins/CIDR-setter.t ..................... skipped: Net::CIDR::MobileJP is not installed.
t/Plugins/CIDR-yaml.t ....................... skipped: Net::CIDR::MobileJP is not installed.
t/Plugins/Display.t ......................... ok
t/Plugins/DoCoMo/Browser.t .................. ok
t/Plugins/Encoding.t ........................ ok
t/Plugins/GPS-gps_compliant.t ............... ok
THIS METHOD IS OBSOLETE. DO NOT USE THIS. at /home/perl5140/.cpan/build/HTTP-MobileAttribute-0.23-FFiVJl/blib/lib/HTTP/MobileAttribute/Plugin/GPS.pm line 13, <DATA> line 1.
THIS METHOD IS OBSOLETE. DO NOT USE THIS. at /home/perl5140/.cpan/build/HTTP-MobileAttribute-0.23-FFiVJl/blib/lib/HTTP/MobileAttribute/Plugin/GPS.pm line 13, <DATA> line 1.
t/Plugins/GPS-is_gps.t ...................... ok
t/Plugins/Locator/00.load.t ................. ok
t/Plugins/Locator/01.get_location.t ......... skipped: this module requires Geo::Coordinates::Converter && Geo::Coordinates::Converter::iArea
t/Plugins/Locator/02.gps_comliant.t ......... skipped: this module requires Geo::Coordinates::Converter && Geo::Coordinates::Converter::iArea
t/Plugins/Locator/03.non_mobile.t ........... skipped: this module requires Geo::Coordinates::Converter && Geo::Coordinates::Converter::iArea
t/Plugins/Locator/04.apache_params.t ........ skipped: this module requires Geo::Coordinates::Converter && Geo::Coordinates::Converter::iArea
t/Plugins/Locator/05.cgi_params.t ........... skipped: this module requires Geo::Coordinates::Converter && Geo::Coordinates::Converter::iArea
t/Plugins/Locator/06.hashref_params.t ....... skipped: this module requires Geo::Coordinates::Converter && Geo::Coordinates::Converter::iArea
t/Plugins/Locator/07.gps_parameter.t ........ skipped: this module requires Geo::Coordinates::Converter && Geo::Coordinates::Converter::iArea
t/Plugins/Locator/08.regression-params.t .... skipped: this module requires Geo::Coordinates::Converter && Geo::Coordinates::Converter::iArea
t/Plugins/Locator/09.get_carrier_locator.t .. skipped: this module requires Geo::Coordinates::Converter && Geo::Coordinates::Converter::iArea
t/Plugins/UserID-base.t ..................... ok
t/Plugins/UserID-fallback-card.t ............ ok
t/Plugins/UserID-fallback.t ................. ok
t/Plugins/UserID-supports_user_id.t ......... ok
All tests successful.
Files=34, Tests=2753,  5 wallclock secs ( 0.45 usr  0.07 sys +  3.19 cusr  0.71 csys =  4.42 CPU)
Result: PASS

------------------------------
PREREQUISITES
------------------------------

Prerequisite modules loaded:

requires:

    Module              Need     Have    
    ------------------- -------- --------
    Class::Component    0.17     0.17    
    Filter::Util::Call  0        1.08    
    perl                5.008001 5.014000
    UNIVERSAL::require  0.13     0.13    

build_requires:

    Module              Need     Have    
    ------------------- -------- --------
    ExtUtils::MakeMaker 6.42     6.57_05 
    YAML                0        0.73    

configure_requires:

    Module              Need     Have    
    ------------------- -------- --------
    ExtUtils::MakeMaker 6.42     6.57_05 


------------------------------
ENVIRONMENT AND OTHER CONTEXT
------------------------------

Environment variables:

    AUTOMATED_TESTING = 1
    LANG = en_US.UTF-8
    LC_COLLATE = C
    LC_MONETARY = nl_NL.utf8
    PATH = /home/tester/perl5/perlbrew/bin:/home/tester/perl5/perlbrew/perls/perl-5.15.1/bin:/usr/lib64/qt-3.3/bin:/usr/lib64/ccache:/usr/local/bin:/bin:/usr/bin:/usr/local/sbin:/usr/sbin:/sbin:/home/tester/bin:/home/tester/bin
    PATH_WITHOUT_PERLBREW = /usr/lib64/qt-3.3/bin:/usr/lib64/ccache:/usr/local/bin:/bin:/usr/bin:/usr/local/sbin:/usr/sbin:/sbin:/home/tester/bin
    PERL5LIB = /home/perl5140/.cpan/build/Class-Component-0.17-hF2dTE/blib/arch:/home/perl5140/.cpan/build/Class-Component-0.17-hF2dTE/blib/lib:/home/perl5140/.cpan/build/YAML-0.73-hMQeb0/blib/arch:/home/perl5140/.cpan/build/YAML-0.73-hMQeb0/blib/lib:/home/perl5140/.cpan/build/HTTP-Session-0.44-HUYUTs/blib/arch:/home/perl5140/.cpan/build/HTTP-Session-0.44-HUYUTs/blib/lib:/home/perl5140/.cpan/build/UNIVERSAL-require-0.13-2e8v6u/blib/arch:/home/perl5140/.cpan/build/UNIVERSAL-require-0.13-2e8v6u/blib/lib:/home/perl5140/.cpan/build/CGI-Simple-1.113-Bc6v8i/blib/arch:/home/perl5140/.cpan/build/CGI-Simple-1.113-Bc6v8i/blib/lib:/home/perl5140/.cpan/build/IO-stringy-2.110-dVCgm2/blib/arch:/home/perl5140/.cpan/build/IO-stringy-2.110-dVCgm2/blib/lib:/home/perl5140/.cpan/build/Class-Accessor-0.34-XXRABT/blib/arch:/home/perl5140/.cpan/build/Class-Accessor-0.34-XXRABT/blib/lib
    PERL5OPT = 
    PERL5_CPANPLUS_IS_RUNNING = 3368
    PERL5_CPAN_IS_RUNNING = 3368
    PERL5_CPAN_IS_RUNNING_IN_RECURSION = 19337,3368
    PERLBREW_PATH = /home/tester/perl5/perlbrew/bin:/home/tester/perl5/perlbrew/perls/perl-5.15.1/bin
    PERLBREW_PERL = perl-5.15.1
    PERLBREW_ROOT = /home/tester/perl5/perlbrew
    PERLBREW_VERSION = 0.15
    PERL_CR_SMOKER_CURRENT = HTTP-Session-State-MobileAttributeID-0.41
    PERL_EXTUTILS_AUTOINSTALL = --defaultdeps
    PERL_MM_USE_DEFAULT = 1
    SHELL = /bin/bash
    TERM = screen

Perl special variables (and OS-specific diagnostics, for MSWin32):

    $^X = /home/perl5140/testing/perl-5.14.0/bin/perl5.14.0
    $UID/$EUID = 509 / 509
    $GID = 509 509
    $EGID = 509 509

Perl module toolchain versions installed:

    Module              Have    
    ------------------- --------
    CPAN                1.9600  
    Cwd                 3.36    
    ExtUtils::CBuilder  0.280203
    ExtUtils::Command   1.17    
    ExtUtils::Install   1.56    
    ExtUtils::MakeMaker 6.57_05 
    ExtUtils::Manifest  1.58    
    ExtUtils::ParseXS   2.2210  
    File::Spec          3.33    
    Module::Build       0.3800  
    Module::Signature   n/a     
    Test::Harness       3.23    
    Test::More          0.98    
    YAML                0.73    
    YAML::Syck          1.17    
    version             0.91    


--

Summary of my perl5 (revision 5 version 14 subversion 0) configuration:
   
  Platform:
    osname=linux, osvers=2.6.35.11-83.fc14.x86_64, archname=x86_64-linux-thread-multi
    uname='linux firenze.fritz.box 2.6.35.11-83.fc14.x86_64 #1 smp mon feb 7 07:06:44 utc 2011 x86_64 x86_64 x86_64 gnulinux '
    config_args='-Dprefix=/home/perl5140/testing/perl-5.14.0 -Dusethreads -Dusedevel -des'
    hint=recommended, useposix=true, d_sigaction=define
    useithreads=define, usemultiplicity=define
    useperlio=define, d_sfio=undef, uselargefiles=define, usesocks=undef
    use64bitint=define, use64bitall=define, uselongdouble=undef
    usemymalloc=n, bincompat5005=undef
  Compiler:
    cc='cc', ccflags ='-D_REENTRANT -D_GNU_SOURCE -fno-strict-aliasing -pipe -fstack-protector -I/usr/local/include -D_LARGEFILE_SOURCE -D_FILE_OFFSET_BITS=64',
    optimize='-O2',
    cppflags='-D_REENTRANT -D_GNU_SOURCE -fno-strict-aliasing -pipe -fstack-protector -I/usr/local/include'
    ccversion='', gccversion='4.5.1 20100924 (Red Hat 4.5.1-4)', gccosandvers=''
    intsize=4, longsize=8, ptrsize=8, doublesize=8, byteorder=12345678
    d_longlong=define, longlongsize=8, d_longdbl=define, longdblsize=16
    ivtype='long', ivsize=8, nvtype='double', nvsize=8, Off_t='off_t', lseeksize=8
    alignbytes=8, prototype=define
  Linker and Libraries:
    ld='cc', ldflags =' -fstack-protector -L/usr/local/lib'
    libpth=/usr/local/lib /lib/../lib64 /usr/lib/../lib64 /lib /usr/lib /lib64 /usr/lib64 /usr/local/lib64
    libs=-lnsl -lgdbm -ldb -ldl -lm -lcrypt -lutil -lpthread -lc -lgdbm_compat
    perllibs=-lnsl -ldl -lm -lcrypt -lutil -lpthread -lc
    libc=, so=so, useshrplib=false, libperl=libperl.a
    gnulibc_version='2.13'
  Dynamic Linking:
    dlsrc=dl_dlopen.xs, dlext=so, d_dlsymun=undef, ccdlflags='-Wl,-E'
    cccdlflags='-fPIC', lddlflags='-shared -O2 -L/usr/local/lib -fstack-protector'


Characteristics of this binary (from libperl): 
  Compile-time options: MULTIPLICITY PERL_DONT_CREATE_GVSV
                        PERL_IMPLICIT_CONTEXT PERL_MALLOC_WRAP
                        PERL_PRESERVE_IVUV PERL_USE_DEVEL USE_64_BIT_ALL
                        USE_64_BIT_INT USE_ITHREADS USE_LARGE_FILES
                        USE_PERLIO USE_PERL_ATOF USE_REENTRANT_API
  Built under linux
  Compiled at Jun 14 2011 08:32:54
  %ENV:
    PERL5LIB="/home/perl5140/.cpan/build/Class-Component-0.17-hF2dTE/blib/arch:/home/perl5140/.cpan/build/Class-Component-0.17-hF2dTE/blib/lib:/home/perl5140/.cpan/build/YAML-0.73-hMQeb0/blib/arch:/home/perl5140/.cpan/build/YAML-0.73-hMQeb0/blib/lib:/home/perl5140/.cpan/build/HTTP-Session-0.44-HUYUTs/blib/arch:/home/perl5140/.cpan/build/HTTP-Session-0.44-HUYUTs/blib/lib:/home/perl5140/.cpan/build/UNIVERSAL-require-0.13-2e8v6u/blib/arch:/home/perl5140/.cpan/build/UNIVERSAL-require-0.13-2e8v6u/blib/lib:/home/perl5140/.cpan/build/CGI-Simple-1.113-Bc6v8i/blib/arch:/home/perl5140/.cpan/build/CGI-Simple-1.113-Bc6v8i/blib/lib:/home/perl5140/.cpan/build/IO-stringy-2.110-dVCgm2/blib/arch:/home/perl5140/.cpan/build/IO-stringy-2.110-dVCgm2/blib/lib:/home/perl5140/.cpan/build/Class-Accessor-0.34-XXRABT/blib/arch:/home/perl5140/.cpan/build/Class-Accessor-0.34-XXRABT/blib/lib"
    PERL5OPT=""
    PERL5_CPANPLUS_IS_RUNNING="3368"
    PERL5_CPAN_IS_RUNNING="3368"
    PERL5_CPAN_IS_RUNNING_IN_RECURSION="19337,3368"
    PERLBREW_PATH="/home/tester/perl5/perlbrew/bin:/home/tester/perl5/perlbrew/perls/perl-5.15.1/bin"
    PERLBREW_PERL="perl-5.15.1"
    PERLBREW_ROOT="/home/tester/perl5/perlbrew"
    PERLBREW_VERSION="0.15"
    PERL_CR_SMOKER_CURRENT="HTTP-Session-State-MobileAttributeID-0.41"
    PERL_EXTUTILS_AUTOINSTALL="--defaultdeps"
    PERL_MM_USE_DEFAULT="1"
  @INC:
    /home/perl5140/.cpan/build/Class-Component-0.17-hF2dTE/blib/arch
    /home/perl5140/.cpan/build/Class-Component-0.17-hF2dTE/blib/lib
    /home/perl5140/.cpan/build/YAML-0.73-hMQeb0/blib/arch
    /home/perl5140/.cpan/build/YAML-0.73-hMQeb0/blib/lib
    /home/perl5140/.cpan/build/HTTP-Session-0.44-HUYUTs/blib/arch
    /home/perl5140/.cpan/build/HTTP-Session-0.44-HUYUTs/blib/lib
    /home/perl5140/.cpan/build/UNIVERSAL-require-0.13-2e8v6u/blib/arch
    /home/perl5140/.cpan/build/UNIVERSAL-require-0.13-2e8v6u/blib/lib
    /home/perl5140/.cpan/build/CGI-Simple-1.113-Bc6v8i/blib/arch
    /home/perl5140/.cpan/build/CGI-Simple-1.113-Bc6v8i/blib/lib
    /home/perl5140/.cpan/build/IO-stringy-2.110-dVCgm2/blib/arch
    /home/perl5140/.cpan/build/IO-stringy-2.110-dVCgm2/blib/lib
    /home/perl5140/.cpan/build/Class-Accessor-0.34-XXRABT/blib/arch
    /home/perl5140/.cpan/build/Class-Accessor-0.34-XXRABT/blib/lib
    /home/perl5140/testing/perl-5.14.0/lib/site_perl/5.14.0/x86_64-linux-thread-multi
    /home/perl5140/testing/perl-5.14.0/lib/site_perl/5.14.0
    /home/perl5140/testing/perl-5.14.0/lib/5.14.0/x86_64-linux-thread-multi
    /home/perl5140/testing/perl-5.14.0/lib/5.14.0
    .