CSS-DOM v0.17 Perl 5 v5.32.0 darwin-ld-2level
- Status
- Pass
- From
- Roland van Ipenburg (IPENBURG)
- Dist
-
CSS-DOM v0.17
- Platform
- Perl 5 v5.32.0 darwin-ld-2level
- Date
- 2020-08-18 21:30:42
- ID
- 11a9751c-e19a-11ea-9ef7-a4d2fdff6eba
This distribution has been tested as part of the CPAN Testers
project, supporting the Perl programming language. See
http://wiki.cpantesters.org/ for more information or email
questions to cpan-testers-discuss@perl.org
--
Dear Father Chrysostomos,
This is a computer-generated report for CSS-DOM-0.17
on perl 5.32.0, created by CPAN-Reporter-1.2018.
Thank you for uploading your work to CPAN. Congratulations!
All tests were successful.
Sections of this report:
* Tester comments
* Program output
* Prerequisites
* Environment and other context
------------------------------
TESTER COMMENTS
------------------------------
Additional comments from tester:
none provided
------------------------------
PROGRAM OUTPUT
------------------------------
Output from '/usr/bin/make test':
PERL_DL_NONLAZY=1 "/usr/local/bin/perl" "-MExtUtils::Command::MM" "-MTest::Harness" "-e" "undef *Test::Harness::Switches; test_harness(0, 'blib/lib', 'blib/arch')" t/*.t
t/charset.t .......................... ok
t/css-dom-interface.t ................ ok
t/css-dom-style.t .................... ok
t/css-dom-util.t ..................... ok
t/css-dom.t .......................... ok
t/CSS2Properties.t ................... ok
t/CSSCharsetRule.t ................... ok
t/CSSFontFaceRule.t .................. ok
t/CSSImportRule.t .................... ok
t/CSSMediaRule.t ..................... ok
t/CSSPageRule.t ...................... ok
t/CSSPrimitiveValue.t ................ ok
t/CSSRule.t .......................... ok
t/CSSRuleList.t ...................... ok
t/CSSStyleDeclaration-setProperty.t .. ok
t/CSSStyleDeclaration.t .............. ok
t/CSSStyleRule.t ..................... ok
t/CSSStyleSheet-insertRule.t ......... ok
t/CSSStyleSheet.t .................... ok
t/CSSValue-prim-cssText.t ............ ok
t/CSSValue.t ......................... ok
t/CSSValueList.t ..................... ok
t/hasFeature.t ....................... ok
t/MediaList.t ........................ ok
t/parser-rules.t ..................... ok
t/parser-tokens.t .................... ok
t/property-parser.t .................. ok
t/Rect.t ............................. ok
t/RGBColor.t ......................... ok
t/StyleSheet.t ....................... ok
t/StyleSheetList.t ................... ok
All tests successful.
Files=31, Tests=3203, 4 wallclock secs ( 0.36 usr 0.09 sys + 3.57 cusr 0.53 csys = 4.55 CPU)
Result: PASS
------------------------------
PREREQUISITES
------------------------------
Prerequisite modules loaded:
requires:
Module Need Have
------------------- ---- --------
Carp 1.01 1.50
Clone 0.09 0.45
constant 1.03 1.33
Encode 2.1 3.06
Exporter 5.57 5.74
overload 0 1.31
re 0 0.40
Scalar::Util 1.09 1.55
strict 0 1.11
Test::More 0 1.302175
warnings 0 1.47
build_requires:
Module Need Have
------------------- ---- --------
ExtUtils::MakeMaker 0 7.44
configure_requires:
Module Need Have
------------------- ---- --------
ExtUtils::MakeMaker 0 7.44
------------------------------
ENVIRONMENT AND OTHER CONTEXT
------------------------------
Environment variables:
LANG = en_US.UTF-8
LC_ALL = en_US.UTF-8
LC_CTYPE = UTF-8
PATH = /opt/local/bin:/opt/local/sbin:/opt/local/bin:/opt/local/sbin:/opt/local/bin:/opt/local/sbin:/Users/roliep/pebble-dev/PebbleSDK-current/bin:/usr/local/bin/:/Users/roliep/pebble-dev/PebbleSDK-2.0.0/bin/:/Users/roliep/android-sdk-mac_x86/platform-tools/:/Users/roliep/android-sdk-mac_x86/tools/:/Applications/SenchaSDKTools-2.0.0-beta3:/Users/roliep/PebbleSDK-1.12/arm-cs-tools/bin:/usr/local/bin:/opt/local/sbin:/opt/local/bin:/Users/roliep/.composer/vendor/bin:/usr/local/bin:/usr/bin:/bin:/usr/sbin:/sbin:/usr/local/MacGPG2/bin:/opt/X11/bin:/Library/Apple/usr/bin:/Users/roliep/bin/FDK/Tools/osx
PERL5LIB =
PERL5OPT =
PERL5_CPANPLUS_IS_RUNNING = 51908
PERL5_CPAN_IS_RUNNING = 51908
PERL_USE_UNSAFE_INC = 1
SHELL = /bin/sh
TERM = xterm-256color
Perl special variables (and OS-specific diagnostics, for MSWin32):
$^X = /usr/local/bin/perl
$UID/$EUID = 0 / 0
$GID = 0 0 1 2 3 4 5 8 9 12 20 29 61 80 701 702 703
$EGID = 0 0 1 2 3 4 5 8 9 12 20 29 61 80 701 702 703
Perl module toolchain versions installed:
Module Have
------------------- --------
CPAN 2.28
CPAN::Meta 2.150010
Cwd 3.78
ExtUtils::CBuilder 0.280234
ExtUtils::Command 7.44
ExtUtils::Install 2.14
ExtUtils::MakeMaker 7.44
ExtUtils::Manifest 1.72
ExtUtils::ParseXS 3.40
File::Spec 3.78
JSON n/a
JSON::PP 4.04
Module::Build 0.4231
Module::Signature n/a
Parse::CPAN::Meta 2.150010
Test::Harness 3.42
Test::More 1.302175
YAML n/a
YAML::Syck n/a
version 0.9924
--
Summary of my perl5 (revision 5 version 32 subversion 0) configuration:
Platform:
osname=darwin
osvers=19.6.0
archname=darwin-ld-2level
uname='darwin midtown.fritz.box 19.6.0 darwin kernel version 19.6.0: thu jun 18 20:49:00 pdt 2020; root:xnu-6153.141.1~1release_x86_64 x86_64 '
config_args='-des -Dinc_version_list=none -Duselongdouble'
hint=recommended
useposix=true
d_sigaction=define
useithreads=undef
usemultiplicity=undef
use64bitint=define
use64bitall=define
uselongdouble=define
usemymalloc=n
default_inc_excludes_dot=define
bincompat5005=undef
Compiler:
cc='cc'
ccflags ='-fno-common -DPERL_DARWIN -mmacosx-version-min=10.15 -fno-strict-aliasing -pipe -fstack-protector-strong -I/usr/local/include -I/opt/local/include -DPERL_USE_SAFE_PUTENV'
optimize='-O3'
cppflags='-fno-common -DPERL_DARWIN -mmacosx-version-min=10.15 -fno-strict-aliasing -pipe -fstack-protector-strong -I/usr/local/include -I/opt/local/include'
ccversion=''
gccversion='4.2.1 Compatible Apple LLVM 11.0.3 (clang-1103.0.32.62)'
gccosandvers=''
intsize=4
longsize=8
ptrsize=8
doublesize=8
byteorder=12345678
doublekind=3
d_longlong=define
longlongsize=8
d_longdbl=define
longdblsize=16
longdblkind=3
ivtype='long'
ivsize=8
nvtype='long double'
nvsize=16
Off_t='off_t'
lseeksize=8
alignbytes=16
prototype=define
Linker and Libraries:
ld='cc'
ldflags =' -mmacosx-version-min=10.15 -fstack-protector-strong -L/usr/local/lib -L/opt/local/lib'
libpth=/Volumes/SanDisk/Xcode.app/Contents/Developer/Toolchains/XcodeDefault.xctoolchain/usr/lib/clang/11.0.3/lib /Volumes/SanDisk/Xcode.app/Contents/Developer/Platforms/MacOSX.platform/Developer/SDKs/MacOSX.sdk/usr/lib /Volumes/SanDisk/Xcode.app/Contents/Developer/Toolchains/XcodeDefault.xctoolchain/usr/lib /usr/local/lib /opt/local/lib /usr/lib
libs=-lpthread -lgdbm -ldbm -ldl -lm -lutil -lc
perllibs=-lpthread -ldl -lm -lutil -lc
libc=
so=dylib
useshrplib=false
libperl=libperl.a
gnulibc_version=''
Dynamic Linking:
dlsrc=dl_dlopen.xs
dlext=bundle
d_dlsymun=undef
ccdlflags=' '
cccdlflags=' '
lddlflags=' -mmacosx-version-min=10.15 -bundle -undefined dynamic_lookup -L/usr/local/lib -L/opt/local/lib -fstack-protector-strong'
Characteristics of this binary (from libperl):
Compile-time options:
HAS_TIMES
PERLIO_LAYERS
PERL_COPY_ON_WRITE
PERL_DONT_CREATE_GVSV
PERL_MALLOC_WRAP
PERL_OP_PARENT
PERL_PRESERVE_IVUV
PERL_USE_SAFE_PUTENV
USE_64_BIT_ALL
USE_64_BIT_INT
USE_LARGE_FILES
USE_LOCALE
USE_LOCALE_COLLATE
USE_LOCALE_CTYPE
USE_LOCALE_NUMERIC
USE_LOCALE_TIME
USE_LONG_DOUBLE
USE_PERLIO
USE_PERL_ATOF
Built under darwin
Compiled at Aug 18 2020 21:07:42
%ENV:
PERL5LIB=""
PERL5OPT=""
PERL5_CPANPLUS_IS_RUNNING="51908"
PERL5_CPAN_IS_RUNNING="51908"
PERL_USE_UNSAFE_INC="1"
@INC:
/usr/local/lib/perl5/site_perl/5.32.0/darwin-ld-2level
/usr/local/lib/perl5/site_perl/5.32.0
/usr/local/lib/perl5/5.32.0/darwin-ld-2level
/usr/local/lib/perl5/5.32.0
.