Inline-Java v0.67 Perl 5 v5.28.3 x86_64-linux

Status
Pass
From
Slaven Rezić
Dist
Inline-Java v0.67
Platform
Perl 5 v5.28.3 x86_64-linux
Date
2022-10-13 07:10:07
ID
11a1a9ee-4ac6-11ed-a974-8c0f6e8775ea
This distribution has been tested as part of the CPAN Testers
project, supporting the Perl programming language.  See
http://wiki.cpantesters.org/ for more information or email
questions to cpan-testers-discuss@perl.org


--
Dear Ed J,

This is a computer-generated report for Inline-Java-0.67
on perl 5.28.3, created by CPAN-Reporter-1.2018.

Thank you for uploading your work to CPAN.  Congratulations!
All tests were successful.

Sections of this report:

    * Tester comments
    * Program output
    * Prerequisites
    * Environment and other context

------------------------------
TESTER COMMENTS
------------------------------

Additional comments from tester:

none provided

------------------------------
PROGRAM OUTPUT
------------------------------

Output from '/usr/bin/make test':

make[1]: Entering directory `/home/cpansand/.cpan/build/2022101306/Inline-Java-0.67-4/Java'
"/opt/perl-5.28.3/bin/perl" -MExtUtils::Command::MM -e 'cp_nonempty' -- JNI.bs ../blib/arch/auto/Inline/Java/JNI/JNI.bs 644
make[1]: Leaving directory `/home/cpansand/.cpan/build/2022101306/Inline-Java-0.67-4/Java'
make[1]: Entering directory `/home/cpansand/.cpan/build/2022101306/Inline-Java-0.67-4/Java'
"/opt/perl-5.28.3/bin/perl" -MExtUtils::Command::MM -e 'cp_nonempty' -- JNI.bs ../blib/arch/auto/Inline/Java/JNI/JNI.bs 644
No tests defined for Inline::Java::JNI extension.
make[1]: Leaving directory `/home/cpansand/.cpan/build/2022101306/Inline-Java-0.67-4/Java'
PERL_DL_NONLAZY=1 "/opt/perl-5.28.3/bin/perl" "-MExtUtils::Command::MM" "-MTest::Harness" "-e" "undef *Test::Harness::Switches; test_harness(0, 'blib/lib', 'blib/arch')" t/*.t
# 
# Versions for all modules listed in MYMETA.json (including optional ones):
# 
# === Configure Requires ===
# 
#     Module              Want Have Where                                 Howbig
#     ------------------- ---- ---- ------------------------------------- ------
#     ExtUtils::MakeMaker 7.30 7.64 /opt/perl-5.28.3/lib/site_perl/5.28.3 109482
#     File::Which          any 1.27 /opt/perl-5.28.3/lib/site_perl/5.28.3  12351
# 
# === Build Requires ===
# 
#     Module              Want Have Where                                 Howbig
#     ------------------- ---- ---- ------------------------------------- ------
#     ExtUtils::MakeMaker 7.30 7.64 /opt/perl-5.28.3/lib/site_perl/5.28.3 109482
# 
# === Runtime Requires ===
# 
#     Module       Want Have Where                                                        Howbig
#     ------------ ---- ---- ------------------------------------------------------------ ------
#     Inline       0.68 0.86 /home/cpansand/.cpan/build/2022101306/Inline-0.86-4/blib/lib  62663
#     MIME::Base64  any 3.15 /opt/perl-5.28.3/lib/5.28.3/x86_64-linux                       5450
#     Test         1.13 1.31 /opt/perl-5.28.3/lib/5.28.3                                   30042
# 
t/00-report-prereqs.t .. ok
Base class package "Inline::C" is empty.
    (Perhaps you need to 'use' the module which defines that package first,
    or make that module available in @INC (@INC contains: /home/cpansand/.cpan/build/2022101306/Inline-Java-0.67-4/blib/lib /home/cpansand/.cpan/build/2022101306/Inline-Java-0.67-4/blib/arch /home/cpansand/.cpan/build/2022101306/Inline-0.86-4/blib/arch /home/cpansand/.cpan/build/2022101306/Inline-0.86-4/blib/lib /home/cpansand/.cpan/build/2022101306/Inline-0.86-4/blib/arch /home/cpansand/.cpan/build/2022101306/Inline-0.86-4/blib/lib /opt/perl-5.28.3/lib/site_perl/5.28.3/x86_64-linux /opt/perl-5.28.3/lib/site_perl/5.28.3 /opt/perl-5.28.3/lib/5.28.3/x86_64-linux /opt/perl-5.28.3/lib/5.28.3 .).
 at /opt/perl-5.28.3/lib/site_perl/5.28.3/x86_64-linux/Inline/Pdlpp.pm line 13.
BEGIN failed--compilation aborted at /opt/perl-5.28.3/lib/site_perl/5.28.3/x86_64-linux/Inline/Pdlpp.pm line 13.
Compilation failed in require at (eval 18) line 1.

Perl version is 5.028003
Inline version is 0.86
Inline::Java version is 0.67
J2SDK version is 11.0.16.1, from /usr/lib/jvm/java
Max memory is 454164480
CLASSPATH is <empty>
t/01_init.t ............ ok
t/02_primitives.t ...... ok
t/02_primitives_1_4.t .. ok
t/03_objects.t ......... ok
t/04_members.t ......... ok
t/05_arrays.t .......... ok
t/06_static.t .......... ok
t/07_polymorph.t ....... ok
t/08_study.t ........... ok
t/09_usages.t .......... ok
t/10_1_shared_alone.t .. ok
t/10_5_shared_fork.t ... ok
t/10_6_shared_sim.t .... ok
t/11_exceptions.t ...... ok
t/12_1_callbacks.t ..... ok
t/12_2_perl_objects.t .. ok
t/13_handles.t ......... ok
t/14_encoding.t ........ ok
t/15_native_doubles.t .. ok
t/16_subclass.t ........ ok
t/99_end.t ............. ok
All tests successful.
Files=22, Tests=369, 41 wallclock secs ( 0.09 usr  0.03 sys + 33.86 cusr  2.01 csys = 35.99 CPU)
Result: PASS

------------------------------
PREREQUISITES
------------------------------

Prerequisite modules loaded:

requires:

    Module              Need  Have    
    ------------------- ----- --------
    Inline              0.68  0.86    
    MIME::Base64        0     3.15    
    perl                5.008 5.028003
    Test                1.13  1.31    

build_requires:

    Module              Need  Have    
    ------------------- ----- --------
    ExtUtils::MakeMaker 7.30  7.64    

configure_requires:

    Module              Need  Have    
    ------------------- ----- --------
    ExtUtils::MakeMaker 7.30  7.64    
    File::Which         0     1.27    


------------------------------
ENVIRONMENT AND OTHER CONTEXT
------------------------------

Environment variables:

    LANG = en_US.UTF-8
    PATH = /usr/local/bin:/usr/bin:/bin:/usr/local/sbin:/usr/sbin:/sbin:/home/cpansand/bin/linux-gnu:/home/cpansand/bin/sh:/home/cpansand/bin:/usr/games:/home/cpansand/devel:/home/eserte/src/srezic-misc/scripts
    PERL5LIB = /home/cpansand/.cpan/build/2022101306/Inline-0.86-4/blib/arch:/home/cpansand/.cpan/build/2022101306/Inline-0.86-4/blib/lib
    PERL5OPT = 
    PERL5_CPANPLUS_IS_RUNNING = 10175
    PERL5_CPAN_IS_RUNNING = 10175
    PERL5_CPAN_IS_RUNNING_IN_RECURSION = 6460,10175
    PERLDOC = -MPod::Perldoc::ToTextOverstrike
    PERL_BATCH = yes
    PERL_CANARY_STABILITY_NOPROMPT = 1
    PERL_CPAN_REPORTER_CONFIG = /var/tmp/cpansmoker-1023/2022101306/cpanreporter_000_config.ini
    PERL_EXTUTILS_AUTOINSTALL = --defaultdeps
    PERL_USE_UNSAFE_INC = 1
    SHELL = /usr/bin/zsh
    TERM = screen
    TMPDIR = /var/tmp/cpansmoker-1023/2022101306

Perl special variables (and OS-specific diagnostics, for MSWin32):

    $^X = /opt/perl-5.28.3/bin/perl
    $UID/$EUID = 1023 / 1023
    $GID = 1023 1023
    $EGID = 1023 1023

Perl module toolchain versions installed:

    Module              Have    
    ------------------- --------
    CPAN                2.20    
    CPAN::Meta          2.150010
    Cwd                 3.75    
    ExtUtils::CBuilder  0.280236
    ExtUtils::Command   7.64    
    ExtUtils::Install   2.14    
    ExtUtils::MakeMaker 7.64    
    ExtUtils::Manifest  1.70    
    ExtUtils::ParseXS   3.39    
    File::Spec          3.75    
    JSON                4.10    
    JSON::PP            4.12    
    Module::Build       0.4231  
    Module::Signature   n/a     
    Parse::CPAN::Meta   2.150010
    Test::Harness       3.42    
    Test::More          1.302191
    YAML                1.30    
    YAML::Syck          1.34    
    version             0.9923  


--

Summary of my perl5 (revision 5 version 28 subversion 3) configuration:
   
  Platform:
    osname=linux
    osvers=3.10.0-1160.76.1.el7.x86_64
    archname=x86_64-linux
    uname='linux cloud3.bbbike.org 3.10.0-1160.76.1.el7.x86_64 #1 smp wed aug 10 16:21:17 utc 2022 x86_64 x86_64 x86_64 gnulinux '
    config_args='-ds -e -Dprefix=/opt/perl-5.28.3 -Dcf_email=srezic@cpan.org'
    hint=recommended
    useposix=true
    d_sigaction=define
    useithreads=undef
    usemultiplicity=undef
    use64bitint=define
    use64bitall=define
    uselongdouble=undef
    usemymalloc=n
    default_inc_excludes_dot=define
    bincompat5005=undef
  Compiler:
    cc='cc'
    ccflags ='-fwrapv -fno-strict-aliasing -pipe -fstack-protector-strong -I/usr/local/include -D_LARGEFILE_SOURCE -D_FILE_OFFSET_BITS=64 -D_FORTIFY_SOURCE=2'
    optimize='-O2'
    cppflags='-fwrapv -fno-strict-aliasing -pipe -fstack-protector-strong -I/usr/local/include'
    ccversion=''
    gccversion='4.8.5 20150623 (Red Hat 4.8.5-44)'
    gccosandvers=''
    intsize=4
    longsize=8
    ptrsize=8
    doublesize=8
    byteorder=12345678
    doublekind=3
    d_longlong=define
    longlongsize=8
    d_longdbl=define
    longdblsize=16
    longdblkind=3
    ivtype='long'
    ivsize=8
    nvtype='double'
    nvsize=8
    Off_t='off_t'
    lseeksize=8
    alignbytes=8
    prototype=define
  Linker and Libraries:
    ld='cc'
    ldflags =' -fstack-protector-strong -L/usr/local/lib'
    libpth=/usr/local/lib /usr/lib /lib/../lib64 /usr/lib/../lib64 /lib /lib64 /usr/lib64 /usr/local/lib64
    libs=-lpthread -lnsl -lgdbm -ldb -ldl -lm -lcrypt -lutil -lc -lgdbm_compat
    perllibs=-lpthread -lnsl -ldl -lm -lcrypt -lutil -lc
    libc=libc-2.17.so
    so=so
    useshrplib=false
    libperl=libperl.a
    gnulibc_version='2.17'
  Dynamic Linking:
    dlsrc=dl_dlopen.xs
    dlext=so
    d_dlsymun=undef
    ccdlflags='-Wl,-E'
    cccdlflags='-fPIC'
    lddlflags='-shared -O2 -L/usr/local/lib -fstack-protector-strong'


Characteristics of this binary (from libperl): 
  Compile-time options:
    HAS_TIMES
    PERLIO_LAYERS
    PERL_COPY_ON_WRITE
    PERL_DONT_CREATE_GVSV
    PERL_MALLOC_WRAP
    PERL_OP_PARENT
    PERL_PRESERVE_IVUV
    USE_64_BIT_ALL
    USE_64_BIT_INT
    USE_LARGE_FILES
    USE_LOCALE
    USE_LOCALE_COLLATE
    USE_LOCALE_CTYPE
    USE_LOCALE_NUMERIC
    USE_LOCALE_TIME
    USE_PERLIO
    USE_PERL_ATOF
  Locally applied patches:
    Devel::PatchPerl 2.08
  Built under linux
  Compiled at Sep 23 2022 19:58:36
  %ENV:
    PERL5LIB="/home/cpansand/.cpan/build/2022101306/Inline-0.86-4/blib/arch:/home/cpansand/.cpan/build/2022101306/Inline-0.86-4/blib/lib"
    PERL5OPT=""
    PERL5_CPANPLUS_IS_RUNNING="10175"
    PERL5_CPAN_IS_RUNNING="10175"
    PERL5_CPAN_IS_RUNNING_IN_RECURSION="6460,10175"
    PERLDOC="-MPod::Perldoc::ToTextOverstrike"
    PERL_BATCH="yes"
    PERL_CANARY_STABILITY_NOPROMPT="1"
    PERL_CPAN_REPORTER_CONFIG="/var/tmp/cpansmoker-1023/2022101306/cpanreporter_000_config.ini"
    PERL_EXTUTILS_AUTOINSTALL="--defaultdeps"
    PERL_USE_UNSAFE_INC="1"
  @INC:
    /home/cpansand/.cpan/build/2022101306/Inline-0.86-4/blib/arch
    /home/cpansand/.cpan/build/2022101306/Inline-0.86-4/blib/lib
    /opt/perl-5.28.3/lib/site_perl/5.28.3/x86_64-linux
    /opt/perl-5.28.3/lib/site_perl/5.28.3
    /opt/perl-5.28.3/lib/5.28.3/x86_64-linux
    /opt/perl-5.28.3/lib/5.28.3
    .