Report for WebService-Amazon-IAM-0.002

Back
From: metabase:user:320bfe00-2aae-11df-837a-5e0a49663a4f
Subject: PASS WebService-Amazon-IAM-0.002 v5.16.3 GNU/Linux
Date: 2015-01-26T16:55:01Z

This distribution has been tested as part of the CPAN Testers
project, supporting the Perl programming language.  See
http://wiki.cpantesters.org/ for more information or email
questions to cpan-testers-discuss@perl.org


--
Dear Tom Molesworth,

This is a computer-generated report for WebService-Amazon-IAM-0.002
on perl 5.16.3, created by CPAN-Reporter-1.2011.

Thank you for uploading your work to CPAN.  Congratulations!
All tests were successful.

Sections of this report:

    * Tester comments
    * Program output
    * Prerequisites
    * Environment and other context

------------------------------
TESTER COMMENTS
------------------------------

Additional comments from tester:

this report is from an automated smoke testing program
and was not reviewed by a human for accuracy

------------------------------
PROGRAM OUTPUT
------------------------------

Output from '/usr/bin/make test':

PERL_DL_NONLAZY=1 "/home/sand/src/perl/repoperls/installed-perls/perl/v5.16.3/a2da/bin/perl" "-MExtUtils::Command::MM" "-MTest::Harness" "-e" "undef *Test::Harness::Switches; test_harness(0, 'blib/lib', 'blib/arch')" t/*.t
t/00-check-deps.t ............. ok
t/00-compile.t ................ ok
# 
# 
# Generated by Dist::Zilla::Plugin::ReportVersions::Tiny v1.10
# perl: 5.016003 (wanted 5.010001) on linux from /home/sand/src/perl/repoperls/installed-perls/perl/v5.16.3/a2da/bin/perl
# 
# ExtUtils::MakeMaker                           => 7.051      (want 6.48)   
# File::Spec                                    => 3.47       (want any version)
# Future                                        => 0.30       (want 0.30)   
# IO::Handle                                    => 1.33       (want any version)
# IPC::Open3                                    => 1.12       (want any version)
# JSON::MaybeXS                                 => 1.003003   (want any version)
# Log::Any                                      => 1.03       (want any version)
# Test::CheckDeps                               => 0.010      (want 0.010)  
# Test::Fatal                                   => 0.014      (want 0.010)  
# Test::More                                    => 1.001014   (want 0.98)   
# Time::Moment                                  => 0.21       (want any version)
# WebService::Async::UserAgent                  => 0.001      (want 0.001)  
# curry                                         => 1          (want any version)
# parent                                        => 0.228      (want any version)
# 
# Thanks for using my code.  I hope it works for you.
# If not, please try and include this output in the bug report.
# That will help me reproduce the issue and solve your problem.
# 
t/000-report-versions-tiny.t .. ok
All tests successful.
Files=3, Tests=19,  1 wallclock secs ( 0.03 usr  0.00 sys +  0.46 cusr  0.05 csys =  0.54 CPU)
Result: PASS

------------------------------
PREREQUISITES
------------------------------

Prerequisite modules loaded:

requires:

    Module                       Need     Have    
    ---------------------------- -------- --------
    curry                        0        1.000000
    Future                       0.30     0.30    
    JSON::MaybeXS                0        1.003003
    Log::Any                     0        1.03    
    parent                       0        0.228   
    perl                         5.010001 5.016003
    Time::Moment                 0        0.21    
    WebService::Async::UserAgent 0.001    0.001   

build_requires:

    Module                       Need     Have    
    ---------------------------- -------- --------
    ExtUtils::MakeMaker          0        7.05_10 
    File::Spec                   0        3.47    
    IO::Handle                   0        1.33    
    IPC::Open3                   0        1.12    
    Test::CheckDeps              0.010    0.010   
    Test::Fatal                  0.010    0.014   
    Test::More                   0.98     1.001014

configure_requires:

    Module                       Need     Have    
    ---------------------------- -------- --------
    ExtUtils::MakeMaker          6.48     7.05_10 


------------------------------
ENVIRONMENT AND OTHER CONTEXT
------------------------------

Environment variables:

    AUTOMATED_TESTING = 1
    LANG = en_US.UTF-8
    LANGUAGE = en_US:en
    PATH = /home/sand/bin:/usr/local/bin:/usr/bin:/bin:/usr/games:/usr/local/perl/bin:/usr/X11/bin:/sbin:/usr/sbin
    PERL5LIB = 
    PERL5OPT = 
    PERL5_CPANPLUS_IS_RUNNING = 7227
    PERL5_CPAN_IS_RUNNING = 7227
    PERL_MM_USE_DEFAULT = 1
    SHELL = /usr/bin/zsh
    TERM = screen

Perl special variables (and OS-specific diagnostics, for MSWin32):

    $^X = /home/sand/src/perl/repoperls/installed-perls/perl/v5.16.3/a2da/bin/perl
    $UID/$EUID = 1005 / 1005
    $GID = 1005 1005
    $EGID = 1005 1005

Perl module toolchain versions installed:

    Module              Have    
    ------------------- --------
    CPAN                2.05    
    CPAN::Meta          2.143240
    Cwd                 3.47    
    ExtUtils::CBuilder  0.280220
    ExtUtils::Command   7.05_10 
    ExtUtils::Install   1.58    
    ExtUtils::MakeMaker 7.05_10 
    ExtUtils::Manifest  1.70    
    ExtUtils::ParseXS   3.24    
    File::Spec          3.47    
    JSON                2.90    
    JSON::PP            2.27203 
    Module::Build       0.4211  
    Module::Signature   0.73    
    Parse::CPAN::Meta   1.4414  
    Test::Harness       3.35    
    Test::More          1.001014
    YAML                1.14    
    YAML::Syck          1.29    
    version             0.9912  


--

Summary of my perl5 (revision 5 version 16 subversion 3) configuration:
  Commit id: fd04d42d38f4751b981eb6e9213ee1ab8ef11ea6
  Platform:
    osname=linux, osvers=3.16.0-4-amd64, archname=x86_64-linux-thread-multi-ld
    uname='linux k83 3.16.0-4-amd64 #1 smp debian 3.16.7-ckt2-1 (2014-12-08) x86_64 gnulinux '
    config_args='-Dprefix=/home/sand/src/perl/repoperls/installed-perls/perl/v5.16.3/a2da -Dmyhostname=k83 -Dinstallusrbinperl=n -Uversiononly -Dusedevel -des -Ui_db -Duseithreads -Duselongdouble -DDEBUGGING=-g'
    hint=recommended, useposix=true, d_sigaction=define
    useithreads=define, usemultiplicity=define
    useperlio=define, d_sfio=undef, uselargefiles=define, usesocks=undef
    use64bitint=define, use64bitall=define, uselongdouble=define
    usemymalloc=n, bincompat5005=undef
  Compiler:
    cc='cc', ccflags ='-D_REENTRANT -D_GNU_SOURCE -fno-strict-aliasing -pipe -fstack-protector -I/usr/local/include -D_LARGEFILE_SOURCE -D_FILE_OFFSET_BITS=64',
    optimize='-O2 -g',
    cppflags='-D_REENTRANT -D_GNU_SOURCE -fno-strict-aliasing -pipe -fstack-protector -I/usr/local/include'
    ccversion='', gccversion='4.9.2', gccosandvers=''
    intsize=4, longsize=8, ptrsize=8, doublesize=8, byteorder=12345678
    d_longlong=define, longlongsize=8, d_longdbl=define, longdblsize=16
    ivtype='long', ivsize=8, nvtype='long double', nvsize=16, Off_t='off_t', lseeksize=8
    alignbytes=16, prototype=define
  Linker and Libraries:
    ld='cc', ldflags =' -fstack-protector -L/usr/local/lib'
    libpth=/usr/local/lib /lib/x86_64-linux-gnu /lib/../lib /usr/lib/x86_64-linux-gnu /usr/lib/../lib /lib /usr/lib
    libs=-lnsl -lgdbm -ldb -ldl -lm -lcrypt -lutil -lpthread -lc -lgdbm_compat
    perllibs=-lnsl -ldl -lm -lcrypt -lutil -lpthread -lc
    libc=, so=so, useshrplib=false, libperl=libperl.a
    gnulibc_version='2.19'
  Dynamic Linking:
    dlsrc=dl_dlopen.xs, dlext=so, d_dlsymun=undef, ccdlflags='-Wl,-E'
    cccdlflags='-fPIC', lddlflags='-shared -O2 -g -L/usr/local/lib -fstack-protector'


Characteristics of this binary (from libperl): 
  Compile-time options: HAS_TIMES MULTIPLICITY PERLIO_LAYERS
                        PERL_DONT_CREATE_GVSV PERL_IMPLICIT_CONTEXT
                        PERL_MALLOC_WRAP PERL_PRESERVE_IVUV PERL_USE_DEVEL
                        USE_64_BIT_ALL USE_64_BIT_INT USE_ITHREADS
                        USE_LARGE_FILES USE_LOCALE USE_LOCALE_COLLATE
                        USE_LOCALE_CTYPE USE_LOCALE_NUMERIC USE_LONG_DOUBLE
                        USE_PERLIO USE_PERL_ATOF USE_REENTRANT_API
  Built under linux
  Compiled at Jan 10 2015 09:23:23
  %ENV:
    PERL5LIB=""
    PERL5OPT=""
    PERL5_CPANPLUS_IS_RUNNING="7227"
    PERL5_CPAN_IS_RUNNING="7227"
    PERL_MM_USE_DEFAULT="1"
  @INC:
    /home/sand/src/perl/repoperls/installed-perls/perl/v5.16.3/a2da/lib/site_perl/5.16.3/x86_64-linux-thread-multi-ld
    /home/sand/src/perl/repoperls/installed-perls/perl/v5.16.3/a2da/lib/site_perl/5.16.3
    /home/sand/src/perl/repoperls/installed-perls/perl/v5.16.3/a2da/lib/5.16.3/x86_64-linux-thread-multi-ld
    /home/sand/src/perl/repoperls/installed-perls/perl/v5.16.3/a2da/lib/5.16.3
    .