Report for WWW-Slides-0.0.9

Back
From: metabase:user:d2c9f356-b46f-11df-9a90-20a83c0b7757
Subject: PASS WWW-Slides-0.0.9 v5.15.4 SunOS/Solaris
Date: 2011-11-19T11:31:47Z

This distribution has been tested as part of the CPAN Testers
project, supporting the Perl programming language.  See
http://wiki.cpantesters.org/ for more information or email
questions to cpan-testers-discuss@perl.org


--
Dear Flavio Poletti,

This is a computer-generated report for WWW-Slides-0.0.9
on perl 5.15.4, created by CPAN-Reporter-1.2002.

Thank you for uploading your work to CPAN.  Congratulations!
All tests were successful.

Sections of this report:

    * Tester comments
    * Program output
    * Prerequisites
    * Environment and other context

------------------------------
TESTER COMMENTS
------------------------------

Additional comments from tester:

this report is from an automated smoke testing program
and was not reviewed by a human for accuracy

------------------------------
PROGRAM OUTPUT
------------------------------

Output from './Build test':

# Testing inclusions
# Loading WWW::Slides 0.0.8
# Loading WWW::Slides::Talk 0.0.5
# Loading WWW::Slides::Attendee 0.0.4
# Loading WWW::Slides::SlideShow 0.0.7
# Loading WWW::Slides::SlideTracker 0.0.3
# Loading WWW::Slides::BasicLogger 0.0.5
# Loading WWW::Slides::Controller::UDP 0.0.9
# Loading WWW::Slides::Controller::TCP 0.0.9
# Loading WWW::Slides::Controller::STDIO 0.0.9
# Loading WWW::Slides::Controller::Multiple 0.0.9
# Loading WWW::Slides::Controller::Single 0.0.9
# Loading WWW::Slides::Client::TCP 0.0.3
# Loading WWW::Slides::Client::Base 0.0.5
t/00.load.t ............................. ok
t/pod.t ................................. ok
# Testing WWW::Slides::Attendee 0.0.4
t/Attendee/00.load.t .................... ok
t/Attendee/01.create.t .................. ok
t/Attendee/02.transition.t .............. ok
t/Attendee/03.ping.t .................... ok
t/Attendee/04.handle_input.t ............ ok
# Testing WWW::Slides::BasicLogger 0.0.5
t/BasicLogger/00.load.t ................. ok
t/BasicLogger/01.create.t ............... ok
t/BasicLogger/02.default.t .............. ok
t/BasicLogger/03.stdout.t ............... ok
t/BasicLogger/04.fake.t ................. ok
# Testing WWW::Slides::Client::Base 0.0.5
t/Client/00.load.t ...................... ok
t/Client/01.create.t .................... ok
t/Client/02.traffic.t ................... ok
t/Client/03.get_commands.t .............. ok
# Testing WWW::Slides::Client::TCP 0.0.3
t/Client/50.load-TCP.t .................. ok
t/Client/51.create.t .................... ok
t/Client/52.traffic.t ................... ok
# Testing WWW::Slides::Controller 0.0.9
t/Controller/000.load.t ................. ok
t/Controller/001.create.t ............... ok
t/Controller/002.balks.t ................ ok
t/Controller/003.tolerates.t ............ ok
t/Controller/004.execute.t .............. ok
# Testing WWW::Slides::Controller::Single 0.0.9
t/Controller/050.Single.load.t .......... ok
t/Controller/051.Single.create.t ........ ok
t/Controller/052.Single.selector.t ...... ok
t/Controller/053.Single.is_alive.t ...... ok
t/Controller/054.Single.owns.t .......... ok
t/Controller/055.Single.output.t ........ ok
t/Controller/056.Single.shut_down.t ..... ok
t/Controller/057.Single.execute.t ....... ok
# Testing WWW::Slides::Controller::Multiple 0.0.9
t/Controller/100.Multiple.load.t ........ ok
t/Controller/101.Multiple.create.t ...... ok
t/Controller/102.Multiple.add-remove.t .. ok
t/Controller/103.Multiple.owns.t ........ ok
t/Controller/104.Multiple.execute.t ..... ok
# Testing WWW::Slides::Controller::STDIO 0.0.9
t/Controller/200.STDIO.load.t ........... ok
t/Controller/201.STDIO.create.t ......... ok
# Testing WWW::Slides::Controller::TCP 0.0.9
t/Controller/300.TCP.load.t ............. ok
t/Controller/301.TCP.create.t ........... ok
t/Controller/302.TCP.owns.t ............. ok
t/Controller/303.TCP.selector.t ......... ok
t/Controller/304.TCP.execute.t .......... ok
# Testing WWW::Slides::Controller::UDP 0.0.9
t/Controller/400.UDP.load.t ............. ok
t/Controller/401.UDP.create.t ........... ok
# Testing WWW::Slides::SlideShow 0.0.7
t/SlideShow/00.load.t ................... ok
t/SlideShow/01.can.t .................... ok
t/SlideShow/02.read.t ................... ok
t/SlideShow/03.getstuff.t ............... ok
t/SlideShow/04.movement.t ............... ok
# Testing WWW::Slides::SlideTracker 0.0.3
t/SlideTracker/00.load.t ................ ok
t/SlideTracker/01.create.t .............. ok
t/SlideTracker/02.transition.t .......... ok
All tests successful.
Files=54, Tests=582, 10 wallclock secs ( 0.28 usr  0.12 sys +  5.53 cusr  0.80 csys =  6.73 CPU)
Result: PASS

------------------------------
PREREQUISITES
------------------------------

Prerequisite modules loaded:

requires:

    Module            Need Have      
    ----------------- ---- ----------
    Carp              0    1.23      
    Digest::MD5       0    2.51      
    English           0    1.04      
    File::Basename    0    2.83      
    HTTP::Response    0    6.01      
    IO::Handle        0    1.33      
    IO::Select        0    1.20      
    IO::Socket        0    1.33      
    Object::InsideOut 0    3.84      
    Socket            0    1.94_01   
    Test::Exception   0    0.31      
    Test::MockObject  0    1.20110612
    Test::More        0    0.98      
    Test::Output      0    1.01      
    version           0    0.95      


------------------------------
ENVIRONMENT AND OTHER CONTEXT
------------------------------

Environment variables:

    AUTOMATED_TESTING = 1
    LANG = C
    LD_LIBRARY_PATH = /usr/local/lib:
    PATH = /export/home/cpant4/perl5/bin:/usr/local/bin:/usr/bin
    PERL5LIB = /export/home/cpant4/.cpan/build/Object-InsideOut-3.84-L23OL9/blib/arch:/export/home/cpant4/.cpan/build/Object-InsideOut-3.84-L23OL9/blib/lib:/export/home/cpant4/.cpan/build/Test-Output-1.01-MowN_E/blib/arch:/export/home/cpant4/.cpan/build/Test-Output-1.01-MowN_E/blib/lib:/export/home/cpant4/.cpan/build/Test-MockObject-1.20110612-uS7zyt/blib/arch:/export/home/cpant4/.cpan/build/Test-MockObject-1.20110612-uS7zyt/blib/lib:/export/home/cpant4/.cpan/build/UNIVERSAL-can-1.20110617-0xEa5b/blib/arch:/export/home/cpant4/.cpan/build/UNIVERSAL-can-1.20110617-0xEa5b/blib/lib:/export/home/cpant4/.cpan/build/UNIVERSAL-isa-1.20110614-zjgGrw/blib/arch:/export/home/cpant4/.cpan/build/UNIVERSAL-isa-1.20110614-zjgGrw/blib/lib
    PERL5OPT = 
    PERL5_CPANPLUS_IS_RUNNING = 21856
    PERL5_CPAN_IS_RUNNING = 21856
    PERL5_CPAN_IS_RUNNING_IN_RECURSION = 28098,21856
    PERL_CR_SMOKER_CURRENT = WWW-Slides-0.0.9
    PERL_EXTUTILS_AUTOINSTALL = --defaultdeps
    PERL_MM_USE_DEFAULT = 1
    SHELL = /bin/bash
    TERM = xterm

Perl special variables (and OS-specific diagnostics, for MSWin32):

    $^X = /export/home/cpant4/perl5/bin/perl5.15.4
    $UID/$EUID = 104 / 104
    $GID = 1 1
    $EGID = 1 1

Perl module toolchain versions installed:

    Module              Have    
    ------------------- --------
    CPAN                1.9800  
    CPAN::Meta          2.112621
    Cwd                 3.37    
    ExtUtils::CBuilder  0.280204
    ExtUtils::Command   1.17    
    ExtUtils::Install   1.57    
    ExtUtils::MakeMaker 6.62    
    ExtUtils::Manifest  1.60    
    ExtUtils::ParseXS   3.05    
    File::Spec          3.34    
    JSON                2.53    
    JSON::PP            2.27200 
    Module::Build       0.39_01 
    Module::Signature   n/a     
    Parse::CPAN::Meta   1.4401  
    Test::Harness       3.23    
    Test::More          0.98    
    YAML                0.77    
    YAML::Syck          n/a     
    version             0.95    


--

Summary of my perl5 (revision 5 version 15 subversion 4) configuration:
   
  Platform:
    osname=solaris, osvers=2.10, archname=i86pc-solaris-64int
    uname='sunos vmrz0046 5.10 generic_141445-09 i86pc i386 i86pc solaris '
    config_args='-Dcc=gcc -Dprefix=~/perl5 -Duse64bitint -Dusedevel -d'
    hint=recommended, useposix=true, d_sigaction=define
    useithreads=undef, usemultiplicity=undef
    useperlio=define, d_sfio=undef, uselargefiles=define, usesocks=undef
    use64bitint=define, use64bitall=undef, uselongdouble=undef
    usemymalloc=n, bincompat5005=undef
  Compiler:
    cc='gcc', ccflags ='-DPTR_IS_LONG -fno-strict-aliasing -pipe -I/usr/local/include -D_LARGEFILE_SOURCE -D_FILE_OFFSET_BITS=64 -DPERL_USE_SAFE_PUTENV',
    optimize='-O',
    cppflags='-DPTR_IS_LONG -fno-strict-aliasing -pipe -I/usr/local/include'
    ccversion='', gccversion='3.4.6', gccosandvers='solaris2.10'
    intsize=4, longsize=4, ptrsize=4, doublesize=8, byteorder=12345678
    d_longlong=define, longlongsize=8, d_longdbl=define, longdblsize=12
    ivtype='long long', ivsize=8, nvtype='double', nvsize=8, Off_t='off_t', lseeksize=8
    alignbytes=4, prototype=define
  Linker and Libraries:
    ld='gcc', ldflags =' -L/usr/local/lib '
    libpth=/usr/local/lib /usr/lib /usr/ccs/lib
    libs=-lsocket -lnsl -lgdbm -ldl -lm -lc
    perllibs=-lsocket -lnsl -ldl -lm -lc
    libc=/lib/libc.so, so=so, useshrplib=false, libperl=libperl.a
    gnulibc_version=''
  Dynamic Linking:
    dlsrc=dl_dlopen.xs, dlext=so, d_dlsymun=undef, ccdlflags=' '
    cccdlflags='-fPIC', lddlflags='-G -L/usr/local/lib'


Characteristics of this binary (from libperl): 
  Compile-time options: HAS_TIMES PERLIO_LAYERS PERL_DONT_CREATE_GVSV
                        PERL_MALLOC_WRAP PERL_PRESERVE_IVUV PERL_USE_DEVEL
                        PERL_USE_SAFE_PUTENV USE_64_BIT_INT USE_LARGE_FILES
                        USE_LOCALE USE_LOCALE_COLLATE USE_LOCALE_CTYPE
                        USE_LOCALE_NUMERIC USE_PERLIO USE_PERL_ATOF
  Built under solaris
  Compiled at Oct 24 2011 11:26:38
  %ENV:
    PERL5LIB="/export/home/cpant4/.cpan/build/Object-InsideOut-3.84-L23OL9/blib/arch:/export/home/cpant4/.cpan/build/Object-InsideOut-3.84-L23OL9/blib/lib:/export/home/cpant4/.cpan/build/Test-Output-1.01-MowN_E/blib/arch:/export/home/cpant4/.cpan/build/Test-Output-1.01-MowN_E/blib/lib:/export/home/cpant4/.cpan/build/Test-MockObject-1.20110612-uS7zyt/blib/arch:/export/home/cpant4/.cpan/build/Test-MockObject-1.20110612-uS7zyt/blib/lib:/export/home/cpant4/.cpan/build/UNIVERSAL-can-1.20110617-0xEa5b/blib/arch:/export/home/cpant4/.cpan/build/UNIVERSAL-can-1.20110617-0xEa5b/blib/lib:/export/home/cpant4/.cpan/build/UNIVERSAL-isa-1.20110614-zjgGrw/blib/arch:/export/home/cpant4/.cpan/build/UNIVERSAL-isa-1.20110614-zjgGrw/blib/lib"
    PERL5OPT=""
    PERL5_CPANPLUS_IS_RUNNING="21856"
    PERL5_CPAN_IS_RUNNING="21856"
    PERL5_CPAN_IS_RUNNING_IN_RECURSION="28098,21856"
    PERL_CR_SMOKER_CURRENT="WWW-Slides-0.0.9"
    PERL_EXTUTILS_AUTOINSTALL="--defaultdeps"
    PERL_MM_USE_DEFAULT="1"
  @INC:
    /export/home/cpant4/.cpan/build/Object-InsideOut-3.84-L23OL9/blib/arch
    /export/home/cpant4/.cpan/build/Object-InsideOut-3.84-L23OL9/blib/lib
    /export/home/cpant4/.cpan/build/Test-Output-1.01-MowN_E/blib/arch
    /export/home/cpant4/.cpan/build/Test-Output-1.01-MowN_E/blib/lib
    /export/home/cpant4/.cpan/build/Test-MockObject-1.20110612-uS7zyt/blib/arch
    /export/home/cpant4/.cpan/build/Test-MockObject-1.20110612-uS7zyt/blib/lib
    /export/home/cpant4/.cpan/build/UNIVERSAL-can-1.20110617-0xEa5b/blib/arch
    /export/home/cpant4/.cpan/build/UNIVERSAL-can-1.20110617-0xEa5b/blib/lib
    /export/home/cpant4/.cpan/build/UNIVERSAL-isa-1.20110614-zjgGrw/blib/arch
    /export/home/cpant4/.cpan/build/UNIVERSAL-isa-1.20110614-zjgGrw/blib/lib
    /export/home/cpant4/perl5/lib/site_perl/5.15.4/i86pc-solaris-64int
    /export/home/cpant4/perl5/lib/site_perl/5.15.4
    /export/home/cpant4/perl5/lib/5.15.4/i86pc-solaris-64int
    /export/home/cpant4/perl5/lib/5.15.4
    /export/home/cpant4/perl5/lib/site_perl
    .