Unicode-Collate v1.31 Perl 5 v5.14.1 x86_64-linux

Status
Pass
From
Andreas J. König (ANDK)
Dist
Unicode-Collate v1.31
Platform
Perl 5 v5.14.1 x86_64-linux
Date
2025-04-21 23:33:44
ID
10f623a2-1f09-11f0-a312-e079adf0a5d6
This distribution has been tested as part of the CPAN Testers
project, supporting the Perl programming language.  See
http://wiki.cpantesters.org/ for more information or email
questions to cpan-testers-discuss@perl.org


--
Dear SADAHIRO Tomoyuki,

This is a computer-generated report for Unicode-Collate-1.31
on perl 5.14.1, created by CPAN-Reporter-1.2019.

Thank you for uploading your work to CPAN.  Congratulations!
All tests were successful.

Sections of this report:

    * Tester comments
    * Program output
    * Prerequisites
    * Environment and other context

------------------------------
TESTER COMMENTS
------------------------------

Additional comments from tester:

this report is from an automated smoke testing program
and was not reviewed by a human for accuracy

------------------------------
PROGRAM OUTPUT
------------------------------

Output from '/usr/bin/make test':

"/home/sand/src/perl/repoperls/installed-perls/host/k93msid/v5.14.1/bb7f/bin/perl" -MExtUtils::Command::MM -e 'cp_nonempty' -- Collate.bs blib/arch/auto/Unicode/Collate/Collate.bs 644
PERL_DL_NONLAZY=1 "/home/sand/src/perl/repoperls/installed-perls/host/k93msid/v5.14.1/bb7f/bin/perl" "-MExtUtils::Command::MM" "-MTest::Harness" "-e" "undef *Test::Harness::Switches; test_harness(0, 'blib/lib', 'blib/arch')" t/*.t
t/altern.t .... ok
t/backwds.t ... ok
t/cjk_b5.t .... ok
t/cjk_gb.t .... ok
t/cjk_ja.t .... ok
t/cjk_ko.t .... ok
t/cjk_py.t .... ok
t/cjk_st.t .... ok
t/cjk_zy.t .... ok
t/cjkrange.t .. ok
t/compatui.t .. ok
t/contract.t .. ok
t/default.t ... ok
t/hangtype.t .. ok
t/hangul.t .... ok
t/ident.t ..... ok
t/iglevel2.t .. ok
t/ignor.t ..... ok
t/illegal.t ... ok
t/illegalp.t .. ok
t/index.t ..... ok
t/khitan.t .... ok
t/loc_af.t .... ok
t/loc_ar.t .... ok
t/loc_as.t .... ok
t/loc_az.t .... ok
t/loc_be.t .... ok
t/loc_bg.t .... ok
t/loc_bn.t .... ok
t/loc_bs.t .... ok
t/loc_bscy.t .. ok
t/loc_ca.t .... ok
t/loc_cjk.t ... ok
t/loc_cjkc.t .. ok
t/loc_cs.t .... ok
t/loc_cu.t .... ok
t/loc_cy.t .... ok
t/loc_cyrl.t .. ok
t/loc_da.t .... ok
t/loc_de.t .... ok
t/loc_deat.t .. ok
t/loc_deph.t .. ok
t/loc_dsb.t ... ok
t/loc_ee.t .... ok
t/loc_eo.t .... ok
t/loc_es.t .... ok
t/loc_estr.t .. ok
t/loc_et.t .... ok
t/loc_fa.t .... ok
t/loc_fi.t .... ok
t/loc_fil.t ... ok
t/loc_fiph.t .. ok
t/loc_fo.t .... ok
t/loc_fr.t .... ok
t/loc_frca.t .. ok
t/loc_gu.t .... ok
t/loc_ha.t .... ok
t/loc_haw.t ... ok
t/loc_he.t .... ok
t/loc_hi.t .... ok
t/loc_hr.t .... ok
t/loc_hu.t .... ok
t/loc_hy.t .... ok
t/loc_ig.t .... ok
t/loc_is.t .... ok
t/loc_ja.t .... ok
t/loc_jait.t .. ok
t/loc_japr.t .. ok
t/loc_kk.t .... ok
t/loc_kl.t .... ok
t/loc_kn.t .... ok
t/loc_ko.t .... ok
t/loc_kok.t ... ok
t/loc_lkt.t ... ok
t/loc_ln.t .... ok
t/loc_lt.t .... ok
t/loc_lv.t .... ok
t/loc_mk.t .... ok
t/loc_ml.t .... ok
t/loc_mncy.t .. ok
t/loc_mr.t .... ok
t/loc_mt.t .... ok
t/loc_nb.t .... ok
t/loc_nn.t .... ok
t/loc_nso.t ... ok
t/loc_om.t .... ok
t/loc_or.t .... ok
t/loc_pa.t .... ok
t/loc_pl.t .... ok
t/loc_ro.t .... ok
t/loc_ru.t .... ok
t/loc_sa.t .... ok
t/loc_se.t .... ok
t/loc_si.t .... ok
t/loc_sidt.t .. ok
t/loc_sk.t .... ok
t/loc_sl.t .... ok
t/loc_sq.t .... ok
t/loc_sr.t .... ok
t/loc_srla.t .. ok
t/loc_sv.t .... ok
t/loc_svrf.t .. ok
t/loc_sw.t .... ok
t/loc_ta.t .... ok
t/loc_te.t .... ok
t/loc_test.t .. ok
t/loc_th.t .... ok
t/loc_tn.t .... ok
t/loc_to.t .... ok
t/loc_tr.t .... ok
t/loc_ugcy.t .. ok
t/loc_uk.t .... ok
t/loc_ur.t .... ok
t/loc_vi.t .... ok
t/loc_vo.t .... ok
t/loc_wae.t ... ok
t/loc_wo.t .... ok
t/loc_yo.t .... ok
t/loc_zh.t .... ok
t/loc_zhb5.t .. ok
t/loc_zhgb.t .. ok
t/loc_zhpy.t .. ok
t/loc_zhst.t .. ok
t/loc_zhzy.t .. ok
t/nonchar.t ... ok
t/normal.t .... ok
t/notable.t ... ok
t/nushu.t ..... ok
t/overcjk0.t .. ok
t/overcjk1.t .. ok
t/override.t .. ok
t/rearrang.t .. ok
t/rewrite.t ... ok
t/tangut.t .... ok
t/test.t ...... ok
t/trailwt.t ... ok
t/variable.t .. ok
t/version.t ... ok
t/view.t ...... ok
All tests successful.
Files=139, Tests=31005, 20 wallclock secs ( 2.12 usr  0.86 sys +  8.64 cusr  3.17 csys = 14.79 CPU)
Result: PASS

------------------------------
PREREQUISITES
------------------------------

Prerequisite modules loaded:

requires:

    Module              Need Have
    ------------------- ---- ----
    Carp                0    1.50
    constant            0    1.33
    File::Spec          0    3.75
    strict              0    1.04
    warnings            0    1.12
    XSLoader            0    0.24

build_requires:

    Module              Need Have
    ------------------- ---- ----
    ExtUtils::MakeMaker 0    7.70

configure_requires:

    Module              Need Have
    ------------------- ---- ----
    ExtUtils::MakeMaker 0    7.70


------------------------------
ENVIRONMENT AND OTHER CONTEXT
------------------------------

Environment variables:

    AUTOMATED_TESTING = 1
    LANG = en_US.UTF-8
    LANGUAGE = en_US:en
    PATH = /home/sand/bin:/usr/local/bin:/usr/bin:/bin:/usr/games:/usr/local/perl/bin:/usr/X11/bin:/sbin:/usr/sbin
    PERL5LIB = 
    PERL5OPT = 
    PERL5_CPANPLUS_IS_RUNNING = 12482
    PERL5_CPAN_IS_RUNNING = 12482
    PERL_CANARY_STABILITY_NOPROMPT = 1
    PERL_MM_USE_DEFAULT = 1
    PERL_USE_UNSAFE_INC = 1
    SHELL = /usr/bin/zsh
    TERM = screen

Perl special variables (and OS-specific diagnostics, for MSWin32):

    $^X = /home/sand/src/perl/repoperls/installed-perls/host/k93msid/v5.14.1/bb7f/bin/perl
    $UID/$EUID = 1005 / 1005
    $GID = 1005 1005
    $EGID = 1005 1005

Perl module toolchain versions installed:

    Module              Have    
    ------------------- --------
    CPAN                2.38    
    CPAN::Meta          2.150010
    Cwd                 3.75    
    ExtUtils::CBuilder  0.280236
    ExtUtils::Command   7.70    
    ExtUtils::Install   2.22    
    ExtUtils::MakeMaker 7.70    
    ExtUtils::Manifest  1.75    
    ExtUtils::ParseXS   3.51    
    File::Spec          3.75    
    JSON                4.10    
    JSON::PP            4.16    
    Module::Build       0.4234  
    Module::Signature   0.88    
    Parse::CPAN::Meta   2.150010
    Test2               1.302210
    Test::Harness       3.48    
    Test::More          1.302210
    YAML                1.30    
    YAML::Syck          1.34    
    version             0.9933  


--

Summary of my perl5 (revision 5 version 14 subversion 1) configuration:
  Derived from: cc92ef02098c000d945bcf93c92bdb2a0a05fa97
  Platform:
    osname=linux, osvers=6.1.0-7-amd64, archname=x86_64-linux
    uname='linux k93msid 6.1.0-7-amd64 #1 smp preempt_dynamic debian 6.1.20-1 (2023-03-19) x86_64 gnulinux '
    config_args='-Dprefix=/home/sand/src/perl/repoperls/installed-perls/host/k93msid/v5.14.1/bb7f -Dmyhostname=k93msid -Dinstallusrbinperl=n -Uversiononly -Dusedevel -des -Ui_db -Dlibswanted=cl pthread socket inet nsl gdbm dbm malloc dl ld sun m crypt sec util c cposix posix ucb BSD gdbm_compat -Uuseithreads -Uuselongdouble -DEBUGGING=both'
    hint=recommended, useposix=true, d_sigaction=define
    useithreads=undef, usemultiplicity=undef
    useperlio=define, d_sfio=undef, uselargefiles=define, usesocks=undef
    use64bitint=define, use64bitall=define, uselongdouble=undef
    usemymalloc=n, bincompat5005=undef
  Compiler:
    cc='cc', ccflags ='-fwrapv -DDEBUGGING -fno-strict-aliasing -pipe -fstack-protector -I/usr/local/include -D_LARGEFILE_SOURCE -D_FILE_OFFSET_BITS=64',
    optimize='-O2 -g',
    cppflags='-fwrapv -DDEBUGGING -fno-strict-aliasing -pipe -fstack-protector -I/usr/local/include'
    ccversion='', gccversion='12.2.0', gccosandvers=''
    intsize=4, longsize=8, ptrsize=8, doublesize=8, byteorder=12345678
    d_longlong=define, longlongsize=8, d_longdbl=define, longdblsize=16
    ivtype='long', ivsize=8, nvtype='double', nvsize=8, Off_t='off_t', lseeksize=8
    alignbytes=8, prototype=define
  Linker and Libraries:
    ld='cc', ldflags =' -fstack-protector -L/usr/local/lib'
    libpth=/usr/local/lib /lib/x86_64-linux-gnu /lib/../lib /usr/lib/x86_64-linux-gnu /usr/lib/../lib /lib /usr/lib /lib64 /usr/lib64
    libs=-lpthread -lnsl -ldl -lm -lcrypt -lutil -lc
    perllibs=-lpthread -lnsl -ldl -lm -lcrypt -lutil -lc
    libc=/lib/x86_64-linux-gnu/libc.so.6, so=so, useshrplib=false, libperl=libperl.a
    gnulibc_version='2.36'
  Dynamic Linking:
    dlsrc=dl_dlopen.xs, dlext=so, d_dlsymun=undef, ccdlflags='-Wl,-E'
    cccdlflags='-fPIC', lddlflags='-shared -O2 -g -L/usr/local/lib -fstack-protector'


Characteristics of this binary (from libperl): 
  Compile-time options: DEBUGGING PERL_DONT_CREATE_GVSV PERL_MALLOC_WRAP
                        PERL_PRESERVE_IVUV PERL_USE_DEVEL USE_64_BIT_ALL
                        USE_64_BIT_INT USE_LARGE_FILES USE_PERLIO
                        USE_PERL_ATOF
  Locally applied patches:
	uncommitted-changes
  Built under linux
  Compiled at Nov  3 2023 12:10:44
  %ENV:
    PERL5LIB=""
    PERL5OPT=""
    PERL5_CPANPLUS_IS_RUNNING="12482"
    PERL5_CPAN_IS_RUNNING="12482"
    PERL_CANARY_STABILITY_NOPROMPT="1"
    PERL_MM_USE_DEFAULT="1"
    PERL_USE_UNSAFE_INC="1"
  @INC:
    /home/sand/src/perl/repoperls/installed-perls/host/k93msid/v5.14.1/bb7f/lib/site_perl/5.14.1/x86_64-linux
    /home/sand/src/perl/repoperls/installed-perls/host/k93msid/v5.14.1/bb7f/lib/site_perl/5.14.1
    /home/sand/src/perl/repoperls/installed-perls/host/k93msid/v5.14.1/bb7f/lib/5.14.1/x86_64-linux
    /home/sand/src/perl/repoperls/installed-perls/host/k93msid/v5.14.1/bb7f/lib/5.14.1
    .