Back
From: metabase:user:1eed3a18-483e-11e2-a87b-a3931c712682
Subject: PASS Class-MethodMaker-2.18 v5.18.0 RC2 Mac OS X
Date: 2013-05-13T14:33:23Z
This distribution has been tested as part of the CPAN Testers
project, supporting the Perl programming language. See
http://wiki.cpantesters.org/ for more information or email
questions to cpan-testers-discuss@perl.org
--
Class-MethodMaker-2.18 ... PASS
Perl : v5.18.0
System : darwin
Local Versions :
Text::ParseWords : 3.28
Catalyst::Exception :
Test::CheckDeps : 0.002
Module::Build : 0.4005
version : 0.9902
Log::Dispatch::Output : 2.39
IPC::Open2 : 1.04
YAML::XS : 0.41
Devel::FindPerl : 0.006
Test::Deep : 0.110
XML::SAX : 0.99
Test::Requires : 0.06
Test::Most : 0.31
Digest::SHA : 5.84
Scalar::Util : 1.27
LWP::Protocol::https : 6.04
Package::Stash : 0.34
HTTP::Daemon : 6.01
Text::CSV : 1.21
Module::Load : 0.24
Pod::ParseLink : 1.10
URI : 1.60
HTML::Parser : 3.71
File::Slurp : 9999.19
Bash::Completion::Plugin : 0.008
Exception::Class : 1.37
IPC::Run3 : 0.045
Class::Accessor : 0.34
Log::Message : 0.08
Path::Class::Dir : 0.32
Config::INI::Reader : 0.019
autodie : 2.19
LWP : 6.05
Test::Pod : 1.48
ExtUtils::Install : 1.59
App::Cpan : 1.61
HTTP::Server::Simple::CGI : 0
Bash::Completion::Plugins::perlbrew : 0.09
DateTime::Format::Strptime : 1.54
Module::Runtime : 0.013
MooseX::Has::Sugar : 0.05070421
DB_File : 1.827
Devel::LexAlias : 0.05
Algorithm::C3 : 0.08
B::Utils : 0.21
Bash::Completion::Plugins::cpanm : 0.0.2
Perl::Critic : 1.118
URI::Escape : 3.31
PPI::Node : 1.215
Time::HiRes : 1.9725
I18N::LangTags : 0.39
Bash::Completion : 0.008
HTTP::Server::Simple : 0.44
JSON : 2.57
Test::Simple : 0.98
Test::Harness : 3.26
Config::MVP::Assembler::WithBundles : 2.200003
ExtUtils::Manifest : 1.63
Text::SimpleTable : 2.03
overload : 1.22
Catalyst::Runtime : 5.90030
Lingua::EN::FindNumber : 1.2
DBI : 1.625
Config::MVP::Reader::INI : 2.101461
Sys::Hostname : 1.17
Catalyst::Action::RenderView : 0.16
Attribute::Handlers : 0.94
HTML::Entities : 3.69
Sub::Exporter : 0.985
AppConfig : 1.66
JSON::PP : 2.27202
Test::Base : 0.60
ExtUtils::Depends : 0.304
Data::Section : 0.101621
POSIX : 1.32
Moose::Autobox : 0.13
Tie::Handle : 4.2
PPI::Document : 1.215
Sub::Name : 0.05
Pod::Usage : 1.61
Algorithm::Diff : 1.1902
File::Spec::Unix : 3.40
Pod::Elemental::Element::Pod5::Command : 0.102362
MIME::QuotedPrint : 3.13
Pod::Elemental::Transformer::Pod5 : 0.102362
CPAN::Meta::Requirements : 2.122
AnyEvent : 7.04
Tie::Hash : 1.04
Pod::Elemental::Document : 0.102362
MooseX::RelatedClassRoles : 0.004
IO::Uncompress::Gunzip : 2.060
Test::Builder : 0.98
CPANPLUS::Dist::Build : 0.70
Any::Moose : 0.21
Carp::Clan : 6.04
CGI : 3.63
Module::Build::ModuleInfo : 0.4003
Set::Scalar : 1.25
Dist::Zilla::Role::FileMunger : 4.300034
File::Glob : 1.20
Email::Simple : 2.201
Parse::CPAN::Meta : 1.4404
Term::ReadLine : 1.12
Data::Dump : 1.22
Perl::Critic::Violation : 1.118
Net::Curl : 0.28
HTTP::Message : 6.06
Catalyst::Test :
MooseX::Types : 0.35
HTML::TreeBuilder : 5.03
Term::ReadKey : 2.30
IO::Socket::INET : 1.33
Perl::Critic::Utils::PPI : 1.118
Authen::DecHpwd : 2.006
String::Formatter : 0.102082
Benchmark : 1.15
Perl::Critic::Utils : 1.118
File::stat : 1.07
Software::License::Artistic_1_0 : 0.103005
Test::Tester : 0.108
Dist::Zilla::Plugin::PodCoverageTests : 4.300034
bytes : 1.04
Pod::Elemental : 0.102362
ExtUtils::Mkbootstrap : 6.66
CPANPLUS : 0.9136
Dist::Zilla::File::InMemory : 4.300034
File::Find : 1.23
Devel::Cycle : 1.11
Parse::RecDescent : 1.967009
Object::Accessor : 0.46
Getopt::Long : 2.39
if : 0.0602
ok : 0.11
Socket : 2.009
Plack::Middleware :
Catalyst::Plugin::Authentication : 0.10023
IO::String : 1.08
App::Prove : 3.26
Catalyst::Utils :
CPAN::Meta::Prereqs : 2.120921
Class::Inspector : 1.28
Dist::Zilla::Plugin::GatherDir : 4.300034
YAML::Tiny : 1.51
Pod::Elemental::Transformer::Gatherer : 0.102362
ExtUtils::MakeMaker : 6.66
Math::Complex : 1.59
re : 0.23
Dist::Zilla::Role::PrereqSource : 4.300034
Data::OptList : 0.107
DateTime::Locale : 0.45
Class::Accessor::Fast : 0.34
JSON::Any : 1.29
autodie::exception : 2.13
Import::Into : 1.001001
File::Find::Rule : 0.33
Devel::StackTrace : 1.30
Catalyst::ActionRole::ACL : 0.07
HTTP::Date : 6.02
MooseX::Types::Perl : 0.101341
Hash::Util : 0.16
LWP::UserAgent : 6.05
HTTP::Request : 6.00
CPAN::Meta::Validator : 2.120921
Moose : 2.0802
Sub::Identify : 0.04
Pod::Simple::Text : 3.28
Text::Glob : 0.09
IO::Socket : 1.36
YAML::Any : 0.84
Config::MVP : 2.200003
Log::Message::Simple : 0.10
Pod::Elemental::Element::Pod5::Ordinary : 0.102362
ExtUtils::InstallPaths : 0.009
Memoize : 1.03
Pod::Simple::HTML : 3.28
Dist::Zilla::Role::AfterRelease : 4.300034
Lingua::EN::Inflect : 1.895
Class::XSAccessor : 1.16
Data::Float : 0.012
Package::Constants : 0.02
Mouse : 1.11
Scope::Guard : 0.20
DBIx::Class : 0.08250
Archive::Extract : 0.68
MooseX::Types::Path::Class : 0.06
IPC::Open3 : 1.13
File::Path : 2.09
Dist::Zilla::Plugin::MetaResources : 4.300034
open : 1.10
Pod::Text : 3.17
namespace::autoclean : 0.13
Lexical::Persistence : 1.020
File::Compare : 1.1006
Term::UI : 0.34
Plack : 1.0024
ExtUtils::MakeMaker::Config : 6.66
Test::Differences : 0.61
Moose::Util::TypeConstraints : 2.0802
bigint : 0.34
Pod::Elemental::Transformer::Nester : 0.102362
Params::Util : 1.07
File::Copy::Recursive : 0.38
URI::QueryParam :
Catalyst::Component::InstancePerContext : 0.001001
Test::Builder::Tester : 1.22
HTTP::Headers : 6.05
MooseX::Getopt : 0.56
Path::Tiny : 0.020
Term::ANSIColor : 4.02
B::Keywords : 1.13
LWP::Simple : 6.00
Mixin::Linewise::Writers : 0.003
Test::Trap : 0.2.2
HTTP::Request::Common : 6.04
MooseX::Role::Parameterized : 1.00
Digest : 1.17
DynaLoader : 1.18
Filter::Simple : 0.89
Try::Tiny : 0.12
CPAN::Meta : 2.130880
Tie::Scalar : 1.02
IO::Zlib : 1.10
Text::Wrap : 2012.0818
PPI::Token::Quote::Single : 1.215
Storable : 2.41
Test::NoTabs : 1.3
Unicode::Normalize : 1.16
Dist::Zilla::Role::TextTemplate : 4.300034
Capture::Tiny : 0.22
Compress::Zlib : 2.060
Catalyst::ClassData :
App::pmodinfo : 0.10
Tie::Array : 1.05
Sys::Syslog : 0.32
Test::use::ok : 0.11
CPAN::Testers::Report : 1.999001
Text::CSV_XS : 0.97
IPC::Cmd : 0.80
Pod::Elemental::Transformer : 0.102362
Config::MVP::Reader::Finder : 2.200003
DateTime::TimeZone : 1.59
CPAN::Meta::Converter : 2.120921
Env : 1.04
File::Spec::Functions : 3.40
Module::Build::Tiny : 0.019
Package::DeprecationManager : 0.13
App::cpantimes : 1.502101
Sub::Exporter::ForMethods : 0.100050
Module::Signature : 0.70
Devel::InnerPackage : 0.4
Module::Install : 1.06
Params::Check : 0.36
Class::Load : 0.20
HTML::Tree : 5.03
HTML::HeadParser : 3.71
Pod::Find : 1.60
Data::Printer::Filter :
B::Concise : 0.95
Locale::Maketext::Simple : 0.21
Cwd : 3.40
Pod::Simple : 3.28
Dist::Zilla::Role::BeforeRelease : 4.300034
Log::Trace : 1.070
Moo : 1.002000
Glib : 1.280
IO::Handle : 1.34
Pod::Weaver::Role::Finalizer : 3.101638
File::pushd : 1.005
Software::License : 0.103005
lib::abs : 0.92
Email::Simple::Creator : 2.201
Pod::PlainText : 2.06
Task::Weaken : 1.04
File::Temp : 0.23
Test::SharedFork : 0.21
Errno : 1.18
File::Fetch : 0.38
File::Copy : 2.26
Moose::Exporter : 2.0802
Unicode::UCD : 0.51
attributes : 0.21
Sub::Exporter::Util : 0.985
Devel::NYTProf : 5.02
Pod::Elemental::Selectors : 0.102362
Catalyst::Controller :
Perl::OSType : 1.003
WWW::Mechanize : 1.72
Carp::Assert : 0.20
Encode : 2.49
Error : 0.17020
Dist::Zilla::Role::InstallTool : 4.300034
Module::Load::Conditional : 0.54
JSON::XS : 2.33
CatalystX::InjectComponent : 0.025
Pod::Select : 1.60
Text::Abbrev : 1.02
TAP::Harness : 3.26
B : 1.42
Clone : 0.34
App::CLI : 0.313
Config::Any : 0.23
FileHandle : 2.02
String::RewritePrefix : 0.006
Pod::Eventual::Simple : 0.093330
Object::Signature : 1.07
MIME::Types : 1.38
Pod::Elemental::Element::Pod5::Region : 0.102362
File::Which : 1.09
ExtUtils::ParseXS : 3.18
B::Hooks::EndOfScope : 0.12
charnames : 1.36
XSLoader : 0.16
NEXT : 0.65
UNIVERSAL::require : 0.13
Carp : 1.29
Date::Parse : 2.30
Archive::Zip : 1.30
Sub::Quote :
Dist::CheckConflicts : 0.02
PPI::Token::Whitespace : 1.215
Getopt::Long::Descriptive : 0.093
Test::Exception : 0.32
Net::Domain : 2.20
PPI::Dumper : 1.215
App::cpanoutdated : 0.28
Moose::Util : 2.0802
Dist::Zilla::Role::PluginBundle : 4.300034
LWP::Protocol : 6.00
Dist::Zilla::Role::PluginBundle::Easy : 4.300034
Dist::Zilla::Role::FileFinderUser : 4.300034
Dist::Zilla::Role::AfterBuild : 4.300034
Config::Any::YAML :
XML::LibXML : 2.0018
Role::Tiny::With :
Data::Dumper : 2.145
UNIVERSAL::isa : 1.20120726
Class::MOP : 2.0802
File::HomeDir::Test : 1.00
App::Cmd::Tester::CaptureExternal : 0.320
Text::Diff : 1.41
Dist::Zilla::Role::Releaser : 4.300034
Locale::Maketext : 1.23
File::ShareDir : 1.03
Getopt::Std : 1.07
Params::Classify : 0.013
Event : 1.21
Test::Version : 1.002001
Devel::PPPort : 3.20
File::ShareDir::Install : 0.04
Symbol : 1.07
ExtUtils::PkgConfig : 1.14
Test::Warn : 0.24
lib : 0.63
aliased : 0.31
PPI : 1.215
parent : 0.225
CPAN::DistnameInfo : 0.12
Catalyst::Plugin::Session::Store::File : 0.18
B::Deparse : 1.20
Authen::SASL : 2.16
Pod::Parser : 1.60
Moose::Meta::Class : 2.0802
Module::Loaded : 0.08
Dist::Zilla::Role::VersionProvider : 4.300034
Module::CoreList : 2.90
HTTP::Message::PSGI :
Devel::Caller : 2.06
Module::Find : 0.11
HTTP::Request::AsCGI : 1.2
Moose::Meta::Attribute : 2.0802
SelectSaver : 1.02
App::p : 0.0304
Perl::Critic::Policy : 1.118
Test : 1.26
Sys::SigAction : 0.15
Dist::Zilla : 4.300034
warnings : 1.18
Test::DZil : 4.300034
MIME::Base64 : 3.13
ExtUtils::Config : 0.007
String::Flogger : 1.101243
Cache::Cache : 1.06
Plack::Request : 1.0024
Mixin::Linewise::Readers : 0.003
File::Spec : 3.40
Pod::Elemental::Types : 0.102362
MooseX::Emulate::Class::Accessor::Fast : 0.00903
Test::Fatal : 0.010
utf8::all : 0.010
warnings::register : 1.02
B::Lint : 1.17
Digest::SHA1 : 2.13
Devel::Symdump : 2.10
Regexp::Common : 2013031301
Config::MVP::Reader::Findable::ByExtension : 2.200003
App::Cmd::Setup : 0.320
Class::Accessor::Chained::Fast :
Perl6::Junction : 1.50000
ExtUtils::Helpers : 0.021
Module::Pluggable::Object : 4.6
Exporter : 5.68
Catalyst::Model :
FindBin : 1.51
Test::Script : 1.07
ExtUtils::CBuilder : 0.280210
HTML::TokeParser : 3.69
IO::Dir : 1.10
Params::Validate : 1.07
MooseX::MethodAttributes : 0.28
Cairo : 1.103
Bash::Completion::Utils : 0.008
Acme::Damn : 0.05
Software::License::Perl_5 : 0.103005
Archive::Tar : 1.90
Dist::Zilla::Role::FilePruner : 4.300034
locale : 1.02
List::MoreUtils : 0.33
constant : 1.27
Hash::Merge : 0.12
File::Basename : 2.84
integer : 1.00
Array::Diff : 0.07
Moose::Util::MetaRole : 2.0802
Time::Local : 1.2300
URI::file : 4.21
Net::SMTP : 2.31
Math::Trig : 1.23
Throwable::Error : 0.200008
utf8 : 1.10
DBD::SQLite : 1.37
Devel::Peek : 1.11
IO::Scalar : 2.110
Catalyst::Action :
CPAN : 2.00
Moo::Role :
Tie::RefHash : 1.39
Tie::IxHash : 1.23
Cache::FastMmap : 1.40
URI::URL : 5.04
HTTP::Response : 6.04
DateTime : 1.03
namespace::clean : 0.24
Test::More : 0.98
Catalyst : 5.90030
blib : 1.06
Time::Piece : 1.20_01
List::Util : 1.27
Text::Balanced : 2.02
Pod::Coverage : 0.23
PPI::Document::Fragment : 1.215
B::Hooks::OP::Check : 0.19
Compress::Raw::Zlib : 2.060
Devel::GlobalDestruction : 0.11
HTTP::Status : 6.03
File::HomeDir : 1.00
Dist::Zilla::Role::AfterMint : 4.300034
UNIVERSAL : 1.11
Perl::MinimumVersion : 1.32
MRO::Compat : 0.12
Catalyst::Plugin::Session : 0.37
Sub::Uplevel : 0.24
PerlIO : 1.07
Dist::Zilla::Plugin::MetaTests : 4.300034
Data::Dumper::Concise : 2.020
Module::Implementation : 0.06
Sub::Install : 0.926
AutoLoader : 5.73
Data::Printer : 0.35
Pod::Elemental::Element::Nested : 0.102362
Log::Log4perl : 1.41
Test::Moose : 2.0802
Filter::Util::Call : 1.45
Path::Class : 0.32
HTTP::Tiny : 0.025
Test::Output : 1.01
HTML::Tagset : 3.20
CGI::Simple::Cookie : 1.113
File::Find::Rule::Perl : 1.13
Test::NoWarnings : 1.04
OLE::Storage_Lite : 0.19
ExtUtils::Installed : 1.999003
Module::Pluggable : 4.7
Class::Method::Modifiers : 2.04
threads : 1.86
Catalyst::Plugin::Session::State::Cookie : 0.17
Pod::Elemental::Element::Pod5::Verbatim : 0.102362
Data::Visitor : 0.28
IPC::Run : 0.92
IO::File : 1.16
File::chdir : 0.1008
Pod::Weaver : 3.101638
Test::TCP : 1.26
MooseX::Types::Common : 0.001008
YAML : 0.84
AnyEvent::Net::Curl::Queued : 0.045
MooX::Types::MooseLike::Base : 0.23
Apache::LogFormat::Compiler : 0.12
MooX::Types::MooseLike : 0.23
diagnostics : 1.31
File::Remove : 1.52
Module::Metadata : 1.000011
Digest::MD5 : 2.52
Pod::Escapes : 1.04
Text::Patch : 1.8
Carp::Assert::More : 1.14
Package::Stash::XS : 0.26
List::AllUtils : 0.03
Date::Format : 2.24
English : 1.06
IO::Seekable : 1.10
Sub::Exporter::Progressive : 0.001010
Moose::Role : 2.0802
MooseX::Types::Moose : 0.35
Digest::base : 1.16
Archive::Any : 0.0932
Safe : 2.35
App::Cmd::Tester : 0.320
strictures : 1.004004
common::sense : 3.6
Dist::Zilla::Role::FileGatherer : 4.300034
vars : 1.03
PPI::Document::File : 1.215
Class::Data::Inheritable : 0.08
B::Debug : 1.18
base : 2.18
Text::Unidecode : 0.04
Config::MVP::Assembler : 2.200003
PadWalker : 1.96
Perl::PrereqScanner : 1.015
Pod::Simple::Checker : 3.28
CatalystX::Component::Traits : 0.16
Email::Address : 1.898
strict : 1.07
Dist::Zilla::Tester : 4.300034
XML::NamespaceSupport : 1.11
Dist::Zilla::Plugin::PodSyntaxTests : 4.300034
feature : 1.32
Readonly : 1.03
Data::UUID : 1.218
Config::MVP::Reader : 2.200003
DBIx::Class::Schema::Loader : 0.07035
Fcntl : 1.11
Log::Dispatchouli : 2.006
Test::CPAN::Changes : 0.20
Dist::Zilla::Plugin::InlineFiles : 4.300034
Class::XSAccessor::Array : 1.14
CPAN::Meta::YAML : 0.008
Pod::Man : 2.27
Test Output :
PERL_DL_NONLAZY=1 /Users/stas/perl5/perlbrew/perls/perl-5.18.0-RC2/bin/perl "-MExtUtils::Command::MM" "-e" "test_harness(0, 'blib/lib', 'blib/arch')" t/*.t
t/array.t .................. ok
t/basic.t .................. ok
t/diffclass.t .............. ok
t/hash.t ................... ok
t/new.t .................... ok
t/redefine-warnings.t ...... ok
t/scalar.t ................. ok
t/v1_abstract.t ............ ok
t/v1_boolean.t ............. ok
t/v1_code.t ................ ok
t/v1_copy.t ................ ok
t/v1_counter.t ............. ok
t/v1_get_concat.t .......... ok
t/v1_get_set.t ............. ok
t/v1_get_set_hi.t .......... ok
t/v1_hash.t ................ ok
t/v1_key_attrib.t .......... ok
t/v1_key_with_create.t ..... ok
t/v1_list.t ................ ok
t/v1_method.t .............. ok
t/v1_new.t ................. ok
t/v1_new_hash_with_init.t .. ok
t/v1_object.t .............. ok
t/v1_object_list.t ......... ok
t/v1_object_tie_hash.t ..... ok
t/v1_object_tie_list.t ..... ok
t/v1_set_once.t ............ ok
t/v1_set_once_static.t ..... ok
t/v1_singleton.t ........... ok
t/v1_static_get_set.t ...... ok
t/v1_static_hash.t ......... ok
t/v1_static_list.t ......... ok
t/v1_tie_hash.t ............ ok
t/v1_tie_list.t ............ ok
t/v1_tie_scalar.t .......... ok
t/warnings.t ............... ok
All tests successful.
Files=36, Tests=1757, 3 wallclock secs ( 0.30 usr 0.09 sys + 2.12 cusr 0.47 csys = 2.98 CPU)
Result: PASS
--
Summary of my perl5 (revision 5 version 18 subversion 0) configuration:
Platform:
osname=darwin, osvers=12.3.0, archname=darwin-2level
uname='darwin stanislaws-macbook-pro.local 12.3.0 darwin kernel version 12.3.0: sun jan 6 22:37:10 pst 2013; root:xnu-2050.22.13~1release_x86_64 x86_64 '
config_args='-de -Dprefix=/Users/stas/perl5/perlbrew/perls/perl-5.18.0-RC2 -Aeval:scriptdir=/Users/stas/perl5/perlbrew/perls/perl-5.18.0-RC2/bin'
hint=recommended, useposix=true, d_sigaction=define
useithreads=undef, usemultiplicity=undef
useperlio=define, d_sfio=undef, uselargefiles=define, usesocks=undef
use64bitint=define, use64bitall=define, uselongdouble=undef
usemymalloc=n, bincompat5005=undef
Compiler:
cc='cc', ccflags ='-fno-common -DPERL_DARWIN -fno-strict-aliasing -pipe -fstack-protector -I/opt/local/include',
optimize='-O3',
cppflags='-fno-common -DPERL_DARWIN -fno-strict-aliasing -pipe -fstack-protector -I/opt/local/include'
ccversion='', gccversion='4.2.1 Compatible Apple Clang 4.0 ((tags/Apple/clang-421.0.60))', gccosandvers=''
intsize=4, longsize=8, ptrsize=8, doublesize=8, byteorder=12345678
d_longlong=define, longlongsize=8, d_longdbl=define, longdblsize=16
ivtype='long', ivsize=8, nvtype='double', nvsize=8, Off_t='off_t', lseeksize=8
alignbytes=8, prototype=define
Linker and Libraries:
ld='env MACOSX_DEPLOYMENT_TARGET=10.3 cc', ldflags =' -fstack-protector -L/opt/local/lib'
libpth=/opt/local/lib /usr/lib
libs=-lgdbm -ldbm -ldl -lm -lutil -lc
perllibs=-ldl -lm -lutil -lc
libc=, so=dylib, useshrplib=false, libperl=libperl.a
gnulibc_version=''
Dynamic Linking:
dlsrc=dl_dlopen.xs, dlext=bundle, d_dlsymun=undef, ccdlflags=' '
cccdlflags=' ', lddlflags=' -bundle -undefined dynamic_lookup -L/opt/local/lib -fstack-protector'
Characteristics of this binary (from libperl):
Compile-time options: HAS_TIMES PERLIO_LAYERS PERL_DONT_CREATE_GVSV
PERL_HASH_FUNC_ONE_AT_A_TIME_HARD PERL_MALLOC_WRAP
PERL_PRESERVE_IVUV PERL_SAWAMPERSAND USE_64_BIT_ALL
USE_64_BIT_INT USE_LARGE_FILES USE_LOCALE
USE_LOCALE_COLLATE USE_LOCALE_CTYPE
USE_LOCALE_NUMERIC USE_PERLIO USE_PERL_ATOF
Locally applied patches:
RC2
Built under darwin
Compiled at May 13 2013 08:56:17
%ENV:
PERLBREW_BASHRC_VERSION="0.63"
PERLBREW_HOME="/Users/stas/.perlbrew"
PERLBREW_MANPATH="/Users/stas/perl5/perlbrew/perls/perl-5.18.0-RC2/man"
PERLBREW_PATH="/Users/stas/perl5/perlbrew/bin:/Users/stas/perl5/perlbrew/perls/perl-5.18.0-RC2/bin"
PERLBREW_PERL="perl-5.18.0-RC2"
PERLBREW_ROOT="/Users/stas/perl5/perlbrew"
PERLBREW_VERSION="0.63"
PERL_MM_USE_DEFAULT="1"
@INC:
/Users/stas/perl5/perlbrew/perls/perl-5.18.0-RC2/lib/site_perl/5.18.0/darwin-2level
/Users/stas/perl5/perlbrew/perls/perl-5.18.0-RC2/lib/site_perl/5.18.0
/Users/stas/perl5/perlbrew/perls/perl-5.18.0-RC2/lib/5.18.0/darwin-2level
/Users/stas/perl5/perlbrew/perls/perl-5.18.0-RC2/lib/5.18.0
.