TOML-Tiny v0.20 Perl 5 v5.22.4 x86_64-linux
- Status
- Pass
- From
- David Cantrell (DCANTRELL)
- Dist
-
TOML-Tiny v0.20
- Platform
- Perl 5 v5.22.4 x86_64-linux
- Date
- 2025-03-27 05:41:00
- ID
- 10a6d79c-0ace-11f0-a7b3-bbf6f12be682
This distribution has been tested as part of the CPAN Testers
project, supporting the Perl programming language. See
http://wiki.cpantesters.org/ for more information or email
questions to cpan-testers-discuss@perl.org
--
Dear Olaf Alders,
This is a computer-generated report for TOML-Tiny-0.20
on perl 5.22.4, created by CPAN-Reporter-1.2019.
Thank you for uploading your work to CPAN. Congratulations!
All tests were successful.
Sections of this report:
* Tester comments
* Program output
* Prerequisites
* Environment and other context
------------------------------
TESTER COMMENTS
------------------------------
Additional comments from tester:
this report is from an automated smoke testing program
and was not reviewed by a human for accuracy
------------------------------
PROGRAM OUTPUT
------------------------------
Output from '/usr/bin/make test':
PERL_DL_NONLAZY=1 "/home/david/cpantesting/perl-5.22.4/bin/perl" "-MExtUtils::Command::MM" "-MTest::Harness" "-e" "undef *Test::Harness::Switches; test_harness(0, 'blib/lib', 'blib/arch')" t/*.t t/toml-test/invalid/array/*.t t/toml-test/invalid/bool/*.t t/toml-test/invalid/control/*.t t/toml-test/invalid/datetime/*.t t/toml-test/invalid/encoding/*.t t/toml-test/invalid/float/*.t t/toml-test/invalid/inline-table/*.t t/toml-test/invalid/integer/*.t t/toml-test/invalid/key/*.t t/toml-test/invalid/string/*.t t/toml-test/invalid/table/*.t t/toml-test/valid/*.t t/toml-test/valid/array/*.t t/toml-test/valid/bool/*.t t/toml-test/valid/comment/*.t t/toml-test/valid/datetime/*.t t/toml-test/valid/float/*.t t/toml-test/valid/inline-table/*.t t/toml-test/valid/integer/*.t t/toml-test/valid/key/*.t t/toml-test/valid/string/*.t t/toml-test/valid/table/*.t
#
# Versions for all modules listed in MYMETA.json (including optional ones):
#
# === Configure Requires ===
#
# Module Want Have
# ------------------- ---- ----
# ExtUtils::MakeMaker any 7.70
#
# === Build Requires ===
#
# Module Want Have
# ------------------- ---- ----
# ExtUtils::MakeMaker any 7.70
#
# === Test Requires ===
#
# Module Want Have
# ------------------------- ---- --------
# Data::Dumper any 2.183
# DateTime::Format::ISO8601 any 0.17
# DateTime::Format::RFC3339 any v1.10.0
# ExtUtils::MakeMaker any 7.70
# File::Spec any 3.75
# TOML::Parser any 0.91
# Test2::V0 any 1.302207
# Test::More any 1.302207
# Test::Pod any 1.52
#
# === Test Recommends ===
#
# Module Want Have
# ----------------- -------- --------
# CPAN::Meta 2.120900 2.150010
# Unicode::GCString any missing
#
# === Runtime Requires ===
#
# Module Want Have
# ------------ -------- --------
# Carp any 1.50
# Data::Dumper any 2.183
# Encode any 3.21
# Exporter any 5.78
# Math::BigInt 1.999718 2.003003
# perl 5.018 5.022004
#
# === Runtime Recommends ===
#
# Module Want Have
# ----------------- ---- ----
# Types::Serialiser any 1.01
#
t/00-report-prereqs.t ....................................................... ok
t/author-pod-syntax.t ....................................................... skipped: these tests are for testing by the author
t/faithful.t ................................................................ ok
t/numbers.t ................................................................. ok
t/parity.t .................................................................. ok
t/parser.t .................................................................. ok
t/strict_arrays.t ........................................................... ok
t/toml-test/invalid/array/missing-separator.t ............................... ok
t/toml-test/invalid/array/no-close-2.t ...................................... ok
t/toml-test/invalid/array/no-close-table-2.t ................................ ok
t/toml-test/invalid/array/no-close-table.t .................................. ok
t/toml-test/invalid/array/no-close.t ........................................ ok
t/toml-test/invalid/array/tables-1.t ........................................ ok
t/toml-test/invalid/array/tables-2.t ........................................ ok
t/toml-test/invalid/array/text-after-array-entries.t ........................ ok
t/toml-test/invalid/array/text-before-array-separator.t ..................... ok
t/toml-test/invalid/array/text-in-array.t ................................... ok
t/toml-test/invalid/bool/mixed-case.t ....................................... ok
t/toml-test/invalid/bool/wrong-case-false.t ................................. ok
t/toml-test/invalid/bool/wrong-case-true.t .................................. ok
t/toml-test/invalid/control/comment-del.t ................................... ok
t/toml-test/invalid/control/comment-lf.t .................................... ok
t/toml-test/invalid/control/comment-null.t .................................. ok
t/toml-test/invalid/control/comment-us.t .................................... ok
t/toml-test/invalid/control/multi-del.t ..................................... ok
t/toml-test/invalid/control/multi-lf.t ...................................... ok
t/toml-test/invalid/control/multi-null.t .................................... ok
t/toml-test/invalid/control/multi-us.t ...................................... ok
t/toml-test/invalid/control/rawmulti-del.t .................................. ok
t/toml-test/invalid/control/rawmulti-lf.t ................................... ok
t/toml-test/invalid/control/rawmulti-null.t ................................. ok
t/toml-test/invalid/control/rawmulti-us.t ................................... ok
t/toml-test/invalid/control/rawstring-del.t ................................. ok
t/toml-test/invalid/control/rawstring-lf.t .................................. ok
t/toml-test/invalid/control/rawstring-null.t ................................ ok
t/toml-test/invalid/control/rawstring-us.t .................................. ok
t/toml-test/invalid/control/string-bs.t ..................................... ok
t/toml-test/invalid/control/string-del.t .................................... ok
t/toml-test/invalid/control/string-lf.t ..................................... ok
t/toml-test/invalid/control/string-null.t ................................... ok
t/toml-test/invalid/control/string-us.t ..................................... ok
t/toml-test/invalid/datetime/impossible-date.t .............................. ok
t/toml-test/invalid/datetime/no-leads-with-milli.t .......................... ok
t/toml-test/invalid/datetime/no-leads.t ..................................... ok
t/toml-test/invalid/datetime/no-secs.t ...................................... ok
t/toml-test/invalid/datetime/no-t.t ......................................... ok
t/toml-test/invalid/datetime/trailing-t.t ................................... ok
t/toml-test/invalid/encoding/bad-utf8-at-end.t .............................. ok
t/toml-test/invalid/encoding/bad-utf8-in-comment.t .......................... ok
t/toml-test/invalid/encoding/bad-utf8-in-string.t ........................... ok
t/toml-test/invalid/encoding/bom-not-at-start-1.t ........................... ok
t/toml-test/invalid/encoding/bom-not-at-start-2.t ........................... ok
t/toml-test/invalid/encoding/utf16-bom.t .................................... ok
t/toml-test/invalid/encoding/utf16.t ........................................ ok
t/toml-test/invalid/float/double-point-1.t .................................. ok
t/toml-test/invalid/float/double-point-2.t .................................. ok
t/toml-test/invalid/float/exp-double-e-1.t .................................. ok
t/toml-test/invalid/float/exp-double-e-2.t .................................. ok
t/toml-test/invalid/float/exp-double-us.t ................................... ok
t/toml-test/invalid/float/exp-leading-us.t .................................. ok
t/toml-test/invalid/float/exp-point-1.t ..................................... ok
t/toml-test/invalid/float/exp-point-2.t ..................................... ok
t/toml-test/invalid/float/exp-trailing-us.t ................................. ok
t/toml-test/invalid/float/inf-incomplete-1.t ................................ ok
t/toml-test/invalid/float/inf-incomplete-2.t ................................ ok
t/toml-test/invalid/float/inf-incomplete-3.t ................................ ok
t/toml-test/invalid/float/inf_underscore.t .................................. ok
t/toml-test/invalid/float/leading-point-neg.t ............................... ok
t/toml-test/invalid/float/leading-point-plus.t .............................. ok
t/toml-test/invalid/float/leading-point.t ................................... ok
t/toml-test/invalid/float/leading-us.t ...................................... ok
t/toml-test/invalid/float/leading-zero-neg.t ................................ ok
t/toml-test/invalid/float/leading-zero-plus.t ............................... ok
t/toml-test/invalid/float/leading-zero.t .................................... ok
t/toml-test/invalid/float/nan-incomplete-1.t ................................ ok
t/toml-test/invalid/float/nan-incomplete-2.t ................................ ok
t/toml-test/invalid/float/nan-incomplete-3.t ................................ ok
t/toml-test/invalid/float/nan_underscore.t .................................. ok
t/toml-test/invalid/float/trailing-point-min.t .............................. ok
t/toml-test/invalid/float/trailing-point-plus.t ............................. ok
t/toml-test/invalid/float/trailing-point.t .................................. ok
t/toml-test/invalid/float/trailing-us.t ..................................... ok
t/toml-test/invalid/float/us-after-point.t .................................. ok
t/toml-test/invalid/float/us-before-point.t ................................. ok
t/toml-test/invalid/inline-table/double-comma.t ............................. ok
t/toml-test/invalid/inline-table/empty.t .................................... ok
t/toml-test/invalid/inline-table/linebreak-1.t .............................. ok
t/toml-test/invalid/inline-table/linebreak-2.t .............................. ok
t/toml-test/invalid/inline-table/linebreak-3.t .............................. ok
t/toml-test/invalid/inline-table/linebreak-4.t .............................. ok
t/toml-test/invalid/inline-table/no-comma.t ................................. ok
t/toml-test/invalid/inline-table/trailing-comma.t ........................... ok
t/toml-test/invalid/integer/capital-bin.t ................................... ok
t/toml-test/invalid/integer/capital-hex.t ................................... ok
t/toml-test/invalid/integer/capital-oct.t ................................... ok
t/toml-test/invalid/integer/double-sign-nex.t ............................... ok
t/toml-test/invalid/integer/double-sign-plus.t .............................. ok
t/toml-test/invalid/integer/double-us.t ..................................... ok
t/toml-test/invalid/integer/invalid-bin.t ................................... ok
t/toml-test/invalid/integer/invalid-hex.t ................................... ok
t/toml-test/invalid/integer/invalid-oct.t ................................... ok
t/toml-test/invalid/integer/leading-us-bin.t ................................ ok
t/toml-test/invalid/integer/leading-us-hex.t ................................ ok
t/toml-test/invalid/integer/leading-us-oct.t ................................ ok
t/toml-test/invalid/integer/leading-us.t .................................... ok
t/toml-test/invalid/integer/leading-zero-1.t ................................ ok
t/toml-test/invalid/integer/leading-zero-2.t ................................ ok
t/toml-test/invalid/integer/leading-zero-sign-1.t ........................... ok
t/toml-test/invalid/integer/leading-zero-sign-2.t ........................... ok
t/toml-test/invalid/integer/negative-bin.t .................................. ok
t/toml-test/invalid/integer/negative-hex.t .................................. ok
t/toml-test/invalid/integer/negative-oct.t .................................. ok
t/toml-test/invalid/integer/positive-bin.t .................................. ok
t/toml-test/invalid/integer/positive-hex.t .................................. ok
t/toml-test/invalid/integer/positive-oct.t .................................. ok
t/toml-test/invalid/integer/text-after-integer.t ............................ ok
t/toml-test/invalid/integer/trailing-us-bin.t ............................... ok
t/toml-test/invalid/integer/trailing-us-hex.t ............................... ok
t/toml-test/invalid/integer/trailing-us-oct.t ............................... ok
t/toml-test/invalid/integer/trailing-us.t ................................... ok
t/toml-test/invalid/integer/us-after-bin.t .................................. ok
t/toml-test/invalid/integer/us-after-hex.t .................................. ok
t/toml-test/invalid/integer/us-after-oct.t .................................. ok
t/toml-test/invalid/key/after-array.t ....................................... ok
t/toml-test/invalid/key/after-table.t ....................................... ok
t/toml-test/invalid/key/after-value.t ....................................... ok
t/toml-test/invalid/key/bare-invalid-character.t ............................ ok
t/toml-test/invalid/key/dotted-redefine-table.t ............................. ok
t/toml-test/invalid/key/duplicate-keys.t .................................... ok
t/toml-test/invalid/key/duplicate.t ......................................... ok
t/toml-test/invalid/key/empty.t ............................................. ok
t/toml-test/invalid/key/escape.t ............................................ ok
t/toml-test/invalid/key/hash.t .............................................. ok
t/toml-test/invalid/key/multiline.t ......................................... ok
t/toml-test/invalid/key/newline.t ........................................... ok
t/toml-test/invalid/key/no-eol.t ............................................ ok
t/toml-test/invalid/key/open-bracket.t ...................................... ok
t/toml-test/invalid/key/partial-quoted.t .................................... ok
t/toml-test/invalid/key/single-open-bracket.t ............................... ok
t/toml-test/invalid/key/space.t ............................................. ok
t/toml-test/invalid/key/special-character.t ................................. ok
t/toml-test/invalid/key/start-bracket.t ..................................... ok
t/toml-test/invalid/key/two-equals.t ........................................ ok
t/toml-test/invalid/key/two-equals2.t ....................................... ok
t/toml-test/invalid/key/two-equals3.t ....................................... ok
t/toml-test/invalid/key/without-value-1.t ................................... ok
t/toml-test/invalid/key/without-value-2.t ................................... ok
t/toml-test/invalid/string/bad-byte-escape.t ................................ ok
t/toml-test/invalid/string/bad-codepoint.t .................................. ok
t/toml-test/invalid/string/bad-concat.t ..................................... ok
t/toml-test/invalid/string/bad-escape.t ..................................... ok
t/toml-test/invalid/string/bad-multiline.t .................................. ok
t/toml-test/invalid/string/bad-slash-escape.t ............................... ok
t/toml-test/invalid/string/bad-uni-esc.t .................................... ok
t/toml-test/invalid/string/basic-byte-escapes.t ............................. ok
t/toml-test/invalid/string/basic-multiline-out-of-range-unicode-escape-1.t .. ok
t/toml-test/invalid/string/basic-multiline-out-of-range-unicode-escape-2.t .. ok
t/toml-test/invalid/string/basic-multiline-quotes.t ......................... ok
t/toml-test/invalid/string/basic-multiline-unknown-escape.t ................. ok
t/toml-test/invalid/string/basic-out-of-range-unicode-escape-1.t ............ ok
t/toml-test/invalid/string/basic-out-of-range-unicode-escape-2.t ............ ok
t/toml-test/invalid/string/basic-unknown-escape.t ........................... ok
t/toml-test/invalid/string/literal-multiline-quotes-1.t ..................... ok
t/toml-test/invalid/string/literal-multiline-quotes-2.t ..................... ok
t/toml-test/invalid/string/missing-quotes.t ................................. ok
t/toml-test/invalid/string/multiline-escape-space.t ......................... ok
t/toml-test/invalid/string/multiline-no-close-2.t ........................... ok
t/toml-test/invalid/string/multiline-no-close.t ............................. ok
t/toml-test/invalid/string/multiline-quotes-1.t ............................. ok
t/toml-test/invalid/string/multiline-quotes-2.t ............................. ok
t/toml-test/invalid/string/no-close.t ....................................... ok
t/toml-test/invalid/string/text-after-string.t .............................. ok
t/toml-test/invalid/string/wrong-close.t .................................... ok
t/toml-test/invalid/table/array-empty.t ..................................... ok
t/toml-test/invalid/table/array-implicit.t .................................. ok
t/toml-test/invalid/table/array-missing-bracket.t ........................... ok
t/toml-test/invalid/table/duplicate-key-table.t ............................. ok
t/toml-test/invalid/table/duplicate-table-array.t ........................... ok
t/toml-test/invalid/table/duplicate-table-array2.t .......................... ok
t/toml-test/invalid/table/duplicate.t ....................................... ok
t/toml-test/invalid/table/empty-implicit-table.t ............................ ok
t/toml-test/invalid/table/empty.t ........................................... ok
t/toml-test/invalid/table/equals-sign.t ..................................... ok
t/toml-test/invalid/table/llbrace.t ......................................... ok
t/toml-test/invalid/table/nested-brackets-close.t ........................... ok
t/toml-test/invalid/table/nested-brackets-open.t ............................ ok
t/toml-test/invalid/table/quoted-no-close.t ................................. ok
t/toml-test/invalid/table/redefine.t ........................................ ok
t/toml-test/invalid/table/rrbrace.t ......................................... ok
t/toml-test/invalid/table/text-after-table.t ................................ ok
t/toml-test/invalid/table/whitespace.t ...................................... ok
t/toml-test/invalid/table/with-pound.t ...................................... ok
t/toml-test/valid/array/array.t ............................................. ok
t/toml-test/valid/array/bool.t .............................................. ok
t/toml-test/valid/array/empty.t ............................................. ok
t/toml-test/valid/array/hetergeneous.t ...................................... ok
t/toml-test/valid/array/mixed-int-array.t ................................... ok
t/toml-test/valid/array/mixed-int-float.t ................................... ok
t/toml-test/valid/array/mixed-int-string.t .................................. ok
t/toml-test/valid/array/mixed-string-table.t ................................ ok
t/toml-test/valid/array/nested-double.t ..................................... ok
t/toml-test/valid/array/nested-inline-table.t ............................... ok
t/toml-test/valid/array/nested.t ............................................ ok
t/toml-test/valid/array/nospaces.t .......................................... ok
t/toml-test/valid/array/string-quote-comma-2.t .............................. ok
t/toml-test/valid/array/string-quote-comma.t ................................ ok
t/toml-test/valid/array/string-with-comma.t ................................. ok
t/toml-test/valid/array/strings.t ........................................... ok
t/toml-test/valid/array/table-array-string-backslash.t ...................... ok
t/toml-test/valid/bool/bool.t ............................................... ok
t/toml-test/valid/comment/at-eof.t .......................................... ok
t/toml-test/valid/comment/at-eof2.t ......................................... ok
t/toml-test/valid/comment/everywhere.t ...................................... ok
t/toml-test/valid/comment/tricky.t .......................................... ok
t/toml-test/valid/datetime/datetime.t ....................................... ok
t/toml-test/valid/datetime/local-date.t ..................................... ok
t/toml-test/valid/datetime/local-time.t ..................................... ok
t/toml-test/valid/datetime/local.t .......................................... ok
t/toml-test/valid/datetime/milliseconds.t ................................... ok
t/toml-test/valid/datetime/timezone.t ....................................... ok
t/toml-test/valid/empty-file.t .............................................. ok
t/toml-test/valid/example.t ................................................. ok
t/toml-test/valid/float/exponent.t .......................................... ok
t/toml-test/valid/float/float.t ............................................. ok
t/toml-test/valid/float/inf-and-nan.t ....................................... ok
t/toml-test/valid/float/long.t .............................................. ok
t/toml-test/valid/float/underscore.t ........................................ ok
t/toml-test/valid/float/zero.t .............................................. ok
t/toml-test/valid/implicit-and-explicit-after.t ............................. ok
t/toml-test/valid/implicit-and-explicit-before.t ............................ ok
t/toml-test/valid/implicit-groups.t ......................................... ok
t/toml-test/valid/inline-table/array.t ...................................... ok
t/toml-test/valid/inline-table/bool.t ....................................... ok
t/toml-test/valid/inline-table/empty.t ...................................... ok
t/toml-test/valid/inline-table/end-in-bool.t ................................ ok
t/toml-test/valid/inline-table/inline-table.t ............................... ok
t/toml-test/valid/inline-table/key-dotted.t ................................. ok
t/toml-test/valid/inline-table/multiline.t .................................. ok
t/toml-test/valid/inline-table/nest.t ....................................... ok
t/toml-test/valid/integer/integer.t ......................................... ok
t/toml-test/valid/integer/literals.t ........................................ ok
t/toml-test/valid/integer/long.t ............................................ ok
t/toml-test/valid/integer/underscore.t ...................................... ok
t/toml-test/valid/integer/zero.t ............................................ ok
t/toml-test/valid/key/alphanum.t ............................................ ok
t/toml-test/valid/key/case-sensitive.t ...................................... ok
t/toml-test/valid/key/dotted.t .............................................. ok
t/toml-test/valid/key/empty.t ............................................... ok
t/toml-test/valid/key/equals-nospace.t ...................................... ok
t/toml-test/valid/key/escapes.t ............................................. ok
t/toml-test/valid/key/numeric-dotted.t ...................................... ok
t/toml-test/valid/key/numeric.t ............................................. ok
t/toml-test/valid/key/quoted-dots.t ......................................... ok
t/toml-test/valid/key/space.t ............................................... ok
t/toml-test/valid/key/special-chars.t ....................................... ok
t/toml-test/valid/key/special-word.t ........................................ ok
t/toml-test/valid/newline-crlf.t ............................................ ok
t/toml-test/valid/newline-lf.t .............................................. ok
t/toml-test/valid/spec-example-1-compact.t .................................. ok
t/toml-test/valid/spec-example-1.t .......................................... ok
t/toml-test/valid/string/double-quote-escape.t .............................. ok
t/toml-test/valid/string/empty.t ............................................ ok
t/toml-test/valid/string/escape-tricky.t .................................... ok
t/toml-test/valid/string/escaped-escape.t ................................... ok
t/toml-test/valid/string/escapes.t .......................................... ok
t/toml-test/valid/string/multiline-quotes.t ................................. ok
t/toml-test/valid/string/nl.t ............................................... ok
t/toml-test/valid/string/raw-multiline.t .................................... ok
t/toml-test/valid/string/raw.t .............................................. ok
t/toml-test/valid/string/simple.t ........................................... ok
t/toml-test/valid/string/unicode-escape.t ................................... ok
t/toml-test/valid/string/unicode-literal.t .................................. ok
t/toml-test/valid/string/with-pound.t ....................................... ok
t/toml-test/valid/table/array-implicit.t .................................... ok
t/toml-test/valid/table/array-many.t ........................................ ok
t/toml-test/valid/table/array-nest.t ........................................ ok
t/toml-test/valid/table/array-one.t ......................................... ok
t/toml-test/valid/table/array-table-array.t ................................. ok
t/toml-test/valid/table/empty.t ............................................. ok
t/toml-test/valid/table/keyword.t ........................................... ok
t/toml-test/valid/table/names.t ............................................. ok
t/toml-test/valid/table/no-eol.t ............................................ ok
t/toml-test/valid/table/sub-empty.t ......................................... ok
t/toml-test/valid/table/whitespace.t ........................................ ok
t/toml-test/valid/table/with-literal-string.t ............................... ok
t/toml-test/valid/table/with-pound.t ........................................ ok
t/toml-test/valid/table/with-single-quotes.t ................................ ok
t/toml-test/valid/table/without-super.t ..................................... ok
t/writer.t .................................................................. ok
All tests successful.
Files=289, Tests=486, 434 wallclock secs ( 0.84 usr 0.66 sys + 70.57 cusr 11.65 csys = 83.72 CPU)
Result: PASS
------------------------------
PREREQUISITES
------------------------------
Prerequisite modules loaded:
requires:
Module Need Have
------------------------- -------- --------
Carp 0 1.50
Data::Dumper 0 2.183
Encode 0 3.21
Exporter 0 5.78
Math::BigInt 1.999718 2.003003
perl 5.018 5.022004
build_requires:
Module Need Have
------------------------- -------- --------
Data::Dumper 0 2.183
DateTime::Format::ISO8601 0 0.17
DateTime::Format::RFC3339 0 v1.10.0
ExtUtils::MakeMaker 0 7.70
File::Spec 0 3.75
Test2::V0 0 1.302207
Test::More 0 1.302207
Test::Pod 0 1.52
TOML::Parser 0 0.91
configure_requires:
Module Need Have
------------------------- -------- --------
ExtUtils::MakeMaker 0 7.70
------------------------------
ENVIRONMENT AND OTHER CONTEXT
------------------------------
Environment variables:
AUTOMATED_TESTING = 1
LANG = en_GB.UTF-8
LANGUAGE = en_GB:en
LC_TERMINAL = iTerm2
LC_TERMINAL_VERSION = 3.5.11
NONINTERACTIVE_TESTING = 1
PATH = /home/david/.nvm/versions/node/v22.14.0/bin:/home/david/.cargo/bin:/home/david/perl5/perlbrew/bin:/home/david/perl5/perlbrew/perls/perl-5.30.2/bin:/home/david/bin:/usr/local/bin:/usr/bin:/bin:/usr/local/games:/usr/games
PERL = 5.22.4
PERL5LIB =
PERL5OPT =
PERL5_CPANPLUS_IS_RUNNING = 475102
PERL5_CPAN_IS_RUNNING = 475102
PERLBREW_HOME = /home/david/.perlbrew
PERLBREW_MANPATH = /home/david/perl5/perlbrew/perls/perl-5.30.2/man
PERLBREW_PATH = /home/david/perl5/perlbrew/bin:/home/david/perl5/perlbrew/perls/perl-5.30.2/bin
PERLBREW_PERL = perl-5.30.2
PERLBREW_ROOT = /home/david/perl5/perlbrew
PERLBREW_SHELLRC_VERSION = 0.98
PERLBREW_VERSION = 0.98
PERLVER = 5.22.4
PERL_INLINE_DIRECTORY = /home/david/.Inline-5.22.4
PERL_MM_USE_DEFAULT = 1
PERL_USE_UNSAFE_INC = 0
SHELL = /bin/bash
TERM = screen
Perl special variables (and OS-specific diagnostics, for MSWin32):
$^X = /home/david/cpantesting/perl-5.22.4/bin/perl
$UID/$EUID = 1000 / 1000
$GID = 1000 24 25 27 29 30 44 46 109 1000
$EGID = 1000 24 25 27 29 30 44 46 109 1000
Perl module toolchain versions installed:
Module Have
------------------- --------
CPAN 2.11_01
CPAN::Meta 2.150010
Cwd 3.75
ExtUtils::CBuilder 0.280236
ExtUtils::Command 7.70
ExtUtils::Install 2.22
ExtUtils::MakeMaker 7.70
ExtUtils::Manifest 1.75
ExtUtils::ParseXS 3.51
File::Spec 3.75
JSON 4.10
JSON::PP 4.16
Module::Build 0.4234
Module::Signature n/a
Parse::CPAN::Meta 2.150010
Test2 1.302207
Test::Harness 3.50
Test::More 1.302207
YAML 1.31
YAML::Syck n/a
version 0.9933
--
Summary of my perl5 (revision 5 version 22 subversion 4) configuration:
Platform:
osname=linux, osvers=5.10.0-11-amd64, archname=x86_64-linux
uname='linux cpantesting-linux 5.10.0-11-amd64 #1 smp debian 5.10.92-1 (2022-01-18) x86_64 gnulinux '
config_args='-de -Dprefix=/home/david/cpantesting/perl-5.22.4'
hint=recommended, useposix=true, d_sigaction=define
useithreads=undef, usemultiplicity=undef
use64bitint=define, use64bitall=define, uselongdouble=undef
usemymalloc=n, bincompat5005=undef
Compiler:
cc='cc', ccflags ='-fwrapv -fno-strict-aliasing -pipe -fstack-protector-strong -I/usr/local/include -D_LARGEFILE_SOURCE -D_FILE_OFFSET_BITS=64 -D_FORTIFY_SOURCE=2',
optimize='-O2',
cppflags='-fwrapv -fno-strict-aliasing -pipe -fstack-protector-strong -I/usr/local/include'
ccversion='', gccversion='10.2.1 20210110', gccosandvers=''
intsize=4, longsize=8, ptrsize=8, doublesize=8, byteorder=12345678, doublekind=3
d_longlong=define, longlongsize=8, d_longdbl=define, longdblsize=16, longdblkind=3
ivtype='long', ivsize=8, nvtype='double', nvsize=8, Off_t='off_t', lseeksize=8
alignbytes=8, prototype=define
Linker and Libraries:
ld='cc', ldflags =' -fstack-protector-strong -L/usr/local/lib'
libpth=/usr/local/lib /usr/include/x86_64-linux-gnu /usr/lib /lib/x86_64-linux-gnu /lib/../lib /usr/lib/x86_64-linux-gnu /usr/lib/../lib /lib /lib64 /usr/lib64
libs=-lpthread -lnsl -ldl -lm -lcrypt -lutil -lc
perllibs=-lpthread -lnsl -ldl -lm -lcrypt -lutil -lc
libc=libc-2.31.so, so=so, useshrplib=false, libperl=libperl.a
gnulibc_version='2.31'
Dynamic Linking:
dlsrc=dl_dlopen.xs, dlext=so, d_dlsymun=undef, ccdlflags='-Wl,-E'
cccdlflags='-fPIC', lddlflags='-shared -O2 -L/usr/local/lib -fstack-protector-strong'
Characteristics of this binary (from libperl):
Compile-time options: HAS_TIMES PERLIO_LAYERS PERL_DONT_CREATE_GVSV
PERL_HASH_FUNC_ONE_AT_A_TIME_HARD PERL_MALLOC_WRAP
PERL_NEW_COPY_ON_WRITE PERL_PRESERVE_IVUV
USE_64_BIT_ALL USE_64_BIT_INT USE_LARGE_FILES
USE_LOCALE USE_LOCALE_COLLATE USE_LOCALE_CTYPE
USE_LOCALE_NUMERIC USE_LOCALE_TIME USE_PERLIO
USE_PERL_ATOF
Locally applied patches:
Devel::PatchPerl 2.08
Built under linux
Compiled at Jul 5 2023 22:39:04
%ENV:
PERL="5.22.4"
PERL5LIB=""
PERL5OPT=""
PERL5_CPANPLUS_IS_RUNNING="475102"
PERL5_CPAN_IS_RUNNING="475102"
PERLBREW_HOME="/home/david/.perlbrew"
PERLBREW_MANPATH="/home/david/perl5/perlbrew/perls/perl-5.30.2/man"
PERLBREW_PATH="/home/david/perl5/perlbrew/bin:/home/david/perl5/perlbrew/perls/perl-5.30.2/bin"
PERLBREW_PERL="perl-5.30.2"
PERLBREW_ROOT="/home/david/perl5/perlbrew"
PERLBREW_SHELLRC_VERSION="0.98"
PERLBREW_VERSION="0.98"
PERLVER="5.22.4"
PERL_INLINE_DIRECTORY="/home/david/.Inline-5.22.4"
PERL_MM_USE_DEFAULT="1"
PERL_USE_UNSAFE_INC="0"
@INC:
/home/david/cpantesting/perl-5.22.4/lib/site_perl/5.22.4/x86_64-linux
/home/david/cpantesting/perl-5.22.4/lib/site_perl/5.22.4
/home/david/cpantesting/perl-5.22.4/lib/5.22.4/x86_64-linux
/home/david/cpantesting/perl-5.22.4/lib/5.22.4
.