Footprintless-Plugin-Atlassian-Confluence v1.03 Perl 5 v5.27.6 amd64-freebsd

Status
Pass
From
Slaven Rezić (SREZIC)
Dist
Footprintless-Plugin-Atlassian-Confluence v1.03
Platform
Perl 5 v5.27.6 amd64-freebsd
Date
2017-12-18 23:49:19
ID
10a34cde-e44e-11e7-b78e-b53995fae706
This distribution has been tested as part of the CPAN Testers
project, supporting the Perl programming language.  See
http://wiki.cpantesters.org/ for more information or email
questions to cpan-testers-discuss@perl.org


--
Dear Lucas Theisen,

This is a computer-generated report for Footprintless-Plugin-Atlassian-Confluence-1.03
on perl 5.27.6, created by CPAN-Reporter-1.2018.

Thank you for uploading your work to CPAN.  Congratulations!
All tests were successful.

Sections of this report:

    * Tester comments
    * Program output
    * Prerequisites
    * Environment and other context

------------------------------
TESTER COMMENTS
------------------------------

Additional comments from tester:

none provided

------------------------------
PROGRAM OUTPUT
------------------------------

Output from '/usr/bin/make test':

PERL_DL_NONLAZY=1 "/usr/perl5.27.6p/bin/perl5.27.6" "-MExtUtils::Command::MM" "-MTest::Harness" "-e" "undef *Test::Harness::Switches; test_harness(0, 'blib/lib', 'blib/arch')" t/*.t
# 
# Versions for all modules listed in MYMETA.json (including optional ones):
# 
# === Configure Requires ===
# 
#     Module              Want Have
#     ------------------- ---- ----
#     ExtUtils::MakeMaker  any 7.30
# 
# === Build Requires ===
# 
#     Module              Want Have
#     ------------------- ---- ----
#     ExtUtils::MakeMaker  any 7.30
# 
# === Test Requires ===
# 
#     Module              Want     Have
#     ------------------- ---- --------
#     ExtUtils::MakeMaker  any     7.30
#     File::Spec           any     3.69
#     HTTP::Daemon        6.01     6.01
#     Test::More          0.90 1.302113
# 
# === Test Recommends ===
# 
#     Module         Want     Have
#     ---------- -------- --------
#     CPAN::Meta 2.120900 2.150010
# 
# === Runtime Requires ===
# 
#     Module         Want    Have
#     ------------- ----- -------
#     Footprintless  1.23    1.26
#     HTTP::Message  6.11    6.13
#     JSON           2.90 2.97000
#     Log::Any      1.045   1.702
#     URI            1.71    1.72
#     parent          any   0.236
# 
t/00-report-prereqs.t ......................................... ok
Starting server...
Starting server...
t/Footprintless_Plugin_Atlassian_Confluence.t ................. ok
t/Footprintless_Plugin_Atlassian_Confluence_RequestBuilder.t .. ok
t/Footprintless_Plugin_Atlassian_Confluence_ResponseParser.t .. ok
All tests successful.
Files=4, Tests=16,  6 wallclock secs ( 0.03 usr  0.01 sys +  0.64 cusr  0.31 csys =  0.99 CPU)
Result: PASS

------------------------------
PREREQUISITES
------------------------------

Prerequisite modules loaded:

requires:

    Module              Need     Have    
    ------------------- -------- --------
    Footprintless       1.23     1.26    
    HTTP::Message       6.11     6.13    
    JSON                2.90     2.97000 
    Log::Any            1.045    1.702   
    parent              0        0.236   
    perl                5.014    5.027006
    URI                 1.71     1.72    

build_requires:

    Module              Need     Have    
    ------------------- -------- --------
    ExtUtils::MakeMaker 0        7.30    
    File::Spec          0        3.69    
    HTTP::Daemon        6.01     6.01    
    Test::More          0.90     1.302113

configure_requires:

    Module              Need     Have    
    ------------------- -------- --------
    ExtUtils::MakeMaker 0        7.30    
    perl                5.006    5.027006

opt_build_requires:

    Module              Need     Have    
    ------------------- -------- --------
    CPAN::Meta          2.120900 2.150010


------------------------------
ENVIRONMENT AND OTHER CONTEXT
------------------------------

Environment variables:

    PATH = /usr/local/bin:/usr/bin:/bin:/usr/local/sbin:/usr/sbin:/sbin:/home/cpansand/bin/freebsd12.0:/home/cpansand/bin/sh:/home/cpansand/bin:/usr/games:/home/cpansand/devel:/home/eserte/src/srezic-misc/scripts
    PERL5LIB = /home/cpansand/.cpan/build/2017121821/Footprintless-1.26-0/blib/arch:/home/cpansand/.cpan/build/2017121821/Footprintless-1.26-0/blib/lib:/home/cpansand/.cpan/build/2017121821/Template-Resolver-1.14-0/blib/arch:/home/cpansand/.cpan/build/2017121821/Template-Resolver-1.14-0/blib/lib:/home/cpansand/.cpan/build/2017121821/Maven-Agent-1.14-0/blib/arch:/home/cpansand/.cpan/build/2017121821/Maven-Agent-1.14-0/blib/lib:/home/cpansand/.cpan/build/2017121821/Config-Entities-1.07-0/blib/arch:/home/cpansand/.cpan/build/2017121821/Config-Entities-1.07-0/blib/lib:/home/cpansand/.cpan/build/2017121821/Kevin-Command-kevin-0.5.2-0/blib/arch:/home/cpansand/.cpan/build/2017121821/Kevin-Command-kevin-0.5.2-0/blib/lib:/home/cpansand/.cpan/build/2017121821/Text-Yeti-Table-0.1.0-0/blib/arch:/home/cpansand/.cpan/build/2017121821/Text-Yeti-Table-0.1.0-0/blib/lib:/home/cpansand/.cpan/build/2017121821/App-intrunningsum-0.0.1-1/blib/arch:/home/cpansand/.cpan/build/2017121821/App-intrunningsum-0.0.1-1/blib/lib:/home/cpansand/.cpan/build/2017121821/Math-GMP-2.16-1/blib/arch:/home/cpansand/.cpan/build/2017121821/Math-GMP-2.16-1/blib/lib
    PERL5OPT = 
    PERL5_CPANPLUS_IS_RUNNING = 74702
    PERL5_CPAN_IS_RUNNING = 74702
    PERL5_CPAN_IS_RUNNING_IN_RECURSION = 74670,74702
    PERLDOC = -MPod::Perldoc::ToTextOverstrike
    PERL_BATCH = yes
    PERL_CANARY_STABILITY_NOPROMPT = 1
    PERL_CPAN_REPORTER_CONFIG = /var/tmp/cpansmoker-1023/2017121821/cpanreporter_000_config.ini
    PERL_EXTUTILS_AUTOINSTALL = --defaultdeps
    PERL_USE_UNSAFE_INC = 1
    SHELL = /usr/local/bin/zsh
    TERM = screen
    TMPDIR = /var/tmp/cpansmoker-1023/2017121821

Perl special variables (and OS-specific diagnostics, for MSWin32):

    $^X = /usr/perl5.27.6p/bin/perl5.27.6
    $UID/$EUID = 1023 / 1023
    $GID = 1023 1023
    $EGID = 1023 1023

Perl module toolchain versions installed:

    Module              Have    
    ------------------- --------
    CPAN                2.18    
    CPAN::Meta          2.150010
    Cwd                 3.70    
    ExtUtils::CBuilder  0.280230
    ExtUtils::Command   7.30    
    ExtUtils::Install   2.14    
    ExtUtils::MakeMaker 7.30    
    ExtUtils::Manifest  1.70    
    ExtUtils::ParseXS   3.36    
    File::Spec          3.69    
    JSON                2.97000 
    JSON::PP            2.97000 
    Module::Build       0.4224  
    Module::Signature   0.81    
    Parse::CPAN::Meta   2.150010
    Test::Harness       3.39    
    Test::More          1.302113
    YAML                1.24    
    YAML::Syck          1.30    
    version             0.9918  


--

Summary of my perl5 (revision 5 version 27 subversion 6) configuration:
   
  Platform:
    osname=freebsd
    osvers=12.0-current
    archname=amd64-freebsd
    uname='freebsd ali1.bbbike.org 12.0-current freebsd 12.0-current #0 bd8385a990e(master)-dirty: fri nov 17 03:13:11 utc 2017 root@ali1.bbbike.org:usrobjhomeprojectsfreebsdamd64.amd64sysgeneric-nodebug amd64 '
    config_args='-ds -e -Dprefix=/usr/perl5.27.6p -Dusedevel -Dusemallocwrap=no -Dcf_email=srezic@cpan.org -Doptimize=-O2 -pipe'
    hint=recommended
    useposix=true
    d_sigaction=define
    useithreads=undef
    usemultiplicity=undef
    use64bitint=define
    use64bitall=define
    uselongdouble=undef
    usemymalloc=n
    default_inc_excludes_dot=define
    bincompat5005=undef
  Compiler:
    cc='cc'
    ccflags ='-DHAS_FPSETMASK -DHAS_FLOATINGPOINT_H -fno-strict-aliasing -pipe -fstack-protector-strong -I/usr/local/include -D_FORTIFY_SOURCE=2'
    optimize='-O2 -pipe'
    cppflags='-DHAS_FPSETMASK -DHAS_FLOATINGPOINT_H -fno-strict-aliasing -pipe -fstack-protector-strong -I/usr/local/include'
    ccversion=''
    gccversion='4.2.1 Compatible FreeBSD Clang 5.0.0 (tags/RELEASE_500/final 312559)'
    gccosandvers=''
    intsize=4
    longsize=8
    ptrsize=8
    doublesize=8
    byteorder=12345678
    doublekind=3
    d_longlong=define
    longlongsize=8
    d_longdbl=define
    longdblsize=16
    longdblkind=3
    ivtype='long'
    ivsize=8
    nvtype='double'
    nvsize=8
    Off_t='off_t'
    lseeksize=8
    alignbytes=8
    prototype=define
  Linker and Libraries:
    ld='cc'
    ldflags ='-pthread -Wl,-E  -fstack-protector-strong -L/usr/local/lib'
    libpth=/usr/lib /usr/local/lib /usr/lib/clang/5.0.0/lib /usr/lib
    libs=-lpthread -lgdbm -lm -lcrypt -lutil -lc
    perllibs=-lpthread -lm -lcrypt -lutil -lc
    libc=
    so=so
    useshrplib=false
    libperl=libperl.a
    gnulibc_version=''
  Dynamic Linking:
    dlsrc=dl_dlopen.xs
    dlext=so
    d_dlsymun=undef
    ccdlflags=' '
    cccdlflags='-DPIC -fPIC'
    lddlflags='-shared  -L/usr/local/lib -fstack-protector-strong'


Characteristics of this binary (from libperl): 
  Compile-time options:
    HAS_TIMES
    PERLIO_LAYERS
    PERL_COPY_ON_WRITE
    PERL_DONT_CREATE_GVSV
    PERL_OP_PARENT
    PERL_PRESERVE_IVUV
    PERL_USE_DEVEL
    USE_64_BIT_ALL
    USE_64_BIT_INT
    USE_LARGE_FILES
    USE_LOCALE
    USE_LOCALE_COLLATE
    USE_LOCALE_CTYPE
    USE_LOCALE_NUMERIC
    USE_LOCALE_TIME
    USE_PERLIO
    USE_PERL_ATOF
  Built under freebsd
  Compiled at Nov 21 2017 14:14:16
  %ENV:
    PERL5LIB="/home/cpansand/.cpan/build/2017121821/Footprintless-1.26-0/blib/arch:/home/cpansand/.cpan/build/2017121821/Footprintless-1.26-0/blib/lib:/home/cpansand/.cpan/build/2017121821/Template-Resolver-1.14-0/blib/arch:/home/cpansand/.cpan/build/2017121821/Template-Resolver-1.14-0/blib/lib:/home/cpansand/.cpan/build/2017121821/Maven-Agent-1.14-0/blib/arch:/home/cpansand/.cpan/build/2017121821/Maven-Agent-1.14-0/blib/lib:/home/cpansand/.cpan/build/2017121821/Config-Entities-1.07-0/blib/arch:/home/cpansand/.cpan/build/2017121821/Config-Entities-1.07-0/blib/lib:/home/cpansand/.cpan/build/2017121821/Kevin-Command-kevin-0.5.2-0/blib/arch:/home/cpansand/.cpan/build/2017121821/Kevin-Command-kevin-0.5.2-0/blib/lib:/home/cpansand/.cpan/build/2017121821/Text-Yeti-Table-0.1.0-0/blib/arch:/home/cpansand/.cpan/build/2017121821/Text-Yeti-Table-0.1.0-0/blib/lib:/home/cpansand/.cpan/build/2017121821/App-intrunningsum-0.0.1-1/blib/arch:/home/cpansand/.cpan/build/2017121821/App-intrunningsum-0.0.1-1/blib/lib:/home/cpansand/.cpan/build/2017121821/Math-GMP-2.16-1/blib/arch:/home/cpansand/.cpan/build/2017121821/Math-GMP-2.16-1/blib/lib"
    PERL5OPT=""
    PERL5_CPANPLUS_IS_RUNNING="74702"
    PERL5_CPAN_IS_RUNNING="74702"
    PERL5_CPAN_IS_RUNNING_IN_RECURSION="74670,74702"
    PERLDOC="-MPod::Perldoc::ToTextOverstrike"
    PERL_BATCH="yes"
    PERL_CANARY_STABILITY_NOPROMPT="1"
    PERL_CPAN_REPORTER_CONFIG="/var/tmp/cpansmoker-1023/2017121821/cpanreporter_000_config.ini"
    PERL_EXTUTILS_AUTOINSTALL="--defaultdeps"
    PERL_USE_UNSAFE_INC="1"
  @INC:
    /home/cpansand/.cpan/build/2017121821/Footprintless-1.26-0/blib/arch
    /home/cpansand/.cpan/build/2017121821/Footprintless-1.26-0/blib/lib
    /home/cpansand/.cpan/build/2017121821/Template-Resolver-1.14-0/blib/arch
    /home/cpansand/.cpan/build/2017121821/Template-Resolver-1.14-0/blib/lib
    /home/cpansand/.cpan/build/2017121821/Maven-Agent-1.14-0/blib/arch
    /home/cpansand/.cpan/build/2017121821/Maven-Agent-1.14-0/blib/lib
    /home/cpansand/.cpan/build/2017121821/Config-Entities-1.07-0/blib/arch
    /home/cpansand/.cpan/build/2017121821/Config-Entities-1.07-0/blib/lib
    /home/cpansand/.cpan/build/2017121821/Kevin-Command-kevin-0.5.2-0/blib/arch
    /home/cpansand/.cpan/build/2017121821/Kevin-Command-kevin-0.5.2-0/blib/lib
    /home/cpansand/.cpan/build/2017121821/Text-Yeti-Table-0.1.0-0/blib/arch
    /home/cpansand/.cpan/build/2017121821/Text-Yeti-Table-0.1.0-0/blib/lib
    /home/cpansand/.cpan/build/2017121821/App-intrunningsum-0.0.1-1/blib/arch
    /home/cpansand/.cpan/build/2017121821/App-intrunningsum-0.0.1-1/blib/lib
    /home/cpansand/.cpan/build/2017121821/Math-GMP-2.16-1/blib/arch
    /home/cpansand/.cpan/build/2017121821/Math-GMP-2.16-1/blib/lib
    /usr/perl5.27.6p/lib/site_perl/5.27.6/amd64-freebsd
    /usr/perl5.27.6p/lib/site_perl/5.27.6
    /usr/perl5.27.6p/lib/5.27.6/amd64-freebsd
    /usr/perl5.27.6p/lib/5.27.6
    .