Back
From: metabase:user:314402c4-2aae-11df-837a-5e0a49663a4f
Subject: PASS Data-Nested-3.12 v5.13.5 FreeBSD
Date: 2010-09-26T09:25:55Z
This distribution has been tested as part of the CPAN Testers
project, supporting the Perl programming language. See
http://wiki.cpantesters.org/ for more information or email
questions to cpan-testers-discuss@perl.org
--
Dear Sullivan Beck,
This is a computer-generated report for Data-Nested-3.12
on perl 5.13.5, created by CPAN-Reporter-1.1801.
Thank you for uploading your work to CPAN. Congratulations!
All tests were successful.
Sections of this report:
* Tester comments
* Program output
* Prerequisites
* Environment and other context
------------------------------
TESTER COMMENTS
------------------------------
Additional comments from tester:
none provided
------------------------------
PROGRAM OUTPUT
------------------------------
Output from '/usr/bin/make test':
PERL_DL_NONLAZY=1 /usr/home/cpansand/var/ctps/sprout_77810/install/perl-5.13.5/bin/perl "-MExtUtils::Command::MM" "-e" "test_harness(0, 'blib/lib', 'blib/arch')" t/*.t
t/dn_check_structure.t ......... ok
t/dn_check_value.t ............. ok
t/dn_delim.t ................... ok
t/dn_empty_1.t ................. ok
t/dn_empty_2.t ................. ok
t/dn_erase_1.t ................. ok
t/dn_erase_2.t ................. ok
t/dn_erase_3.t ................. ok
t/dn_get_merge.t ............... ok
t/dn_get_structure.t ........... ok
t/dn_identical.t ............... ok
t/dn_keys.t .................... ok
t/dn_merge_1.t ................. ok
t/dn_merge_2.t ................. ok
t/dn_merge_path_1.t ............ ok
t/dn_merge_path_2.t ............ ok
t/dn_merge_path_3.t ............ ok
t/dn_nds_1.t ................... ok
t/dn_nds_2.t ................... ok
t/dn_nds_3.t ................... ok
t/dn_path_1.t .................. ok
t/dn_path_2.t .................. ok
t/dn_paths.t ................... ok
t/dn_ruleset.t ................. ok
t/dn_ruleset_valid.t ........... ok
t/dn_set_merge.t ............... ok
t/dn_set_structure.t ........... ok
t/dn_test_conditions.hash.t .... ok
t/dn_test_conditions.list.t .... ok
t/dn_test_conditions.scalar.t .. ok
t/dn_value.t ................... ok
t/dn_values.t .................. ok
t/dn_which_1.t ................. ok
t/dn_which_2.t ................. ok
t/me.add_ele.hash.t ............ ok
t/me.add_ele.list.t ............ ok
t/me.add_ele.olist.t ........... ok
t/me.copy_hash.t ............... ok
t/me.copy_list.t ............... ok
t/me.default_element.hash.t .... ok
t/me.default_element.list.t .... ok
t/me.default_element.olist.t ... ok
t/me.delete_ele.hash.t ......... ok
t/me.delete_ele.list.t ......... ok
t/me.ele.hash.t ................ ok
t/me.ele.list.t ................ ok
t/me.eles.hash.t ............... ok
t/me.eles.list.t ............... ok
t/me.file.hash.error.t ......... ok
t/me.file.hash.t ............... ok
t/me.file.list.error.t ......... ok
t/me.file.list.t ............... ok
t/me.is_default_value.hash.t ... ok
t/me.keys.t .................... ok
t/me.path_in_use.t ............. ok
t/me.path_valid.t .............. ok
t/me.path_values.hash.t ........ ok
t/me.path_values.list.t ........ ok
t/me.rename_ele.hash.t ......... ok
t/me.rename_ele.olist.t ........ ok
t/me.update_ele.t .............. ok
t/me.value.t ................... ok
t/me.values.t .................. ok
t/me.which.hash.t .............. ok
t/me.which.list.t .............. ok
t/mf.add_ele.hash.t ............ ok
t/mf.add_ele.list.t ............ ok
t/mf.copy_hash.t ............... ok
t/mf.copy_list.t ............... ok
t/mf.default_element.hash.t .... ok
t/mf.default_element.list.t .... ok
t/mf.delete_ele.hash.t ......... ok
t/mf.delete_ele.list.t ......... ok
t/mf.ele.hash.t ................ ok
t/mf.ele.list.t ................ ok
t/mf.eles.hash.t ............... ok
t/mf.eles.list.t ............... ok
t/mf.file.hash.error.t ......... ok
t/mf.file.hash.t ............... ok
t/mf.file.list.error.t ......... ok
t/mf.file.list.t ............... ok
t/mf.is_default_value.hash.t ... ok
t/mf.keys.t .................... ok
t/mf.path_in_use.t ............. ok
t/mf.path_valid.t .............. ok
t/mf.path_values.hash.t ........ ok
t/mf.path_values.list.t ........ ok
t/mf.rename_ele.hash.t ......... ok
t/mf.update_ele.t .............. ok
t/mf.value.t ................... ok
t/mf.values.t .................. ok
t/mf.which.hash.t .............. ok
t/mf.which.list.t .............. ok
t/pod.t ........................ ok
t/pod_coverage.t ............... ok
All tests successful.
Files=95, Tests=850, 18 wallclock secs ( 0.38 usr 0.12 sys + 6.32 cusr 1.62 csys = 8.44 CPU)
Result: PASS
------------------------------
PREREQUISITES
------------------------------
Prerequisite modules loaded:
requires:
Module Need Have
------------------- ---- -------
Algorithm::Permute 0 0.12
IO::File 0 1.14
Storable 0 2.22
Test::More 0 0.97_01
Test::Pod 0 1.44
Test::Pod::Coverage 0 1.08
YAML::Syck 0 1.15
build_requires:
Module Need Have
------------------- ---- -------
ExtUtils::MakeMaker 0 6.57_05
configure_requires:
Module Need Have
------------------- ---- -------
Module::Build 0.36 0.3607
------------------------------
ENVIRONMENT AND OTHER CONTEXT
------------------------------
Environment variables:
DBIC_NO_WARN_BAD_PERL = 1
PATH = /usr/local/bin:/usr/X11R6/bin:/usr/X11/bin:/usr/perl5.8.0/bin:/usr/bin:/bin:/usr/local/sbin:/usr/sbin:/sbin:/usr/local/pilot/bin:/home/cpansand/bin/freebsd8.0:/home/cpansand/bin/sh:/home/cpansand/bin:/usr/X386/bin:/usr/games:/home/cpansand/devel:/usr/home/e/eserte/src/perl/CPAN-Testers-ParallelSmoker/utils
PERL5LIB = /usr/local/src/CPAN/build/CPAN-Patches-0.03-S8o9QC/blib/arch:/usr/local/src/CPAN/build/CPAN-Patches-0.03-S8o9QC/blib/lib
PERL5OPT =
PERL5_CPANPLUS_IS_RUNNING = 47448
PERL5_CPAN_IS_RUNNING = 47448
PERL5_CPAN_IS_RUNNING_IN_RECURSION = 32529,47448
PERL_BATCH = yes
PERL_CPAN_REPORTER_DIR = /home/cpansand/var/ctps/sprout_77810/config/perl-5.13.5/cpanreporter
PERL_EXTUTILS_AUTOINSTALL = --defaultdeps
PERL_HTML_DISPLAY_CLASS = HTML::Display::Mozilla
SHELL = /usr/local/bin/zsh
TERM = xterm
TMPDIR = /tmp/cpansmoker-1023
Perl special variables (and OS-specific diagnostics, for MSWin32):
$^X = /usr/home/cpansand/var/ctps/sprout_77810/install/perl-5.13.5/bin/perl
$UID/$EUID = 1023 / 1023
$GID = 1023 1023
$EGID = 1023 1023
Perl module toolchain versions installed:
Module Have
------------------- -------
CPAN 1.94_57
Cwd 3.33
ExtUtils::CBuilder 0.2703
ExtUtils::Command 1.16
ExtUtils::Install 1.55
ExtUtils::MakeMaker 6.57_05
ExtUtils::Manifest 1.58
ExtUtils::ParseXS 2.2207
File::Spec 3.33
Module::Build 0.3607
Module::Signature 0.66
Test::Harness 3.22
Test::More 0.97_01
YAML 0.72
YAML::Syck 1.15
version 0.82
--
Summary of my perl5 (revision 5 version 13 subversion 5) configuration:
Platform:
osname=freebsd, osvers=8.0-release, archname=i386-freebsd
uname='freebsd biokovo.herceg.de 8.0-release freebsd 8.0-release #0: sat nov 21 15:48:17 utc 2009 root@almeida.cse.buffalo.edu:usrobjusrsrcsysgeneric i386 '
config_args='-ds -e -Uversiononly -Dinstallusrbinperl=n -Dusedevel -Dprefix=/home/cpansand/var/ctps/sprout_77810/install/perl-5.13.5'
hint=recommended, useposix=true, d_sigaction=define
useithreads=undef, usemultiplicity=undef
useperlio=define, d_sfio=undef, uselargefiles=define, usesocks=undef
use64bitint=undef, use64bitall=undef, uselongdouble=undef
usemymalloc=n, bincompat5005=undef
Compiler:
cc='cc', ccflags ='-DHAS_FPSETMASK -DHAS_FLOATINGPOINT_H -fno-strict-aliasing -pipe -fstack-protector -I/usr/local/include',
optimize='-O',
cppflags='-DHAS_FPSETMASK -DHAS_FLOATINGPOINT_H -fno-strict-aliasing -pipe -fstack-protector -I/usr/local/include'
ccversion='', gccversion='4.2.1 20070719 [FreeBSD]', gccosandvers=''
intsize=4, longsize=4, ptrsize=4, doublesize=8, byteorder=1234
d_longlong=define, longlongsize=8, d_longdbl=define, longdblsize=12
ivtype='long', ivsize=4, nvtype='double', nvsize=8, Off_t='off_t', lseeksize=8
alignbytes=4, prototype=define
Linker and Libraries:
ld='cc', ldflags ='-Wl,-E -fstack-protector -L/usr/local/lib'
libpth=/usr/lib /usr/local/lib
libs=-lgdbm -lm -lcrypt -lutil -lc
perllibs=-lm -lcrypt -lutil -lc
libc=, so=so, useshrplib=false, libperl=libperl.a
gnulibc_version=''
Dynamic Linking:
dlsrc=dl_dlopen.xs, dlext=so, d_dlsymun=undef, ccdlflags=' '
cccdlflags='-DPIC -fPIC', lddlflags='-shared -L/usr/local/lib -fstack-protector'
Characteristics of this binary (from libperl):
Compile-time options: PERL_DONT_CREATE_GVSV PERL_MALLOC_WRAP PERL_USE_DEVEL
USE_LARGE_FILES USE_PERLIO USE_PERL_ATOF
Built under freebsd
Compiled at Sep 20 2010 20:06:57
%ENV:
PERL5LIB="/usr/local/src/CPAN/build/CPAN-Patches-0.03-S8o9QC/blib/arch:/usr/local/src/CPAN/build/CPAN-Patches-0.03-S8o9QC/blib/lib"
PERL5OPT=""
PERL5_CPANPLUS_IS_RUNNING="47448"
PERL5_CPAN_IS_RUNNING="47448"
PERL5_CPAN_IS_RUNNING_IN_RECURSION="32529,47448"
PERL_BATCH="yes"
PERL_CPAN_REPORTER_DIR="/home/cpansand/var/ctps/sprout_77810/config/perl-5.13.5/cpanreporter"
PERL_EXTUTILS_AUTOINSTALL="--defaultdeps"
PERL_HTML_DISPLAY_CLASS="HTML::Display::Mozilla"
@INC:
/usr/local/src/CPAN/build/CPAN-Patches-0.03-S8o9QC/blib/arch
/usr/local/src/CPAN/build/CPAN-Patches-0.03-S8o9QC/blib/lib
/home/cpansand/var/ctps/sprout_77810/install/perl-5.13.5/lib/site_perl/5.13.5/i386-freebsd
/home/cpansand/var/ctps/sprout_77810/install/perl-5.13.5/lib/site_perl/5.13.5
/home/cpansand/var/ctps/sprout_77810/install/perl-5.13.5/lib/5.13.5/i386-freebsd
/home/cpansand/var/ctps/sprout_77810/install/perl-5.13.5/lib/5.13.5
.