Report for Strehler-1.6.8

Back
From: metabase:user:314402c4-2aae-11df-837a-5e0a49663a4f
Subject: PASS Strehler-1.6.8 v5.20.1 FreeBSD
Date: 2016-01-30T13:40:45Z

This distribution has been tested as part of the CPAN Testers
project, supporting the Perl programming language.  See
http://wiki.cpantesters.org/ for more information or email
questions to cpan-testers-discuss@perl.org


--
Dear Simone Fare,

This is a computer-generated report for Strehler-1.6.8
on perl 5.20.1, created by CPAN-Reporter-1.2015.

Thank you for uploading your work to CPAN.  Congratulations!
All tests were successful.

Sections of this report:

    * Tester comments
    * Program output
    * Prerequisites
    * Environment and other context

------------------------------
TESTER COMMENTS
------------------------------

Additional comments from tester:

none provided

------------------------------
PROGRAM OUTPUT
------------------------------

Output from '/usr/bin/make test':

PERL_DL_NONLAZY=1 "/usr/perl5.20.1p/bin/perl" "-MExtUtils::Command::MM" "-MTest::Harness" "-e" "undef *Test::Harness::Switches; test_harness(0, 'blib/lib', 'blib/arch')" t/*.t
t/001_login.t ........ ok
t/002_permissions.t .. ok
t/004_categories.t ... ok
t/005_articles.t ..... ok
t/006_frontend.t ..... ok
t/007_images.t ....... ok
t/008_tags.t ......... ok
t/009_extra.t ........ ok
t/010_api.t .......... ok
t/011_ex.t ........... ok
t/012_users.t ........ ok
t/013_dashboard.t .... ok
t/author-critic.t .... skipped: these tests are for testing by the author
All tests successful.
Files=13, Tests=140, 111 wallclock secs ( 0.20 usr  0.05 sys + 95.23 cusr  7.61 csys = 103.09 CPU)
Result: PASS

------------------------------
PREREQUISITES
------------------------------

Prerequisite modules loaded:

requires:

    Module                               Need     Have    
    ------------------------------------ -------- --------
    Authen::Passphrase::BlowfishCrypt    0        0.008   
    Carp                                 0        1.36    
    Cwd                                  0        3.60    
    Dancer2                              0.166001 0.166001
    Dancer2::Core::App                   0        0.166001
    Dancer2::Core::Runner                0        0.166001
    Dancer2::Plugin                      0        0.166001
    Dancer2::Plugin::Ajax                0        0.200000
    Dancer2::Plugin::DBIC                0        0.0009  
    Dancer2::Serializer::JSON            0        0.166001
    DateTime::Format::SQLite             0        0.11    
    DateTime::Format::Strptime           0        1.62    
    DBI                                  0        1.634   
    DBIx::Class::Core                    0        0       
    DBIx::Class::Schema                  0        0       
    DBIx::Class::Schema::Loader          0        0.07043 
    DBIx::Class::TimeStamp               0        0.14    
    File::Copy                           0        2.30    
    File::Copy::Recursive                0        0.38    
    File::Path                           0        2.12    
    HTML::FormFu                         1.00     2.01    
    HTML::FormFu::Element::Block         0        2.01    
    HTML::FormFu::Element::Fieldset      0        2.01    
    HTML::FormFu::Element::Label         0        2.01    
    HTML::FormFu::Element::Select        0        2.01    
    HTML::FormFu::Element::Text          0        2.01    
    HTML::FormFu::Validator              0        2.01    
    IO::Prompt                           0        0.997003
    Lingua::EN::Inflect                  0        1.899   
    Module::Load                         0        0.32    
    Moo                                  0        2.000002
    Moo::Role                            0        2.000002
    Moose                                0        2.1604  
    SQL::Translator                      0        0.11021 
    SQL::Translator::Parser::DBIx::Class 0        1.10    
    Term::ReadKey                        0        2.33    
    Text::Unidecode                      0        1.27    
    Time::localtime                      0        1.02    
    Try::Tiny                            0        0.24    
    Unicode::Normalize                   0        1.23    
    YAML::XS                             0        0.59    

build_requires:

    Module                               Need     Have    
    ------------------------------------ -------- --------
    ExtUtils::MakeMaker                  0        7.10    
    FindBin                              0        1.51    
    HTTP::Cookies                        0        6.01    
    HTTP::Request                        0        6.10    
    HTTP::Request::Common                0        6.10    
    JSON                                 0        2.90    
    Plack::Builder                       0        0       
    Plack::Test                          0        0       
    Test::More                           0        1.001014

configure_requires:

    Module                               Need     Have    
    ------------------------------------ -------- --------
    ExtUtils::MakeMaker                  0        7.10    


------------------------------
ENVIRONMENT AND OTHER CONTEXT
------------------------------

Environment variables:

    LC_ALL = de_DE.ISO8859-1
    PATH = /usr/local/bin:/usr/bin:/bin:/usr/local/sbin:/usr/sbin:/sbin:/home/cpansand/bin/freebsd10.1:/home/cpansand/bin/sh:/home/cpansand/bin:/usr/games:/home/cpansand/devel:/home/eserte/src/srezic-misc/scripts
    PERL5LIB = 
    PERL5OPT = 
    PERL5_CPANPLUS_IS_RUNNING = 30793
    PERL5_CPAN_IS_RUNNING = 30793
    PERL5_CPAN_IS_RUNNING_IN_RECURSION = 30759,30793
    PERLDOC = -MPod::Perldoc::ToTextOverstrike
    PERL_BATCH = yes
    PERL_CANARY_STABILITY_NOPROMPT = 1
    PERL_CPAN_REPORTER_CONFIG = /var/tmp/cpansmoker-1023/2016013012/cpanreporter_000_config.ini
    PERL_EXTUTILS_AUTOINSTALL = --defaultdeps
    SHELL = /usr/local/bin/zsh
    TERM = screen
    TMPDIR = /var/tmp/cpansmoker-1023/2016013012

Perl special variables (and OS-specific diagnostics, for MSWin32):

    $^X = /usr/perl5.20.1p/bin/perl
    $UID/$EUID = 1023 / 1023
    $GID = 1023 1023
    $EGID = 1023 1023

Perl module toolchain versions installed:

    Module              Have    
    ------------------- --------
    CPAN                2.10    
    CPAN::Meta          2.150005
    Cwd                 3.60    
    ExtUtils::CBuilder  0.280224
    ExtUtils::Command   7.10    
    ExtUtils::Install   1.67    
    ExtUtils::MakeMaker 7.10    
    ExtUtils::Manifest  1.70    
    ExtUtils::ParseXS   3.24    
    File::Spec          3.60    
    JSON                2.90    
    JSON::PP            2.27300 
    Module::Build       0.4216  
    Module::Signature   0.79    
    Parse::CPAN::Meta   1.4414  
    Test::Harness       3.35    
    Test::More          1.001014
    YAML                1.15    
    YAML::Syck          1.29    
    version             0.9912  


--

Summary of my perl5 (revision 5 version 20 subversion 1) configuration:
   
  Platform:
    osname=freebsd, osvers=10.1-release, archname=amd64-freebsd
    uname='freebsd cvrsnica-freebsd-101.herceg.de 10.1-release freebsd 10.1-release #0 r274401: tue nov 11 21:02:49 utc 2014 root@releng1.nyi.freebsd.org:usrobjusrsrcsysgeneric amd64 '
    config_args='-ds -e -Dprefix=/usr/perl5.20.1p'
    hint=recommended, useposix=true, d_sigaction=define
    useithreads=undef, usemultiplicity=undef
    use64bitint=define, use64bitall=define, uselongdouble=undef
    usemymalloc=n, bincompat5005=undef
  Compiler:
    cc='cc', ccflags ='-DHAS_FPSETMASK -DHAS_FLOATINGPOINT_H -fno-strict-aliasing -pipe -fstack-protector -I/usr/local/include',
    optimize='-O',
    cppflags='-DHAS_FPSETMASK -DHAS_FLOATINGPOINT_H -fno-strict-aliasing -pipe -fstack-protector -I/usr/local/include'
    ccversion='', gccversion='4.2.1 Compatible FreeBSD Clang 3.4.1 (tags/RELEASE_34/dot1-final 208032)', gccosandvers=''
    intsize=4, longsize=8, ptrsize=8, doublesize=8, byteorder=12345678
    d_longlong=define, longlongsize=8, d_longdbl=define, longdblsize=16
    ivtype='long', ivsize=8, nvtype='double', nvsize=8, Off_t='off_t', lseeksize=8
    alignbytes=8, prototype=define
  Linker and Libraries:
    ld='cc', ldflags ='-pthread -Wl,-E  -fstack-protector -L/usr/local/lib'
    libpth=/usr/lib /usr/local/lib /usr/include/clang/3.4.1 /usr/lib
    libs=-lm -lcrypt -lutil -lc
    perllibs=-lm -lcrypt -lutil -lc
    libc=, so=so, useshrplib=false, libperl=libperl.a
    gnulibc_version=''
  Dynamic Linking:
    dlsrc=dl_dlopen.xs, dlext=so, d_dlsymun=undef, ccdlflags=' '
    cccdlflags='-DPIC -fPIC', lddlflags='-shared  -L/usr/local/lib -fstack-protector'


Characteristics of this binary (from libperl): 
  Compile-time options: HAS_TIMES PERLIO_LAYERS PERL_DONT_CREATE_GVSV
                        PERL_HASH_FUNC_ONE_AT_A_TIME_HARD PERL_MALLOC_WRAP
                        PERL_NEW_COPY_ON_WRITE PERL_PRESERVE_IVUV
                        USE_64_BIT_ALL USE_64_BIT_INT USE_LARGE_FILES
                        USE_LOCALE USE_LOCALE_COLLATE USE_LOCALE_CTYPE
                        USE_LOCALE_NUMERIC USE_PERLIO USE_PERL_ATOF
  Built under freebsd
  Compiled at Jan 29 2015 08:45:50
  %ENV:
    PERL5LIB=""
    PERL5OPT=""
    PERL5_CPANPLUS_IS_RUNNING="30793"
    PERL5_CPAN_IS_RUNNING="30793"
    PERL5_CPAN_IS_RUNNING_IN_RECURSION="30759,30793"
    PERLDOC="-MPod::Perldoc::ToTextOverstrike"
    PERL_BATCH="yes"
    PERL_CANARY_STABILITY_NOPROMPT="1"
    PERL_CPAN_REPORTER_CONFIG="/var/tmp/cpansmoker-1023/2016013012/cpanreporter_000_config.ini"
    PERL_EXTUTILS_AUTOINSTALL="--defaultdeps"
  @INC:
    /usr/perl5.20.1p/lib/site_perl/5.20.1/amd64-freebsd
    /usr/perl5.20.1p/lib/site_perl/5.20.1
    /usr/perl5.20.1p/lib/5.20.1/amd64-freebsd
    /usr/perl5.20.1p/lib/5.20.1
    .